{"text_format":"2","workbook":"xlsx","n_sheets":6,"sheets":["Apache","CNCF","LinuxFoundation","GVP 项目","Ranking-Star","汇总"],"not_rendered":{"charts":0,"images":0,"macros":0,"external_links":1,"defined_names":2,"comments":0,"pivot_tables":0},"unopened":[],"bounds":{"document_bytes":16777216,"sheet_cells":100000,"run_cost":"one","rows_first":2000,"rows_last":500,"rows_between":2000,"halvings":0,"cell_chars":16384,"cell_head_chars":4096},"cells_cut":0,"cells_raw":0,"read":"whole","date_system":"1900"}

{"sheet":"Apache","index":0,"n_rows":2480,"n_cols":6,"rows_kept":2480,"cut":false,"hidden":false,"merged":[]}
["ID","Org","full_name","Url","Star","Fork"]
[9185792,"apache","apache/echarts","https://github.com/apache/echarts",52604,19198]
[39464018,"apache","apache/superset","https://github.com/apache/superset",48342,9586]
[4710920,"apache","apache/dubbo","https://github.com/apache/dubbo",37912,25338]
[4710920,"apache","apache/dubbo","https://github.com/apache/dubbo",37912,25338]
[17165658,"apache","apache/spark","https://github.com/apache/spark",33992,26134]
[33884891,"apache","apache/airflow","https://github.com/apache/airflow",27660,11291]
[2211243,"apache","apache/kafka","https://github.com/apache/kafka",23180,11915]
[45721011,"apache","apache/skywalking","https://github.com/apache/skywalking",20308,5897]
[34864402,"apache","apache/incubator-mxnet","https://github.com/apache/incubator-mxnet",20085,6877]
[20587599,"apache","apache/flink","https://github.com/apache/flink",19855,11251]
[75164823,"apache","apache/rocketmq","https://github.com/apache/rocketmq",18140,10200]
[49876476,"apache","apache/shardingsphere","https://github.com/apache/shardingsphere",17401,6008]
[102343794,"apache","apache/incubator-brpc","https://github.com/apache/incubator-brpc",13921,3503]
[78186814,"apache","apache/incubator-weex","https://github.com/apache/incubator-weex",13914,1852]
[23418517,"apache","apache/hadoop","https://github.com/apache/hadoop",12955,8040]
[7827081,"apache","apache/predictionio","https://github.com/apache/predictionio",12522,2015]
[6358188,"apache","apache/druid","https://github.com/apache/druid",12068,3348]
[6358188,"apache","apache/druid","https://github.com/apache/druid",12068,3348]
[62117812,"apache","apache/pulsar","https://github.com/apache/pulsar",11639,3085]
[160999,"apache","apache/zookeeper","https://github.com/apache/zookeeper",10832,6795]
[51905353,"apache","apache/arrow","https://github.com/apache/arrow",10377,2549]
[180481986,"apache","apache/apisix","https://github.com/apache/apisix",10301,1922]
[310611,"apache","apache/thrift","https://github.com/apache/thrift",9356,3873]
[173335706,"apache","apache/dolphinscheduler","https://github.com/apache/dolphinscheduler",8772,3352]
[173335706,"apache","apache/dolphinscheduler","https://github.com/apache/dolphinscheduler",8772,3352]
[70746484,"apache","apache/tvm","https://github.com/apache/tvm",8609,2721]
[42304749,"apache","apache/shardingsphere-elasticjob","https://github.com/apache/shardingsphere-elasticjob",7704,3212]
[206424,"apache","apache/cassandra","https://github.com/apache/cassandra",7552,3223]
[140543886,"apache","apache/shenyu","https://github.com/apache/shenyu",7279,2470]
[688352,"apache","apache/jmeter","https://github.com/apache/jmeter",6469,1773]
[14135470,"apache","apache/storm","https://github.com/apache/storm",6391,4091]
[2493904,"apache","apache/tomcat","https://github.com/apache/tomcat",6285,4283]
[99919302,"apache","apache/doris","https://github.com/apache/doris",6036,1790]
[99919302,"apache","apache/doris","https://github.com/apache/doris",6036,1790]
[50904245,"apache","apache/beam","https://github.com/apache/beam",5886,3660]
[32848140,"apache","apache/zeppelin","https://github.com/apache/zeppelin",5827,2700]
[52039373,"apache","apache/openwhisk","https://github.com/apache/openwhisk",5793,1107]
[206417,"apache","apache/couchdb","https://github.com/apache/couchdb",5457,1019]
[117978265,"apache","apache/dubbo-spring-boot-project","https://github.com/apache/dubbo-spring-boot-project",5339,1866]
[11469439,"apache","apache/mesos","https://github.com/apache/mesos",4961,1698]
[105006031,"apache","apache/incubator-weex-ui","https://github.com/apache/incubator-weex-ui",4786,931]
[34039690,"apache","apache/groovy","https://github.com/apache/groovy",4645,1761]
[20089857,"apache","apache/hbase","https://github.com/apache/hbase",4645,3075]
[206317,"apache","apache/camel","https://github.com/apache/camel",4537,4598]
[206444,"apache","apache/hive","https://github.com/apache/hive",4469,4181]
[4766638,"apache","apache/incubator-pagespeed-ngx","https://github.com/apache/incubator-pagespeed-ngx",4352,373]
[50229487,"apache","apache/lucene-solr","https://github.com/apache/lucene-solr",4301,2721]
[31006158,"apache","apache/ignite","https://github.com/apache/ignite",4284,1795]
[84916374,"apache","apache/rocketmq-externals","https://github.com/apache/rocketmq-externals",4284,3030]
[19961085,"apache","apache/pinot","https://github.com/apache/pinot",4219,967]
[143965255,"apache","apache/dubbo-go","https://github.com/apache/dubbo-go",4207,768]
[291570,"apache","apache/shiro","https://github.com/apache/shiro",3926,2239]
[99412308,"apache","apache/incubator-seatunnel","https://github.com/apache/incubator-seatunnel",3898,698]
[117054584,"apache","apache/dubbo-admin","https://github.com/apache/dubbo-admin",3662,2023]
[117054584,"apache","apache/dubbo-admin","https://github.com/apache/dubbo-admin",3662,2023]
[43158694,"apache","apache/incubator-heron","https://github.com/apache/incubator-heron",3619,621]
[76474200,"apache","apache/hudi","https://github.com/apache/hudi",3546,1630]
[27911088,"apache","apache/nifi","https://github.com/apache/nifi",3440,2338]
[6898381,"apache","apache/cordova-android","https://github.com/apache/cordova-android",3400,1531]
[28738447,"apache","apache/kylin","https://github.com/apache/kylin",3384,1495]
[21193524,"apache","apache/calcite","https://github.com/apache/calcite",3362,1790]
[158256479,"apache","apache/iceberg","https://github.com/apache/iceberg",3329,1277]
[206483,"apache","apache/maven","https://github.com/apache/maven",3294,2298]
[205423,"apache","apache/httpd","https://github.com/apache/httpd",3072,991]
[10637896,"apache","apache/logging-log4j2","https://github.com/apache/logging-log4j2",2932,1442]
[17359057,"apache","apache/curator","https://github.com/apache/curator",2841,1189]
[17359057,"apache","apache/curator","https://github.com/apache/curator",2841,1189]
[198368711,"apache","apache/incubator-linkis","https://github.com/apache/incubator-linkis",2691,935]
[33294317,"apache","apache/singa","https://github.com/apache/singa",2656,831]
[158975124,"apache","apache/iotdb","https://github.com/apache/iotdb",2527,724]
[358917318,"apache","apache/arrow-datafusion","https://github.com/apache/arrow-datafusion",2508,443]
[188779637,"apache","apache/incubator-streampark","https://github.com/apache/incubator-streampark",2499,579]
[206370,"apache","apache/nutch","https://github.com/apache/nutch",2442,1203]
[206378,"apache","apache/commons-lang","https://github.com/apache/commons-lang",2349,1432]
[2198510,"apache","apache/flume","https://github.com/apache/flume",2324,1530]
[206459,"apache","apache/avro","https://github.com/apache/avro",2258,1388]
[54452627,"apache","apache/guacamole-server","https://github.com/apache/guacamole-server",2226,494]
[34839383,"apache","apache/geode","https://github.com/apache/geode",2135,678]
[141376301,"apache","apache/incubator-hugegraph","https://github.com/apache/incubator-hugegraph",2084,416]
[27392543,"apache","apache/gobblin","https://github.com/apache/gobblin",2078,728]
[206387,"apache","apache/activemq","https://github.com/apache/activemq",2076,1346]
[6898387,"apache","apache/cordova-ios","https://github.com/apache/cordova-ios",2069,960]
[210029529,"apache","apache/maven-mvnd","https://github.com/apache/maven-mvnd",2043,151]
[102083576,"apache","apache/netbeans","https://github.com/apache/netbeans",2018,711]
[20089859,"apache","apache/mahout","https://github.com/apache/mahout",2011,963]
[97573661,"apache","apache/servicecomb-pack","https://github.com/apache/servicecomb-pack",1910,450]
[419555,"apache","apache/libcloud","https://github.com/apache/libcloud",1878,918]
[161001,"apache","apache/lucenenet","https://github.com/apache/lucenenet",1872,610]
[91674936,"apache","apache/servicecomb-java-chassis","https://github.com/apache/servicecomb-java-chassis",1809,769]
[318103,"apache","apache/pdfbox","https://github.com/apache/pdfbox",1769,701]
[131394823,"apache","apache/dubbo-samples","https://github.com/apache/dubbo-samples",1766,1426]
[384111310,"apache","apache/incubator-devlake","https://github.com/apache/incubator-devlake",1753,249]
[2442457,"apache","apache/ambari","https://github.com/apache/ambari",1744,1479]
[202483348,"apache","apache/incubator-kvrocks","https://github.com/apache/incubator-kvrocks",1734,232]
[5683653,"apache","apache/drill","https://github.com/apache/drill",1728,922]
[5683653,"apache","apache/drill","https://github.com/apache/drill",1728,922]
[153061118,"apache","apache/rocketmq-spring","https://github.com/apache/rocketmq-spring",1712,770]
[20675636,"apache","apache/parquet-mr","https://github.com/apache/parquet-mr",1706,1223]
[1575956,"apache","apache/bookkeeper","https://github.com/apache/bookkeeper",1635,746]
[50647838,"apache","apache/kudu","https://github.com/apache/kudu",1627,604]
[30449481,"apache","apache/tinkerpop","https://github.com/apache/tinkerpop",1609,738]
[41712332,"apache","apache/incubator-pegasus","https://github.com/apache/incubator-pegasus",1578,291]
[206427,"apache","apache/tika","https://github.com/apache/tika",1511,671]
[356066,"apache","apache/trafficserver","https://github.com/apache/trafficserver",1510,747]
[206368,"apache","apache/poi","https://github.com/apache/poi",1492,621]
[98013453,"apache","apache/atlas","https://github.com/apache/atlas",1369,741]
[62117818,"apache","apache/carbondata","https://github.com/apache/carbondata",1330,700]
[91677514,"apache","apache/servicecomb-service-center","https://github.com/apache/servicecomb-service-center",1314,336]
[9759448,"apache","apache/cloudstack","https://github.com/apache/cloudstack",1262,946]
[206402,"apache","apache/httpcomponents-client","https://github.com/apache/httpcomponents-client",1239,835]
[114619105,"apache","apache/incubator-kyuubi","https://github.com/apache/incubator-kyuubi",1225,455]
[341631350,"apache","apache/lucene","https://github.com/apache/lucene",1218,558]
[34533675,"apache","apache/incubator-sedona","https://github.com/apache/incubator-sedona",1193,514]
[15928650,"apache","apache/struts","https://github.com/apache/struts",1173,761]
[20675635,"apache","apache/parquet-format","https://github.com/apache/parquet-format",1168,370]
[2740148,"apache","apache/opennlp","https://github.com/apache/opennlp",1134,400]
[2194354,"apache","apache/nano","https://github.com/apache/nano",1123,173]
[358917250,"apache","apache/arrow-rs","https://github.com/apache/arrow-rs",1095,289]
[228103273,"apache","apache/incubator-nuttx","https://github.com/apache/incubator-nuttx",1092,586]
[10860602,"apache","apache/cordova-plugin-inappbrowser","https://github.com/apache/cordova-plugin-inappbrowser",1069,2057]
[89560048,"apache","apache/incubator-teaclave-sgx-sdk","https://github.com/apache/incubator-teaclave-sgx-sdk",1043,226]
[208698479,"apache","apache/incubator-eventmesh","https://github.com/apache/incubator-eventmesh",1040,281]
[54452622,"apache","apache/guacamole-client","https://github.com/apache/guacamole-client",1026,537]
[14135471,"apache","apache/usergrid","https://github.com/apache/usergrid",999,435]
[152519982,"apache","apache/rocketmq-client-go","https://github.com/apache/rocketmq-client-go",978,336]
[82035099,"apache","apache/griffin","https://github.com/apache/griffin",972,577]
[231533573,"apache","apache/inlong","https://github.com/apache/inlong",952,327]
[20473418,"apache","apache/phoenix","https://github.com/apache/phoenix",949,960]
[2524488,"apache","apache/accumulo","https://github.com/apache/accumulo",946,415]
[104061241,"apache","apache/shardingsphere-example","https://github.com/apache/shardingsphere-example",941,723]
[10860591,"apache","apache/cordova-plugin-camera","https://github.com/apache/cordova-plugin-camera",928,1326]
[45896813,"apache","apache/systemds","https://github.com/apache/systemds",923,423]
[2153096,"apache","apache/sqoop","https://github.com/apache/sqoop",913,566]
[7126418,"apache","apache/cordova-cli","https://github.com/apache/cordova-cli",896,341]
[7437073,"apache","apache/jena","https://github.com/apache/jena",878,580]
[206396,"apache","apache/commons-io","https://github.com/apache/commons-io",868,574]
[56128733,"apache","apache/impala","https://github.com/apache/impala",868,416]
[206384,"apache","apache/logging-log4j1","https://github.com/apache/logging-log4j1",866,580]
[80501529,"apache","apache/ratis","https://github.com/apache/ratis",858,312]
[206366,"apache","apache/mina","https://github.com/apache/mina",841,427]
[47607561,"apache","apache/metron","https://github.com/apache/metron",837,515]
[67198520,"apache","apache/trafficcontrol","https://github.com/apache/trafficcontrol",812,315]
[36057260,"apache","apache/activemq-artemis","https://github.com/apache/activemq-artemis",811,836]
[48418599,"apache","apache/fineract","https://github.com/apache/fineract",799,1077]
[38279790,"apache","apache/datasketches-java","https://github.com/apache/datasketches-java",787,201]
[38279790,"apache","apache/datasketches-java","https://github.com/apache/datasketches-java",787,201]
[41902290,"apache","apache/freemarker","https://github.com/apache/freemarker",783,228]
[16977479,"apache","apache/cxf","https://github.com/apache/cxf",782,1357]
[16977479,"apache","apache/cxf","https://github.com/apache/cxf",782,1357]
[276293034,"apache","apache/age","https://github.com/apache/age",779,90]
[153295119,"apache","apache/skywalking-rocketbot-ui","https://github.com/apache/skywalking-rocketbot-ui",771,363]
[32199982,"apache","apache/samza","https://github.com/apache/samza",753,313]
[205403,"apache","apache/ofbiz","https://github.com/apache/ofbiz",744,564]
[45165993,"apache","apache/mynewt-core","https://github.com/apache/mynewt-core",734,342]
[146865191,"apache","apache/camel-k","https://github.com/apache/camel-k",726,280]
[6935442,"apache","apache/isis","https://github.com/apache/isis",722,290]
[95343930,"apache","apache/incubator-livy","https://github.com/apache/incubator-livy",711,520]
[10860599,"apache","apache/cordova-plugin-file","https://github.com/apache/cordova-plugin-file",710,713]
[194645908,"apache","apache/apisix-dashboard","https://github.com/apache/apisix-dashboard",703,375]
[49190360,"apache","apache/incubator-toree","https://github.com/apache/incubator-toree",700,222]
[114859883,"apache","apache/plc4x","https://github.com/apache/plc4x",697,281]
[146576437,"apache","apache/servicecomb-mesher","https://github.com/apache/servicecomb-mesher",694,70]
[65973286,"apache","apache/bahir-flink","https://github.com/apache/bahir-flink",693,398]
[33489346,"apache","apache/incubator-pagespeed-mod","https://github.com/apache/incubator-pagespeed-mod",688,178]
[89448844,"apache","apache/logging-log4net","https://github.com/apache/logging-log4net",681,298]
[14357669,"apache","apache/openoffice","https://github.com/apache/openoffice",670,257]
[41952293,"apache","apache/hawq","https://github.com/apache/hawq",668,319]
[22305416,"apache","apache/ranger","https://github.com/apache/ranger",663,717]
[23922564,"apache","apache/dubbo-js","https://github.com/apache/dubbo-js",661,129]
[2383782,"apache","apache/oozie","https://github.com/apache/oozie",656,464]
[206357,"apache","apache/pig","https://github.com/apache/pig",652,457]
[206412,"apache","apache/wicket","https://github.com/apache/wicket",638,355]
[10860606,"apache","apache/cordova-plugin-splashscreen","https://github.com/apache/cordova-plugin-splashscreen",629,651]
[38917208,"apache","apache/james-project","https://github.com/apache/james-project",629,396]
[14135467,"apache","apache/aurora","https://github.com/apache/aurora",625,243]
[10860600,"apache","apache/cordova-plugin-geolocation","https://github.com/apache/cordova-plugin-geolocation",619,638]
[6898382,"apache","apache/cordova-js","https://github.com/apache/cordova-js",616,858]
[42161741,"apache","apache/cordova-plugin-wkwebview-engine","https://github.com/apache/cordova-plugin-wkwebview-engine",614,375]
[195861277,"apache","apache/incubator-teaclave","https://github.com/apache/incubator-teaclave",610,140]
[832676,"apache","apache/karaf","https://github.com/apache/karaf",605,637]
[209459144,"apache","apache/submarine","https://github.com/apache/submarine",605,233]
[17770131,"apache","apache/cordova-plugin-statusbar","https://github.com/apache/cordova-plugin-statusbar",600,467]
[221468226,"apache","apache/apisix-ingress-controller","https://github.com/apache/apisix-ingress-controller",599,216]
[2282376,"apache","apache/giraph","https://github.com/apache/giraph",597,298]
[688360,"apache","apache/mina-sshd","https://github.com/apache/mina-sshd",591,270]
[10860598,"apache","apache/cordova-plugin-file-transfer","https://github.com/apache/cordova-plugin-file-transfer",580,791]
[206362,"apache","apache/commons-collections","https://github.com/apache/commons-collections",570,396]
[62320907,"apache","apache/incubator-weex-cli","https://github.com/apache/incubator-weex-cli",567,117]
[191787065,"apache","apache/yunikorn-core","https://github.com/apache/yunikorn-core",567,140]
[39059221,"apache","apache/couchdb-nano","https://github.com/apache/couchdb-nano",565,160]
[39059221,"apache","apache/couchdb-nano","https://github.com/apache/couchdb-nano",565,160]
[212382406,"apache","apache/ozone","https://github.com/apache/ozone",565,340]
[35144191,"apache","apache/orc","https://github.com/apache/orc",556,410]
[32137005,"apache","apache/openmeetings","https://github.com/apache/openmeetings",551,248]
[257240218,"apache","apache/flink-training","https://github.com/apache/flink-training",543,426]
[210579021,"apache","apache/hop","https://github.com/apache/hop",542,208]
[183985068,"apache","apache/servicecomb-kie","https://github.com/apache/servicecomb-kie",542,58]
[341374920,"apache","apache/solr","https://github.com/apache/solr",528,344]
[394265474,"apache","apache/rocketmq-dashboard","https://github.com/apache/rocketmq-dashboard",525,253]
[6898376,"apache","apache/cordova-weinre","https://github.com/apache/cordova-weinre",518,132]
[113086218,"apache","apache/mynewt-nimble","https://github.com/apache/mynewt-nimble",503,310]
[189943818,"apache","apache/rocketmq-docker","https://github.com/apache/rocketmq-docker",501,185]
[185278617,"apache","apache/pulsar-client-go","https://github.com/apache/pulsar-client-go",500,260]
[454263,"apache","apache/subversion","https://github.com/apache/subversion",497,164]
[113151343,"apache","apache/servicecomb-website","https://github.com/apache/servicecomb-website",495,98]
[171872748,"apache","apache/servicecomb-samples","https://github.com/apache/servicecomb-samples",492,125]
[81799714,"apache","apache/ofbiz-framework","https://github.com/apache/ofbiz-framework",483,369]
[161138654,"apache","apache/servicecomb-saga-actuator","https://github.com/apache/servicecomb-saga-actuator",482,37]
[24928494,"apache","apache/commons-math","https://github.com/apache/commons-math",470,324]
[134233745,"apache","apache/servicecomb-docs","https://github.com/apache/servicecomb-docs",460,81]
[2155500,"apache","apache/bigtop","https://github.com/apache/bigtop",450,419]
[31976264,"apache","apache/cordova-plugin-whitelist","https://github.com/apache/cordova-plugin-whitelist",450,201]
[10860605,"apache","apache/cordova-plugin-network-information","https://github.com/apache/cordova-plugin-network-information",449,316]
[193047220,"apache","apache/servicecomb-toolkit","https://github.com/apache/servicecomb-toolkit",445,39]
[11247824,"apache","apache/commons-pool","https://github.com/apache/commons-pool",428,275]
[121366401,"apache","apache/cordova","https://github.com/apache/cordova",428,52]
[190105197,"apache","apache/apisix-docker","https://github.com/apache/apisix-docker",427,297]
[188185786,"apache","apache/servicecomb-fence","https://github.com/apache/servicecomb-fence",421,20]
[37115105,"apache","apache/dubbo-website","https://github.com/apache/dubbo-website",420,622]
[155603142,"apache","apache/pulsar-manager","https://github.com/apache/pulsar-manager",418,199]
[46404009,"apache","apache/eagle","https://github.com/apache/eagle",412,193]
[225625782,"apache","apache/flink-statefun","https://github.com/apache/flink-statefun",400,157]
[138989039,"apache","apache/dubbo-php-framework","https://github.com/apache/dubbo-php-framework",399,93]
[17621324,"apache","apache/struts-examples","https://github.com/apache/struts-examples",399,540]
[42763345,"apache","apache/madlib","https://github.com/apache/madlib",395,135]
[9290699,"apache","apache/tez","https://github.com/apache/tez",394,361]
[20675634,"apache","apache/parquet-cpp","https://github.com/apache/parquet-cpp",393,187]
[400172901,"apache","apache/skywalking-java","https://github.com/apache/skywalking-java",393,287]
[9290694,"apache","apache/cordova-plugman","https://github.com/apache/cordova-plugman",390,158]
[7748336,"apache","apache/tomee","https://github.com/apache/tomee",390,697]
[15861701,"apache","apache/helix","https://github.com/apache/helix",387,198]
[234250873,"apache","apache/dubbo-go-pixiu","https://github.com/apache/dubbo-go-pixiu",382,124]
[160997,"apache","apache/apr","https://github.com/apache/apr",373,180]
[832680,"apache","apache/maven-surefire","https://github.com/apache/maven-surefire",371,500]
[10860604,"apache","apache/cordova-plugin-media","https://github.com/apache/cordova-plugin-media",370,739]
[206371,"apache","apache/commons-codec","https://github.com/apache/commons-codec",369,206]
[154606109,"apache","apache/skywalking-kubernetes","https://github.com/apache/skywalking-kubernetes",367,163]
[10860596,"apache","apache/cordova-plugin-device","https://github.com/apache/cordova-plugin-device",363,417]
[3657930,"apache","apache/jackrabbit-oak","https://github.com/apache/jackrabbit-oak",349,369]
[41348333,"apache","apache/apex-core","https://github.com/apache/apex-core",347,181]
[20248084,"apache","apache/ant","https://github.com/apache/ant",340,386]
[130603282,"apache","apache/incubator-streampipes","https://github.com/apache/incubator-streampipes",340,78]
[10095585,"apache","apache/royale-asjs","https://github.com/apache/royale-asjs",337,115]
[69328650,"apache","apache/incubator-spot","https://github.com/apache/incubator-spot",335,218]
[6898391,"apache","apache/cordova-docs","https://github.com/apache/cordova-docs",333,567]
[15993612,"apache","apache/couchdb-fauxton","https://github.com/apache/couchdb-fauxton",331,219]
[5611582,"apache","apache/flex-sdk","https://github.com/apache/flex-sdk",330,144]
[11335239,"apache","apache/commons-imaging","https://github.com/apache/commons-imaging",322,149]
[59930659,"apache","apache/bahir","https://github.com/apache/bahir",320,193]
[196555066,"apache","apache/flink-playgrounds","https://github.com/apache/flink-playgrounds",318,170]
[11362690,"apache","apache/commons-dbutils","https://github.com/apache/commons-dbutils",311,164]
[74561211,"apache","apache/echarts-examples","https://github.com/apache/echarts-examples",309,220]
[152519793,"apache","apache/rocketmq-client-cpp","https://github.com/apache/rocketmq-client-cpp",309,145]
[68273151,"apache","apache/incubator-hivemall","https://github.com/apache/incubator-hivemall",308,122]
[18627126,"apache","apache/archiva","https://github.com/apache/archiva",301,117]
[56128732,"apache","apache/incubator-retired-gearpump","https://github.com/apache/incubator-retired-gearpump",298,97]
[10637893,"apache","apache/commons-csv","https://github.com/apache/commons-csv",296,224]
[206398,"apache","apache/httpcomponents-core","https://github.com/apache/httpcomponents-core",295,306]
[206403,"apache","apache/jackrabbit","https://github.com/apache/jackrabbit",294,194]
[457636580,"apache","apache/flink-kubernetes-operator","https://github.com/apache/flink-kubernetes-operator",293,140]
[10860603,"apache","apache/cordova-plugin-media-capture","https://github.com/apache/cordova-plugin-media-capture",290,442]
[1918497,"apache","apache/derby","https://github.com/apache/derby",288,133]
[1918497,"apache","apache/derby","https://github.com/apache/derby",288,133]
[11304834,"apache","apache/commons-dbcp","https://github.com/apache/commons-dbcp",286,211]
[10860597,"apache","apache/cordova-plugin-dialogs","https://github.com/apache/cordova-plugin-dialogs",286,356]
[14612016,"apache","apache/velocity-engine","https://github.com/apache/velocity-engine",286,109]
[205414,"apache","apache/felix","https://github.com/apache/felix",281,327]
[238404616,"apache","apache/camel-examples","https://github.com/apache/camel-examples",279,286]
[206350,"apache","apache/cayenne","https://github.com/apache/cayenne",277,122]
[447060287,"apache","apache/flink-table-store","https://github.com/apache/flink-table-store",276,112]
[91608763,"apache","apache/openwhisk-deploy-kube","https://github.com/apache/openwhisk-deploy-kube",271,214]
[8731831,"apache","apache/predictionio-sdk-php","https://github.com/apache/predictionio-sdk-php",270,60]
[83632281,"apache","apache/skywalking-ui","https://github.com/apache/skywalking-ui",270,163]
[212343,"apache","apache/commons-cli","https://github.com/apache/commons-cli",269,155]
[494107715,"apache","apache/arrow-ballista","https://github.com/apache/arrow-ballista",264,46]
[49258459,"apache","apache/incubator-s2graph","https://github.com/apache/incubator-s2graph",264,66]
[154605982,"apache","apache/skywalking-docker","https://github.com/apache/skywalking-docker",257,145]
[187781321,"apache","apache/dubbo-proxy","https://github.com/apache/dubbo-proxy",256,85]
[26426726,"apache","apache/commons-text","https://github.com/apache/commons-text",249,199]
[114619810,"apache","apache/shardingsphere-elasticjob-cloud","https://github.com/apache/shardingsphere-elasticjob-cloud",246,157]
[59881768,"apache","apache/incubator-retired-gossip","https://github.com/apache/incubator-retired-gossip",245,115]
[31976266,"apache","apache/asterixdb","https://github.com/apache/asterixdb",243,123]
[14135466,"apache","apache/cordova-plugins","https://github.com/apache/cordova-plugins",243,237]
[206322,"apache","apache/maven-plugins","https://github.com/apache/maven-plugins",242,280]
[36349344,"apache","apache/trafodion","https://github.com/apache/trafodion",242,161]
[33671298,"apache","apache/dubbo-python","https://github.com/apache/dubbo-python",241,79]
[29903688,"apache","apache/incubator-samoa","https://github.com/apache/incubator-samoa",241,110]
[7126417,"apache","apache/cordova-osx","https://github.com/apache/cordova-osx",235,88]
[2580769,"apache","apache/commons-compress","https://github.com/apache/commons-compress",234,212]
[189944025,"apache","apache/rocketmq-operator","https://github.com/apache/rocketmq-operator",233,94]
[10637892,"apache","apache/commons-beanutils","https://github.com/apache/commons-beanutils",226,174]
[60337347,"apache","apache/echarts-theme-builder","https://github.com/apache/echarts-theme-builder",225,57]
[39759972,"apache","apache/couchdb-docker","https://github.com/apache/couchdb-docker",223,129]
[205402,"apache","apache/spamassassin","https://github.com/apache/spamassassin",222,60]
[160994,"apache","apache/sling-old-svn-mirror","https://github.com/apache/sling-old-svn-mirror",221,264]
[19524397,"apache","apache/cordova-lib","https://github.com/apache/cordova-lib",220,257]
[152519880,"apache","apache/rocketmq-client-python","https://github.com/apache/rocketmq-client-python",218,91]
[237409088,"apache","apache/flink-docker","https://github.com/apache/flink-docker",217,148]
[10860593,"apache","apache/cordova-plugin-contacts","https://github.com/apache/cordova-plugin-contacts",215,386]
[57191357,"apache","apache/guacamole-website","https://github.com/apache/guacamole-website",213,92]
[53566183,"apache","apache/incubator-retired-edgent","https://github.com/apache/incubator-retired-edgent",210,140]
[189944254,"apache","apache/rocketmq-exporter","https://github.com/apache/rocketmq-exporter",209,127]
[74950515,"apache","apache/netbeans-website","https://github.com/apache/netbeans-website",207,180]
[70594945,"apache","apache/openwhisk-external-resources","https://github.com/apache/openwhisk-external-resources",206,49]
[46776191,"apache","apache/unomi","https://github.com/apache/unomi",205,107]
[6898394,"apache","apache/cordova-windows","https://github.com/apache/cordova-windows",203,184]
[60240212,"apache","apache/cordova-plugin-screen-orientation","https://github.com/apache/cordova-plugin-screen-orientation",201,170]
[62783390,"apache","apache/echarts-doc","https://github.com/apache/echarts-doc",201,147]
[291046504,"apache","apache/arrow-julia","https://github.com/apache/arrow-julia",199,44]
[8042754,"apache","apache/predictionio-sdk-python","https://github.com/apache/predictionio-sdk-python",199,80]
[143078926,"apache","apache/hbase-connectors","https://github.com/apache/hbase-connectors",198,158]
[87689450,"apache","apache/logging-log4cxx","https://github.com/apache/logging-log4cxx",197,104]
[15248539,"apache","apache/incubator-retired-wave","https://github.com/apache/incubator-retired-wave",196,84]
[108520836,"apache","apache/shardingsphere-elasticjob-example","https://github.com/apache/shardingsphere-elasticjob-example",196,182]
[26309799,"apache","apache/qpid-proton","https://github.com/apache/qpid-proton",195,208]
[7958616,"apache","apache/predictionio-sdk-ruby","https://github.com/apache/predictionio-sdk-ruby",191,41]
[33258826,"apache","apache/dubbo-rpc-jsonrpc","https://github.com/apache/dubbo-rpc-jsonrpc",190,105]
[193065376,"apache","apache/camel-quarkus","https://github.com/apache/camel-quarkus",188,147]
[6898397,"apache","apache/cordova-app-hello-world","https://github.com/apache/cordova-app-hello-world",187,214]
[179025742,"apache","apache/dubbo-getty","https://github.com/apache/dubbo-getty",187,59]
[191988685,"apache","apache/solr-operator","https://github.com/apache/solr-operator",187,83]
[156590059,"apache","apache/pulsar-dotpulsar","https://github.com/apache/pulsar-dotpulsar",184,50]
[11384366,"apache","apache/commons-bcel","https://github.com/apache/commons-bcel",183,109]
[7107916,"apache","apache/commons-net","https://github.com/apache/commons-net",183,151]
[161442380,"apache","apache/dubbo-go-hessian2","https://github.com/apache/dubbo-go-hessian2",183,100]
[75708591,"apache","apache/incubator-annotator","https://github.com/apache/incubator-annotator",181,42]
[25507371,"apache","apache/hadoop-hdfs","https://github.com/apache/hadoop-hdfs",180,113]
[25623942,"apache","apache/syncope","https://github.com/apache/syncope",180,148]
[2580767,"apache","apache/commons-fileupload","https://github.com/apache/commons-fileupload",177,128]
[63931184,"apache","apache/distributedlog","https://github.com/apache/distributedlog",177,70]
[63931184,"apache","apache/distributedlog","https://github.com/apache/distributedlog",177,70]
[226286903,"apache","apache/skywalking-client-js","https://github.com/apache/skywalking-client-js",175,58]
[10805187,"apache","apache/fluo","https://github.com/apache/fluo",174,77]
[85795396,"apache","apache/calcite-avatica","https://github.com/apache/calcite-avatica",172,184]
[11384368,"apache","apache/commons-vfs","https://github.com/apache/commons-vfs",171,174]
[9290695,"apache","apache/incubator-retired-ripple","https://github.com/apache/incubator-retired-ripple",171,59]
[351617021,"apache","apache/flink-ml","https://github.com/apache/flink-ml",167,53]
[72560759,"apache","apache/openwhisk-devtools","https://github.com/apache/openwhisk-devtools",166,127]
[275569232,"apache","apache/airflow-client-python","https://github.com/apache/airflow-client-python",165,28]
[263834466,"apache","apache/camel-spring-boot-examples","https://github.com/apache/camel-spring-boot-examples",163,223]
[152520149,"apache","apache/rocketmq-client-nodejs","https://github.com/apache/rocketmq-client-nodejs",163,35]
[303553011,"apache","apache/dubbo-go-samples","https://github.com/apache/dubbo-go-samples",162,124]
[10329619,"apache","apache/oltu","https://github.com/apache/oltu",162,119]
[323231688,"apache","apache/skywalking-eyes","https://github.com/apache/skywalking-eyes",160,48]
[8427964,"apache","apache/commons-configuration","https://github.com/apache/commons-configuration",159,119]
[25507370,"apache","apache/hadoop-common","https://github.com/apache/hadoop-common",159,157]
[251194471,"apache","apache/tvm-vta","https://github.com/apache/tvm-vta",159,60]
[413286655,"apache","apache/camel-karavan","https://github.com/apache/camel-karavan",158,44]
[87614951,"apache","apache/cordova-node-xcode","https://github.com/apache/cordova-node-xcode",157,90]
[20432793,"apache","apache/stratos","https://github.com/apache/stratos",157,114]
[33397227,"apache","apache/incubator-myriad","https://github.com/apache/incubator-myriad",154,72]
[2306348,"apache","apache/tomcat-maven-plugin","https://github.com/apache/tomcat-maven-plugin",153,140]
[206445,"apache","apache/xmlgraphics-batik","https://github.com/apache/xmlgraphics-batik",153,125]
[15680130,"apache","apache/cordova-browser","https://github.com/apache/cordova-browser",152,89]
[1302098,"apache","apache/activemq-apollo","https://github.com/apache/activemq-apollo",151,71]
[104064722,"apache","apache/shardingsphere-doc","https://github.com/apache/shardingsphere-doc",151,180]
[939852,"apache","apache/commons-validator","https://github.com/apache/commons-validator",150,129]
[11943595,"apache","apache/metamodel","https://github.com/apache/metamodel",150,144]
[241621679,"apache","apache/skywalking-nginx-lua","https://github.com/apache/skywalking-nginx-lua",150,67]
[228103139,"apache","apache/incubator-nuttx-apps","https://github.com/apache/incubator-nuttx-apps",149,251]
[178461625,"apache","apache/incubator-tuweni","https://github.com/apache/incubator-tuweni",149,67]
[17310686,"apache","apache/knox","https://github.com/apache/knox",149,220]
[15993609,"apache","apache/couchdb-documentation","https://github.com/apache/couchdb-documentation",148,238]
[112582752,"apache","apache/incubator-crail","https://github.com/apache/incubator-crail",147,47]
[167625003,"apache","apache/incubator-teaclave-trustzone-sdk","https://github.com/apache/incubator-teaclave-trustzone-sdk",147,42]
[504360264,"apache","apache/incubator-uniffle","https://github.com/apache/incubator-uniffle",147,43]
[10860592,"apache","apache/cordova-plugin-console","https://github.com/apache/cordova-plugin-console",146,89]
[8763770,"apache","apache/incubator-pagespeed-cpanel","https://github.com/apache/incubator-pagespeed-cpanel",145,57]
[9290691,"apache","apache/bloodhound","https://github.com/apache/bloodhound",144,35]
[206477,"apache","apache/buildr","https://github.com/apache/buildr",144,88]
[255516325,"apache","apache/pulsar-helm-chart","https://github.com/apache/pulsar-helm-chart",144,152]
[261456329,"apache","apache/skywalking-python","https://github.com/apache/skywalking-python",144,75]
[15698466,"apache","apache/jclouds","https://github.com/apache/jclouds",142,107]
[206318,"apache","apache/xmlgraphics-fop","https://github.com/apache/xmlgraphics-fop",142,116]
[19368221,"apache","apache/incubator-brooklyn","https://github.com/apache/incubator-brooklyn",141,94]
[133431470,"apache","apache/datasketches-cpp","https://github.com/apache/datasketches-cpp",140,63]
[10472781,"apache","apache/deltaspike","https://github.com/apache/deltaspike",140,129]
[133431470,"apache","apache/datasketches-cpp","https://github.com/apache/datasketches-cpp",140,63]
[10472781,"apache","apache/deltaspike","https://github.com/apache/deltaspike",140,129]
[10860601,"apache","apache/cordova-plugin-globalization","https://github.com/apache/cordova-plugin-globalization",139,113]
[18203743,"apache","apache/servicemix","https://github.com/apache/servicemix",139,155]
[141903742,"apache","apache/shenyu-dashboard","https://github.com/apache/shenyu-dashboard",138,160]
[17537833,"apache","apache/climate","https://github.com/apache/climate",134,116]
[11304839,"apache","apache/commons-jexl","https://github.com/apache/commons-jexl",132,73]
[18830104,"apache","apache/olingo-odata4","https://github.com/apache/olingo-odata4",132,168]
[384930222,"apache","apache/rocketmq-streams","https://github.com/apache/rocketmq-streams",132,59]
[41348334,"apache","apache/apex-malhar","https://github.com/apache/apex-malhar",131,153]
[47246083,"apache","apache/brooklyn","https://github.com/apache/brooklyn",131,67]
[860937,"apache","apache/hama","https://github.com/apache/hama",130,74]
[279800971,"apache","apache/shardingsphere-elasticjob-ui","https://github.com/apache/shardingsphere-elasticjob-ui",130,79]
[17971138,"apache","apache/tajo","https://github.com/apache/tajo",130,113]
[113678112,"apache","apache/maven-compiler-plugin","https://github.com/apache/maven-compiler-plugin",129,120]
[435136692,"apache","apache/maven-wrapper","https://github.com/apache/maven-wrapper",128,24]
[143078890,"apache","apache/hbase-operator-tools","https://github.com/apache/hbase-operator-tools",127,117]
[206479,"apache","apache/qpid","https://github.com/apache/qpid",126,86]
[273382715,"apache","apache/apisix-helm-chart","https://github.com/apache/apisix-helm-chart",123,104]
[165292138,"apache","apache/incubator-datalab","https://github.com/apache/incubator-datalab",123,59]
[206632,"apache","apache/maven-archetype","https://github.com/apache/maven-archetype",121,143]
[10860607,"apache","apache/cordova-plugin-vibration","https://github.com/apache/cordova-plugin-vibration",120,126]
[351637721,"apache","apache/skywalking-banyandb","https://github.com/apache/skywalking-banyandb",120,39]
[206636,"apache","apache/commons-logging","https://github.com/apache/commons-logging",119,107]
[271182596,"apache","apache/incubator-liminal","https://github.com/apache/incubator-liminal",118,38]
[56750161,"apache","apache/nifi-minifi-cpp","https://github.com/apache/nifi-minifi-cpp",118,91]
[54767260,"apache","apache/sentry","https://github.com/apache/sentry",117,86]
[54252267,"apache","apache/nifi-minifi","https://github.com/apache/nifi-minifi",116,108]
[22781134,"apache","apache/celix","https://github.com/apache/celix",115,70]
[26389457,"apache","apache/tomcat80","https://github.com/apache/tomcat80",115,114]
[225818900,"apache","apache/camel-kafka-connector","https://github.com/apache/camel-kafka-connector",114,87]
[206380457,"apache","apache/dolphinscheduler-website","https://github.com/apache/dolphinscheduler-website",113,193]
[206380457,"apache","apache/dolphinscheduler-website","https://github.com/apache/dolphinscheduler-website",113,193]
[113678133,"apache","apache/maven-dependency-plugin","https://github.com/apache/maven-dependency-plugin",113,141]
[113678857,"apache","apache/maven-shade-plugin","https://github.com/apache/maven-shade-plugin",113,74]
[274822766,"apache","apache/skywalking-nodejs","https://github.com/apache/skywalking-nodejs",113,55]
[1158315,"apache","apache/stanbol","https://github.com/apache/stanbol",112,76]
[206452,"apache","apache/roller","https://github.com/apache/roller",111,117]
[141266584,"apache","apache/dubbo-kubernetes","https://github.com/apache/dubbo-kubernetes",109,33]
[45165994,"apache","apache/mynewt-newt","https://github.com/apache/mynewt-newt",109,91]
[263958647,"apache","apache/dubbo-spi-extensions","https://github.com/apache/dubbo-spi-extensions",108,52]
[35755560,"apache","apache/flink-web","https://github.com/apache/flink-web",108,228]
[54953350,"apache","apache/mnemonic","https://github.com/apache/mnemonic",108,62]
[83954416,"apache","apache/ofbiz-plugins","https://github.com/apache/ofbiz-plugins",108,134]
[43734923,"apache","apache/rya","https://github.com/apache/rya",108,76]
[13824900,"apache","apache/sirona","https://github.com/apache/sirona",108,54]
[206341,"apache","apache/maven-enforcer","https://github.com/apache/maven-enforcer",107,128]
[8042738,"apache","apache/predictionio-sdk-java","https://github.com/apache/predictionio-sdk-java",107,56]
[228330020,"apache","apache/camel-spring-boot","https://github.com/apache/camel-spring-boot",106,129]
[206437,"apache","apache/directory-server","https://github.com/apache/directory-server",106,78]
[206437,"apache","apache/directory-server","https://github.com/apache/directory-server",106,78]
[135523369,"apache","apache/echarts-website","https://github.com/apache/echarts-website",106,318]
[95084858,"apache","apache/flink-shaded","https://github.com/apache/flink-shaded",106,106]
[206364,"apache","apache/openjpa","https://github.com/apache/openjpa",106,107]
[322018,"apache","apache/aries","https://github.com/apache/aries",105,152]
[19932015,"apache","apache/gora","https://github.com/apache/gora",105,116]
[34374370,"apache","apache/incubator-retired-htrace","https://github.com/apache/incubator-retired-htrace",105,78]
[18461851,"apache","apache/allura","https://github.com/apache/allura",104,32]
[85240552,"apache","apache/datasketches-memory","https://github.com/apache/datasketches-memory",104,24]
[85240552,"apache","apache/datasketches-memory","https://github.com/apache/datasketches-memory",104,24]
[81920458,"apache","apache/nifi-registry","https://github.com/apache/nifi-registry",104,104]
[173299242,"apache","apache/pulsar-client-node","https://github.com/apache/pulsar-client-node",104,73]
[17701205,"apache","apache/samza-hello-samza","https://github.com/apache/samza-hello-samza",104,131]
[6290993,"apache","apache/crunch","https://github.com/apache/crunch",103,84]
[6290993,"apache","apache/crunch","https://github.com/apache/crunch",103,84]
[372204776,"apache","apache/apisix-go-plugin-runner","https://github.com/apache/apisix-go-plugin-runner",102,41]
[99661071,"apache","apache/calcite-avatica-go","https://github.com/apache/calcite-avatica-go",102,28]
[2641714,"apache","apache/tiles","https://github.com/apache/tiles",101,67]
[2580770,"apache","apache/commons-exec","https://github.com/apache/commons-exec",100,76]
[67012140,"apache","apache/cordova-electron","https://github.com/apache/cordova-electron",100,48]
[25507372,"apache","apache/hadoop-mapreduce","https://github.com/apache/hadoop-mapreduce",100,76]
[7065340,"apache","apache/logging-log4php","https://github.com/apache/logging-log4php",100,75]
[11543457,"apache","apache/falcon","https://github.com/apache/falcon",99,117]
[148087939,"apache","apache/incubator-marvin","https://github.com/apache/incubator-marvin",99,34]
[4416959,"apache","apache/tapestry-5","https://github.com/apache/tapestry-5",99,76]
[123152853,"apache","apache/incubator-nemo","https://github.com/apache/incubator-nemo",97,60]
[54701096,"apache","apache/joshua","https://github.com/apache/joshua",97,66]
[308850825,"apache","apache/skywalking-satellite","https://github.com/apache/skywalking-satellite",97,35]
[11335236,"apache","apache/commons-email","https://github.com/apache/commons-email",96,67]
[832679,"apache","apache/whirr","https://github.com/apache/whirr",96,59]
[10860590,"apache","apache/cordova-plugin-battery-status","https://github.com/apache/cordova-plugin-battery-status",95,146]
[32376872,"apache","apache/directory-kerby","https://github.com/apache/directory-kerby",95,63]
[458226256,"apache","apache/doris-flink-connector","https://github.com/apache/doris-flink-connector",95,57]
[32376872,"apache","apache/directory-kerby","https://github.com/apache/directory-kerby",95,63]
[458226256,"apache","apache/doris-flink-connector","https://github.com/apache/doris-flink-connector",95,57]
[35204049,"apache","apache/incubator-atlas","https://github.com/apache/incubator-atlas",95,108]
[2807822,"apache","apache/lucy","https://github.com/apache/lucy",95,26]
[87096114,"apache","apache/openwhisk-cli","https://github.com/apache/openwhisk-cli",95,87]
[25623941,"apache","apache/reef","https://github.com/apache/reef",95,104]
[15895714,"apache","apache/datafu","https://github.com/apache/datafu",94,61]
[15895714,"apache","apache/datafu","https://github.com/apache/datafu",94,61]
[257240581,"apache","apache/flink-benchmarks","https://github.com/apache/flink-benchmarks",94,45]
[5611579,"apache","apache/royale-compiler","https://github.com/apache/royale-compiler",93,49]
[56128731,"apache","apache/commons-crypto","https://github.com/apache/commons-crypto",91,81]
[205407,"apache","apache/directory-studio","https://github.com/apache/directory-studio",91,43]
[205407,"apache","apache/directory-studio","https://github.com/apache/directory-studio",91,43]
[40038455,"apache","apache/incubator-retired-cotton","https://github.com/apache/incubator-retired-cotton",91,23]
[63044524,"apache","apache/spark-website","https://github.com/apache/spark-website",91,173]
[164198539,"apache","apache/airflow-site","https://github.com/apache/airflow-site",90,171]
[315377678,"apache","apache/ignite-3","https://github.com/apache/ignite-3",90,43]
[206339,"apache","apache/maven-release","https://github.com/apache/maven-release",90,120]
[4544260,"apache","apache/any23","https://github.com/apache/any23",89,57]
[33024207,"apache","apache/polygene-java","https://github.com/apache/polygene-java",89,31]
[299767,"apache","apache/activemq-cpp","https://github.com/apache/activemq-cpp",88,58]
[161005,"apache","apache/jspwiki","https://github.com/apache/jspwiki",88,88]
[242854622,"apache","apache/felix-dev","https://github.com/apache/felix-dev",86,100]
[56214719,"apache","apache/incubator-retired-quickstep","https://github.com/apache/incubator-retired-quickstep",86,60]
[26951043,"apache","apache/ctakes","https://github.com/apache/ctakes",85,53]
[26951043,"apache","apache/ctakes","https://github.com/apache/ctakes",85,53]
[80600049,"apache","apache/incubator-weex-site","https://github.com/apache/incubator-weex-site",85,374]
[132600378,"apache","apache/myfaces","https://github.com/apache/myfaces",85,60]
[180267768,"apache","apache/apisix-website","https://github.com/apache/apisix-website",84,119]
[16338711,"apache","apache/airavata","https://github.com/apache/airavata",83,116]
[130461526,"apache","apache/comdev-site","https://github.com/apache/comdev-site",83,67]
[6898380,"apache","apache/cordova-wp8","https://github.com/apache/cordova-wp8",83,94]
[206320,"apache","apache/maven-scm","https://github.com/apache/maven-scm",83,162]
[275569071,"apache","apache/airflow-client-go","https://github.com/apache/airflow-client-go",82,17]
[234144956,"apache","apache/airflow-on-k8s-operator","https://github.com/apache/airflow-on-k8s-operator",82,25]
[3956248,"apache","apache/chukwa","https://github.com/apache/chukwa",82,45]
[11304836,"apache","apache/commons-jcs","https://github.com/apache/commons-jcs",82,47]
[457619500,"apache","apache/doris-manager","https://github.com/apache/doris-manager",82,48]
[457619500,"apache","apache/doris-manager","https://github.com/apache/doris-manager",82,48]
[347943373,"apache","apache/flink-statefun-playground","https://github.com/apache/flink-statefun-playground",80,50]
[42763344,"apache","apache/madlib-site","https://github.com/apache/madlib-site",80,50]
[54548295,"apache","apache/openwhisk-client-js","https://github.com/apache/openwhisk-client-js",80,55]
[10616263,"apache","apache/sis","https://github.com/apache/sis",80,42]
[2580768,"apache","apache/httpasyncclient","https://github.com/apache/httpasyncclient",79,60]
[29922140,"apache","apache/predictionio-template-recommender","https://github.com/apache/predictionio-template-recommender",79,77]
[122565314,"apache","apache/skywalking-data-collect-protocol","https://github.com/apache/skywalking-data-collect-protocol",79,80]
[20051204,"apache","apache/incubator-retired-slider","https://github.com/apache/incubator-retired-slider",78,76]
[366946376,"apache","apache/apisix-java-plugin-runner","https://github.com/apache/apisix-java-plugin-runner",76,56]
[56214716,"apache","apache/phoenix-omid","https://github.com/apache/phoenix-omid",76,51]
[11362689,"apache","apache/commons-daemon","https://github.com/apache/commons-daemon",75,59]
[62698709,"apache","apache/qpid-cpp","https://github.com/apache/qpid-cpp",75,69]
[399046935,"apache","apache/rocketmq-flink","https://github.com/apache/rocketmq-flink",75,45]
[806457,"apache","apache/deltacloud","https://github.com/apache/deltacloud",74,24]
[806457,"apache","apache/deltacloud","https://github.com/apache/deltacloud",74,24]
[5611581,"apache","apache/flex-utilities","https://github.com/apache/flex-utilities",74,74]
[42127092,"apache","apache/incubator-ponymail","https://github.com/apache/incubator-ponymail",74,37]
[435180749,"apache","apache/skywalking-booster-ui","https://github.com/apache/skywalking-booster-ui",74,43]
[241621162,"apache","apache/skywalking-swck","https://github.com/apache/skywalking-swck",74,29]
[98619283,"apache","apache/dubbo-docs","https://github.com/apache/dubbo-docs",73,69]
[1644192,"apache","apache/ftpserver","https://github.com/apache/ftpserver",73,56]
[321981396,"apache","apache/incubator-wayang","https://github.com/apache/incubator-wayang",73,29]
[30896299,"apache","apache/predictionio-template-ecom-recommender","https://github.com/apache/predictionio-template-ecom-recommender",73,54]
[218930575,"apache","apache/skywalking-cli","https://github.com/apache/skywalking-cli",73,40]
[17856644,"apache","apache/streams","https://github.com/apache/streams",73,44]
[688363,"apache","apache/harmony","https://github.com/apache/harmony",72,37]
[13641478,"apache","apache/cloudstack-cloudmonkey","https://github.com/apache/cloudstack-cloudmonkey",71,53]
[11304843,"apache","apache/commons-ognl","https://github.com/apache/commons-ognl",71,39]
[21642555,"apache","apache/cordova-plugin-test-framework","https://github.com/apache/cordova-plugin-test-framework",71,33]
[101730006,"apache","apache/daffodil","https://github.com/apache/daffodil",71,62]
[37687709,"apache","apache/datasketches-website","https://github.com/apache/datasketches-website",71,33]
[101730006,"apache","apache/daffodil","https://github.com/apache/daffodil",71,62]
[37687709,"apache","apache/datasketches-website","https://github.com/apache/datasketches-website",71,33]
[206284188,"apache","apache/dubbo-awesome","https://github.com/apache/dubbo-awesome",71,29]
[64732665,"apache","apache/juneau","https://github.com/apache/juneau",71,38]
[233592029,"apache","apache/tomcat-jakartaee-migration","https://github.com/apache/tomcat-jakartaee-migration",71,25]
[4748416,"apache","apache/manifoldcf","https://github.com/apache/manifoldcf",70,63]
[68181694,"apache","apache/maven-resolver","https://github.com/apache/maven-resolver",70,94]
[70104891,"apache","apache/openwhisk-wskdeploy","https://github.com/apache/openwhisk-wskdeploy",70,73]
[117302788,"apache","apache/skywalking-website","https://github.com/apache/skywalking-website",70,126]
[832675,"apache","apache/tomcat-native","https://github.com/apache/tomcat-native",70,47]
[342035879,"apache","apache/tvm-rfcs","https://github.com/apache/tvm-rfcs",70,66]
[233018446,"apache","apache/xerces-c","https://github.com/apache/xerces-c",70,60]
[191788094,"apache","apache/yunikorn-k8shim","https://github.com/apache/yunikorn-k8shim",70,67]
[206422,"apache","apache/maven-site","https://github.com/apache/maven-site",69,216]
[10860594,"apache","apache/cordova-plugin-device-motion","https://github.com/apache/cordova-plugin-device-motion",68,134]
[62036161,"apache","apache/incubator-weex-loader","https://github.com/apache/incubator-weex-loader",68,32]
[115813211,"apache","apache/maven-sources","https://github.com/apache/maven-sources",67,71]
[113273448,"apache","apache/mynewt-mcumgr","https://github.com/apache/mynewt-mcumgr",67,65]
[452134433,"apache","apache/rocketmq-mqtt","https://github.com/apache/rocketmq-mqtt",67,27]
[206633,"apache","apache/shindig","https://github.com/apache/shindig",67,66]
[460670096,"apache","apache/skywalking-rover","https://github.com/apache/skywalking-rover",66,6]
[24404221,"apache","apache/qpid-jms","https://github.com/apache/qpid-jms",65,146]
[64458355,"apache","apache/twill","https://github.com/apache/twill",65,72]
[77671214,"apache","apache/geode-examples","https://github.com/apache/geode-examples",64,82]
[6898377,"apache","apache/cordova-mobile-spec","https://github.com/apache/cordova-mobile-spec",63,105]
[113677984,"apache","apache/maven-assembly-plugin","https://github.com/apache/maven-assembly-plugin",63,60]
[16538531,"apache","apache/qpid-dispatch","https://github.com/apache/qpid-dispatch",63,88]
[19020239,"apache","apache/maven-indexer","https://github.com/apache/maven-indexer",62,61]
[161004,"apache","apache/apr-util","https://github.com/apache/apr-util",61,53]
[1613090,"apache","apache/hcatalog","https://github.com/apache/hcatalog",61,47]
[59181998,"apache","apache/incubator-milagro-crypto","https://github.com/apache/incubator-milagro-crypto",61,21]
[185667507,"apache","apache/datasketches","https://github.com/apache/datasketches",60,8]
[185667507,"apache","apache/datasketches","https://github.com/apache/datasketches",60,8]
[10637895,"apache","apache/incubator-tez","https://github.com/apache/incubator-tez",60,43]
[113678408,"apache","apache/maven-javadoc-plugin","https://github.com/apache/maven-javadoc-plugin",60,76]
[26525416,"apache","apache/lens","https://github.com/apache/lens",59,98]
[87900864,"apache","apache/metron-bro-plugin-kafka","https://github.com/apache/metron-bro-plugin-kafka",59,38]
[72565867,"apache","apache/openwhisk-apigateway","https://github.com/apache/openwhisk-apigateway",59,49]
[151100664,"apache","apache/openwhisk-composer","https://github.com/apache/openwhisk-composer",59,19]
[108524094,"apache","apache/shardingsphere-elasticjob-doc","https://github.com/apache/shardingsphere-elasticjob-doc",59,65]
[11362688,"apache","apache/commons-chain","https://github.com/apache/commons-chain",58,48]
[10860595,"apache","apache/cordova-plugin-device-orientation","https://github.com/apache/cordova-plugin-device-orientation",58,78]
[83405757,"apache","apache/freemarker-online-tester","https://github.com/apache/freemarker-online-tester",58,34]
[244118761,"apache","apache/incubator-nlpcraft","https://github.com/apache/incubator-nlpcraft",58,19]
[61468488,"apache","apache/incubator-retired-pirk","https://github.com/apache/incubator-retired-pirk",58,26]
[7728562,"apache","apache/oodt","https://github.com/apache/oodt",58,64]
[406666774,"apache","apache/skywalking-showcase","https://github.com/apache/skywalking-showcase",58,33]
[232669361,"apache","apache/tika-docker","https://github.com/apache/tika-docker",58,39]
[6898379,"apache","apache/cordova-qt","https://github.com/apache/cordova-qt",57,23]
[105068223,"apache","apache/incubator-retired-amaterasu","https://github.com/apache/incubator-retired-amaterasu",57,26]
[160998,"apache","apache/stdcxx","https://github.com/apache/stdcxx",57,26]
[42705152,"apache","apache/yetus","https://github.com/apache/yetus",57,57]
[385596995,"apache","apache/arrow-cookbook","https://github.com/apache/arrow-cookbook",56,33]
[35094784,"apache","apache/echarts-www","https://github.com/apache/echarts-www",56,51]
[107537951,"apache","apache/kibble-1","https://github.com/apache/kibble-1",56,30]
[20248082,"apache","apache/ant-ivy","https://github.com/apache/ant-ivy",55,112]
[142535575,"apache","apache/dubbo-sentinel-support","https://github.com/apache/dubbo-sentinel-support",55,17]
[137855319,"apache","apache/incubator-hugegraph-doc","https://github.com/apache/incubator-hugegraph-doc",55,51]
[397996130,"apache","apache/age-viewer","https://github.com/apache/age-viewer",54,24]
[155753806,"apache","apache/datasketches-postgresql","https://github.com/apache/datasketches-postgresql",54,10]
[155753806,"apache","apache/datasketches-postgresql","https://github.com/apache/datasketches-postgresql",54,10]
[113678060,"apache","apache/maven-checkstyle-plugin","https://github.com/apache/maven-checkstyle-plugin",54,48]
[76099157,"apache","apache/openwebbeans-meecrowave","https://github.com/apache/openwebbeans-meecrowave",54,26]
[121096466,"apache","apache/camel-website","https://github.com/apache/camel-website",53,147]
[2580771,"apache","apache/directmemory","https://github.com/apache/directmemory",53,26]
[2580771,"apache","apache/directmemory","https://github.com/apache/directmemory",53,26]
[133792430,"apache","apache/dubbo-benchmark","https://github.com/apache/dubbo-benchmark",53,34]
[1302095,"apache","apache/openwebbeans","https://github.com/apache/openwebbeans",53,52]
[206436,"apache","apache/struts-site","https://github.com/apache/struts-site",53,446]
[498785517,"apache","apache/arrow-adbc","https://github.com/apache/arrow-adbc",52,8]
[9290692,"apache","apache/cordova-app-harness","https://github.com/apache/cordova-app-harness",52,53]
[16132708,"apache","apache/marmotta","https://github.com/apache/marmotta",52,57]
[105323132,"apache","apache/openwhisk-runtime-nodejs","https://github.com/apache/openwhisk-runtime-nodejs",52,69]
[233048597,"apache","apache/rocketmq-connect","https://github.com/apache/rocketmq-connect",52,53]
[294089725,"apache","apache/camel-quarkus-examples","https://github.com/apache/camel-quarkus-examples",51,67]
[6898396,"apache","apache/cordova-labs","https://github.com/apache/cordova-labs",51,56]
[272933893,"apache","apache/echarts-handbook","https://github.com/apache/echarts-handbook",51,110]
[41348335,"apache","apache/kafka-site","https://github.com/apache/kafka-site",51,223]
[29922182,"apache","apache/predictionio-template-similar-product","https://github.com/apache/predictionio-template-similar-product",51,57]
[138623536,"apache","apache/sling-org-apache-sling-app-cms","https://github.com/apache/sling-org-apache-sling-app-cms",51,40]
[256466283,"apache","apache/camel-k-examples","https://github.com/apache/camel-k-examples",50,40]
[88711981,"apache","apache/qpid-broker-j","https://github.com/apache/qpid-broker-j",50,45]
[14795578,"apache","apache/uima-uimaj","https://github.com/apache/uima-uimaj",50,41]
[71975377,"apache","apache/commons-numbers","https://github.com/apache/commons-numbers",49,54]
[364813783,"apache","apache/shenyu-website","https://github.com/apache/shenyu-website",49,151]
[206346,"apache","apache/synapse","https://github.com/apache/synapse",49,47]
[171643056,"apache","apache/camel-k-runtime","https://github.com/apache/camel-k-runtime",48,44]
[3216014,"apache","apache/chemistry-opencmis","https://github.com/apache/chemistry-opencmis",46,59]
[19688946,"apache","apache/flex-blazeds","https://github.com/apache/flex-blazeds",46,43]
[113678351,"apache","apache/maven-jar-plugin","https://github.com/apache/maven-jar-plugin",46,55]
[31976268,"apache","apache/servicemix-bundles","https://github.com/apache/servicemix-bundles",46,96]
[147172434,"apache","apache/skywalking-query-protocol","https://github.com/apache/skywalking-query-protocol",46,64]
[259671148,"apache","apache/camel-kafka-connector-examples","https://github.com/apache/camel-kafka-connector-examples",45,38]
[153445364,"apache","apache/dubbo-erlang","https://github.com/apache/dubbo-erlang",45,19]
[46909397,"apache","apache/whimsy","https://github.com/apache/whimsy",45,58]
[95281387,"apache","apache/cassandra-dtest","https://github.com/apache/cassandra-dtest",44,103]
[292627306,"apache","apache/cassandra-harry","https://github.com/apache/cassandra-harry",44,12]
[11362691,"apache","apache/commons-digester","https://github.com/apache/commons-digester",44,39]
[9290693,"apache","apache/cordova-firefoxos","https://github.com/apache/cordova-firefoxos",44,36]
[26951044,"apache","apache/incubator-retired-tamaya","https://github.com/apache/incubator-retired-tamaya",44,35]
[113678093,"apache","apache/maven-clean-plugin","https://github.com/apache/maven-clean-plugin",44,39]
[113678532,"apache","apache/maven-jlink-plugin","https://github.com/apache/maven-jlink-plugin",44,28]
[206451,"apache","apache/ode","https://github.com/apache/ode",44,62]
[457190393,"apache","apache/rocketmq-eventbridge","https://github.com/apache/rocketmq-eventbridge",44,14]
[464698829,"apache","apache/dubbo-rust","https://github.com/apache/dubbo-rust",43,15]
[195177223,"apache","apache/incubator-weex-playground","https://github.com/apache/incubator-weex-playground",43,29]
[1445740,"apache","apache/zetacomponents","https://github.com/apache/zetacomponents",43,15]
[15993607,"apache","apache/couchdb-couch","https://github.com/apache/couchdb-couch",42,47]
[136004585,"apache","apache/dubbo-hessian-lite","https://github.com/apache/dubbo-hessian-lite",42,43]
[133488175,"apache","apache/dubbo-python2","https://github.com/apache/dubbo-python2",42,15]
[144999365,"apache","apache/incubator-hugegraph-toolchain","https://github.com/apache/incubator-hugegraph-toolchain",42,54]
[1783046,"apache","apache/karaf-cellar","https://github.com/apache/karaf-cellar",42,54]
[205417,"apache","apache/maven-wagon","https://github.com/apache/maven-wagon",42,99]
[117126345,"apache","apache/mynewt-mcumgr-cli","https://github.com/apache/mynewt-mcumgr-cli",42,30]
[273413138,"apache","apache/shardingsphere-ui","https://github.com/apache/shardingsphere-ui",42,39]
[83877385,"apache","apache/activemq-nms-amqp","https://github.com/apache/activemq-nms-amqp",41,27]
[215211708,"apache","apache/cloudstack-primate","https://github.com/apache/cloudstack-primate",41,39]
[38278294,"apache","apache/datasketches-hive","https://github.com/apache/datasketches-hive",41,24]
[38278294,"apache","apache/datasketches-hive","https://github.com/apache/datasketches-hive",41,24]
[3169287,"apache","apache/incubator-retired-s4","https://github.com/apache/incubator-retired-s4",41,18]
[2945916,"apache","apache/james-mime4j","https://github.com/apache/james-mime4j",41,65]
[23907761,"apache","apache/johnzon","https://github.com/apache/johnzon",41,65]
[105811685,"apache","apache/openwhisk-runtime-python","https://github.com/apache/openwhisk-runtime-python",41,67]
[243689974,"apache","apache/skywalking-rust","https://github.com/apache/skywalking-rust",41,16]
[270479,"apache","apache/xmlbeans","https://github.com/apache/xmlbeans",41,49]
[113678153,"apache","apache/maven-deploy-plugin","https://github.com/apache/maven-deploy-plugin",40,53]
[206635,"apache","apache/maven-plugin-tools","https://github.com/apache/maven-plugin-tools",40,45]
[104973620,"apache","apache/openwhisk-runtime-java","https://github.com/apache/openwhisk-runtime-java",40,58]
[162213677,"apache","apache/phoenix-connectors","https://github.com/apache/phoenix-connectors",40,47]
[43539706,"apache","apache/directory-fortress-core","https://github.com/apache/directory-fortress-core",39,37]
[43539706,"apache","apache/directory-fortress-core","https://github.com/apache/directory-fortress-core",39,37]
[16021499,"apache","apache/jackrabbit-filevault","https://github.com/apache/jackrabbit-filevault",39,65]
[18830103,"apache","apache/olingo-odata4-js","https://github.com/apache/olingo-odata4-js",39,28]
[29922204,"apache","apache/predictionio-template-attribute-based-classifier","https://github.com/apache/predictionio-template-attribute-based-classifier",39,62]
[109401796,"apache","apache/sling-whiteboard","https://github.com/apache/sling-whiteboard",39,31]
[80904111,"apache","apache/geode-native","https://github.com/apache/geode-native",38,55]
[1528544,"apache","apache/mrunit","https://github.com/apache/mrunit",38,26]
[18830102,"apache","apache/olingo-odata2","https://github.com/apache/olingo-odata2",38,73]
[469617187,"apache","apache/shardingsphere-on-cloud","https://github.com/apache/shardingsphere-on-cloud",38,9]
[14612017,"apache","apache/velocity-tools","https://github.com/apache/velocity-tools",38,25]
[1358036,"apache","apache/clerezza","https://github.com/apache/clerezza",37,28]
[34894524,"apache","apache/predictionio-template-java-ecom-recommender","https://github.com/apache/predictionio-template-java-ecom-recommender",37,41]
[77030884,"apache","apache/rocketmq-site","https://github.com/apache/rocketmq-site",37,114]
[65604083,"apache","apache/commons-rng","https://github.com/apache/commons-rng",36,40]
[55475355,"apache","apache/cordova-plugin-compat","https://github.com/apache/cordova-plugin-compat",36,44]
[34839382,"apache","apache/couchdb-www","https://github.com/apache/couchdb-www",36,40]
[34839382,"apache","apache/couchdb-www","https://github.com/apache/couchdb-www",36,40]
[5212656,"apache","apache/odftoolkit","https://github.com/apache/odftoolkit",36,29]
[70478924,"apache","apache/openwhisk-workshop","https://github.com/apache/openwhisk-workshop",36,17]
[35185468,"apache","apache/predictionio-template-text-classifier","https://github.com/apache/predictionio-template-text-classifier",36,34]
[324770878,"apache","apache/skywalking-infra-e2e","https://github.com/apache/skywalking-infra-e2e",36,22]
[47246081,"apache","apache/brooklyn-server","https://github.com/apache/brooklyn-server",35,57]
[214996328,"apache","apache/couchdb-helm","https://github.com/apache/couchdb-helm",35,42]
[30287956,"apache","apache/couchdb-mango","https://github.com/apache/couchdb-mango",35,18]
[28156794,"apache","apache/fluo-uno","https://github.com/apache/fluo-uno",35,34]
[73162908,"apache","apache/incubator","https://github.com/apache/incubator",35,41]
[12453634,"apache","apache/incubator-sentry","https://github.com/apache/incubator-sentry",35,47]
[70037034,"apache","apache/opennlp-sandbox","https://github.com/apache/opennlp-sandbox",35,35]
[206408,"apache","apache/sanselan","https://github.com/apache/sanselan",35,16]
[335236401,"apache","apache/buildstream","https://github.com/apache/buildstream",34,18]
[240468,"apache","apache/geronimo","https://github.com/apache/geronimo",34,22]
[51133768,"apache","apache/incubator-milagro","https://github.com/apache/incubator-milagro",34,13]
[20320123,"apache","apache/incubator-retired-blur","https://github.com/apache/incubator-retired-blur",34,33]
[113678772,"apache","apache/maven-resources-plugin","https://github.com/apache/maven-resources-plugin",34,24]
[113488213,"apache","apache/maven-site-plugin","https://github.com/apache/maven-site-plugin",34,38]
[73428254,"apache","apache/openwhisk-client-go","https://github.com/apache/openwhisk-client-go",34,43]
[105315541,"apache","apache/openwhisk-runtime-php","https://github.com/apache/openwhisk-runtime-php",34,35]
[122860146,"apache","apache/fineract-cn-mobile","https://github.com/apache/fineract-cn-mobile",33,146]
[165370421,"apache","apache/mina-ftpserver","https://github.com/apache/mina-ftpserver",33,22]
[70498479,"apache","apache/openwhisk-package-kafka","https://github.com/apache/openwhisk-package-kafka",33,43]
[123311487,"apache","apache/openwhisk-runtime-go","https://github.com/apache/openwhisk-runtime-go",33,47]
[75708586,"apache","apache/accumulo-examples","https://github.com/apache/accumulo-examples",32,36]
[316177855,"apache","apache/camel-kamelets","https://github.com/apache/camel-kamelets",32,44]
[116109319,"apache","apache/commons-statistics","https://github.com/apache/commons-statistics",32,23]
[242853414,"apache","apache/felix-atomos","https://github.com/apache/felix-atomos",32,16]
[51194608,"apache","apache/incubator-retired-iota","https://github.com/apache/incubator-retired-iota",32,32]
[72080280,"apache","apache/infrastructure-website","https://github.com/apache/infrastructure-website",32,78]
[26259891,"apache","apache/karaf-decanter","https://github.com/apache/karaf-decanter",32,42]
[54767258,"apache","apache/mynewt-newtmgr","https://github.com/apache/mynewt-newtmgr",32,59]
[1081282,"apache","apache/xerces2-j","https://github.com/apache/xerces2-j",32,60]
[1319605,"apache","apache/bval","https://github.com/apache/bval",31,27]
[32505934,"apache","apache/commons-rdf","https://github.com/apache/commons-rdf",31,41]
[53118295,"apache","apache/cordova-paramedic","https://github.com/apache/cordova-paramedic",31,52]
[6898383,"apache","apache/cordova-tizen","https://github.com/apache/cordova-tizen",31,27]
[15741777,"apache","apache/drat","https://github.com/apache/drat",31,35]
[15741777,"apache","apache/drat","https://github.com/apache/drat",31,35]
[2046220,"apache","apache/empire-db","https://github.com/apache/empire-db",31,25]
[180528387,"apache","apache/hbase-native-client","https://github.com/apache/hbase-native-client",31,20]
[218852626,"apache","apache/ignite-extensions","https://github.com/apache/ignite-extensions",31,48]
[74950517,"apache","apache/logging-log4j-kotlin","https://github.com/apache/logging-log4j-kotlin",31,14]
[113678969,"apache","apache/maven-war-plugin","https://github.com/apache/maven-war-plugin",31,60]
[887306,"apache","apache/mod_perl","https://github.com/apache/mod_perl",31,15]
[2226508,"apache","apache/pivot","https://github.com/apache/pivot",31,29]
[351967756,"apache","apache/skywalking-kubernetes-event-exporter","https://github.com/apache/skywalking-kubernetes-event-exporter",31,11]
[384354433,"apache","apache/camel-kameleon","https://github.com/apache/camel-kameleon",30,10]
[127740535,"apache","apache/commons-geometry","https://github.com/apache/commons-geometry",30,23]
[74950508,"apache","apache/cordova-common","https://github.com/apache/cordova-common",30,41]
[42705151,"apache","apache/incubator-retired-horn","https://github.com/apache/incubator-retired-horn",30,17]
[393402473,"apache","apache/iotdb-web-workbench","https://github.com/apache/iotdb-web-workbench",30,19]
[113678630,"apache","apache/maven-pmd-plugin","https://github.com/apache/maven-pmd-plugin",30,37]
[60272020,"apache","apache/openwhisk-catalog","https://github.com/apache/openwhisk-catalog",30,49]
[83954414,"apache","apache/activemq-nms-api","https://github.com/apache/activemq-nms-api",29,26]
[6898375,"apache","apache/cordova-coho","https://github.com/apache/cordova-coho",29,63]
[66754395,"apache","apache/incubator-ariatosca","https://github.com/apache/incubator-ariatosca",29,47]
[84534790,"apache","apache/incubator-milagro-crypto-c","https://github.com/apache/incubator-milagro-crypto-c",29,13]
[318786861,"apache","apache/iotdb-client-go","https://github.com/apache/iotdb-client-go",29,17]
[206374,"apache","apache/maven-shared","https://github.com/apache/maven-shared",29,42]
[126293206,"apache","apache/nifi-fds","https://github.com/apache/nifi-fds",29,25]
[60240214,"apache","apache/phoenix-tephra","https://github.com/apache/phoenix-tephra",29,52]
[255459239,"apache","apache/trafficserver-ingress-controller","https://github.com/apache/trafficserver-ingress-controller",29,9]
[150309255,"apache","apache/ambari-metrics","https://github.com/apache/ambari-metrics",28,50]
[52588453,"apache","apache/beam-site","https://github.com/apache/beam-site",28,126]
[38866103,"apache","apache/commons-scxml","https://github.com/apache/commons-scxml",28,46]
[206390,"apache","apache/maven-skins","https://github.com/apache/maven-skins",28,15]
[102083574,"apache","apache/netbeans-html4j","https://github.com/apache/netbeans-html4j",28,21]
[162496513,"apache","apache/phoenix-queryserver","https://github.com/apache/phoenix-queryserver",28,47]
[76634121,"apache","apache/qpid-proton-j","https://github.com/apache/qpid-proton-j",28,63]
[107436391,"apache","apache/sling-samples","https://github.com/apache/sling-samples",28,18]
[15070665,"apache","apache/uima-uimafit","https://github.com/apache/uima-uimafit",28,19]
[688359,"apache","apache/ace","https://github.com/apache/ace",27,24]
[74950506,"apache","apache/aries-jax-rs-whiteboard","https://github.com/apache/aries-jax-rs-whiteboard",27,30]
[7126416,"apache","apache/cordova-blackberry","https://github.com/apache/cordova-blackberry",27,60]
[100683024,"apache","apache/directory-ldap-api","https://github.com/apache/directory-ldap-api",27,28]
[137794579,"apache","apache/directory-scimple","https://github.com/apache/directory-scimple",27,16]
[100683024,"apache","apache/directory-ldap-api","https://github.com/apache/directory-ldap-api",27,28]
[137794579,"apache","apache/directory-scimple","https://github.com/apache/directory-scimple",27,16]
[504443151,"apache","apache/rocketmq-clients","https://github.com/apache/rocketmq-clients",27,20]
[14740847,"apache","apache/cordova-ubuntu","https://github.com/apache/cordova-ubuntu",26,38]
[87245701,"apache","apache/couchdb-pkg","https://github.com/apache/couchdb-pkg",26,28]
[17537835,"apache","apache/cxf-dosgi","https://github.com/apache/cxf-dosgi",26,28]
[23864217,"apache","apache/ddlutils","https://github.com/apache/ddlutils",26,41]
[87245701,"apache","apache/couchdb-pkg","https://github.com/apache/couchdb-pkg",26,28]
[17537835,"apache","apache/cxf-dosgi","https://github.com/apache/cxf-dosgi",26,28]
[23864217,"apache","apache/ddlutils","https://github.com/apache/ddlutils",26,41]
[5611580,"apache","apache/flex-tlf","https://github.com/apache/flex-tlf",26,21]
[149507033,"apache","apache/freemarker-generator","https://github.com/apache/freemarker-generator",26,19]
[431255738,"apache","apache/iceberg-docs","https://github.com/apache/iceberg-docs",26,48]
[193841624,"apache","apache/incubator-milagro-crypto-rust","https://github.com/apache/incubator-milagro-crypto-rust",26,15]
[152629467,"apache","apache/openwhisk-runtime-dotnet","https://github.com/apache/openwhisk-runtime-dotnet",26,29]
[173112450,"apache","apache/openwhisk-runtime-rust","https://github.com/apache/openwhisk-runtime-rust",26,20]
[29922117,"apache","apache/predictionio-template-skeleton","https://github.com/apache/predictionio-template-skeleton",26,42]
[206394,"apache","apache/struts1","https://github.com/apache/struts1",26,76]
[162297452,"apache","apache/cassandra-sidecar","https://github.com/apache/cassandra-sidecar",25,22]
[457619173,"apache","apache/doris-spark-connector","https://github.com/apache/doris-spark-connector",25,37]
[149782046,"apache","apache/doris-website","https://github.com/apache/doris-website",25,43]
[457619173,"apache","apache/doris-spark-connector","https://github.com/apache/doris-spark-connector",25,37]
[149782046,"apache","apache/doris-website","https://github.com/apache/doris-website",25,43]
[54452626,"apache","apache/guacamole-manual","https://github.com/apache/guacamole-manual",25,38]
[143783123,"apache","apache/incubator-streampipes-extensions","https://github.com/apache/incubator-streampipes-extensions",25,21]
[17971137,"apache","apache/incubator-tajo","https://github.com/apache/incubator-tajo",25,17]
[171950078,"apache","apache/incubator-training","https://github.com/apache/incubator-training",25,29]
[62679255,"apache","apache/openwhisk-tutorial","https://github.com/apache/openwhisk-tutorial",25,14]
[20089860,"apache","apache/portals-pluto","https://github.com/apache/portals-pluto",25,39]
[205305416,"apache","apache/shardingsphere-benchmark","https://github.com/apache/shardingsphere-benchmark",25,19]
[351349940,"apache","apache/skywalking-goapi","https://github.com/apache/skywalking-goapi",25,16]
[390004,"apache","apache/tuscany-sca-2.x","https://github.com/apache/tuscany-sca-2.x",25,17]
[160995,"apache","apache/xalan-j","https://github.com/apache/xalan-j",25,66]
[283392625,"apache","apache/apisix-control-plane","https://github.com/apache/apisix-control-plane",24,14]
[196358567,"apache","apache/cloudstack-kubernetes-provider","https://github.com/apache/cloudstack-kubernetes-provider",24,13]
[29590486,"apache","apache/fluo-muchos","https://github.com/apache/fluo-muchos",24,38]
[343362528,"apache","apache/kibble","https://github.com/apache/kibble",24,6]
[51501355,"apache","apache/mynewt-site","https://github.com/apache/mynewt-site",24,66]
[533870035,"apache","apache/pulsar-client-reactive","https://github.com/apache/pulsar-client-reactive",24,6]
[198023969,"apache","apache/pulsar-translation","https://github.com/apache/pulsar-translation",24,32]
[2092235,"apache","apache/santuario-java","https://github.com/apache/santuario-java",24,36]
[515951203,"apache","apache/arrow-datafusion-python","https://github.com/apache/arrow-datafusion-python",23,8]
[40230046,"apache","apache/aurora-packaging","https://github.com/apache/aurora-packaging",23,29]
[74950509,"apache","apache/cordova-fetch","https://github.com/apache/cordova-fetch",23,29]
[252164142,"apache","apache/couchdb-erlfdb","https://github.com/apache/couchdb-erlfdb",23,13]
[158448038,"apache","apache/groovy-website","https://github.com/apache/groovy-website",23,54]
[139543029,"apache","apache/incubator-hugegraph-commons","https://github.com/apache/incubator-hugegraph-commons",23,35]
[232572161,"apache","apache/inlong-website","https://github.com/apache/inlong-website",23,72]
[159762560,"apache","apache/iotdb-website","https://github.com/apache/iotdb-website",23,18]
[444403283,"apache","apache/maven-build-cache-extension","https://github.com/apache/maven-build-cache-extension",23,10]
[1087803,"apache","apache/maven-integration-testing","https://github.com/apache/maven-integration-testing",23,60]
[511806983,"apache","apache/rocketmq-schema-registry","https://github.com/apache/rocketmq-schema-registry",23,12]
[70882928,"apache","apache/serf","https://github.com/apache/serf",23,9]
[150308585,"apache","apache/ambari-logsearch","https://github.com/apache/ambari-logsearch",22,39]
[391967603,"apache","apache/apisix-python-plugin-runner","https://github.com/apache/apisix-python-plugin-runner",22,19]
[511532067,"apache","apache/arrow-nanoarrow","https://github.com/apache/arrow-nanoarrow",22,5]
[135442448,"apache","apache/dubbo-async-processor","https://github.com/apache/dubbo-async-processor",22,10]
[30956940,"apache","apache/incubator-taverna-language","https://github.com/apache/incubator-taverna-language",22,24]
[113484009,"apache","apache/maven-dependency-analyzer","https://github.com/apache/maven-dependency-analyzer",22,37]
[206478,"apache","apache/maven-doxia","https://github.com/apache/maven-doxia",22,38]
[140453131,"apache","apache/openwhisk-deploy-openshift","https://github.com/apache/openwhisk-deploy-openshift",22,11]
[71358594,"apache","apache/openwhisk-package-alarms","https://github.com/apache/openwhisk-package-alarms",22,49]
[105293077,"apache","apache/openwhisk-runtime-swift","https://github.com/apache/openwhisk-runtime-swift",22,26]
[62259667,"apache","apache/openwhisk-website","https://github.com/apache/openwhisk-website",22,51]
[191902022,"apache","apache/rocketmq-ons","https://github.com/apache/rocketmq-ons",22,12]
[358578856,"apache","apache/skywalking-kong","https://github.com/apache/skywalking-kong",22,9]
[11304845,"apache","apache/commons-proxy","https://github.com/apache/commons-proxy",21,22]
[15680129,"apache","apache/cordova-amazon-fireos","https://github.com/apache/cordova-amazon-fireos",21,25]
[113564180,"apache","apache/fineract-cn-demo-server","https://github.com/apache/fineract-cn-demo-server",21,155]
[78722367,"apache","apache/incubator-flagon","https://github.com/apache/incubator-flagon",21,12]
[97528278,"apache","apache/incubator-mxnet-site","https://github.com/apache/incubator-mxnet-site",21,23]
[72975288,"apache","apache/logging-log4j-audit","https://github.com/apache/logging-log4j-audit",21,11]
[109480449,"apache","apache/maven-apache-parent","https://github.com/apache/maven-apache-parent",21,16]
[115990250,"apache","apache/maven-archetypes","https://github.com/apache/maven-archetypes",21,33]
[113678303,"apache","apache/maven-install-plugin","https://github.com/apache/maven-install-plugin",21,33]
[113678874,"apache","apache/maven-source-plugin","https://github.com/apache/maven-source-plugin",21,23]
[41239511,"apache","apache/nifi-maven","https://github.com/apache/nifi-maven",21,30]
[71374909,"apache","apache/openwhisk-debugger","https://github.com/apache/openwhisk-debugger",21,8]
[105931844,"apache","apache/openwhisk-runtime-docker","https://github.com/apache/openwhisk-runtime-docker",21,41]
[243660063,"apache","apache/skywalking-agent-test-tool","https://github.com/apache/skywalking-agent-test-tool",21,26]
[361170664,"apache","apache/www-site","https://github.com/apache/www-site",21,42]
[102179100,"apache","apache/airavata-django-portal","https://github.com/apache/airavata-django-portal",20,37]
[46477043,"apache","apache/apache-website-template","https://github.com/apache/apache-website-template",20,32]
[51905338,"apache","apache/arrow-site","https://github.com/apache/arrow-site",20,69]
[59930658,"apache","apache/bahir-website","https://github.com/apache/bahir-website",20,18]
[212459447,"apache","apache/cassandra-website","https://github.com/apache/cassandra-website",20,46]
[6898384,"apache","apache/cordova-webos","https://github.com/apache/cordova-webos",20,18]
[113564038,"apache","apache/fineract-cn-accounting","https://github.com/apache/fineract-cn-accounting",20,139]
[240464,"apache","apache/geronimo-specs","https://github.com/apache/geronimo-specs",20,30]
[142101634,"apache","apache/incubator-hugegraph-tools","https://github.com/apache/incubator-hugegraph-tools",20,32]
[5054231,"apache","apache/james-hupa","https://github.com/apache/james-hupa",20,15]
[113678674,"apache","apache/maven-project-info-reports-plugin","https://github.com/apache/maven-project-info-reports-plugin",20,33]
[144752087,"apache","apache/parquet-testing","https://github.com/apache/parquet-testing",20,28]
[225203,"apache","apache/servicemix4-bundles","https://github.com/apache/servicemix4-bundles",20,19]
[63669374,"apache","apache/shiro-site","https://github.com/apache/shiro-site",20,192]
[32376873,"apache","apache/vxquery","https://github.com/apache/vxquery",20,31]
[183135979,"apache","apache/xalan-c","https://github.com/apache/xalan-c",20,17]
[299771,"apache","apache/activemq-protobuf","https://github.com/apache/activemq-protobuf",19,12]
[142472700,"apache","apache/cloudstack-documentation","https://github.com/apache/cloudstack-documentation",19,73]
[206428,"apache","apache/cocoon","https://github.com/apache/cocoon",19,20]
[33746758,"apache","apache/cordova-discuss","https://github.com/apache/cordova-discuss",19,28]
[474942253,"apache","apache/flink-connector-elasticsearch","https://github.com/apache/flink-connector-elasticsearch",19,20]
[66700904,"apache","apache/incubator-flagon-useralejs","https://github.com/apache/incubator-flagon-useralejs",19,19]
[437738945,"apache","apache/incubator-seatunnel-website","https://github.com/apache/incubator-seatunnel-website",19,45]
[5054234,"apache","apache/james-jdkim","https://github.com/apache/james-jdkim",19,32]
[17049428,"apache","apache/juddi","https://github.com/apache/juddi",19,17]
[109480476,"apache","apache/maven-parent","https://github.com/apache/maven-parent",19,14]
[102621652,"apache","apache/mynewt-nffs","https://github.com/apache/mynewt-nffs",19,14]
[54580367,"apache","apache/openwhisk-client-swift","https://github.com/apache/openwhisk-client-swift",19,11]
[58671635,"apache","apache/openwhisk-vscode","https://github.com/apache/openwhisk-vscode",19,4]
[26158785,"apache","apache/pdfbox-docs","https://github.com/apache/pdfbox-docs",19,35]
[255146602,"apache","apache/pulsar-adapters","https://github.com/apache/pulsar-adapters",19,22]
[263849463,"apache","apache/santuario-xml-security-java","https://github.com/apache/santuario-xml-security-java",19,32]
[832677,"apache","apache/tomcat-connectors","https://github.com/apache/tomcat-connectors",19,29]
[247823,"apache","apache/wink","https://github.com/apache/wink",19,22]
[108306709,"apache","apache/accumulo-docker","https://github.com/apache/accumulo-docker",18,24]
[145325821,"apache","apache/airflow-ci","https://github.com/apache/airflow-ci",18,14]
[160988,"apache","apache/apr-iconv","https://github.com/apache/apr-iconv",18,17]
[11304840,"apache","apache/commons-jxpath","https://github.com/apache/commons-jxpath",18,41]
[101730004,"apache","apache/commons-parent","https://github.com/apache/commons-parent",18,19]
[17537838,"apache","apache/cxf-fediz","https://github.com/apache/cxf-fediz",18,32]
[17537838,"apache","apache/cxf-fediz","https://github.com/apache/cxf-fediz",18,32]
[160996,"apache","apache/etch","https://github.com/apache/etch",18,9]
[296547184,"apache","apache/incubator-hugegraph-computer","https://github.com/apache/incubator-hugegraph-computer",18,12]
[59182007,"apache","apache/incubator-milagro-mfa-server","https://github.com/apache/incubator-milagro-mfa-server",18,9]
[4544259,"apache","apache/karaf-cave","https://github.com/apache/karaf-cave",18,23]
[3050780,"apache","apache/lenya","https://github.com/apache/lenya",18,9]
[113484035,"apache","apache/maven-dependency-tree","https://github.com/apache/maven-dependency-tree",18,26]
[107434896,"apache","apache/sling-org-apache-sling-dynamic-include","https://github.com/apache/sling-org-apache-sling-dynamic-include",18,24]
[107435578,"apache","apache/sling-org-apache-sling-starter","https://github.com/apache/sling-org-apache-sling-starter",18,25]
[46606641,"apache","apache/systemds-website","https://github.com/apache/systemds-website",18,26]
[191787181,"apache","apache/yunikorn-web","https://github.com/apache/yunikorn-web",18,26]
[206482,"apache","apache/abdera","https://github.com/apache/abdera",17,26]
[32972125,"apache","apache/asterixdb-hyracks","https://github.com/apache/asterixdb-hyracks",17,33]
[247250286,"apache","apache/camel-karaf","https://github.com/apache/camel-karaf",17,46]
[378986140,"apache","apache/cloudstack-go","https://github.com/apache/cloudstack-go",17,15]
[11362687,"apache","apache/commons-bsf","https://github.com/apache/commons-bsf",17,21]
[11335237,"apache","apache/commons-functor","https://github.com/apache/commons-functor",17,28]
[13853693,"apache","apache/commons-weaver","https://github.com/apache/commons-weaver",17,14]
[13641480,"apache","apache/cordova-medic","https://github.com/apache/cordova-medic",17,27]
[314304931,"apache","apache/ignite-python-thin-client","https://github.com/apache/ignite-python-thin-client",17,14]
[484251804,"apache","apache/incubator-devlake-website","https://github.com/apache/incubator-devlake-website",17,40]
[411311313,"apache","apache/incubator-linkis-website","https://github.com/apache/incubator-linkis-website",17,63]
[34156053,"apache","apache/incubator-retired-mrql","https://github.com/apache/incubator-retired-mrql",17,16]
[108511090,"apache","apache/incubator-sdap-nexus","https://github.com/apache/incubator-sdap-nexus",17,32]
[164282196,"apache","apache/jclouds-examples","https://github.com/apache/jclouds-examples",17,11]
[72975292,"apache","apache/logging-log4j-scala","https://github.com/apache/logging-log4j-scala",17,8]
[113677956,"apache","apache/maven-antrun-plugin","https://github.com/apache/maven-antrun-plugin",17,17]
[113678287,"apache","apache/maven-help-plugin","https://github.com/apache/maven-help-plugin",17,29]
[113678320,"apache","apache/maven-invoker-plugin","https://github.com/apache/maven-invoker-plugin",17,21]
[206425,"apache","apache/maven-pom-retired","https://github.com/apache/maven-pom-retired",17,14]
[255146527,"apache","apache/pulsar-connectors","https://github.com/apache/pulsar-connectors",17,13]
[238290996,"apache","apache/pulsar-test-infra","https://github.com/apache/pulsar-test-infra",17,26]
[107433431,"apache","apache/sling-org-apache-sling-models-impl","https://github.com/apache/sling-org-apache-sling-models-impl",17,27]
[688361,"apache","apache/esme","https://github.com/apache/esme",16,11]
[48418598,"apache","apache/fineract-site","https://github.com/apache/fineract-site",16,28]
[427387265,"apache","apache/flink-connectors","https://github.com/apache/flink-connectors",16,11]
[97564457,"apache","apache/geronimo-config","https://github.com/apache/geronimo-config",16,16]
[33766200,"apache","apache/incubator-retired-openaz","https://github.com/apache/incubator-retired-openaz",16,26]
[132148763,"apache","apache/incubator-streampipes-installer","https://github.com/apache/incubator-streampipes-installer",16,16]
[30956939,"apache","apache/incubator-taverna-engine","https://github.com/apache/incubator-taverna-engine",16,11]
[2848302,"apache","apache/james-jspf","https://github.com/apache/james-jspf",16,31]
[688364,"apache","apache/log4j-extras","https://github.com/apache/log4j-extras",16,10]
[113678275,"apache","apache/maven-gpg-plugin","https://github.com/apache/maven-gpg-plugin",16,19]
[98080471,"apache","apache/metamodel-membrane","https://github.com/apache/metamodel-membrane",16,22]
[45165992,"apache","apache/mynewt-documentation","https://github.com/apache/mynewt-documentation",16,46]
[255146640,"apache","apache/pulsar-presto","https://github.com/apache/pulsar-presto",16,5]
[431077899,"apache","apache/shenyu-nginx","https://github.com/apache/shenyu-nginx",16,11]
[206392,"apache","apache/xmlgraphics-commons","https://github.com/apache/xmlgraphics-commons",16,20]
[76711509,"apache","apache/accumulo-testing","https://github.com/apache/accumulo-testing",15,38]
[152332040,"apache","apache/activemq-website","https://github.com/apache/activemq-website",15,44]
[276293992,"apache","apache/age-website","https://github.com/apache/age-website",15,22]
[31976262,"apache","apache/airavata-php-gateway","https://github.com/apache/airavata-php-gateway",15,37]
[248644777,"apache","apache/axis-axis2-java-core","https://github.com/apache/axis-axis2-java-core",15,19]
[16572418,"apache","apache/cloudstack-docs-admin","https://github.com/apache/cloudstack-docs-admin",15,41]
[270183255,"apache","apache/commons-graph","https://github.com/apache/commons-graph",15,9]
[74950512,"apache","apache/cordova-serve","https://github.com/apache/cordova-serve",15,30]
[15993598,"apache","apache/couchdb-chttpd","https://github.com/apache/couchdb-chttpd",15,31]
[6169821,"apache","apache/creadur-rat","https://github.com/apache/creadur-rat",15,31]
[6169821,"apache","apache/creadur-rat","https://github.com/apache/creadur-rat",15,31]
[10095588,"apache","apache/flex-flexunit","https://github.com/apache/flex-flexunit",15,14]
[28174060,"apache","apache/incubator-retired-corinthia","https://github.com/apache/incubator-retired-corinthia",15,6]
[111517550,"apache","apache/incubator-retired-edgent-samples","https://github.com/apache/incubator-retired-edgent-samples",15,12]
[35204051,"apache","apache/incubator-taverna-mobile","https://github.com/apache/incubator-taverna-mobile",15,24]
[107537813,"apache","apache/kibble-scanners","https://github.com/apache/kibble-scanners",15,13]
[113484114,"apache","apache/maven-invoker","https://github.com/apache/maven-invoker",15,15]
[71356594,"apache","apache/openwhisk-package-cloudant","https://github.com/apache/openwhisk-package-cloudant",15,40]
[62698710,"apache","apache/qpid-python","https://github.com/apache/qpid-python",15,18]
[17895094,"apache","apache/rave","https://github.com/apache/rave",15,12]
[225207,"apache","apache/servicemix4-features","https://github.com/apache/servicemix4-features",15,7]
[141420676,"apache","apache/tcl-rivet","https://github.com/apache/tcl-rivet",15,6]
[121734888,"apache","apache/tomcat-training","https://github.com/apache/tomcat-training",15,13]
[213724362,"apache","apache/tvm-site","https://github.com/apache/tvm-site",15,26]
[67106627,"apache","apache/usergrid-javascript","https://github.com/apache/usergrid-javascript",15,7]
[191787408,"apache","apache/yunikorn-scheduler-interface","https://github.com/apache/yunikorn-scheduler-interface",15,44]
[347131942,"apache","apache/apachecon-acasia","https://github.com/apache/apachecon-acasia",14,50]
[47246077,"apache","apache/brooklyn-client","https://github.com/apache/brooklyn-client",14,35]
[47246082,"apache","apache/brooklyn-ui","https://github.com/apache/brooklyn-ui",14,49]
[360431125,"apache","apache/cloudstack-terraform-provider","https://github.com/apache/cloudstack-terraform-provider",14,11]
[112101025,"apache","apache/directory-mavibot","https://github.com/apache/directory-mavibot",14,3]
[112101025,"apache","apache/directory-mavibot","https://github.com/apache/directory-mavibot",14,3]
[108082114,"apache","apache/dubbo-feature-test","https://github.com/apache/dubbo-feature-test",14,5]
[14135469,"apache","apache/incubator-batchee","https://github.com/apache/incubator-batchee",14,19]
[156619550,"apache","apache/incubator-milagro-crypto-js","https://github.com/apache/incubator-milagro-crypto-js",14,8]
[287005416,"apache","apache/incubator-ponymail-foal","https://github.com/apache/incubator-ponymail-foal",14,9]
[221147168,"apache","apache/karaf-winegrower","https://github.com/apache/karaf-winegrower",14,10]
[206421,"apache","apache/maven-plugin-testing","https://github.com/apache/maven-plugin-testing",14,38]
[239104271,"apache","apache/maven-wrapper-plugin","https://github.com/apache/maven-wrapper-plugin",14,3]
[100689784,"apache","apache/myfaces-tobago","https://github.com/apache/myfaces-tobago",14,20]
[920238,"apache","apache/npanday","https://github.com/apache/npanday",14,14]
[458167398,"apache","apache/rocketmq-client-csharp","https://github.com/apache/rocketmq-client-csharp",14,5]
[67106631,"apache","apache/usergrid-swift","https://github.com/apache/usergrid-swift",14,12]
[47246078,"apache","apache/brooklyn-dist","https://github.com/apache/brooklyn-dist",13,37]
[13641479,"apache","apache/cloudstack-docs","https://github.com/apache/cloudstack-docs",13,57]
[35144189,"apache","apache/cloudstack-ec2stack","https://github.com/apache/cloudstack-ec2stack",13,12]
[11304838,"apache","apache/commons-jelly","https://github.com/apache/commons-jelly",13,26]
[15993605,"apache","apache/couchdb-couch-plugins","https://github.com/apache/couchdb-couch-plugins",13,9]
[64996439,"apache","apache/couchdb-glazier","https://github.com/apache/couchdb-glazier",13,12]
[3414177,"apache","apache/flex-whiteboard","https://github.com/apache/flex-whiteboard",13,7]
[251242078,"apache","apache/flink-statefun-docker","https://github.com/apache/flink-statefun-docker",13,13]
[145979000,"apache","apache/groovy-examples","https://github.com/apache/groovy-examples",13,15]
[94973335,"apache","apache/hbase-thirdparty","https://github.com/apache/hbase-thirdparty",13,32]
[688356,"apache","apache/maven-2","https://github.com/apache/maven-2",13,12]
[113678014,"apache","apache/maven-changelog-plugin","https://github.com/apache/maven-changelog-plugin",13,11]
[113678816,"apache","apache/maven-scm-publish-plugin","https://github.com/apache/maven-scm-publish-plugin",13,12]
[120178661,"apache","apache/maven-studies","https://github.com/apache/maven-studies",13,9]
[113678929,"apache","apache/maven-toolchains-plugin","https://github.com/apache/maven-toolchains-plugin",13,21]
[104312953,"apache","apache/netbeans-tools","https://github.com/apache/netbeans-tools",13,27]
[1005169,"apache","apache/servicemix-documentation","https://github.com/apache/servicemix-documentation",13,11]
[401558592,"apache","apache/skywalking-banyandb-java-client","https://github.com/apache/skywalking-banyandb-java-client",13,7]
[530879080,"apache","apache/skywalking-php","https://github.com/apache/skywalking-php",13,2]
[263178771,"apache","apache/uima-ruta","https://github.com/apache/uima-ruta",13,6]
[74950504,"apache","apache/accumulo-website","https://github.com/apache/accumulo-website",12,99]
[88242107,"apache","apache/aries-jpa","https://github.com/apache/aries-jpa",12,21]
[47246080,"apache","apache/brooklyn-library","https://github.com/apache/brooklyn-library",12,43]
[35472259,"apache","apache/cloudstack-www","https://github.com/apache/cloudstack-www",12,37]
[17537839,"apache","apache/cxf-xjc-utils","https://github.com/apache/cxf-xjc-utils",12,32]
[104547093,"apache","apache/datasketches-vector","https://github.com/apache/datasketches-vector",12,7]
[35083343,"apache","apache/drill-site","https://github.com/apache/drill-site",12,25]
[17537839,"apache","apache/cxf-xjc-utils","https://github.com/apache/cxf-xjc-utils",12,32]
[104547093,"apache","apache/datasketches-vector","https://github.com/apache/datasketches-vector",12,7]
[35083343,"apache","apache/drill-site","https://github.com/apache/drill-site",12,25]
[205420,"apache","apache/harmony-drlvm","https://github.com/apache/harmony-drlvm",12,9]
[30956938,"apache","apache/incubator-taverna-common-activities","https://github.com/apache/incubator-taverna-common-activities",12,16]
[113488245,"apache","apache/maven-pdf-plugin","https://github.com/apache/maven-pdf-plugin",12,13]
[113484466,"apache","apache/maven-shared-utils","https://github.com/apache/maven-shared-utils",12,23]
[185792123,"apache","apache/netbeans-mavenutils-nbm-maven-plugin","https://github.com/apache/netbeans-mavenutils-nbm-maven-plugin",12,20]
[206811378,"apache","apache/nifi-standard-libraries","https://github.com/apache/nifi-standard-libraries",12,10]
[109984864,"apache","apache/openwhisk-release","https://github.com/apache/openwhisk-release",12,27]
[107089740,"apache","apache/pdfbox-jbig2","https://github.com/apache/pdfbox-jbig2",12,18]
[107434091,"apache","apache/sling-org-apache-sling-scripting-sightly","https://github.com/apache/sling-org-apache-sling-scripting-sightly",12,11]
[94859984,"apache","apache/sling-site","https://github.com/apache/sling-site",12,65]
[218784422,"apache","apache/ws-wss4j","https://github.com/apache/ws-wss4j",12,25]
[74950505,"apache","apache/accumulo-wikisearch","https://github.com/apache/accumulo-wikisearch",11,12]
[20248083,"apache","apache/ant-ivyde","https://github.com/apache/ant-ivyde",11,16]
[53649949,"apache","apache/aries-rsa","https://github.com/apache/aries-rsa",11,21]
[418276612,"apache","apache/cassandra-accord","https://github.com/apache/cassandra-accord",11,5]
[204657216,"apache","apache/cassandra-diff","https://github.com/apache/cassandra-diff",11,16]
[77994497,"apache","apache/cayenne-modeler","https://github.com/apache/cayenne-modeler",11,7]
[205415,"apache","apache/chainsaw","https://github.com/apache/chainsaw",11,19]
[3254168,"apache","apache/chemistry-cmislib","https://github.com/apache/chemistry-cmislib",11,22]
[15993599,"apache","apache/couchdb-config","https://github.com/apache/couchdb-config",11,21]
[15993606,"apache","apache/couchdb-couch-replicator","https://github.com/apache/couchdb-couch-replicator",11,17]
[39059222,"apache","apache/couchdb-nmo","https://github.com/apache/couchdb-nmo",11,9]
[39059222,"apache","apache/couchdb-nmo","https://github.com/apache/couchdb-nmo",11,9]
[113563854,"apache","apache/fineract-cn-fims-web-app","https://github.com/apache/fineract-cn-fims-web-app",11,143]
[147407131,"apache","apache/hadoop-site","https://github.com/apache/hadoop-site",11,35]
[205310916,"apache","apache/incubator-brpc-website","https://github.com/apache/incubator-brpc-website",11,19]
[230303510,"apache","apache/incubator-nuttx-website","https://github.com/apache/incubator-nuttx-website",11,17]
[44796329,"apache","apache/incubator-retired-concerted","https://github.com/apache/incubator-retired-concerted",11,6]
[108511089,"apache","apache/incubator-sdap-mudrod","https://github.com/apache/incubator-sdap-mudrod",11,16]
[444387000,"apache","apache/incubator-streampark-website","https://github.com/apache/incubator-streampark-website",11,37]
[15680133,"apache","apache/lucy-clownfish","https://github.com/apache/lucy-clownfish",11,15]
[109480524,"apache","apache/maven-fluido-skin","https://github.com/apache/maven-fluido-skin",11,18]
[113678386,"apache","apache/maven-jarsigner-plugin","https://github.com/apache/maven-jarsigner-plugin",11,15]
[113678490,"apache","apache/maven-jdeps-plugin","https://github.com/apache/maven-jdeps-plugin",11,15]
[206441,"apache","apache/maven-jxr","https://github.com/apache/maven-jxr",11,32]
[165370485,"apache","apache/mina-vysper","https://github.com/apache/mina-vysper",11,11]
[7770259,"apache","apache/openejb","https://github.com/apache/openejb",11,27]
[70037033,"apache","apache/opennlp-addons","https://github.com/apache/opennlp-addons",11,11]
[67248006,"apache","apache/openwhisk-client-python","https://github.com/apache/openwhisk-client-python",11,7]
[288636837,"apache","apache/openwhisk-runtime-deno","https://github.com/apache/openwhisk-runtime-deno",11,11]
[429229398,"apache","apache/pulsar-site","https://github.com/apache/pulsar-site",11,36]
[359618069,"apache","apache/qpid-protonj2","https://github.com/apache/qpid-protonj2",11,8]
[1976792,"apache","apache/servicemix5","https://github.com/apache/servicemix5",11,8]
[131208938,"apache","apache/sling-org-apache-sling-feature","https://github.com/apache/sling-org-apache-sling-feature",11,12]
[107434927,"apache","apache/sling-org-apache-sling-query","https://github.com/apache/sling-org-apache-sling-query",11,4]
[107434181,"apache","apache/sling-org-apache-sling-servlets-post","https://github.com/apache/sling-org-apache-sling-servlets-post",11,17]
[358635015,"apache","apache/tika-helm","https://github.com/apache/tika-helm",11,10]
[15070657,"apache","apache/uima-addons","https://github.com/apache/uima-addons",11,17]
[67106623,"apache","apache/usergrid-android","https://github.com/apache/usergrid-android",11,12]
[255520515,"apache","apache/yunikorn-release","https://github.com/apache/yunikorn-release",11,31]
[248664768,"apache","apache/yunikorn-site","https://github.com/apache/yunikorn-site",11,35]
[84171579,"apache","apache/activemq-nms-openwire","https://github.com/apache/activemq-nms-openwire",10,27]
[42161742,"apache","apache/apex-site","https://github.com/apache/apex-site",10,28]
[887307,"apache","apache/apreq","https://github.com/apache/apreq",10,7]
[144751911,"apache","apache/arrow-testing","https://github.com/apache/arrow-testing",10,27]
[47246079,"apache","apache/brooklyn-docs","https://github.com/apache/brooklyn-docs",10,43]
[13824896,"apache","apache/chemistry-objectivecmis","https://github.com/apache/chemistry-objectivecmis",10,6]
[11335240,"apache","apache/commons-jci","https://github.com/apache/commons-jci",10,12]
[116647217,"apache","apache/commons-release-plugin","https://github.com/apache/commons-release-plugin",10,11]
[61055235,"apache","apache/cordova-status","https://github.com/apache/cordova-status",10,6]
[15993611,"apache","apache/couchdb-fabric","https://github.com/apache/couchdb-fabric",10,22]
[16795936,"apache","apache/couchdb-jquery-couch","https://github.com/apache/couchdb-jquery-couch",10,21]
[15993615,"apache","apache/couchdb-mem3","https://github.com/apache/couchdb-mem3",10,19]
[38279143,"apache","apache/datasketches-pig","https://github.com/apache/datasketches-pig",10,12]
[43539705,"apache","apache/directory-fortress-commander","https://github.com/apache/directory-fortress-commander",10,8]
[510199196,"apache","apache/dolphinscheduler-operator","https://github.com/apache/dolphinscheduler-operator",10,13]
[168870773,"apache","apache/druid-website-src","https://github.com/apache/druid-website-src",10,62]
[38279143,"apache","apache/datasketches-pig","https://github.com/apache/datasketches-pig",10,12]
[43539705,"apache","apache/directory-fortress-commander","https://github.com/apache/directory-fortress-commander",10,8]
[510199196,"apache","apache/dolphinscheduler-operator","https://github.com/apache/dolphinscheduler-operator",10,13]
[168870773,"apache","apache/druid-website-src","https://github.com/apache/druid-website-src",10,62]
[41892061,"apache","apache/fluo-recipes","https://github.com/apache/fluo-recipes",10,21]
[240466,"apache","apache/geronimo-xbean","https://github.com/apache/geronimo-xbean",10,32]
[303145663,"apache","apache/hop-website","https://github.com/apache/hop-website",10,21]
[65358491,"apache","apache/incubator-flagon-distill","https://github.com/apache/incubator-flagon-distill",10,10]
[95343926,"apache","apache/incubator-livy-website","https://github.com/apache/incubator-livy-website",10,14]
[59182009,"apache","apache/incubator-milagro-tls","https://github.com/apache/incubator-milagro-tls",10,2]
[94973339,"apache","apache/incubator-mxnet-test","https://github.com/apache/incubator-mxnet-test",10,7]
[59987753,"apache","apache/incubator-ponymail-site","https://github.com/apache/incubator-ponymail-site",10,14]
[41722456,"apache","apache/incubator-retired-wave-android","https://github.com/apache/incubator-retired-wave-android",10,13]
[342796467,"apache","apache/iotdb-bin-resources","https://github.com/apache/iotdb-bin-resources",10,18]
[207388808,"apache","apache/juneau-petstore","https://github.com/apache/juneau-petstore",10,15]
[92806422,"apache","apache/logging-chainsaw","https://github.com/apache/logging-chainsaw",10,11]
[72975293,"apache","apache/logging-log4j-tools","https://github.com/apache/logging-log4j-tools",10,15]
[113678234,"apache","apache/maven-ear-plugin","https://github.com/apache/maven-ear-plugin",10,27]
[113678560,"apache","apache/maven-jmod-plugin","https://github.com/apache/maven-jmod-plugin",10,11]
[113678950,"apache","apache/maven-verifier-plugin","https://github.com/apache/maven-verifier-plugin",10,7]
[1070894,"apache","apache/myfaces-extcdi","https://github.com/apache/myfaces-extcdi",10,12]
[140910582,"apache","apache/openwhisk-runtime-ruby","https://github.com/apache/openwhisk-runtime-ruby",10,19]
[328885239,"apache","apache/openwhisk-vscode-extension","https://github.com/apache/openwhisk-vscode-extension",10,9]
[168247399,"apache","apache/ozone-docker","https://github.com/apache/ozone-docker",10,20]
[832674,"apache","apache/photark","https://github.com/apache/photark",10,6]
[149356397,"apache","apache/ratis-thirdparty","https://github.com/apache/ratis-thirdparty",10,18]
[460748091,"apache","apache/rocketmq-client-rust","https://github.com/apache/rocketmq-client-rust",10,3]
[199605200,"apache","apache/rocketmq-ons-cpp","https://github.com/apache/rocketmq-ons-cpp",10,5]
[1167439,"apache","apache/servicemix-components","https://github.com/apache/servicemix-components",10,13]
[140874933,"apache","apache/skywalking-oal-tool","https://github.com/apache/skywalking-oal-tool",10,4]
[107432523,"apache","apache/sling-org-apache-sling-api","https://github.com/apache/sling-org-apache-sling-api",10,21]
[107433610,"apache","apache/sling-org-apache-sling-xss","https://github.com/apache/sling-org-apache-sling-xss",10,18]
[51194609,"apache","apache/steve","https://github.com/apache/steve",10,10]
[4985530,"apache","apache/tashi","https://github.com/apache/tashi",10,9]
[15070660,"apache","apache/uima-ducc","https://github.com/apache/uima-ducc",10,17]
[67106626,"apache","apache/usergrid-java","https://github.com/apache/usergrid-java",10,20]
[107229917,"apache","apache/vcl","https://github.com/apache/vcl",10,20]
[170740248,"apache","apache/airavata-custos","https://github.com/apache/airavata-custos",9,25]
[277102849,"apache","apache/airflow-helm-unittest","https://github.com/apache/airflow-helm-unittest",9,3]
[150309548,"apache","apache/ambari-infra","https://github.com/apache/ambari-infra",9,22]
[20248075,"apache","apache/ant-antlibs-antunit","https://github.com/apache/ant-antlibs-antunit",9,11]
[14227128,"apache","apache/click","https://github.com/apache/click",9,9]
[16572420,"apache","apache/cloudstack-docs-install","https://github.com/apache/cloudstack-docs-install",9,43]
[206418,"apache","apache/continuum","https://github.com/apache/continuum",9,14]
[6898392,"apache","apache/cordova-wp7","https://github.com/apache/cordova-wp7",9,17]
[15993614,"apache","apache/couchdb-jiffy","https://github.com/apache/couchdb-jiffy",9,11]
[40230048,"apache","apache/couchdb-peruser","https://github.com/apache/couchdb-peruser",9,8]
[15993619,"apache","apache/couchdb-rexi","https://github.com/apache/couchdb-rexi",9,7]
[26525414,"apache","apache/couchdb-setup","https://github.com/apache/couchdb-setup",9,15]
[116871699,"apache","apache/datasketches-characterization","https://github.com/apache/datasketches-characterization",9,9]
[40230048,"apache","apache/couchdb-peruser","https://github.com/apache/couchdb-peruser",9,8]
[15993619,"apache","apache/couchdb-rexi","https://github.com/apache/couchdb-rexi",9,7]
[26525414,"apache","apache/couchdb-setup","https://github.com/apache/couchdb-setup",9,15]
[116871699,"apache","apache/datasketches-characterization","https://github.com/apache/datasketches-characterization",9,9]
[113564089,"apache","apache/fineract-cn-customer","https://github.com/apache/fineract-cn-customer",9,140]
[393185056,"apache","apache/fineract-credit-scorecard","https://github.com/apache/fineract-credit-scorecard",9,10]
[10960834,"apache","apache/flex-examples","https://github.com/apache/flex-examples",9,13]
[688355,"apache","apache/httpd-flood","https://github.com/apache/httpd-flood",9,6]
[144731383,"apache","apache/ignite-teamcity-bot","https://github.com/apache/ignite-teamcity-bot",9,23]
[75708590,"apache","apache/incubator-annotator-website","https://github.com/apache/incubator-annotator-website",9,8]
[193688721,"apache","apache/incubator-milagro-dta","https://github.com/apache/incubator-milagro-dta",9,8]
[202601328,"apache","apache/incubator-mxnet-ci","https://github.com/apache/incubator-mxnet-ci",9,14]
[34892902,"apache","apache/incubator-retired-wave-docs","https://github.com/apache/incubator-retired-wave-docs",9,12]
[63044519,"apache","apache/juneau-website","https://github.com/apache/juneau-website",9,21]
[56572755,"apache","apache/karaf-boot","https://github.com/apache/karaf-boot",9,5]
[113678030,"apache","apache/maven-changes-plugin","https://github.com/apache/maven-changes-plugin",9,17]
[113678739,"apache","apache/maven-remote-resources-plugin","https://github.com/apache/maven-remote-resources-plugin",9,15]
[41239512,"apache","apache/nifi-site","https://github.com/apache/nifi-site",9,45]
[79691637,"apache","apache/openwhisk-slackinvite","https://github.com/apache/openwhisk-slackinvite",9,13]
[63908050,"apache","apache/openwhisk-xcode","https://github.com/apache/openwhisk-xcode",9,11]
[154230024,"apache","apache/pinot-site","https://github.com/apache/pinot-site",9,14]
[193533462,"apache","apache/plc4x-build-tools","https://github.com/apache/plc4x-build-tools",9,15]
[2087504,"apache","apache/santuario-cpp","https://github.com/apache/santuario-cpp",9,14]
[225211,"apache","apache/servicemix4-specs","https://github.com/apache/servicemix4-specs",9,6]
[482745976,"apache","apache/shenyu-client-dotnet","https://github.com/apache/shenyu-client-dotnet",9,5]
[107432971,"apache","apache/sling-org-apache-sling-engine","https://github.com/apache/sling-org-apache-sling-engine",9,16]
[263040891,"apache","apache/sling-org-apache-sling-graphql-core","https://github.com/apache/sling-org-apache-sling-graphql-core",9,10]
[107434909,"apache","apache/sling-org-apache-sling-pipes","https://github.com/apache/sling-org-apache-sling-pipes",9,18]
[107435810,"apache","apache/sling-org-apache-sling-testing-clients","https://github.com/apache/sling-org-apache-sling-testing-clients",9,21]
[832673,"apache","apache/tomcat55","https://github.com/apache/tomcat55",9,16]
[15070658,"apache","apache/uima-as_old","https://github.com/apache/uima-as_old",9,10]
[67106628,"apache","apache/usergrid-nodejs","https://github.com/apache/usergrid-nodejs",9,7]
[172993063,"apache","apache/activemq-artemis-native","https://github.com/apache/activemq-artemis-native",8,17]
[193151069,"apache","apache/airavata-mft","https://github.com/apache/airavata-mft",8,19]
[176955944,"apache","apache/aries-cdi","https://github.com/apache/aries-cdi",8,11]
[206442,"apache","apache/chemistry","https://github.com/apache/chemistry",8,7]
[3483000,"apache","apache/cordova-apache-board-reports","https://github.com/apache/cordova-apache-board-reports",8,13]
[13824897,"apache","apache/cordova-registry-web","https://github.com/apache/cordova-registry-web",8,22]
[38525117,"apache","apache/couchdb-ci","https://github.com/apache/couchdb-ci",8,18]
[15993617,"apache","apache/couchdb-oauth","https://github.com/apache/couchdb-oauth",8,9]
[141723615,"apache","apache/db-jdo","https://github.com/apache/db-jdo",8,8]
[11214565,"apache","apache/devicemap-browsermap","https://github.com/apache/devicemap-browsermap",8,5]
[15993617,"apache","apache/couchdb-oauth","https://github.com/apache/couchdb-oauth",8,9]
[141723615,"apache","apache/db-jdo","https://github.com/apache/db-jdo",8,8]
[11214565,"apache","apache/devicemap-browsermap","https://github.com/apache/devicemap-browsermap",8,5]
[197979624,"apache","apache/fineract-cn-docker-compose","https://github.com/apache/fineract-cn-docker-compose",8,54]
[113563925,"apache","apache/fineract-cn-portfolio","https://github.com/apache/fineract-cn-portfolio",8,127]
[113564534,"apache","apache/fineract-cn-provisioner","https://github.com/apache/fineract-cn-provisioner",8,134]
[240472,"apache","apache/geronimo-javamail","https://github.com/apache/geronimo-javamail",8,17]
[42763343,"apache","apache/hawq-site","https://github.com/apache/hawq-site",8,15]
[184106986,"apache","apache/hbase-filesystem","https://github.com/apache/hbase-filesystem",8,25]
[246405407,"apache","apache/ignite-website","https://github.com/apache/ignite-website",8,16]
[12695027,"apache","apache/incubator-ambari","https://github.com/apache/incubator-ambari",8,13]
[65358495,"apache","apache/incubator-flagon-user-ale","https://github.com/apache/incubator-flagon-user-ale",8,5]
[238778811,"apache","apache/incubator-milagro-MPC","https://github.com/apache/incubator-milagro-MPC",8,5]
[232810231,"apache","apache/incubator-nuttx-testing","https://github.com/apache/incubator-nuttx-testing",8,25]
[7453207,"apache","apache/incubator-retired-hdt","https://github.com/apache/incubator-retired-hdt",8,9]
[55671395,"apache","apache/infrastructure-puppet-kitchen","https://github.com/apache/infrastructure-puppet-kitchen",8,15]
[103365096,"apache","apache/jackrabbit-filevault-package-maven-plugin","https://github.com/apache/jackrabbit-filevault-package-maven-plugin",8,17]
[5054237,"apache","apache/james-jsieve","https://github.com/apache/james-jsieve",8,25]
[102246950,"apache","apache/logging-log4j-audit-sample","https://github.com/apache/logging-log4j-audit-sample",8,13]
[11943599,"apache","apache/manifoldcf-integration-solr-4.x","https://github.com/apache/manifoldcf-integration-solr-4.x",8,5]
[206476,"apache","apache/maven-artifact","https://github.com/apache/maven-artifact",8,8]
[269415891,"apache","apache/maven-artifact-plugin","https://github.com/apache/maven-artifact-plugin",8,8]
[113678251,"apache","apache/maven-ejb-plugin","https://github.com/apache/maven-ejb-plugin",8,9]
[113678613,"apache","apache/maven-patch-plugin","https://github.com/apache/maven-patch-plugin",8,8]
[113678697,"apache","apache/maven-rar-plugin","https://github.com/apache/maven-rar-plugin",8,7]
[113484367,"apache","apache/maven-script-interpreter","https://github.com/apache/maven-script-interpreter",8,7]
[111517552,"apache","apache/nifi-container","https://github.com/apache/nifi-container",8,7]
[159727738,"apache","apache/openwhisk-composer-python","https://github.com/apache/openwhisk-composer-python",8,14]
[98938759,"apache","apache/openwhisk-deploy-mesos","https://github.com/apache/openwhisk-deploy-mesos",8,7]
[58955430,"apache","apache/openwhisk-package-pushnotifications","https://github.com/apache/openwhisk-package-pushnotifications",8,17]
[189467242,"apache","apache/pulsar-client-ruby","https://github.com/apache/pulsar-client-ruby",8,15]
[412415255,"apache","apache/rocketmq-apis","https://github.com/apache/rocketmq-apis",8,8]
[422413080,"apache","apache/rocketmq-cloudevents","https://github.com/apache/rocketmq-cloudevents",8,2]
[482746444,"apache","apache/shenyu-client-golang","https://github.com/apache/shenyu-client-golang",8,6]
[472180863,"apache","apache/shenyu-helm-chart","https://github.com/apache/shenyu-helm-chart",8,6]
[534563904,"apache","apache/shenyu-watcher","https://github.com/apache/shenyu-watcher",8,2]
[108122221,"apache","apache/sling-aggregator","https://github.com/apache/sling-aggregator",8,10]
[178027217,"apache","apache/sling-org-apache-sling-feature-cpconverter","https://github.com/apache/sling-org-apache-sling-feature-cpconverter",8,12]
[340642806,"apache","apache/solr-site","https://github.com/apache/solr-site",8,17]
[96287283,"apache","apache/tomee-site-generator","https://github.com/apache/tomee-site-generator",8,38]
[165544074,"apache","apache/tomee-tck","https://github.com/apache/tomee-tck",8,11]
[15070663,"apache","apache/uima-uimacpp","https://github.com/apache/uima-uimacpp",8,13]
[26353925,"apache","apache/xmlgraphics-fop-pdf-images","https://github.com/apache/xmlgraphics-fop-pdf-images",8,5]
[152776844,"apache","apache/accumulo-proxy","https://github.com/apache/accumulo-proxy",7,18]
[80809055,"apache","apache/activemq-cli-tools","https://github.com/apache/activemq-cli-tools",7,9]
[84171580,"apache","apache/activemq-nms-stomp","https://github.com/apache/activemq-nms-stomp",7,8]
[248641092,"apache","apache/axis-axis2-c-core","https://github.com/apache/axis-axis2-c-core",7,2]
[144622232,"apache","apache/beam-wheels","https://github.com/apache/beam-wheels",7,18]
[298057852,"apache","apache/bloodhound-core","https://github.com/apache/bloodhound-core",7,4]
[74950507,"apache","apache/cassandra-builds","https://github.com/apache/cassandra-builds",7,30]
[3254171,"apache","apache/chemistry-phpclient","https://github.com/apache/chemistry-phpclient",7,15]
[109664735,"apache","apache/commons-testing","https://github.com/apache/commons-testing",7,8]
[64581179,"apache","apache/cordova-create","https://github.com/apache/cordova-create",7,14]
[13948735,"apache","apache/couchdb-admin","https://github.com/apache/couchdb-admin",7,10]
[15993601,"apache","apache/couchdb-couch-dbupdates","https://github.com/apache/couchdb-couch-dbupdates",7,10]
[15993618,"apache","apache/couchdb-rebar","https://github.com/apache/couchdb-rebar",7,8]
[15993620,"apache","apache/couchdb-snappy","https://github.com/apache/couchdb-snappy",7,14]
[364393210,"apache","apache/daffodil-vscode","https://github.com/apache/daffodil-vscode",7,15]
[530045849,"apache","apache/dolphinscheduler-studio","https://github.com/apache/dolphinscheduler-studio",7,5]
[15993618,"apache","apache/couchdb-rebar","https://github.com/apache/couchdb-rebar",7,8]
[15993620,"apache","apache/couchdb-snappy","https://github.com/apache/couchdb-snappy",7,14]
[364393210,"apache","apache/daffodil-vscode","https://github.com/apache/daffodil-vscode",7,15]
[530045849,"apache","apache/dolphinscheduler-studio","https://github.com/apache/dolphinscheduler-studio",7,5]
[210803387,"apache","apache/echarts-bot","https://github.com/apache/echarts-bot",7,3]
[113571349,"apache","apache/fineract-cn-template","https://github.com/apache/fineract-cn-template",7,111]
[487078894,"apache","apache/flink-connector-redis","https://github.com/apache/flink-connector-redis",7,4]
[355647312,"apache","apache/flink-jira-bot","https://github.com/apache/flink-jira-bot",7,6]
[992027,"apache","apache/forrest","https://github.com/apache/forrest",7,13]
[91775734,"apache","apache/httpcomponents-website","https://github.com/apache/httpcomponents-website",7,17]
[358762654,"apache","apache/incubator-eventmesh-site","https://github.com/apache/incubator-eventmesh-site",7,15]
[384301046,"apache","apache/incubator-kyuubi-website","https://github.com/apache/incubator-kyuubi-website",7,21]
[243727013,"apache","apache/incubator-nlpcraft-java-client","https://github.com/apache/incubator-nlpcraft-java-client",7,5]
[195792128,"apache","apache/isis-app-simpleapp","https://github.com/apache/isis-app-simpleapp",7,9]
[244123773,"apache","apache/jena-site","https://github.com/apache/jena-site",7,47]
[2719141,"apache","apache/kalumet","https://github.com/apache/kalumet",7,6]
[15680131,"apache","apache/karaf-eik","https://github.com/apache/karaf-eik",7,14]
[113678215,"apache","apache/maven-docck-plugin","https://github.com/apache/maven-docck-plugin",7,5]
[206399,"apache","apache/maven-doxia-sitetools","https://github.com/apache/maven-doxia-sitetools",7,30]
[113677289,"apache","apache/maven-file-management","https://github.com/apache/maven-file-management",7,8]
[416949513,"apache","apache/maven-gh-actions-shared","https://github.com/apache/maven-gh-actions-shared",7,4]
[112120253,"apache","apache/maven-jenkins-lib","https://github.com/apache/maven-jenkins-lib",7,14]
[113678838,"apache","apache/maven-scripting-plugin","https://github.com/apache/maven-scripting-plugin",7,9]
[113678888,"apache","apache/maven-stage-plugin","https://github.com/apache/maven-stage-plugin",7,9]
[216819881,"apache","apache/ofbiz-tools","https://github.com/apache/ofbiz-tools",7,13]
[108944474,"apache","apache/openwhisk-package-deploy","https://github.com/apache/openwhisk-package-deploy",7,13]
[140910604,"apache","apache/openwhisk-runtime-ballerina","https://github.com/apache/openwhisk-runtime-ballerina",7,11]
[91608601,"apache","apache/openwhisk-utilities","https://github.com/apache/openwhisk-utilities",7,14]
[242810979,"apache","apache/openwhisk-wskdebug","https://github.com/apache/openwhisk-wskdebug",7,9]
[105698512,"apache","apache/royale-docs","https://github.com/apache/royale-docs",7,15]
[164036674,"apache","apache/samza-beam-examples","https://github.com/apache/samza-beam-examples",7,13]
[225210,"apache","apache/servicemix-maven-plugins","https://github.com/apache/servicemix-maven-plugins",7,14]
[457241784,"apache","apache/shenyu-client-python","https://github.com/apache/shenyu-client-python",7,7]
[228540019,"apache","apache/singa-doc","https://github.com/apache/singa-doc",7,16]
[181679822,"apache","apache/sling-org-apache-sling-distribution-journal","https://github.com/apache/sling-org-apache-sling-distribution-journal",7,12]
[107433902,"apache","apache/sling-org-apache-sling-resourceresolver","https://github.com/apache/sling-org-apache-sling-resourceresolver",7,27]
[107434840,"apache","apache/sling-org-apache-sling-rewriter","https://github.com/apache/sling-org-apache-sling-rewriter",7,11]
[85382263,"apache","apache/struts-extras","https://github.com/apache/struts-extras",7,8]
[160989,"apache","apache/tapestry4","https://github.com/apache/tapestry4",7,12]
[4269155,"apache","apache/tiles-request","https://github.com/apache/tiles-request",7,5]
[67106630,"apache","apache/usergrid-python","https://github.com/apache/usergrid-python",7,6]
[152269754,"apache","apache/accumulo-maven-plugin","https://github.com/apache/accumulo-maven-plugin",6,8]
[22135308,"apache","apache/activemq-openwire","https://github.com/apache/activemq-openwire",6,10]
[311672565,"apache","apache/airavata-data-lake","https://github.com/apache/airavata-data-lake",6,6]
[248645912,"apache","apache/axis-axis1-java","https://github.com/apache/axis-axis1-java",6,11]
[341578116,"apache","apache/camel-performance-tests","https://github.com/apache/camel-performance-tests",6,8]
[106789422,"apache","apache/celix-site","https://github.com/apache/celix-site",6,7]
[66624593,"apache","apache/cordova-template-reference","https://github.com/apache/cordova-template-reference",6,11]
[15993603,"apache","apache/couchdb-couch-index","https://github.com/apache/couchdb-couch-index",6,13]
[15993604,"apache","apache/couchdb-couch-mrview","https://github.com/apache/couchdb-couch-mrview",6,17]
[22498764,"apache","apache/couchdb-global-changes","https://github.com/apache/couchdb-global-changes",6,10]
[21849833,"apache","apache/couchdb-ioq","https://github.com/apache/couchdb-ioq",6,15]
[15993616,"apache","apache/couchdb-mochiweb","https://github.com/apache/couchdb-mochiweb",6,12]
[43539707,"apache","apache/directory-fortress-enmasse","https://github.com/apache/directory-fortress-enmasse",6,9]
[279778933,"apache","apache/dolphinscheduler-maven-plugin","https://github.com/apache/dolphinscheduler-maven-plugin",6,11]
[43539707,"apache","apache/directory-fortress-enmasse","https://github.com/apache/directory-fortress-enmasse",6,9]
[279778933,"apache","apache/dolphinscheduler-maven-plugin","https://github.com/apache/dolphinscheduler-maven-plugin",6,11]
[113565685,"apache","apache/fineract-cn-identity","https://github.com/apache/fineract-cn-identity",6,134]
[113564340,"apache","apache/fineract-cn-payroll","https://github.com/apache/fineract-cn-payroll",6,119]
[61863697,"apache","apache/fluo-website","https://github.com/apache/fluo-website",6,32]
[41902288,"apache","apache/freemarker-site","https://github.com/apache/freemarker-site",6,15]
[1302094,"apache","apache/geronimo-txmanager","https://github.com/apache/geronimo-txmanager",6,10]
[243391124,"apache","apache/httpd-tests","https://github.com/apache/httpd-tests",6,5]
[59182001,"apache","apache/incubator-milagro-mfa-js-lib","https://github.com/apache/incubator-milagro-mfa-js-lib",6,3]
[269203558,"apache","apache/incubator-sdap-ingester","https://github.com/apache/incubator-sdap-ingester",6,14]
[541385487,"apache","apache/incubator-seatunnel-web","https://github.com/apache/incubator-seatunnel-web",6,5]
[30956948,"apache","apache/incubator-taverna-workbench","https://github.com/apache/incubator-taverna-workbench",6,10]
[1364412,"apache","apache/karaf-site","https://github.com/apache/karaf-site",6,20]
[5269358,"apache","apache/karaf-webconsole","https://github.com/apache/karaf-webconsole",6,13]
[688354,"apache","apache/log4j-component","https://github.com/apache/log4j-component",6,6]
[215638242,"apache","apache/lucene-site","https://github.com/apache/lucene-site",6,21]
[206419,"apache","apache/maven-ant-tasks","https://github.com/apache/maven-ant-tasks",6,19]
[113483736,"apache","apache/maven-archiver","https://github.com/apache/maven-archiver",6,18]
[113483910,"apache","apache/maven-artifact-transfer","https://github.com/apache/maven-artifact-transfer",6,25]
[113678447,"apache","apache/maven-jdeprscan-plugin","https://github.com/apache/maven-jdeprscan-plugin",6,8]
[112037237,"apache","apache/maven-resolver-ant-tasks","https://github.com/apache/maven-resolver-ant-tasks",6,15]
[113484447,"apache","apache/maven-shared-resources","https://github.com/apache/maven-shared-resources",6,7]
[45165995,"apache","apache/mynewt-blinky","https://github.com/apache/mynewt-blinky",6,17]
[238178658,"apache","apache/netbeans-l10n","https://github.com/apache/netbeans-l10n",6,8]
[153253531,"apache","apache/netbeans-parent","https://github.com/apache/netbeans-parent",6,10]
[139068288,"apache","apache/openwebbeans-meecrowave-examples","https://github.com/apache/openwebbeans-meecrowave-examples",6,11]
[63519014,"apache","apache/royale-typedefs","https://github.com/apache/royale-typedefs",6,10]
[225201,"apache","apache/servicemix-archetypes","https://github.com/apache/servicemix-archetypes",6,7]
[107432963,"apache","apache/sling-org-apache-sling-commons-threads","https://github.com/apache/sling-org-apache-sling-commons-threads",6,6]
[107434597,"apache","apache/sling-org-apache-sling-distribution-core","https://github.com/apache/sling-org-apache-sling-distribution-core",6,27]
[107434641,"apache","apache/sling-org-apache-sling-distribution-sample","https://github.com/apache/sling-org-apache-sling-distribution-sample",6,5]
[107433375,"apache","apache/sling-org-apache-sling-i18n","https://github.com/apache/sling-org-apache-sling-i18n",6,7]
[107435631,"apache","apache/sling-org-apache-sling-launchpad-integration-tests","https://github.com/apache/sling-org-apache-sling-launchpad-integration-tests",6,6]
[138993823,"apache","apache/sling-org-apache-sling-resource-filter","https://github.com/apache/sling-org-apache-sling-resource-filter",6,5]
[107434866,"apache","apache/sling-org-apache-sling-security","https://github.com/apache/sling-org-apache-sling-security",6,7]
[107434177,"apache","apache/sling-org-apache-sling-servlets-get","https://github.com/apache/sling-org-apache-sling-servlets-get",6,9]
[107434203,"apache","apache/sling-org-apache-sling-servlets-resolver","https://github.com/apache/sling-org-apache-sling-servlets-resolver",6,14]
[119107115,"apache","apache/sling-org-apache-sling-starter-docker","https://github.com/apache/sling-org-apache-sling-starter-docker",6,9]
[37513717,"apache","apache/streams-master","https://github.com/apache/streams-master",6,10]
[95527699,"apache","apache/superset-site","https://github.com/apache/superset-site",6,14]
[21280686,"apache","apache/toolchain","https://github.com/apache/toolchain",6,9]
[622714,"apache","apache/tuscany-sca-cpp","https://github.com/apache/tuscany-sca-cpp",6,5]
[15070662,"apache","apache/uima-sandbox","https://github.com/apache/uima-sandbox",6,6]
[37578257,"apache","apache/wicket-site","https://github.com/apache/wicket-site",6,15]
[16473331,"apache","apache/wookie","https://github.com/apache/wookie",6,8]
[218784651,"apache","apache/ws-axiom","https://github.com/apache/ws-axiom",6,10]
[299768,"apache","apache/activemq-activeio","https://github.com/apache/activemq-activeio",5,8]
[214945978,"apache","apache/apisix-dashboard-built","https://github.com/apache/apisix-dashboard-built",5,7]
[321521282,"apache","apache/apisix-ingress-docker","https://github.com/apache/apisix-ingress-docker",5,7]
[176955835,"apache","apache/aries-component-dsl","https://github.com/apache/aries-component-dsl",5,10]
[94900140,"apache","apache/arrow-dist","https://github.com/apache/arrow-dist",5,15]
[92806420,"apache","apache/cayenne-website","https://github.com/apache/cayenne-website",5,8]
[3216015,"apache","apache/chemistry-dotcmis","https://github.com/apache/chemistry-dotcmis",5,15]
[62698708,"apache","apache/chemistry-portcmis","https://github.com/apache/chemistry-portcmis",5,7]
[35144190,"apache","apache/cloudstack-gcestack","https://github.com/apache/cloudstack-gcestack",5,6]
[145708572,"apache","apache/cordova-contribute","https://github.com/apache/cordova-contribute",5,6]
[31976263,"apache","apache/cordova-plugin-legacy-whitelist","https://github.com/apache/cordova-plugin-legacy-whitelist",5,14]
[37902675,"apache","apache/couchdb-couch-epi","https://github.com/apache/couchdb-couch-epi",5,9]
[15993602,"apache","apache/couchdb-couch-httpd","https://github.com/apache/couchdb-couch-httpd",5,5]
[15993608,"apache","apache/couchdb-ddoc-cache","https://github.com/apache/couchdb-ddoc-cache",5,8]
[15993610,"apache","apache/couchdb-ets-lru","https://github.com/apache/couchdb-ets-lru",5,10]
[16795934,"apache","apache/couchdb-futon","https://github.com/apache/couchdb-futon",5,10]
[15993613,"apache","apache/couchdb-ibrowse","https://github.com/apache/couchdb-ibrowse",5,14]
[22498765,"apache","apache/couchdb-khash","https://github.com/apache/couchdb-khash",5,13]
[15993621,"apache","apache/couchdb-twig","https://github.com/apache/couchdb-twig",5,6]
[17537834,"apache","apache/cxf-build-utils","https://github.com/apache/cxf-build-utils",5,7]
[43539708,"apache","apache/directory-fortress-realm","https://github.com/apache/directory-fortress-realm",5,7]
[304245378,"apache","apache/directory-site","https://github.com/apache/directory-site",5,5]
[493066430,"apache","apache/dolphinscheduler-mlflow","https://github.com/apache/dolphinscheduler-mlflow",5,3]
[15993621,"apache","apache/couchdb-twig","https://github.com/apache/couchdb-twig",5,6]
[17537834,"apache","apache/cxf-build-utils","https://github.com/apache/cxf-build-utils",5,7]
[43539708,"apache","apache/directory-fortress-realm","https://github.com/apache/directory-fortress-realm",5,7]
[304245378,"apache","apache/directory-site","https://github.com/apache/directory-site",5,5]
[493066430,"apache","apache/dolphinscheduler-mlflow","https://github.com/apache/dolphinscheduler-mlflow",5,3]
[139091095,"apache","apache/dubbo-logo","https://github.com/apache/dubbo-logo",5,9]
[113563972,"apache","apache/fineract-cn-deposit-account-management","https://github.com/apache/fineract-cn-deposit-account-management",5,122]
[138088829,"apache","apache/fineract-cn-notifications","https://github.com/apache/fineract-cn-notifications",5,91]
[113564382,"apache","apache/fineract-cn-reporting","https://github.com/apache/fineract-cn-reporting",5,114]
[99372054,"apache","apache/fluo-bytes","https://github.com/apache/fluo-bytes",5,7]
[102619890,"apache","apache/fluo-docker","https://github.com/apache/fluo-docker",5,7]
[158306420,"apache","apache/geode-benchmarks","https://github.com/apache/geode-benchmarks",5,32]
[257985741,"apache","apache/geode-dotnet-core-client","https://github.com/apache/geode-dotnet-core-client",5,6]
[238287706,"apache","apache/geode-kafka-connector","https://github.com/apache/geode-kafka-connector",5,12]
[218231930,"apache","apache/geronimo-arthur","https://github.com/apache/geronimo-arthur",5,6]
[126833517,"apache","apache/geronimo-jwt-auth","https://github.com/apache/geronimo-jwt-auth",5,10]
[102574204,"apache","apache/geronimo-safeguard","https://github.com/apache/geronimo-safeguard",5,9]
[206393,"apache","apache/harmony-classlib","https://github.com/apache/harmony-classlib",5,8]
[164903474,"apache","apache/hbase-site","https://github.com/apache/hbase-site",5,15]
[92714730,"apache","apache/httpcomponents-parent","https://github.com/apache/httpcomponents-parent",5,10]
[90713122,"apache","apache/incubator-carbondata","https://github.com/apache/incubator-carbondata",5,0]
[65358494,"apache","apache/incubator-flagon-tap","https://github.com/apache/incubator-flagon-tap",5,9]
[66700902,"apache","apache/incubator-flagon-userale-pyqt5","https://github.com/apache/incubator-flagon-userale-pyqt5",5,3]
[280250642,"apache","apache/incubator-mxnet-examples","https://github.com/apache/incubator-mxnet-examples",5,5]
[123757269,"apache","apache/incubator-nemo-website","https://github.com/apache/incubator-nemo-website",5,5]
[53032139,"apache","apache/incubator-retired-edgent-website","https://github.com/apache/incubator-retired-edgent-website",5,21]
[42500966,"apache","apache/incubator-retired-horn-site","https://github.com/apache/incubator-retired-horn-site",5,4]
[10637894,"apache","apache/incubator-retired-provisionr","https://github.com/apache/incubator-retired-provisionr",5,9]
[30956937,"apache","apache/incubator-taverna-commandline","https://github.com/apache/incubator-taverna-commandline",5,8]
[30956945,"apache","apache/incubator-taverna-server","https://github.com/apache/incubator-taverna-server",5,8]
[29286936,"apache","apache/incubator-taverna-site","https://github.com/apache/incubator-taverna-site",5,10]
[226190802,"apache","apache/infrastructure-otp","https://github.com/apache/infrastructure-otp",5,4]
[195791620,"apache","apache/isis-app-helloworld","https://github.com/apache/isis-app-helloworld",5,7]
[206386,"apache","apache/jsecurity","https://github.com/apache/jsecurity",5,9]
[2195742,"apache","apache/kandula","https://github.com/apache/kandula",5,6]
[164282177,"apache","apache/karaf-jclouds","https://github.com/apache/karaf-jclouds",5,6]
[688365,"apache","apache/log4j-receivers","https://github.com/apache/log4j-receivers",5,5]
[688362,"apache","apache/log4j-zeroconf","https://github.com/apache/log4j-zeroconf",5,6]
[108749082,"apache","apache/maven-dist-tool","https://github.com/apache/maven-dist-tool",5,6]
[112120225,"apache","apache/maven-jenkins-env","https://github.com/apache/maven-jenkins-env",5,7]
[113484230,"apache","apache/maven-reporting-api","https://github.com/apache/maven-reporting-api",5,6]
[113484252,"apache","apache/maven-reporting-exec","https://github.com/apache/maven-reporting-exec",5,7]
[113484282,"apache","apache/maven-reporting-impl","https://github.com/apache/maven-reporting-impl",5,10]
[206423,"apache","apache/maven-sandbox","https://github.com/apache/maven-sandbox",5,8]
[113484496,"apache","apache/maven-verifier","https://github.com/apache/maven-verifier",5,13]
[93486496,"apache","apache/mesos-site","https://github.com/apache/mesos-site",5,8]
[920237,"apache","apache/myfaces-html5","https://github.com/apache/myfaces-html5",5,7]
[102083575,"apache","apache/netbeans-jackpot30","https://github.com/apache/netbeans-jackpot30",5,5]
[385286402,"apache","apache/nutch-webapp","https://github.com/apache/nutch-webapp",5,5]
[216732660,"apache","apache/ofbiz-site","https://github.com/apache/ofbiz-site",5,9]
[328885067,"apache","apache/openwhisk-intellij-plugin","https://github.com/apache/openwhisk-intellij-plugin",5,7]
[63897035,"apache","apache/openwhisk-package-rss","https://github.com/apache/openwhisk-package-rss",5,10]
[80666804,"apache","apache/openwhisk-playground","https://github.com/apache/openwhisk-playground",5,5]
[354122574,"apache","apache/ozone-go","https://github.com/apache/ozone-go",5,9]
[206354,"apache","apache/pluto","https://github.com/apache/pluto",5,8]
[98013456,"apache","apache/qpid-interop-test","https://github.com/apache/qpid-interop-test",5,12]
[490821290,"apache","apache/qpid-proton-dotnet","https://github.com/apache/qpid-proton-dotnet",5,2]
[105034223,"apache","apache/royale-website","https://github.com/apache/royale-website",5,7]
[2211274,"apache","apache/savan","https://github.com/apache/savan",5,4]
[1982192,"apache","apache/servicemix-website","https://github.com/apache/servicemix-website",5,11]
[226069556,"apache","apache/shardingsphere-acceptance-test","https://github.com/apache/shardingsphere-acceptance-test",5,4]
[107436306,"apache","apache/sling-maven-plugin","https://github.com/apache/sling-maven-plugin",5,5]
[107432689,"apache","apache/sling-org-apache-sling-auth-form","https://github.com/apache/sling-org-apache-sling-auth-form",5,8]
[107433198,"apache","apache/sling-org-apache-sling-event","https://github.com/apache/sling-org-apache-sling-event",5,16]
[131209418,"apache","apache/sling-org-apache-sling-feature-launcher","https://github.com/apache/sling-org-apache-sling-feature-launcher",5,14]
[107433268,"apache","apache/sling-org-apache-sling-fsresource","https://github.com/apache/sling-org-apache-sling-fsresource",5,4]
[107435327,"apache","apache/sling-org-apache-sling-installer-core","https://github.com/apache/sling-org-apache-sling-installer-core",5,7]
[107433819,"apache","apache/sling-org-apache-sling-jcr-resource","https://github.com/apache/sling-org-apache-sling-jcr-resource",5,13]
[107434306,"apache","apache/sling-org-apache-sling-jobs","https://github.com/apache/sling-org-apache-sling-jobs",5,6]
[107435498,"apache","apache/sling-org-apache-sling-karaf-configs","https://github.com/apache/sling-org-apache-sling-karaf-configs",5,4]
[107433491,"apache","apache/sling-org-apache-sling-repoinit-parser","https://github.com/apache/sling-org-apache-sling-repoinit-parser",5,12]
[107433540,"apache","apache/sling-org-apache-sling-settings","https://github.com/apache/sling-org-apache-sling-settings",5,4]
[107435982,"apache","apache/sling-org-apache-sling-testing-sling-mock","https://github.com/apache/sling-org-apache-sling-testing-sling-mock",5,9]
[107435751,"apache","apache/sling-parent","https://github.com/apache/sling-parent",5,10]
[182231010,"apache","apache/sling-project-archetype","https://github.com/apache/sling-project-archetype",5,4]
[131209598,"apache","apache/sling-slingfeature-maven-plugin","https://github.com/apache/sling-slingfeature-maven-plugin",5,12]
[30907750,"apache","apache/streams-examples","https://github.com/apache/streams-examples",5,16]
[206401,"apache","apache/struts-sandbox","https://github.com/apache/struts-sandbox",5,6]
[218317552,"apache","apache/submarine-site","https://github.com/apache/submarine-site",5,8]
[273443550,"apache","apache/tomee-jakarta","https://github.com/apache/tomee-jakarta",5,10]
[29956888,"apache","apache/trafficserver-qa","https://github.com/apache/trafficserver-qa",5,16]
[390003,"apache","apache/tuscany-sdo","https://github.com/apache/tuscany-sdo",5,11]
[67106625,"apache","apache/usergrid-dotnet","https://github.com/apache/usergrid-dotnet",5,7]
[218784720,"apache","apache/ws-xmlschema","https://github.com/apache/ws-xmlschema",5,9]
[20248078,"apache","apache/ant-antlibs-dotnet","https://github.com/apache/ant-antlibs-dotnet",4,6]
[286494547,"apache","apache/comdev-events-site","https://github.com/apache/comdev-events-site",4,4]
[6898385,"apache","apache/cordova-bada","https://github.com/apache/cordova-bada",4,9]
[13824899,"apache","apache/cordova-registry","https://github.com/apache/cordova-registry",4,12]
[15993600,"apache","apache/couchdb-couch-collate","https://github.com/apache/couchdb-couch-collate",4,6]
[16795931,"apache","apache/couchdb-examples","https://github.com/apache/couchdb-examples",4,7]
[16795933,"apache","apache/couchdb-folsom","https://github.com/apache/couchdb-folsom",4,10]
[16795938,"apache","apache/couchdb-meck","https://github.com/apache/couchdb-meck",4,7]
[16795939,"apache","apache/couchdb-query-server-node","https://github.com/apache/couchdb-query-server-node",4,8]
[168351095,"apache","apache/couchdb-smoosh","https://github.com/apache/couchdb-smoosh",4,4]
[206335,"apache","apache/directory-samples","https://github.com/apache/directory-samples",4,5]
[16795939,"apache","apache/couchdb-query-server-node","https://github.com/apache/couchdb-query-server-node",4,8]
[168351095,"apache","apache/couchdb-smoosh","https://github.com/apache/couchdb-smoosh",4,4]
[206335,"apache","apache/directory-samples","https://github.com/apache/directory-samples",4,5]
[113564702,"apache","apache/fineract-cn-mariadb","https://github.com/apache/fineract-cn-mariadb",4,105]
[113564429,"apache","apache/fineract-cn-office","https://github.com/apache/fineract-cn-office",4,123]
[3414175,"apache","apache/flex-site","https://github.com/apache/flex-site",4,13]
[1302100,"apache","apache/geronimo-devtools","https://github.com/apache/geronimo-devtools",4,5]
[206373,"apache","apache/harmony-jdktools","https://github.com/apache/harmony-jdktools",4,6]
[419556,"apache","apache/httpd-docs-build","https://github.com/apache/httpd-docs-build",4,7]
[13236985,"apache","apache/incubator-knox","https://github.com/apache/incubator-knox",4,4]
[243727150,"apache","apache/incubator-nlpcraft-ui","https://github.com/apache/incubator-nlpcraft-ui",4,4]
[281039091,"apache","apache/incubator-pegasus-website","https://github.com/apache/incubator-pegasus-website",4,10]
[149379192,"apache","apache/incubator-retired-zipkin-website","https://github.com/apache/incubator-retired-zipkin-website",4,5]
[108511087,"apache","apache/incubator-sdap-edge","https://github.com/apache/incubator-sdap-edge",4,10]
[49190358,"apache","apache/incubator-toree-website","https://github.com/apache/incubator-toree-website",4,17]
[341863951,"apache","apache/infrastructure-aardvark-proxy","https://github.com/apache/infrastructure-aardvark-proxy",4,2]
[164282119,"apache","apache/jclouds-labs-aws","https://github.com/apache/jclouds-labs-aws",4,5]
[175764998,"apache","apache/jmeter-site","https://github.com/apache/jmeter-site",4,4]
[164282147,"apache","apache/karaf-jclouds-cli","https://github.com/apache/karaf-jclouds-cli",4,3]
[15680132,"apache","apache/lucy-charmonizer","https://github.com/apache/lucy-charmonizer",4,7]
[2719142,"apache","apache/maven-app-engine","https://github.com/apache/maven-app-engine",4,5]
[206363,"apache","apache/maven-doxia-tools","https://github.com/apache/maven-doxia-tools",4,13]
[113484321,"apache","apache/maven-repository-builder-retired","https://github.com/apache/maven-repository-builder-retired",4,4]
[206391,"apache","apache/maven-repository-tools","https://github.com/apache/maven-repository-tools",4,5]
[167557303,"apache","apache/mnemonic-site","https://github.com/apache/mnemonic-site",4,9]
[132176914,"apache","apache/myfaces-build-tools","https://github.com/apache/myfaces-build-tools",4,9]
[1070895,"apache","apache/myfaces-extval","https://github.com/apache/myfaces-extval",4,6]
[379983367,"apache","apache/netbeans-native-launchers","https://github.com/apache/netbeans-native-launchers",4,4]
[212425387,"apache","apache/openoffice-org","https://github.com/apache/openoffice-org",4,13]
[82336976,"apache","apache/openwhisk-GitHubSlackBot","https://github.com/apache/openwhisk-GitHubSlackBot",4,5]
[63634776,"apache","apache/openwhisk-sample-slackbot","https://github.com/apache/openwhisk-sample-slackbot",4,3]
[3795262,"apache","apache/photark-mobile","https://github.com/apache/photark-mobile",4,6]
[158810347,"apache","apache/plc4x-website","https://github.com/apache/plc4x-website",4,9]
[312204743,"apache","apache/pulsar-release","https://github.com/apache/pulsar-release",4,4]
[225208,"apache","apache/servicemix3","https://github.com/apache/servicemix3",4,6]
[225205,"apache","apache/servicemix4-kernel","https://github.com/apache/servicemix4-kernel",4,7]
[225200,"apache","apache/servicemix4-nmr","https://github.com/apache/servicemix4-nmr",4,5]
[107436059,"apache","apache/sling-org-apache-sling-bnd-models","https://github.com/apache/sling-org-apache-sling-bnd-models",4,3]
[107432719,"apache","apache/sling-org-apache-sling-commons-classloader","https://github.com/apache/sling-org-apache-sling-commons-classloader",4,3]
[107434287,"apache","apache/sling-org-apache-sling-jms","https://github.com/apache/sling-org-apache-sling-jms",4,6]
[107434769,"apache","apache/sling-org-apache-sling-mongodb","https://github.com/apache/sling-org-apache-sling-mongodb",4,3]
[107434797,"apache","apache/sling-org-apache-sling-reqanalyzer","https://github.com/apache/sling-org-apache-sling-reqanalyzer",4,5]
[99547067,"apache","apache/storm-site","https://github.com/apache/storm-site",4,10]
[63399426,"apache","apache/struts-archetypes","https://github.com/apache/struts-archetypes",4,6]
[4269156,"apache","apache/tiles-autotag","https://github.com/apache/tiles-autotag",4,4]
[340204919,"apache","apache/trafficserver-ci","https://github.com/apache/trafficserver-ci",4,7]
[116548142,"apache","apache/turbine-core","https://github.com/apache/turbine-core",4,7]
[1024754,"apache","apache/webservices-commons-xmlschema","https://github.com/apache/webservices-commons-xmlschema",4,7]
[368575581,"apache","apache/.github","https://github.com/apache/.github",3,36]
[74950502,"apache","apache/accumulo-instamo-archetype","https://github.com/apache/accumulo-instamo-archetype",3,5]
[74950503,"apache","apache/accumulo-pig","https://github.com/apache/accumulo-pig",3,6]
[84171577,"apache","apache/activemq-nms-msmq","https://github.com/apache/activemq-nms-msmq",3,4]
[84171581,"apache","apache/activemq-nms-xms","https://github.com/apache/activemq-nms-xms",3,4]
[53032138,"apache","apache/airavata-docs","https://github.com/apache/airavata-docs",3,5]
[55282190,"apache","apache/airavata-site","https://github.com/apache/airavata-site",3,10]
[321691041,"apache","apache/airflow-ci-infra","https://github.com/apache/airflow-ci-infra",3,5]
[20248077,"apache","apache/ant-antlibs-compress","https://github.com/apache/ant-antlibs-compress",3,6]
[20248079,"apache","apache/ant-antlibs-props","https://github.com/apache/ant-antlibs-props",3,10]
[20913454,"apache","apache/ant-easyant-core","https://github.com/apache/ant-easyant-core",3,9]
[20913456,"apache","apache/ant-easyant-plugins","https://github.com/apache/ant-easyant-plugins",3,4]
[20913458,"apache","apache/ant-easyant-tasks","https://github.com/apache/ant-easyant-tasks",3,4]
[212000757,"apache","apache/any23-server","https://github.com/apache/any23-server",3,4]
[18665398,"apache","apache/archiva-redback-core","https://github.com/apache/archiva-redback-core",3,15]
[2641715,"apache","apache/archiva-sandbox","https://github.com/apache/archiva-sandbox",3,4]
[266103387,"apache","apache/camel-karaf-examples","https://github.com/apache/camel-karaf-examples",3,3]
[75916278,"apache","apache/carbondata-site","https://github.com/apache/carbondata-site",3,29]
[242772303,"apache","apache/cassandra-in-jvm-dtest-api","https://github.com/apache/cassandra-in-jvm-dtest-api",3,19]
[16572422,"apache","apache/cloudstack-docs-rn","https://github.com/apache/cloudstack-docs-rn",3,21]
[130464899,"apache","apache/comdev-projects","https://github.com/apache/comdev-projects",3,5]
[75708588,"apache","apache/commons-build-plugin","https://github.com/apache/commons-build-plugin",3,13]
[168085312,"apache","apache/commons-skin","https://github.com/apache/commons-skin",3,5]
[216627287,"apache","apache/cordova-eslint","https://github.com/apache/cordova-eslint",3,5]
[68686441,"apache","apache/cordova-new-committer-and-pmc","https://github.com/apache/cordova-new-committer-and-pmc",3,3]
[87614952,"apache","apache/cordova-test-platform","https://github.com/apache/cordova-test-platform",3,9]
[16795928,"apache","apache/couchdb-bear","https://github.com/apache/couchdb-bear",3,7]
[22498762,"apache","apache/couchdb-cassim","https://github.com/apache/couchdb-cassim",3,10]
[22498763,"apache","apache/couchdb-couch-event","https://github.com/apache/couchdb-couch-event",3,9]
[16795935,"apache","apache/couchdb-goldrush","https://github.com/apache/couchdb-goldrush",3,6]
[16795937,"apache","apache/couchdb-lager","https://github.com/apache/couchdb-lager",3,9]
[9759451,"apache","apache/creadur-whisker","https://github.com/apache/creadur-whisker",3,5]
[183533207,"apache","apache/db-jdo-site","https://github.com/apache/db-jdo-site",3,5]
[107892733,"apache","apache/directory-buildtools","https://github.com/apache/directory-buildtools",3,3]
[107454122,"apache","apache/directory-project","https://github.com/apache/directory-project",3,3]
[520709428,"apache","apache/doris-thirdparty","https://github.com/apache/doris-thirdparty",3,5]
[129137599,"apache","apache/druid-website","https://github.com/apache/druid-website",3,8]
[9759451,"apache","apache/creadur-whisker","https://github.com/apache/creadur-whisker",3,5]
[183533207,"apache","apache/db-jdo-site","https://github.com/apache/db-jdo-site",3,5]
[107892733,"apache","apache/directory-buildtools","https://github.com/apache/directory-buildtools",3,3]
[107454122,"apache","apache/directory-project","https://github.com/apache/directory-project",3,3]
[520709428,"apache","apache/doris-thirdparty","https://github.com/apache/doris-thirdparty",3,5]
[129137599,"apache","apache/druid-website","https://github.com/apache/druid-website",3,8]
[155653858,"apache","apache/dubbo-serialization-gson","https://github.com/apache/dubbo-serialization-gson",3,3]
[113564765,"apache","apache/fineract-cn-api","https://github.com/apache/fineract-cn-api",3,119]
[113571579,"apache","apache/fineract-cn-command","https://github.com/apache/fineract-cn-command",3,112]
[348108750,"apache","apache/fineract-open-banking-app","https://github.com/apache/fineract-open-banking-app",3,7]
[41902287,"apache","apache/freemarker-docgen","https://github.com/apache/freemarker-docgen",3,10]
[82777101,"apache","apache/geode-site","https://github.com/apache/geode-site",3,12]
[1302101,"apache","apache/geronimo-jaspi","https://github.com/apache/geronimo-jaspi",3,5]
[138131643,"apache","apache/geronimo-openapi","https://github.com/apache/geronimo-openapi",3,16]
[66060410,"apache","apache/hawq-docs","https://github.com/apache/hawq-docs",3,11]
[92714733,"apache","apache/httpcomponents-stylecheck","https://github.com/apache/httpcomponents-stylecheck",3,3]
[48273720,"apache","apache/iampoc","https://github.com/apache/iampoc",3,6]
[314307926,"apache","apache/ignite-nodejs-thin-client","https://github.com/apache/ignite-nodejs-thin-client",3,7]
[113548228,"apache","apache/incubator-crail-website","https://github.com/apache/incubator-crail-website",3,8]
[65358493,"apache","apache/incubator-flagon-stout","https://github.com/apache/incubator-flagon-stout",3,4]
[68273149,"apache","apache/incubator-hivemall-site","https://github.com/apache/incubator-hivemall-site",3,5]
[303145750,"apache","apache/incubator-hop-docs","https://github.com/apache/incubator-hop-docs",3,12]
[41195258,"apache","apache/incubator-ignite","https://github.com/apache/incubator-ignite",3,0]
[489596660,"apache","apache/incubator-kvrocks-website","https://github.com/apache/incubator-kvrocks-website",3,6]
[159538769,"apache","apache/incubator-marvin-website","https://github.com/apache/incubator-marvin-website",3,8]
[156628093,"apache","apache/incubator-milagro-java","https://github.com/apache/incubator-milagro-java",3,7]
[59182004,"apache","apache/incubator-milagro-mfa-sdk-ios","https://github.com/apache/incubator-milagro-mfa-sdk-ios",3,3]
[309462086,"apache","apache/incubator-mxnet-events","https://github.com/apache/incubator-mxnet-events",3,2]
[256660730,"apache","apache/incubator-nlpcraft-website","https://github.com/apache/incubator-nlpcraft-website",3,3]
[21193523,"apache","apache/incubator-optiq-linq4j","https://github.com/apache/incubator-optiq-linq4j",3,9]
[78453135,"apache","apache/incubator-pagespeed-debian","https://github.com/apache/incubator-pagespeed-debian",3,4]
[36940375,"apache","apache/incubator-pagespeed-drp","https://github.com/apache/incubator-pagespeed-drp",3,8]
[70732361,"apache","apache/incubator-pagespeed-optipng","https://github.com/apache/incubator-pagespeed-optipng",3,4]
[116926792,"apache","apache/incubator-sdap-ningester","https://github.com/apache/incubator-sdap-ningester",3,7]
[292212939,"apache","apache/incubator-sedona-website","https://github.com/apache/incubator-sedona-website",3,2]
[221421090,"apache","apache/incubator-streampipes-website","https://github.com/apache/incubator-streampipes-website",3,12]
[35204050,"apache","apache/incubator-taverna-databundle-viewer","https://github.com/apache/incubator-taverna-databundle-viewer",3,8]
[30956941,"apache","apache/incubator-taverna-maven-parent","https://github.com/apache/incubator-taverna-maven-parent",3,10]
[57105500,"apache","apache/incubator-taverna-plugin-gis","https://github.com/apache/incubator-taverna-plugin-gis",3,7]
[30956946,"apache","apache/incubator-taverna-workbench-common-activities","https://github.com/apache/incubator-taverna-workbench-common-activities",3,6]
[30956947,"apache","apache/incubator-taverna-workbench-product","https://github.com/apache/incubator-taverna-workbench-product",3,4]
[263775856,"apache","apache/incubator-teaclave-website","https://github.com/apache/incubator-teaclave-website",3,11]
[327951399,"apache","apache/incubator-wayang-website","https://github.com/apache/incubator-wayang-website",3,7]
[203795420,"apache","apache/incubator-weex-android-compatible","https://github.com/apache/incubator-weex-android-compatible",3,2]
[247740615,"apache","apache/infrastructure-jenkins","https://github.com/apache/infrastructure-jenkins",3,3]
[195791429,"apache","apache/isis-app-demo","https://github.com/apache/isis-app-demo",3,4]
[167557044,"apache","apache/james-site","https://github.com/apache/james-site",3,7]
[164282162,"apache","apache/jclouds-site","https://github.com/apache/jclouds-site",3,14]
[85795401,"apache","apache/jspwiki-site","https://github.com/apache/jspwiki-site",3,7]
[107530866,"apache","apache/kibble-website","https://github.com/apache/kibble-website",3,8]
[167176167,"apache","apache/lucenenet-site","https://github.com/apache/lucenenet-site",3,7]
[113677914,"apache","apache/maven-ant-plugin","https://github.com/apache/maven-ant-plugin",3,5]
[113483863,"apache","apache/maven-artifact-resolver","https://github.com/apache/maven-artifact-resolver",3,6]
[113485886,"apache","apache/maven-common-artifact-filters","https://github.com/apache/maven-common-artifact-filters",3,14]
[113678167,"apache","apache/maven-doap-plugin","https://github.com/apache/maven-doap-plugin",3,5]
[113484086,"apache","apache/maven-filtering","https://github.com/apache/maven-filtering",3,26]
[113484146,"apache","apache/maven-jarsigner","https://github.com/apache/maven-jarsigner",3,7]
[113678591,"apache","apache/maven-linkcheck-plugin","https://github.com/apache/maven-linkcheck-plugin",3,5]
[206348,"apache","apache/maven-mercury","https://github.com/apache/maven-mercury",3,6]
[113484190,"apache","apache/maven-osgi","https://github.com/apache/maven-osgi",3,3]
[205418,"apache","apache/maven-resources","https://github.com/apache/maven-resources",3,10]
[113484401,"apache","apache/maven-shared-incremental","https://github.com/apache/maven-shared-incremental",3,8]
[113484423,"apache","apache/maven-shared-io","https://github.com/apache/maven-shared-io",3,10]
[688358,"apache","apache/myfaces-scripting","https://github.com/apache/myfaces-scripting",3,5]
[100689820,"apache","apache/myfaces-trinidad","https://github.com/apache/myfaces-trinidad",3,9]
[176558231,"apache","apache/mynewt-imgmod","https://github.com/apache/mynewt-imgmod",3,5]
[127946215,"apache","apache/mynewt-lorawan","https://github.com/apache/mynewt-lorawan",3,3]
[127969051,"apache","apache/mynewt-nfc","https://github.com/apache/mynewt-nfc",3,0]
[70672236,"apache","apache/mynewt-pkg-bsp","https://github.com/apache/mynewt-pkg-bsp",3,4]
[70672239,"apache","apache/mynewt-pkg-pkg","https://github.com/apache/mynewt-pkg-pkg",3,3]
[70672241,"apache","apache/mynewt-pkg-sdk","https://github.com/apache/mynewt-pkg-sdk",3,3]
[185983893,"apache","apache/netbeans-jenkins-lib","https://github.com/apache/netbeans-jenkins-lib",3,12]
[185792695,"apache","apache/netbeans-mavenutils-archetype-netbeans-platform-app-archetype","https://github.com/apache/netbeans-mavenutils-archetype-netbeans-platform-app-archetype",3,6]
[114574924,"apache","apache/netbeans-website-cleanup","https://github.com/apache/netbeans-website-cleanup",3,5]
[32062153,"apache","apache/ode-console","https://github.com/apache/ode-console",3,7]
[71434423,"apache","apache/opennlp-site","https://github.com/apache/opennlp-site",3,13]
[212425517,"apache","apache/openoffice-project","https://github.com/apache/openoffice-project",3,3]
[62153788,"apache","apache/openwhisk-package-template","https://github.com/apache/openwhisk-package-template",3,12]
[313377132,"apache","apache/ozone-docker-runner","https://github.com/apache/ozone-docker-runner",3,13]
[167555469,"apache","apache/ozone-site","https://github.com/apache/ozone-site",3,13]
[218010612,"apache","apache/parquet-site","https://github.com/apache/parquet-site",3,12]
[40362160,"apache","apache/predictionio-sdk-swift","https://github.com/apache/predictionio-sdk-swift",3,8]
[323900556,"apache","apache/privacy-website","https://github.com/apache/privacy-website",3,11]
[542858846,"apache","apache/pulsar-client-cpp","https://github.com/apache/pulsar-client-cpp",3,4]
[542858730,"apache","apache/pulsar-client-python","https://github.com/apache/pulsar-client-python",3,5]
[15680134,"apache","apache/river-container","https://github.com/apache/river-container",3,5]
[520702196,"apache","apache/rocketmq-awesome","https://github.com/apache/rocketmq-awesome",3,2]
[490670260,"apache","apache/rocketmq-e2e","https://github.com/apache/rocketmq-e2e",3,3]
[194066887,"apache","apache/rocketmq-remoting","https://github.com/apache/rocketmq-remoting",3,2]
[72080278,"apache","apache/rya-site","https://github.com/apache/rya-site",3,6]
[225209,"apache","apache/servicemix-utils","https://github.com/apache/servicemix-utils",3,8]
[196269190,"apache","apache/singa-site","https://github.com/apache/singa-site",3,5]
[361372056,"apache","apache/sis-site","https://github.com/apache/sis-site",3,3]
[107432661,"apache","apache/sling-org-apache-sling-auth-core","https://github.com/apache/sling-org-apache-sling-auth-core",3,13]
[358536014,"apache","apache/sling-org-apache-sling-auth-saml2","https://github.com/apache/sling-org-apache-sling-auth-saml2",3,3]
[107433015,"apache","apache/sling-org-apache-sling-caconfig-api","https://github.com/apache/sling-org-apache-sling-caconfig-api",3,6]
[107432929,"apache","apache/sling-org-apache-sling-commons-scheduler","https://github.com/apache/sling-org-apache-sling-commons-scheduler",3,8]
[107434544,"apache","apache/sling-org-apache-sling-datasource","https://github.com/apache/sling-org-apache-sling-datasource",3,4]
[107433319,"apache","apache/sling-org-apache-sling-hc-it","https://github.com/apache/sling-org-apache-sling-hc-it",3,3]
[107433340,"apache","apache/sling-org-apache-sling-hc-samples","https://github.com/apache/sling-org-apache-sling-hc-samples",3,3]
[107435477,"apache","apache/sling-org-apache-sling-installer-provider-jcr","https://github.com/apache/sling-org-apache-sling-installer-provider-jcr",3,8]
[107435509,"apache","apache/sling-org-apache-sling-karaf-distribution","https://github.com/apache/sling-org-apache-sling-karaf-distribution",3,4]
[107435519,"apache","apache/sling-org-apache-sling-karaf-features","https://github.com/apache/sling-org-apache-sling-karaf-features",3,6]
[240235707,"apache","apache/sling-org-apache-sling-kickstart","https://github.com/apache/sling-org-apache-sling-kickstart",3,2]
[107435614,"apache","apache/sling-org-apache-sling-launchpad-installer","https://github.com/apache/sling-org-apache-sling-launchpad-installer",3,3]
[107435691,"apache","apache/sling-org-apache-sling-launchpad-testing","https://github.com/apache/sling-org-apache-sling-launchpad-testing",3,4]
[107435181,"apache","apache/sling-org-apache-sling-nosql-mongodb-resourceprovider","https://github.com/apache/sling-org-apache-sling-nosql-mongodb-resourceprovider",3,6]
[107435213,"apache","apache/sling-org-apache-sling-scripting-freemarker","https://github.com/apache/sling-org-apache-sling-scripting-freemarker",3,3]
[107434062,"apache","apache/sling-org-apache-sling-scripting-sightly-compiler","https://github.com/apache/sling-org-apache-sling-scripting-sightly-compiler",3,11]
[107435257,"apache","apache/sling-org-apache-sling-scripting-thymeleaf","https://github.com/apache/sling-org-apache-sling-scripting-thymeleaf",3,3]
[107435601,"apache","apache/sling-org-apache-sling-starter-content","https://github.com/apache/sling-org-apache-sling-starter-content",3,6]
[107434956,"apache","apache/sling-org-apache-sling-startupfilter","https://github.com/apache/sling-org-apache-sling-startupfilter",3,3]
[107435869,"apache","apache/sling-org-apache-sling-testing-rules","https://github.com/apache/sling-org-apache-sling-testing-rules",3,5]
[107436015,"apache","apache/sling-org-apache-sling-testing-serversetup","https://github.com/apache/sling-org-apache-sling-testing-serversetup",3,3]
[107435963,"apache","apache/sling-org-apache-sling-testing-sling-mock-oak","https://github.com/apache/sling-org-apache-sling-testing-sling-mock-oak",3,7]
[393130637,"apache","apache/sling-org-apache-sling-thumbnails","https://github.com/apache/sling-org-apache-sling-thumbnails",3,2]
[440856396,"apache","apache/solr-docker","https://github.com/apache/solr-docker",3,6]
[329694540,"apache","apache/solr-sandbox","https://github.com/apache/solr-sandbox",3,6]
[31976271,"apache","apache/struts-annotations","https://github.com/apache/struts-annotations",3,8]
[28955394,"apache","apache/struts-master","https://github.com/apache/struts-master",3,3]
[205422,"apache","apache/struts-maven","https://github.com/apache/struts-maven",3,4]
[160986,"apache","apache/tapestry3","https://github.com/apache/tapestry3",3,11]
[356332325,"apache","apache/template-site","https://github.com/apache/template-site",3,4]
[254329749,"apache","apache/tomcat-taglibs-standard","https://github.com/apache/tomcat-taglibs-standard",3,6]
[173927929,"apache","apache/tomee-chatterbox","https://github.com/apache/tomee-chatterbox",3,8]
[267707361,"apache","apache/tomee-jakartaee-api","https://github.com/apache/tomee-jakartaee-api",3,3]
[192406777,"apache","apache/trafficserver-site","https://github.com/apache/trafficserver-site",3,6]
[390001,"apache","apache/tuscany-sca-1.x","https://github.com/apache/tuscany-sca-1.x",3,10]
[141755090,"apache","apache/universal-wiki-converter","https://github.com/apache/universal-wiki-converter",3,4]
[148124235,"apache","apache/unomi-site","https://github.com/apache/unomi-site",3,9]
[252479942,"apache","apache/velocity-site","https://github.com/apache/velocity-site",3,4]
[74950499,"apache","apache/accumulo-bsp","https://github.com/apache/accumulo-bsp",2,3]
[297975339,"apache","apache/accumulo-classloaders","https://github.com/apache/accumulo-classloaders",2,5]
[84171578,"apache","apache/activemq-nms-openwire-generator","https://github.com/apache/activemq-nms-openwire-generator",2,4]
[299766,"apache","apache/activemq-stomp","https://github.com/apache/activemq-stomp",2,4]
[275569146,"apache","apache/airflow-client-java","https://github.com/apache/airflow-client-java",2,4]
[275569297,"apache","apache/airflow-client-javascript","https://github.com/apache/airflow-client-javascript",2,2]
[20248076,"apache","apache/ant-antlibs-common","https://github.com/apache/ant-antlibs-common",2,7]
[20248080,"apache","apache/ant-antlibs-svn","https://github.com/apache/ant-antlibs-svn",2,5]
[20248081,"apache","apache/ant-antlibs-vss","https://github.com/apache/ant-antlibs-vss",2,4]
[20913453,"apache","apache/ant-easyant-buildtypes","https://github.com/apache/ant-easyant-buildtypes",2,4]
[20913455,"apache","apache/ant-easyant-easyant4e","https://github.com/apache/ant-easyant-easyant4e",2,4]
[20913457,"apache","apache/ant-easyant-skeletons","https://github.com/apache/ant-easyant-skeletons",2,5]
[20473417,"apache","apache/ant-xooki","https://github.com/apache/ant-xooki",2,5]
[167554712,"apache","apache/any23-committers","https://github.com/apache/any23-committers",2,3]
[521499451,"apache","apache/apisix-profiler","https://github.com/apache/apisix-profiler",2,2]
[92260565,"apache","apache/aries-containers","https://github.com/apache/aries-containers",2,4]
[163576262,"apache","apache/aries-journaled-events","https://github.com/apache/aries-journaled-events",2,7]
[116279494,"apache","apache/aries-tx-control","https://github.com/apache/aries-tx-control",2,7]
[294753905,"apache","apache/aries-typedevent","https://github.com/apache/aries-typedevent",2,6]
[380657505,"apache","apache/arrow-experimental-rs-arrow2","https://github.com/apache/arrow-experimental-rs-arrow2",2,3]
[412635943,"apache","apache/asterixdb-clients","https://github.com/apache/asterixdb-clients",2,2]
[98013452,"apache","apache/atlas-website","https://github.com/apache/atlas-website",2,4]
[249784472,"apache","apache/axis-axis1-site-src","https://github.com/apache/axis-axis1-site-src",2,2]
[248646456,"apache","apache/axis-site","https://github.com/apache/axis-site",2,2]
[372597029,"apache","apache/bval-site","https://github.com/apache/bval-site",2,2]
[170759724,"apache","apache/calcite-site","https://github.com/apache/calcite-site",2,7]
[468675455,"apache","apache/camel-kamelets-examples","https://github.com/apache/camel-kamelets-examples",2,1]
[181451137,"apache","apache/cayenne-examples","https://github.com/apache/cayenne-examples",2,6]
[32376871,"apache","apache/clerezza-rdf-core","https://github.com/apache/clerezza-rdf-core",2,6]
[130465801,"apache","apache/comdev-reporter","https://github.com/apache/comdev-reporter",2,5]
[6898378,"apache","apache/cordova-bada-wac","https://github.com/apache/cordova-bada-wac",2,6]
[22498761,"apache","apache/couchdb-b64url","https://github.com/apache/couchdb-b64url",2,8]
[16795929,"apache","apache/couchdb-couch-log","https://github.com/apache/couchdb-couch-log",2,12]
[42763342,"apache","apache/couchdb-couch-log-lager","https://github.com/apache/couchdb-couch-log-lager",2,7]
[16795930,"apache","apache/couchdb-couch-stats","https://github.com/apache/couchdb-couch-stats",2,11]
[34839380,"apache","apache/couchdb-erlang-tests","https://github.com/apache/couchdb-erlang-tests",2,4]
[34839381,"apache","apache/couchdb-javascript-tests","https://github.com/apache/couchdb-javascript-tests",2,0]
[168351149,"apache","apache/couchdb-ken","https://github.com/apache/couchdb-ken",2,5]
[16795940,"apache","apache/couchdb-query-server-spidermonkey","https://github.com/apache/couchdb-query-server-spidermonkey",2,0]
[9759449,"apache","apache/creadur-tentacles","https://github.com/apache/creadur-tentacles",2,5]
[342340202,"apache","apache/daffodil-schema.g8","https://github.com/apache/daffodil-schema.g8",2,7]
[113041753,"apache","apache/daffodil-site","https://github.com/apache/daffodil-site",2,27]
[348155895,"apache","apache/datasketches-memory16","https://github.com/apache/datasketches-memory16",2,2]
[194232677,"apache","apache/diversity-research","https://github.com/apache/diversity-research",2,0]
[192724060,"apache","apache/diversity-site","https://github.com/apache/diversity-site",2,6]
[430636966,"apache","apache/dolphinscheduler-ambari","https://github.com/apache/dolphinscheduler-ambari",2,3]
[16795940,"apache","apache/couchdb-query-server-spidermonkey","https://github.com/apache/couchdb-query-server-spidermonkey",2,0]
[9759449,"apache","apache/creadur-tentacles","https://github.com/apache/creadur-tentacles",2,5]
[342340202,"apache","apache/daffodil-schema.g8","https://github.com/apache/daffodil-schema.g8",2,7]
[113041753,"apache","apache/daffodil-site","https://github.com/apache/daffodil-site",2,27]
[348155895,"apache","apache/datasketches-memory16","https://github.com/apache/datasketches-memory16",2,2]
[194232677,"apache","apache/diversity-research","https://github.com/apache/diversity-research",2,0]
[192724060,"apache","apache/diversity-site","https://github.com/apache/diversity-site",2,6]
[430636966,"apache","apache/dolphinscheduler-ambari","https://github.com/apache/dolphinscheduler-ambari",2,3]
[522218622,"apache","apache/dubbo-go-pixiu-samples","https://github.com/apache/dubbo-go-pixiu-samples",2,6]
[541540830,"apache","apache/dubbo-test-tools","https://github.com/apache/dubbo-test-tools",2,2]
[364352413,"apache","apache/felix-site-pub","https://github.com/apache/felix-site-pub",2,3]
[113571298,"apache","apache/fineract-cn-anubis","https://github.com/apache/fineract-cn-anubis",2,114]
[113571792,"apache","apache/fineract-cn-crypto","https://github.com/apache/fineract-cn-crypto",2,108]
[113557328,"apache","apache/fineract-cn-fims-e2e","https://github.com/apache/fineract-cn-fims-e2e",2,79]
[113571845,"apache","apache/fineract-cn-group","https://github.com/apache/fineract-cn-group",2,115]
[113565891,"apache","apache/fineract-cn-integration-tests","https://github.com/apache/fineract-cn-integration-tests",2,0]
[224393473,"apache","apache/fineract-cn-interoperation","https://github.com/apache/fineract-cn-interoperation",2,15]
[113565613,"apache","apache/fineract-cn-lang","https://github.com/apache/fineract-cn-lang",2,117]
[113564233,"apache","apache/fineract-cn-teller","https://github.com/apache/fineract-cn-teller",2,120]
[113571428,"apache","apache/fineract-cn-test","https://github.com/apache/fineract-cn-test",2,109]
[105113405,"apache","apache/flex-asjs","https://github.com/apache/flex-asjs",2,0]
[10095587,"apache","apache/flex-external","https://github.com/apache/flex-external",2,6]
[491623541,"apache","apache/flink-connector-rabbitmq","https://github.com/apache/flink-connector-rabbitmq",2,3]
[129796927,"apache","apache/fluo-examples","https://github.com/apache/fluo-examples",2,9]
[99356908,"apache","apache/fluo-yarn","https://github.com/apache/fluo-yarn",2,9]
[185833148,"apache","apache/geronimo-batchee","https://github.com/apache/geronimo-batchee",2,5]
[240465,"apache","apache/geronimo-genesis","https://github.com/apache/geronimo-genesis",2,6]
[240470,"apache","apache/geronimo-gshell","https://github.com/apache/geronimo-gshell",2,6]
[136821340,"apache","apache/geronimo-metrics","https://github.com/apache/geronimo-metrics",2,9]
[133724609,"apache","apache/geronimo-opentracing","https://github.com/apache/geronimo-opentracing",2,6]
[1302102,"apache","apache/geronimo-schema-14","https://github.com/apache/geronimo-schema-14",2,3]
[1302097,"apache","apache/geronimo-schema-5","https://github.com/apache/geronimo-schema-5",2,4]
[1302099,"apache","apache/geronimo-schema-6","https://github.com/apache/geronimo-schema-6",2,4]
[240471,"apache","apache/geronimo-yoko","https://github.com/apache/geronimo-yoko",2,13]
[84534789,"apache","apache/griffin-site","https://github.com/apache/griffin-site",2,13]
[94606706,"apache","apache/groovy-release","https://github.com/apache/groovy-release",2,4]
[102179105,"apache","apache/hadoop-downstream-tests","https://github.com/apache/hadoop-downstream-tests",2,0]
[210419610,"apache","apache/hadoop-thirdparty","https://github.com/apache/hadoop-thirdparty",2,16]
[305492608,"apache","apache/httpd-mod_fcgid","https://github.com/apache/httpd-mod_fcgid",2,2]
[377645843,"apache","apache/httpd-site","https://github.com/apache/httpd-site",2,8]
[265384096,"apache","apache/ignite-web-console","https://github.com/apache/ignite-web-console",2,3]
[281153258,"apache","apache/incubator-bluemarlin","https://github.com/apache/incubator-bluemarlin",2,7]
[21155244,"apache","apache/incubator-brooklyn-site","https://github.com/apache/incubator-brooklyn-site",2,9]
[293560343,"apache","apache/incubator-liminal-site","https://github.com/apache/incubator-liminal-site",2,2]
[59182000,"apache","apache/incubator-milagro-mfa-js-client","https://github.com/apache/incubator-milagro-mfa-js-client",2,3]
[59182002,"apache","apache/incubator-milagro-mfa-sdk-android","https://github.com/apache/incubator-milagro-mfa-sdk-android",2,6]
[21193522,"apache","apache/incubator-optiq-csv","https://github.com/apache/incubator-optiq-csv",2,7]
[58111163,"apache","apache/incubator-retired-gearpump-site","https://github.com/apache/incubator-retired-gearpump-site",2,7]
[57191362,"apache","apache/incubator-retired-openaz-site","https://github.com/apache/incubator-retired-openaz-site",2,6]
[66341826,"apache","apache/incubator-retired-tamaya-extensions","https://github.com/apache/incubator-retired-tamaya-extensions",2,9]
[66341830,"apache","apache/incubator-retired-tamaya-sandbox","https://github.com/apache/incubator-retired-tamaya-sandbox",2,9]
[68893756,"apache","apache/incubator-retired-tamaya-site","https://github.com/apache/incubator-retired-tamaya-site",2,13]
[419217413,"apache","apache/incubator-sdap-in-situ-data-services","https://github.com/apache/incubator-sdap-in-situ-data-services",2,3]
[108511091,"apache","apache/incubator-sdap-website","https://github.com/apache/incubator-sdap-website",2,9]
[171144496,"apache","apache/incubator-streampipes-examples","https://github.com/apache/incubator-streampipes-examples",2,4]
[30956942,"apache","apache/incubator-taverna-osgi","https://github.com/apache/incubator-taverna-osgi",2,9]
[342460030,"apache","apache/incubator-teaclave-verification","https://github.com/apache/incubator-teaclave-verification",2,6]
[179928660,"apache","apache/incubator-tuweni-website","https://github.com/apache/incubator-tuweni-website",2,7]
[65604084,"apache","apache/incubator-twill","https://github.com/apache/incubator-twill",2,9]
[421573164,"apache","apache/infrastructure-dlstats","https://github.com/apache/infrastructure-dlstats",2,1]
[272882497,"apache","apache/infrastructure-kif","https://github.com/apache/infrastructure-kif",2,3]
[262671277,"apache","apache/infrastructure-pypubsub","https://github.com/apache/infrastructure-pypubsub",2,2]
[204935702,"apache","apache/infrastructure-staging-test","https://github.com/apache/infrastructure-staging-test",2,2]
[85547695,"apache","apache/infrastructure-test","https://github.com/apache/infrastructure-test",2,5]
[16021500,"apache","apache/jackrabbit-ocm","https://github.com/apache/jackrabbit-ocm",2,12]
[63222519,"apache","apache/james","https://github.com/apache/james",2,0]
[5054233,"apache","apache/james-postage","https://github.com/apache/james-postage",2,8]
[164282084,"apache","apache/jclouds-labs","https://github.com/apache/jclouds-labs",2,8]
[164282130,"apache","apache/jclouds-labs-openstack","https://github.com/apache/jclouds-labs-openstack",2,5]
[199448344,"apache","apache/jmeter-site-preview","https://github.com/apache/jmeter-site-preview",2,1]
[17049427,"apache","apache/juddi-styles","https://github.com/apache/juddi-styles",2,4]
[153994277,"apache","apache/kibble-docker","https://github.com/apache/kibble-docker",2,0]
[164913392,"apache","apache/kudu-site","https://github.com/apache/kudu-site",2,5]
[78511148,"apache","apache/logging--log4j-boot","https://github.com/apache/logging--log4j-boot",2,0]
[78511149,"apache","apache/logging-log4j-boot","https://github.com/apache/logging-log4j-boot",2,3]
[72975291,"apache","apache/logging-log4j-plugins","https://github.com/apache/logging-log4j-plugins",2,1]
[291554708,"apache","apache/logging-log4net-site","https://github.com/apache/logging-log4net-site",2,3]
[79203295,"apache","apache/logging-parent","https://github.com/apache/logging-parent",2,3]
[11943596,"apache","apache/manifoldcf-integration-sharepoint-2007","https://github.com/apache/manifoldcf-integration-sharepoint-2007",2,4]
[11943597,"apache","apache/manifoldcf-integration-sharepoint-2010","https://github.com/apache/manifoldcf-integration-sharepoint-2010",2,6]
[126747256,"apache","apache/manifoldcf-integration-solr-7.x","https://github.com/apache/manifoldcf-integration-solr-7.x",2,3]
[46916768,"apache","apache/matt-test","https://github.com/apache/matt-test",2,3]
[113677894,"apache","apache/maven-acr-plugin","https://github.com/apache/maven-acr-plugin",2,7]
[109480503,"apache","apache/maven-default-skin","https://github.com/apache/maven-default-skin",2,6]
[113484060,"apache","apache/maven-downloader","https://github.com/apache/maven-downloader",2,3]
[109480582,"apache","apache/maven-doxia-linkcheck","https://github.com/apache/maven-doxia-linkcheck",2,4]
[116232196,"apache","apache/maven-doxia-site","https://github.com/apache/maven-doxia-site",2,2]
[113484173,"apache","apache/maven-mapping","https://github.com/apache/maven-mapping",2,6]
[113484207,"apache","apache/maven-project-utils","https://github.com/apache/maven-project-utils",2,9]
[113484335,"apache","apache/maven-runtime","https://github.com/apache/maven-runtime",2,8]
[113484431,"apache","apache/maven-shared-jar","https://github.com/apache/maven-shared-jar",2,5]
[165370380,"apache","apache/mina-asyncweb","https://github.com/apache/mina-asyncweb",2,8]
[242685067,"apache","apache/mina-site","https://github.com/apache/mina-site",2,3]
[131373660,"apache","apache/myfaces-master-pom","https://github.com/apache/myfaces-master-pom",2,5]
[103827808,"apache","apache/myfaces-trinidad-maven","https://github.com/apache/myfaces-trinidad-maven",2,4]
[185792290,"apache","apache/netbeans-mavenutils-archetype-nbm-archetype","https://github.com/apache/netbeans-mavenutils-archetype-nbm-archetype",2,6]
[185792574,"apache","apache/netbeans-mavenutils-archetype-nbm-suite-root","https://github.com/apache/netbeans-mavenutils-archetype-nbm-suite-root",2,6]
[185791716,"apache","apache/netbeans-mavenutils-nb-repository-plugin","https://github.com/apache/netbeans-mavenutils-nb-repository-plugin",2,5]
[185791464,"apache","apache/netbeans-mavenutils-nbm-shared","https://github.com/apache/netbeans-mavenutils-nbm-shared",2,6]
[185791293,"apache","apache/netbeans-mavenutils-parent","https://github.com/apache/netbeans-mavenutils-parent",2,5]
[71622595,"apache","apache/netbeans-temp","https://github.com/apache/netbeans-temp",2,2]
[2208543,"apache","apache/npanday-its","https://github.com/apache/npanday-its",2,6]
[832678,"apache","apache/nuvem","https://github.com/apache/nuvem",2,4]
[9759454,"apache","apache/ode-jacob","https://github.com/apache/ode-jacob",2,7]
[167555080,"apache","apache/onami","https://github.com/apache/onami",2,3]
[89566063,"apache","apache/openmeetings-site","https://github.com/apache/openmeetings-site",2,13]
[335477671,"apache","apache/openoffice-docs","https://github.com/apache/openoffice-docs",2,3]
[321756505,"apache","apache/openoffice-forums","https://github.com/apache/openoffice-forums",2,2]
[321705344,"apache","apache/openoffice-mwiki","https://github.com/apache/openoffice-mwiki",2,4]
[67622789,"apache","apache/openwhisk-sample-matos","https://github.com/apache/openwhisk-sample-matos",2,7]
[76360625,"apache","apache/openwhisk-test","https://github.com/apache/openwhisk-test",2,10]
[110517666,"apache","apache/pdfbox-testfiles","https://github.com/apache/pdfbox-testfiles",2,1]
[223107122,"apache","apache/petri","https://github.com/apache/petri",2,5]
[33024208,"apache","apache/polygene-sandbox","https://github.com/apache/polygene-sandbox",2,4]
[156017395,"apache","apache/predictionio-site","https://github.com/apache/predictionio-site",2,4]
[82371321,"apache","apache/qpid-jms-amqp-0-x","https://github.com/apache/qpid-jms-amqp-0-x",2,7]
[2204545,"apache","apache/rampart","https://github.com/apache/rampart",2,13]
[78828252,"apache","apache/royale-tourjs","https://github.com/apache/royale-tourjs",2,3]
[225202,"apache","apache/servicemix4-legal","https://github.com/apache/servicemix4-legal",2,4]
[290750940,"apache","apache/shardingsphere-externals","https://github.com/apache/shardingsphere-externals",2,5]
[107436076,"apache","apache/sling-adapter-annotations","https://github.com/apache/sling-adapter-annotations",2,7]
[107436176,"apache","apache/sling-archetype-parent","https://github.com/apache/sling-archetype-parent",2,3]
[107436117,"apache","apache/sling-bundle-archetype","https://github.com/apache/sling-bundle-archetype",2,3]
[107436247,"apache","apache/sling-htl-maven-plugin","https://github.com/apache/sling-htl-maven-plugin",2,7]
[107436380,"apache","apache/sling-ide-tooling","https://github.com/apache/sling-ide-tooling",2,6]
[107436133,"apache","apache/sling-initial-content-archetype","https://github.com/apache/sling-initial-content-archetype",2,3]
[107436269,"apache","apache/sling-jspc-maven-plugin","https://github.com/apache/sling-jspc-maven-plugin",2,8]
[107436286,"apache","apache/sling-maven-launchpad-plugin","https://github.com/apache/sling-maven-launchpad-plugin",2,5]
[107432993,"apache","apache/sling-org-apache-sling-adapter","https://github.com/apache/sling-org-apache-sling-adapter",2,3]
[107436041,"apache","apache/sling-org-apache-sling-caconfig-bnd-plugin","https://github.com/apache/sling-org-apache-sling-caconfig-bnd-plugin",2,3]
[107434503,"apache","apache/sling-org-apache-sling-cassandra","https://github.com/apache/sling-org-apache-sling-cassandra",2,3]
[146987434,"apache","apache/sling-org-apache-sling-clam","https://github.com/apache/sling-org-apache-sling-clam",2,3]
[107434463,"apache","apache/sling-org-apache-sling-commons-cache-impl","https://github.com/apache/sling-org-apache-sling-commons-cache-impl",2,4]
[135763303,"apache","apache/sling-org-apache-sling-commons-clam","https://github.com/apache/sling-org-apache-sling-commons-clam",2,3]
[107432797,"apache","apache/sling-org-apache-sling-commons-log","https://github.com/apache/sling-org-apache-sling-commons-log",2,8]
[107432827,"apache","apache/sling-org-apache-sling-commons-log-webconsole","https://github.com/apache/sling-org-apache-sling-commons-log-webconsole",2,3]
[107432889,"apache","apache/sling-org-apache-sling-commons-messaging","https://github.com/apache/sling-org-apache-sling-commons-messaging",2,3]
[107432838,"apache","apache/sling-org-apache-sling-commons-metrics","https://github.com/apache/sling-org-apache-sling-commons-metrics",2,5]
[107432950,"apache","apache/sling-org-apache-sling-commons-threaddump","https://github.com/apache/sling-org-apache-sling-commons-threaddump",2,4]
[107434368,"apache","apache/sling-org-apache-sling-crankstart-launcher","https://github.com/apache/sling-org-apache-sling-crankstart-launcher",2,3]
[107433098,"apache","apache/sling-org-apache-sling-discovery-base","https://github.com/apache/sling-org-apache-sling-discovery-base",2,7]
[181680444,"apache","apache/sling-org-apache-sling-distribution-journal-messages","https://github.com/apache/sling-org-apache-sling-distribution-journal-messages",2,7]
[107434731,"apache","apache/sling-org-apache-sling-extensions-classloader-leak-detector","https://github.com/apache/sling-org-apache-sling-extensions-classloader-leak-detector",2,3]
[107433589,"apache","apache/sling-org-apache-sling-extensions-webconsolebranding","https://github.com/apache/sling-org-apache-sling-extensions-webconsolebranding",2,4]
[156534905,"apache","apache/sling-org-apache-sling-feature-apiregions","https://github.com/apache/sling-org-apache-sling-feature-apiregions",2,7]
[151272481,"apache","apache/sling-org-apache-sling-feature-extension-content","https://github.com/apache/sling-org-apache-sling-feature-extension-content",2,5]
[131209390,"apache","apache/sling-org-apache-sling-feature-karaf","https://github.com/apache/sling-org-apache-sling-feature-karaf",2,3]
[107433202,"apache","apache/sling-org-apache-sling-featureflags","https://github.com/apache/sling-org-apache-sling-featureflags",2,5]
[107434679,"apache","apache/sling-org-apache-sling-hapi","https://github.com/apache/sling-org-apache-sling-hapi",2,3]
[107434663,"apache","apache/sling-org-apache-sling-hapi-client","https://github.com/apache/sling-org-apache-sling-hapi-client",2,4]
[107433306,"apache","apache/sling-org-apache-sling-hc-core","https://github.com/apache/sling-org-apache-sling-hc-core",2,3]
[107435339,"apache","apache/sling-org-apache-sling-installer-factory-configuration","https://github.com/apache/sling-org-apache-sling-installer-factory-configuration",2,8]
[107435419,"apache","apache/sling-org-apache-sling-installer-factory-subsystems","https://github.com/apache/sling-org-apache-sling-installer-factory-subsystems",2,3]
[107435437,"apache","apache/sling-org-apache-sling-installer-hc","https://github.com/apache/sling-org-apache-sling-installer-hc",2,3]
[107435454,"apache","apache/sling-org-apache-sling-installer-it","https://github.com/apache/sling-org-apache-sling-installer-it",2,5]
[107435461,"apache","apache/sling-org-apache-sling-installer-provider-file","https://github.com/apache/sling-org-apache-sling-installer-provider-file",2,4]
[146853344,"apache","apache/sling-org-apache-sling-installer-provider-installhook","https://github.com/apache/sling-org-apache-sling-installer-provider-installhook",2,5]
[107433391,"apache","apache/sling-org-apache-sling-javax-activation","https://github.com/apache/sling-org-apache-sling-javax-activation",2,7]
[107433627,"apache","apache/sling-org-apache-sling-jcr-api","https://github.com/apache/sling-org-apache-sling-jcr-api",2,4]
[107433656,"apache","apache/sling-org-apache-sling-jcr-classloader","https://github.com/apache/sling-org-apache-sling-jcr-classloader",2,4]
[107433705,"apache","apache/sling-org-apache-sling-jcr-davex","https://github.com/apache/sling-org-apache-sling-jcr-davex",2,4]
[107433731,"apache","apache/sling-org-apache-sling-jcr-jackrabbit-accessmanager","https://github.com/apache/sling-org-apache-sling-jcr-jackrabbit-accessmanager",2,5]
[107433758,"apache","apache/sling-org-apache-sling-jcr-jackrabbit-usermanager","https://github.com/apache/sling-org-apache-sling-jcr-jackrabbit-usermanager",2,5]
[330998636,"apache","apache/sling-org-apache-sling-jcr-maintenance","https://github.com/apache/sling-org-apache-sling-jcr-maintenance",2,3]
[107433780,"apache","apache/sling-org-apache-sling-jcr-oak-server","https://github.com/apache/sling-org-apache-sling-jcr-oak-server",2,5]
[107433810,"apache","apache/sling-org-apache-sling-jcr-repoinit","https://github.com/apache/sling-org-apache-sling-jcr-repoinit",2,11]
[107433844,"apache","apache/sling-org-apache-sling-jcr-webdav","https://github.com/apache/sling-org-apache-sling-jcr-webdav",2,5]
[107434711,"apache","apache/sling-org-apache-sling-jmx-provider","https://github.com/apache/sling-org-apache-sling-jmx-provider",2,4]
[107435818,"apache","apache/sling-org-apache-sling-junit-core","https://github.com/apache/sling-org-apache-sling-junit-core",2,8]
[107435831,"apache","apache/sling-org-apache-sling-junit-healthcheck","https://github.com/apache/sling-org-apache-sling-junit-healthcheck",2,4]
[107435565,"apache","apache/sling-org-apache-sling-launchpad-api","https://github.com/apache/sling-org-apache-sling-launchpad-api",2,3]
[109810936,"apache","apache/sling-org-apache-sling-launchpad-base","https://github.com/apache/sling-org-apache-sling-launchpad-base",2,8]
[107435726,"apache","apache/sling-org-apache-sling-launchpad-test-services","https://github.com/apache/sling-org-apache-sling-launchpad-test-services",2,5]
[107433408,"apache","apache/sling-org-apache-sling-models-api","https://github.com/apache/sling-org-apache-sling-models-api",2,8]
[107434275,"apache","apache/sling-org-apache-sling-mom","https://github.com/apache/sling-org-apache-sling-mom",2,4]
[107435150,"apache","apache/sling-org-apache-sling-nosql-generic","https://github.com/apache/sling-org-apache-sling-nosql-generic",2,4]
[107436409,"apache","apache/sling-org-apache-sling-performance","https://github.com/apache/sling-org-apache-sling-performance",2,4]
[107434410,"apache","apache/sling-org-apache-sling-resource-editor","https://github.com/apache/sling-org-apache-sling-resource-editor",2,4]
[107433858,"apache","apache/sling-org-apache-sling-resourceaccesssecurity","https://github.com/apache/sling-org-apache-sling-resourceaccesssecurity",2,3]
[107433497,"apache","apache/sling-org-apache-sling-resourcebuilder","https://github.com/apache/sling-org-apache-sling-resourcebuilder",2,3]
[107434523,"apache","apache/sling-org-apache-sling-resourcecollection","https://github.com/apache/sling-org-apache-sling-resourcecollection",2,4]
[107434823,"apache","apache/sling-org-apache-sling-resourcemerger","https://github.com/apache/sling-org-apache-sling-resourcemerger",2,8]
[160821854,"apache","apache/sling-org-apache-sling-scripting-bundle-tracker-it","https://github.com/apache/sling-org-apache-sling-scripting-bundle-tracker-it",2,4]
[107433968,"apache","apache/sling-org-apache-sling-scripting-jsp-api","https://github.com/apache/sling-org-apache-sling-scripting-jsp-api",2,3]
[107434137,"apache","apache/sling-org-apache-sling-scripting-sightly-models-provider","https://github.com/apache/sling-org-apache-sling-scripting-sightly-models-provider",2,5]
[107435296,"apache","apache/sling-org-apache-sling-scripting-xproc","https://github.com/apache/sling-org-apache-sling-scripting-xproc",2,3]
[107433513,"apache","apache/sling-org-apache-sling-serviceusermapper","https://github.com/apache/sling-org-apache-sling-serviceusermapper",2,4]
[135262257,"apache","apache/sling-org-apache-sling-servlets-annotations","https://github.com/apache/sling-org-apache-sling-servlets-annotations",2,7]
[107434939,"apache","apache/sling-org-apache-sling-startupfilter-disabler","https://github.com/apache/sling-org-apache-sling-startupfilter-disabler",2,3]
[107434967,"apache","apache/sling-org-apache-sling-superimposing","https://github.com/apache/sling-org-apache-sling-superimposing",2,4]
[107434751,"apache","apache/sling-org-apache-sling-tail","https://github.com/apache/sling-org-apache-sling-tail",2,4]
[107434981,"apache","apache/sling-org-apache-sling-tenant","https://github.com/apache/sling-org-apache-sling-tenant",2,4]
[107435795,"apache","apache/sling-org-apache-sling-testing-hamcrest","https://github.com/apache/sling-org-apache-sling-testing-hamcrest",2,4]
[107435933,"apache","apache/sling-org-apache-sling-testing-osgi-mock","https://github.com/apache/sling-org-apache-sling-testing-osgi-mock",2,12]
[107434999,"apache","apache/sling-org-apache-sling-tracer","https://github.com/apache/sling-org-apache-sling-tracer",2,6]
[107435011,"apache","apache/sling-org-apache-sling-urlrewriter","https://github.com/apache/sling-org-apache-sling-urlrewriter",2,4]
[160821707,"apache","apache/sling-scriptingbundle-maven-plugin","https://github.com/apache/sling-scriptingbundle-maven-plugin",2,3]
[262085875,"apache","apache/sling-slingpackager","https://github.com/apache/sling-slingpackager",2,5]
[107436205,"apache","apache/sling-slingstart-archetype","https://github.com/apache/sling-slingstart-archetype",2,3]
[107436316,"apache","apache/sling-slingstart-maven-plugin","https://github.com/apache/sling-slingstart-maven-plugin",2,5]
[107436224,"apache","apache/sling-taglib-archetype","https://github.com/apache/sling-taglib-archetype",2,3]
[290920711,"apache","apache/tomee-site-pub","https://github.com/apache/tomee-site-pub",2,5]
[137140482,"apache","apache/turbine-archetypes","https://github.com/apache/turbine-archetypes",2,5]
[390002,"apache","apache/tuscany-das","https://github.com/apache/tuscany-das",2,7]
[15070659,"apache","apache/uima-build","https://github.com/apache/uima-build",2,5]
[530149939,"apache","apache/unomi-tracker","https://github.com/apache/unomi-tracker",2,0]
[75057500,"apache","apache/usergrid-qakka","https://github.com/apache/usergrid-qakka",2,4]
[246122351,"apache","apache/vcl-site","https://github.com/apache/vcl-site",2,3]
[218593083,"apache","apache/ws-neethi","https://github.com/apache/ws-neethi",2,4]
[181531927,"apache","apache/xalan-java","https://github.com/apache/xalan-java",2,12]
[290211203,"apache","apache/xmlgraphics-website","https://github.com/apache/xmlgraphics-website",2,2]
[84171575,"apache","apache/activemq-nms-ems","https://github.com/apache/activemq-nms-ems",1,5]
[84171582,"apache","apache/activemq-nms-zmq","https://github.com/apache/activemq-nms-zmq",1,5]
[252552494,"apache","apache/airavata-custos-portal","https://github.com/apache/airavata-custos-portal",1,10]
[286530790,"apache","apache/airavata-django-portal-sdk","https://github.com/apache/airavata-django-portal-sdk",1,3]
[31976261,"apache","apache/airavata-labs","https://github.com/apache/airavata-labs",1,3]
[252979883,"apache","apache/airavata-mft-portal","https://github.com/apache/airavata-mft-portal",1,6]
[20473416,"apache","apache/airavata-sandbox","https://github.com/apache/airavata-sandbox",1,23]
[324765744,"apache","apache/airflow-cancel-workflow-runs","https://github.com/apache/airflow-cancel-workflow-runs",1,2]
[324765939,"apache","apache/airflow-checks-action","https://github.com/apache/airflow-checks-action",1,2]
[324801594,"apache","apache/airflow-codecov-action","https://github.com/apache/airflow-codecov-action",1,2]
[324774630,"apache","apache/airflow-configure-aws-credentials","https://github.com/apache/airflow-configure-aws-credentials",1,2]
[404298497,"apache","apache/airflow-flask-openid-fork","https://github.com/apache/airflow-flask-openid-fork",1,2]
[324765598,"apache","apache/airflow-get-workflow-origin","https://github.com/apache/airflow-get-workflow-origin",1,2]
[324766139,"apache","apache/airflow-github-push-action","https://github.com/apache/airflow-github-push-action",1,2]
[324993832,"apache","apache/airflow-JamesIves-github-pages-deploy-action","https://github.com/apache/airflow-JamesIves-github-pages-deploy-action",1,2]
[324766406,"apache","apache/airflow-label-when-approved","https://github.com/apache/airflow-label-when-approved",1,2]
[277115802,"apache","apache/airflow-openldap","https://github.com/apache/airflow-openldap",1,3]
[276681643,"apache","apache/airflow-pgbouncer-exporter","https://github.com/apache/airflow-pgbouncer-exporter",1,4]
[324993105,"apache","apache/airflow-pre-commit-action","https://github.com/apache/airflow-pre-commit-action",1,2]
[309426446,"apache","apache/airflow-upgrade-check","https://github.com/apache/airflow-upgrade-check",1,0]
[166296070,"apache","apache/allura-site","https://github.com/apache/allura-site",1,3]
[212000801,"apache","apache/any23-plugins","https://github.com/apache/any23-plugins",1,2]
[221913032,"apache","apache/apache.github.io","https://github.com/apache/apache.github.io",1,5]
[215737963,"apache","apache/archiva-components","https://github.com/apache/archiva-components",1,1]
[163458480,"apache","apache/archiva-jenkins-lib","https://github.com/apache/archiva-jenkins-lib",1,2]
[130099712,"apache","apache/archiva-parent","https://github.com/apache/archiva-parent",1,4]
[4165633,"apache","apache/archiva-redback-components","https://github.com/apache/archiva-redback-components",1,6]
[128733241,"apache","apache/archiva-redback-components-expression-evaluator","https://github.com/apache/archiva-redback-components-expression-evaluator",1,2]
[128733302,"apache","apache/archiva-redback-components-modello-plugins","https://github.com/apache/archiva-redback-components-modello-plugins",1,2]
[128733067,"apache","apache/archiva-redback-components-parent","https://github.com/apache/archiva-redback-components-parent",1,2]
[128733365,"apache","apache/archiva-redback-components-redback-features","https://github.com/apache/archiva-redback-components-redback-features",1,2]
[128733115,"apache","apache/archiva-redback-components-site","https://github.com/apache/archiva-redback-components-site",1,2]
[128733428,"apache","apache/archiva-redback-components-spring-apacheds","https://github.com/apache/archiva-redback-components-spring-apacheds",1,2]
[128733475,"apache","apache/archiva-redback-components-spring-cache","https://github.com/apache/archiva-redback-components-spring-cache",1,2]
[128733515,"apache","apache/archiva-redback-components-spring-quartz","https://github.com/apache/archiva-redback-components-spring-quartz",1,2]
[128733560,"apache","apache/archiva-redback-components-spring-registry","https://github.com/apache/archiva-redback-components-spring-registry",1,2]
[128733613,"apache","apache/archiva-redback-components-spring-taskqueue","https://github.com/apache/archiva-redback-components-spring-taskqueue",1,2]
[128733662,"apache","apache/archiva-redback-components-spring-utils","https://github.com/apache/archiva-redback-components-spring-utils",1,2]
[157603703,"apache","apache/archiva-redback-site","https://github.com/apache/archiva-redback-site",1,2]
[18627124,"apache","apache/archiva-site","https://github.com/apache/archiva-site",1,6]
[155777962,"apache","apache/archiva-web-content","https://github.com/apache/archiva-web-content",1,3]
[288302391,"apache","apache/aries-antora","https://github.com/apache/aries-antora",1,3]
[288308042,"apache","apache/aries-antora-site","https://github.com/apache/aries-antora-site",1,2]
[288260865,"apache","apache/aries-antora-ui","https://github.com/apache/aries-antora-ui",1,3]
[194909233,"apache","apache/aries-site","https://github.com/apache/aries-site",1,3]
[288308245,"apache","apache/aries-site-pub","https://github.com/apache/aries-site-pub",1,3]
[378325202,"apache","apache/arrow-experimental-rs-parquet2","https://github.com/apache/arrow-experimental-rs-parquet2",1,3]
[438006639,"apache","apache/arrow-experiments","https://github.com/apache/arrow-experiments",1,0]
[188425210,"apache","apache/asf-infra-transfer-test","https://github.com/apache/asf-infra-transfer-test",1,0]
[67856353,"apache","apache/asterixdb-bad","https://github.com/apache/asterixdb-bad",1,4]
[496394827,"apache","apache/asterixdb-graph","https://github.com/apache/asterixdb-graph",1,0]
[60829649,"apache","apache/asterixdb-site","https://github.com/apache/asterixdb-site",1,4]
[131617146,"apache","apache/attic-test","https://github.com/apache/attic-test",1,2]
[169711283,"apache","apache/aurora-website","https://github.com/apache/aurora-website",1,4]
[248645839,"apache","apache/axis-axis1-c","https://github.com/apache/axis-axis1-c",1,2]
[248644200,"apache","apache/axis-axis2-c-rampart","https://github.com/apache/axis-axis2-c-rampart",1,2]
[248644342,"apache","apache/axis-axis2-c-sandesha","https://github.com/apache/axis-axis2-c-sandesha",1,3]
[248644424,"apache","apache/axis-axis2-c-savan","https://github.com/apache/axis-axis2-c-savan",1,2]
[248644821,"apache","apache/axis-axis2-java-kandula","https://github.com/apache/axis-axis2-java-kandula",1,2]
[248644876,"apache","apache/axis-axis2-java-rampart","https://github.com/apache/axis-axis2-java-rampart",1,3]
[248644936,"apache","apache/axis-axis2-java-sandesha","https://github.com/apache/axis-axis2-java-sandesha",1,2]
[248644989,"apache","apache/axis-axis2-java-savan","https://github.com/apache/axis-axis2-java-savan",1,2]
[248645056,"apache","apache/axis-axis2-java-transports","https://github.com/apache/axis-axis2-java-transports",1,2]
[324816366,"apache","apache/camel-install-jdk","https://github.com/apache/camel-install-jdk",1,0]
[376752223,"apache","apache/chemistry-site","https://github.com/apache/chemistry-site",1,2]
[165195797,"apache","apache/clerezza-contribs","https://github.com/apache/clerezza-contribs",1,3]
[334645793,"apache","apache/comdev-fosdem-content","https://github.com/apache/comdev-fosdem-content",1,6]
[334645649,"apache","apache/comdev-fosdem-static","https://github.com/apache/comdev-fosdem-static",1,3]
[183663809,"apache","apache/comdev-wwwsite","https://github.com/apache/comdev-wwwsite",1,4]
[70037030,"apache","apache/commons-el","https://github.com/apache/commons-el",1,0]
[130192373,"apache","apache/commons-signing","https://github.com/apache/commons-signing",1,4]
[118874357,"apache","apache/commons-testrepo","https://github.com/apache/commons-testrepo",1,0]
[122624656,"apache","apache/couchdb-erlang-bcrypt","https://github.com/apache/couchdb-erlang-bcrypt",1,2]
[228877727,"apache","apache/couchdb-escodegen","https://github.com/apache/couchdb-escodegen",1,2]
[228877666,"apache","apache/couchdb-esprima","https://github.com/apache/couchdb-esprima",1,2]
[67482179,"apache","apache/couchdb-fauxton-server","https://github.com/apache/couchdb-fauxton-server",1,0]
[168342323,"apache","apache/couchdb-hqueue","https://github.com/apache/couchdb-hqueue",1,6]
[135483238,"apache","apache/couchdb-hyper","https://github.com/apache/couchdb-hyper",1,5]
[227198066,"apache","apache/couchdb-infra-cm","https://github.com/apache/couchdb-infra-cm",1,2]
[222745438,"apache","apache/couchdb-jaeger-passage","https://github.com/apache/couchdb-jaeger-passage",1,2]
[222760958,"apache","apache/couchdb-local","https://github.com/apache/couchdb-local",1,2]
[222745263,"apache","apache/couchdb-passage","https://github.com/apache/couchdb-passage",1,2]
[237547093,"apache","apache/couchdb-recon","https://github.com/apache/couchdb-recon",1,2]
[222761439,"apache","apache/couchdb-thrift-protocol","https://github.com/apache/couchdb-thrift-protocol",1,2]
[128798624,"apache","apache/couchdb-triq","https://github.com/apache/couchdb-triq",1,3]
[67856354,"apache","apache/creadur-site","https://github.com/apache/creadur-site",1,2]
[372597919,"apache","apache/ctakes-site","https://github.com/apache/ctakes-site",1,2]
[425037307,"apache","apache/cxf-site","https://github.com/apache/cxf-site",1,3]
[421579254,"apache","apache/datasketches-experimentation","https://github.com/apache/datasketches-experimentation",1,2]
[318327240,"apache","apache/datasketches-server","https://github.com/apache/datasketches-server",1,2]
[448785095,"apache","apache/db-site","https://github.com/apache/db-site",1,1]
[6240219,"apache","apache/directmemory-lightning","https://github.com/apache/directmemory-lightning",1,6]
[470912362,"apache","apache/drill-test-framework","https://github.com/apache/drill-test-framework",1,2]
[222745263,"apache","apache/couchdb-passage","https://github.com/apache/couchdb-passage",1,2]
[237547093,"apache","apache/couchdb-recon","https://github.com/apache/couchdb-recon",1,2]
[222761439,"apache","apache/couchdb-thrift-protocol","https://github.com/apache/couchdb-thrift-protocol",1,2]
[128798624,"apache","apache/couchdb-triq","https://github.com/apache/couchdb-triq",1,3]
[67856354,"apache","apache/creadur-site","https://github.com/apache/creadur-site",1,2]
[372597919,"apache","apache/ctakes-site","https://github.com/apache/ctakes-site",1,2]
[425037307,"apache","apache/cxf-site","https://github.com/apache/cxf-site",1,3]
[421579254,"apache","apache/datasketches-experimentation","https://github.com/apache/datasketches-experimentation",1,2]
[318327240,"apache","apache/datasketches-server","https://github.com/apache/datasketches-server",1,2]
[448785095,"apache","apache/db-site","https://github.com/apache/db-site",1,1]
[6240219,"apache","apache/directmemory-lightning","https://github.com/apache/directmemory-lightning",1,6]
[470912362,"apache","apache/drill-test-framework","https://github.com/apache/drill-test-framework",1,2]
[243426196,"apache","apache/duo_unix","https://github.com/apache/duo_unix",1,2]
[325243863,"apache","apache/echarts-bar-racing","https://github.com/apache/echarts-bar-racing",1,3]
[364351955,"apache","apache/felix-antora","https://github.com/apache/felix-antora",1,2]
[364351791,"apache","apache/felix-antora-site","https://github.com/apache/felix-antora-site",1,7]
[364352167,"apache","apache/felix-antora-ui","https://github.com/apache/felix-antora-ui",1,2]
[113571674,"apache","apache/fineract-cn-async","https://github.com/apache/fineract-cn-async",1,109]
[113571479,"apache","apache/fineract-cn-cassandra","https://github.com/apache/fineract-cn-cassandra",1,109]
[113564280,"apache","apache/fineract-cn-cheques","https://github.com/apache/fineract-cn-cheques",1,109]
[113571902,"apache","apache/fineract-cn-data-jpa","https://github.com/apache/fineract-cn-data-jpa",1,106]
[113565842,"apache","apache/fineract-cn-default-setup","https://github.com/apache/fineract-cn-default-setup",1,107]
[138853293,"apache","apache/fineract-cn-docker-scripts","https://github.com/apache/fineract-cn-docker-scripts",1,0]
[138570912,"apache","apache/fineract-cn-group-finance","https://github.com/apache/fineract-cn-group-finance",1,72]
[374695592,"apache","apache/fineract-cn-mobile-wallet","https://github.com/apache/fineract-cn-mobile-wallet",1,4]
[113564641,"apache","apache/fineract-cn-permitted-feign-client","https://github.com/apache/fineract-cn-permitted-feign-client",1,109]
[158304247,"apache","apache/fineract-cn-postgresql","https://github.com/apache/fineract-cn-postgresql",1,58]
[113564470,"apache","apache/fineract-cn-rhythm","https://github.com/apache/fineract-cn-rhythm",1,115]
[113571740,"apache","apache/fineract-cn-service-starter","https://github.com/apache/fineract-cn-service-starter",1,107]
[105113410,"apache","apache/flex-falcon","https://github.com/apache/flex-falcon",1,0]
[164569122,"apache","apache/flex-radii8","https://github.com/apache/flex-radii8",1,4]
[164572068,"apache","apache/flex-site-ng","https://github.com/apache/flex-site-ng",1,4]
[105113412,"apache","apache/flex-tourjs","https://github.com/apache/flex-tourjs",1,0]
[105113413,"apache","apache/flex-typedefs","https://github.com/apache/flex-typedefs",1,0]
[518501680,"apache","apache/flink-connector-dynamodb","https://github.com/apache/flink-connector-dynamodb",1,5]
[289783852,"apache","apache/flume-site","https://github.com/apache/flume-site",1,3]
[354941344,"apache","apache/fundraising-site","https://github.com/apache/fundraising-site",1,4]
[158444121,"apache","apache/gb-test","https://github.com/apache/gb-test",1,2]
[140250118,"apache","apache/geronimo-health","https://github.com/apache/geronimo-health",1,3]
[126024740,"apache","apache/geronimo-jcache-simple","https://github.com/apache/geronimo-jcache-simple",1,5]
[141831152,"apache","apache/geronimo-microprofile","https://github.com/apache/geronimo-microprofile",1,4]
[102083572,"apache","apache/geronimo-website","https://github.com/apache/geronimo-website",1,3]
[97916754,"apache","apache/gobblin-site","https://github.com/apache/gobblin-site",1,4]
[372598181,"apache","apache/gora-site","https://github.com/apache/gora-site",1,2]
[89207807,"apache","apache/groovy-dev-site","https://github.com/apache/groovy-dev-site",1,5]
[89207813,"apache","apache/groovy-user-site","https://github.com/apache/groovy-user-site",1,3]
[162138091,"apache","apache/ignite-abbrev-plugin","https://github.com/apache/ignite-abbrev-plugin",1,2]
[314308043,"apache","apache/ignite-php-thin-client","https://github.com/apache/ignite-php-thin-client",1,2]
[121604136,"apache","apache/ignite-release","https://github.com/apache/ignite-release",1,9]
[259491014,"apache","apache/impala-udf-samples","https://github.com/apache/impala-udf-samples",1,0]
[26992727,"apache","apache/incubator-argus","https://github.com/apache/incubator-argus",1,0]
[78616136,"apache","apache/incubator-ariatosca-website","https://github.com/apache/incubator-ariatosca-website",1,5]
[90713121,"apache","apache/incubator-carbondata-site","https://github.com/apache/incubator-carbondata-site",1,0]
[77514515,"apache","apache/incubator-eagle","https://github.com/apache/incubator-eagle",1,0]
[51501352,"apache","apache/incubator-guacamole","https://github.com/apache/incubator-guacamole",1,0]
[70565333,"apache","apache/incubator-incubator-mynewt-pkg-bsp","https://github.com/apache/incubator-incubator-mynewt-pkg-bsp",1,2]
[70565334,"apache","apache/incubator-incubator-mynewt-pkg-pkg","https://github.com/apache/incubator-incubator-mynewt-pkg-pkg",1,2]
[70565335,"apache","apache/incubator-incubator-mynewt-pkg-sdk","https://github.com/apache/incubator-incubator-mynewt-pkg-sdk",1,3]
[41195259,"apache","apache/incubator-lens","https://github.com/apache/incubator-lens",1,0]
[59182003,"apache","apache/incubator-milagro-mfa-sdk-core","https://github.com/apache/incubator-milagro-mfa-sdk-core",1,2]
[59182005,"apache","apache/incubator-milagro-mfa-sdk-wp","https://github.com/apache/incubator-milagro-mfa-sdk-wp",1,3]
[112444994,"apache","apache/incubator-mnemonic","https://github.com/apache/incubator-mnemonic",1,0]
[95859073,"apache","apache/incubator-mynewt-documentation","https://github.com/apache/incubator-mynewt-documentation",1,0]
[117584862,"apache","apache/incubator-odftoolkit-site","https://github.com/apache/incubator-odftoolkit-site",1,2]
[17971136,"apache","apache/incubator-olingo-odata3-js","https://github.com/apache/incubator-olingo-odata3-js",1,0]
[70726504,"apache","apache/incubator-pagespeed-icu","https://github.com/apache/incubator-pagespeed-icu",1,4]
[186967081,"apache","apache/incubator-pagespeed-website","https://github.com/apache/incubator-pagespeed-website",1,3]
[70726738,"apache","apache/incubator-pagespeed-zlib","https://github.com/apache/incubator-pagespeed-zlib",1,4]
[34439420,"apache","apache/incubator-parquet-cpp","https://github.com/apache/incubator-parquet-cpp",1,0]
[34439421,"apache","apache/incubator-parquet-format","https://github.com/apache/incubator-parquet-format",1,0]
[34439422,"apache","apache/incubator-parquet-mr","https://github.com/apache/incubator-parquet-mr",1,0]
[286714762,"apache","apache/incubator-ponymail-unit-tests","https://github.com/apache/incubator-ponymail-unit-tests",1,2]
[104221377,"apache","apache/incubator-retired-amaterasu-site","https://github.com/apache/incubator-retired-amaterasu-site",1,2]
[167557868,"apache","apache/incubator-retired-cmda","https://github.com/apache/incubator-retired-cmda",1,3]
[51194606,"apache","apache/incubator-retired-iota-site","https://github.com/apache/incubator-retired-iota-site",1,3]
[56214718,"apache","apache/incubator-retired-quickstep-site","https://github.com/apache/incubator-retired-quickstep-site",1,6]
[108511085,"apache","apache/incubator-sdap-doms","https://github.com/apache/incubator-sdap-doms",1,0]
[116926787,"apache","apache/incubator-sdap-nexusproto","https://github.com/apache/incubator-sdap-nexusproto",1,9]
[116926793,"apache","apache/incubator-sdap-ningesterpy","https://github.com/apache/incubator-sdap-ningesterpy",1,9]
[99313648,"apache","apache/incubator-streams","https://github.com/apache/incubator-streams",1,0]
[99313645,"apache","apache/incubator-streams-examples","https://github.com/apache/incubator-streams-examples",1,0]
[99313647,"apache","apache/incubator-streams-master","https://github.com/apache/incubator-streams-master",1,0]
[528690775,"apache","apache/incubator-uniffle-website","https://github.com/apache/incubator-uniffle-website",1,4]
[137063534,"apache","apache/incubator-warble-node","https://github.com/apache/incubator-warble-node",1,3]
[137362967,"apache","apache/incubator-warble-server","https://github.com/apache/incubator-warble-server",1,2]
[136952961,"apache","apache/incubator-warble-website","https://github.com/apache/incubator-warble-website",1,2]
[511089569,"apache","apache/infrastructure-asfbot","https://github.com/apache/infrastructure-asfbot",1,0]
[519524433,"apache","apache/infrastructure-asfpy","https://github.com/apache/infrastructure-asfpy",1,0]
[178082083,"apache","apache/infrastructure-blocky","https://github.com/apache/infrastructure-blocky",1,4]
[272605939,"apache","apache/infrastructure-blocky-client","https://github.com/apache/infrastructure-blocky-client",1,2]
[391923020,"apache","apache/infrastructure-blocky4","https://github.com/apache/infrastructure-blocky4",1,1]
[295955216,"apache","apache/infrastructure-boxer","https://github.com/apache/infrastructure-boxer",1,4]
[198379242,"apache","apache/infrastructure-ci-specs","https://github.com/apache/infrastructure-ci-specs",1,2]
[68083270,"apache","apache/infrastructure-docker","https://github.com/apache/infrastructure-docker",1,0]
[275399630,"apache","apache/infrastructure-flup-auth","https://github.com/apache/infrastructure-flup-auth",1,2]
[87563783,"apache","apache/infrastructure-gbtest2","https://github.com/apache/infrastructure-gbtest2",1,0]
[87564108,"apache","apache/infrastructure-gbtest3","https://github.com/apache/infrastructure-gbtest3",1,0]
[275331827,"apache","apache/infrastructure-gitbox-reposyncer","https://github.com/apache/infrastructure-gitbox-reposyncer",1,2]
[74651516,"apache","apache/infrastructure-gitbox-test","https://github.com/apache/infrastructure-gitbox-test",1,2]
[87564524,"apache","apache/infrastructure-gnomemon","https://github.com/apache/infrastructure-gnomemon",1,0]
[272912745,"apache","apache/infrastructure-loggy","https://github.com/apache/infrastructure-loggy",1,2]
[283710380,"apache","apache/infrastructure-mailstats","https://github.com/apache/infrastructure-mailstats",1,3]
[74950516,"apache","apache/infrastructure-mergebot-test","https://github.com/apache/infrastructure-mergebot-test",1,3]
[87565660,"apache","apache/infrastructure-newrepo","https://github.com/apache/infrastructure-newrepo",1,0]
[339365969,"apache","apache/infrastructure-occ","https://github.com/apache/infrastructure-occ",1,3]
[180196939,"apache","apache/infrastructure-oraclejava","https://github.com/apache/infrastructure-oraclejava",1,2]
[46331778,"apache","apache/infrastructure-packer","https://github.com/apache/infrastructure-packer",1,5]
[288718168,"apache","apache/infrastructure-quota-agent","https://github.com/apache/infrastructure-quota-agent",1,2]
[323703374,"apache","apache/infrastructure-reftest","https://github.com/apache/infrastructure-reftest",1,2]
[187534456,"apache","apache/infrastructure-relaytest","https://github.com/apache/infrastructure-relaytest",1,3]
[336341630,"apache","apache/infrastructure-roundtrip","https://github.com/apache/infrastructure-roundtrip",1,2]
[346935641,"apache","apache/infrastructure-svnauthz","https://github.com/apache/infrastructure-svnauthz",1,1]
[272255559,"apache","apache/infrastructure-testapp","https://github.com/apache/infrastructure-testapp",1,2]
[411338288,"apache","apache/infrastructure-testy3","https://github.com/apache/infrastructure-testy3",1,2]
[290713970,"apache","apache/infrastructure-uninstaller","https://github.com/apache/infrastructure-uninstaller",1,2]
[189618844,"apache","apache/infratest","https://github.com/apache/infratest",1,0]
[195792289,"apache","apache/isis-antora","https://github.com/apache/isis-antora",1,5]
[237494451,"apache","apache/isis-app-kitchensink","https://github.com/apache/isis-app-kitchensink",1,0]
[237492756,"apache","apache/isis-app-neoapp","https://github.com/apache/isis-app-neoapp",1,0]
[235596469,"apache","apache/isis-app-todoapp","https://github.com/apache/isis-app-todoapp",1,0]
[167167171,"apache","apache/isis-site","https://github.com/apache/isis-site",1,3]
[414474901,"apache","apache/jackrabbit-filevault-jenkins-lib","https://github.com/apache/jackrabbit-filevault-jenkins-lib",1,2]
[164282102,"apache","apache/jclouds-chef","https://github.com/apache/jclouds-chef",1,3]
[164282066,"apache","apache/jclouds-labs-google","https://github.com/apache/jclouds-labs-google",1,3]
[540449111,"apache","apache/jmeter-bugzilla-attachments","https://github.com/apache/jmeter-bugzilla-attachments",1,0]
[166715882,"apache","apache/joshua-site","https://github.com/apache/joshua-site",1,3]
[78828253,"apache","apache/jspwiki-asf-docs","https://github.com/apache/jspwiki-asf-docs",1,3]
[517148921,"apache","apache/juddi-scout","https://github.com/apache/juddi-scout",1,0]
[107861331,"apache","apache/karaf-reactive-components","https://github.com/apache/karaf-reactive-components",1,2]
[88242110,"apache","apache/log4cxx","https://github.com/apache/log4cxx",1,0]
[291556001,"apache","apache/logging-chainsaw-site","https://github.com/apache/logging-chainsaw-site",1,2]
[291554543,"apache","apache/logging-log4cxx-site","https://github.com/apache/logging-log4cxx-site",1,3]
[291554597,"apache","apache/logging-log4j-audit-site","https://github.com/apache/logging-log4j-audit-site",1,2]
[291552122,"apache","apache/logging-log4j-site","https://github.com/apache/logging-log4j-site",1,4]
[291554761,"apache","apache/logging-log4php-site","https://github.com/apache/logging-log4php-site",1,2]
[280929266,"apache","apache/logging-pipelines","https://github.com/apache/logging-pipelines",1,2]
[508622790,"apache","apache/lucene-jira-archive","https://github.com/apache/lucene-jira-archive",1,7]
[126745141,"apache","apache/manifoldcf-integration-elasticsearch","https://github.com/apache/manifoldcf-integration-elasticsearch",1,5]
[126746079,"apache","apache/manifoldcf-integration-elasticsearch-1.5","https://github.com/apache/manifoldcf-integration-elasticsearch-1.5",1,3]
[126746235,"apache","apache/manifoldcf-integration-elasticsearch-2.0","https://github.com/apache/manifoldcf-integration-elasticsearch-2.0",1,3]
[126746485,"apache","apache/manifoldcf-integration-elasticsearch-5.5","https://github.com/apache/manifoldcf-integration-elasticsearch-5.5",1,3]
[126746622,"apache","apache/manifoldcf-integration-sharepoint-2013","https://github.com/apache/manifoldcf-integration-sharepoint-2013",1,2]
[126746709,"apache","apache/manifoldcf-integration-sharepoint-2016","https://github.com/apache/manifoldcf-integration-sharepoint-2016",1,2]
[11943598,"apache","apache/manifoldcf-integration-solr-3.x","https://github.com/apache/manifoldcf-integration-solr-3.x",1,5]
[126746808,"apache","apache/manifoldcf-integration-solr-5.x","https://github.com/apache/manifoldcf-integration-solr-5.x",1,3]
[126746903,"apache","apache/manifoldcf-integration-solr-6.x","https://github.com/apache/manifoldcf-integration-solr-6.x",1,3]
[235750221,"apache","apache/maven-doxia-book-maven-plugin","https://github.com/apache/maven-doxia-book-maven-plugin",1,5]
[235750110,"apache","apache/maven-doxia-book-renderer","https://github.com/apache/maven-doxia-book-renderer",1,6]
[109480544,"apache","apache/maven-doxia-converter","https://github.com/apache/maven-doxia-converter",1,6]
[115850851,"apache","apache/maven-doxia-ide","https://github.com/apache/maven-doxia-ide",1,3]
[262658423,"apache","apache/maven-metric-extension","https://github.com/apache/maven-metric-extension",1,0]
[113678791,"apache","apache/maven-repository-plugin","https://github.com/apache/maven-repository-plugin",1,7]
[285807853,"apache","apache/myfaces-homepage","https://github.com/apache/myfaces-homepage",1,8]
[131949386,"apache","apache/myfaces-test","https://github.com/apache/myfaces-test",1,3]
[191798136,"apache","apache/mynewt-artifact","https://github.com/apache/mynewt-artifact",1,6]
[185791588,"apache","apache/netbeans-mavenutils-nbm-maven-harness","https://github.com/apache/netbeans-mavenutils-nbm-maven-harness",1,7]
[185790907,"apache","apache/netbeans-webskin","https://github.com/apache/netbeans-webskin",1,4]
[295999741,"apache","apache/nutch-site","https://github.com/apache/nutch-site",1,2]
[161387368,"apache","apache/olingo-odata3-js","https://github.com/apache/olingo-odata3-js",1,2]
[372598409,"apache","apache/olingo-site","https://github.com/apache/olingo-site",1,2]
[372600249,"apache","apache/oozie-site","https://github.com/apache/oozie-site",1,2]
[372598607,"apache","apache/openjpa-site","https://github.com/apache/openjpa-site",1,3]
[97727686,"apache","apache/opennlp-corpus","https://github.com/apache/opennlp-corpus",1,0]
[428641477,"apache","apache/openoffice-externals","https://github.com/apache/openoffice-externals",1,0]
[291736342,"apache","apache/openwebbeans-peeco","https://github.com/apache/openwebbeans-peeco",1,4]
[372598856,"apache","apache/openwebbeans-site","https://github.com/apache/openwebbeans-site",1,2]
[60270264,"apache","apache/openwhisk-package-jira","https://github.com/apache/openwhisk-package-jira",1,5]
[176558193,"apache","apache/openwhisk-pluggable-provider","https://github.com/apache/openwhisk-pluggable-provider",1,4]
[54727847,"apache","apache/openwhisk-podspecs","https://github.com/apache/openwhisk-podspecs",1,5]
[92440975,"apache","apache/openwhisk-selfserve-test","https://github.com/apache/openwhisk-selfserve-test",1,3]
[313376570,"apache","apache/ozone-docker-builder","https://github.com/apache/ozone-docker-builder",1,4]
[166161252,"apache","apache/phoenix-omid-site","https://github.com/apache/phoenix-omid-site",1,4]
[250043917,"apache","apache/pinot-docs","https://github.com/apache/pinot-docs",1,0]
[159430274,"apache","apache/pinot-private","https://github.com/apache/pinot-private",1,0]
[385678352,"apache","apache/poi-site","https://github.com/apache/poi-site",1,0]
[385686019,"apache","apache/poi-xmlbeans-site","https://github.com/apache/poi-xmlbeans-site",1,0]
[77731227,"apache","apache/polygene-website","https://github.com/apache/polygene-website",1,2]
[205920476,"apache","apache/puppet-backuppc","https://github.com/apache/puppet-backuppc",1,2]
[133554466,"apache","apache/puppet-datadog-agent","https://github.com/apache/puppet-datadog-agent",1,3]
[198434328,"apache","apache/puppet-etherpad_lite","https://github.com/apache/puppet-etherpad_lite",1,2]
[171273727,"apache","apache/puppet-fail2ban","https://github.com/apache/puppet-fail2ban",1,3]
[259114869,"apache","apache/puppet-module-ssh","https://github.com/apache/puppet-module-ssh",1,3]
[171273261,"apache","apache/puppet-postfix","https://github.com/apache/puppet-postfix",1,4]
[97683571,"apache","apache/qpid-site","https://github.com/apache/qpid-site",1,10]
[337340167,"apache","apache/river-ldj-tests","https://github.com/apache/river-ldj-tests",1,0]
[372599054,"apache","apache/river-site","https://github.com/apache/river-site",1,2]
[174304728,"apache","apache/rocketmq-v6","https://github.com/apache/rocketmq-v6",1,3]
[67330478,"apache","apache/roller-website","https://github.com/apache/roller-website",1,5]
[297748704,"apache","apache/royale-ds","https://github.com/apache/royale-ds",1,0]
[361218030,"apache","apache/royale-official-site","https://github.com/apache/royale-official-site",1,0]
[2200732,"apache","apache/sandesha","https://github.com/apache/sandesha",1,3]
[80809057,"apache","apache/servicemix-features","https://github.com/apache/servicemix-features",1,4]
[225199,"apache","apache/servicemix-pom","https://github.com/apache/servicemix-pom",1,4]
[31976270,"apache","apache/servicemix-specs","https://github.com/apache/servicemix-specs",1,25]
[107436087,"apache","apache/sling-apache-sling-jar-resource-bundle","https://github.com/apache/sling-apache-sling-jar-resource-bundle",1,4]
[264904349,"apache","apache/sling-content-package-archetype","https://github.com/apache/sling-content-package-archetype",1,2]
[202700338,"apache","apache/sling-feature-converter-maven-plugin","https://github.com/apache/sling-feature-converter-maven-plugin",1,3]
[275844724,"apache","apache/sling-feature-launcher-maven-plugin","https://github.com/apache/sling-feature-launcher-maven-plugin",1,3]
[107436103,"apache","apache/sling-jcrinstall-bundle-archetype","https://github.com/apache/sling-jcrinstall-bundle-archetype",1,3]
[240235826,"apache","apache/sling-kickstart-maven-plugin","https://github.com/apache/sling-kickstart-maven-plugin",1,2]
[107436329,"apache","apache/sling-launchpad-comparator","https://github.com/apache/sling-launchpad-comparator",1,3]
[107435082,"apache","apache/sling-launchpad-debian","https://github.com/apache/sling-launchpad-debian",1,3]
[107436148,"apache","apache/sling-launchpad-standalone-archetype","https://github.com/apache/sling-launchpad-standalone-archetype",1,3]
[107436165,"apache","apache/sling-launchpad-webapp-archetype","https://github.com/apache/sling-launchpad-webapp-archetype",1,3]
[107436256,"apache","apache/sling-maven-jcrocm-plugin","https://github.com/apache/sling-maven-jcrocm-plugin",1,3]
[301779997,"apache","apache/sling-org-apache-sling-adapter-annotations","https://github.com/apache/sling-org-apache-sling-adapter-annotations",1,4]
[301780174,"apache","apache/sling-org-apache-sling-adapter-annotations-it","https://github.com/apache/sling-org-apache-sling-adapter-annotations-it",1,3]
[107434212,"apache","apache/sling-org-apache-sling-auth-xing-api","https://github.com/apache/sling-org-apache-sling-auth-xing-api",1,4]
[107434225,"apache","apache/sling-org-apache-sling-auth-xing-login","https://github.com/apache/sling-org-apache-sling-auth-xing-login",1,4]
[107434242,"apache","apache/sling-org-apache-sling-auth-xing-oauth","https://github.com/apache/sling-org-apache-sling-auth-xing-oauth",1,4]
[207756617,"apache","apache/sling-org-apache-sling-bnd-plugin-headers-parameters-remove","https://github.com/apache/sling-org-apache-sling-bnd-plugin-headers-parameters-remove",1,2]
[166871211,"apache","apache/sling-org-apache-sling-bnd-plugins","https://github.com/apache/sling-org-apache-sling-bnd-plugins",1,3]
[107433009,"apache","apache/sling-org-apache-sling-bundleresource-impl","https://github.com/apache/sling-org-apache-sling-bundleresource-impl",1,4]
[107433027,"apache","apache/sling-org-apache-sling-caconfig-impl","https://github.com/apache/sling-org-apache-sling-caconfig-impl",1,6]
[107433033,"apache","apache/sling-org-apache-sling-caconfig-integration-tests","https://github.com/apache/sling-org-apache-sling-caconfig-integration-tests",1,3]
[107433045,"apache","apache/sling-org-apache-sling-caconfig-spi","https://github.com/apache/sling-org-apache-sling-caconfig-spi",1,3]
[138165966,"apache","apache/sling-org-apache-sling-capabilities","https://github.com/apache/sling-org-apache-sling-capabilities",1,3]
[153622154,"apache","apache/sling-org-apache-sling-capabilities-jcr","https://github.com/apache/sling-org-apache-sling-capabilities-jcr",1,3]
[181710379,"apache","apache/sling-org-apache-sling-committer-cli","https://github.com/apache/sling-org-apache-sling-committer-cli",1,2]
[107434422,"apache","apache/sling-org-apache-sling-commons-cache-api","https://github.com/apache/sling-org-apache-sling-commons-cache-api",1,4]
[107434435,"apache","apache/sling-org-apache-sling-commons-cache-container-test","https://github.com/apache/sling-org-apache-sling-commons-cache-container-test",1,4]
[107434447,"apache","apache/sling-org-apache-sling-commons-cache-ehcache","https://github.com/apache/sling-org-apache-sling-commons-cache-ehcache",1,4]
[107434481,"apache","apache/sling-org-apache-sling-commons-cache-portal","https://github.com/apache/sling-org-apache-sling-commons-cache-portal",1,3]
[107432730,"apache","apache/sling-org-apache-sling-commons-compiler","https://github.com/apache/sling-org-apache-sling-commons-compiler",1,4]
[287768329,"apache","apache/sling-org-apache-sling-commons-content-analyzing","https://github.com/apache/sling-org-apache-sling-commons-content-analyzing",1,2]
[287768459,"apache","apache/sling-org-apache-sling-commons-content-processing","https://github.com/apache/sling-org-apache-sling-commons-content-processing",1,2]
[107432768,"apache","apache/sling-org-apache-sling-commons-contentdetection","https://github.com/apache/sling-org-apache-sling-commons-contentdetection",1,4]
[226175423,"apache","apache/sling-org-apache-sling-commons-crypto","https://github.com/apache/sling-org-apache-sling-commons-crypto",1,3]
[107432784,"apache","apache/sling-org-apache-sling-commons-fsclassloader","https://github.com/apache/sling-org-apache-sling-commons-fsclassloader",1,4]
[107434265,"apache","apache/sling-org-apache-sling-commons-html","https://github.com/apache/sling-org-apache-sling-commons-html",1,4]
[145762503,"apache","apache/sling-org-apache-sling-commons-jcr-file","https://github.com/apache/sling-org-apache-sling-commons-jcr-file",1,3]
[107432789,"apache","apache/sling-org-apache-sling-commons-johnzon","https://github.com/apache/sling-org-apache-sling-commons-johnzon",1,4]
[107432816,"apache","apache/sling-org-apache-sling-commons-logservice","https://github.com/apache/sling-org-apache-sling-commons-logservice",1,4]
[107432880,"apache","apache/sling-org-apache-sling-commons-messaging-mail","https://github.com/apache/sling-org-apache-sling-commons-messaging-mail",1,4]
[107432853,"apache","apache/sling-org-apache-sling-commons-metrics-rrd4j","https://github.com/apache/sling-org-apache-sling-commons-metrics-rrd4j",1,6]
[107432862,"apache","apache/sling-org-apache-sling-commons-mime","https://github.com/apache/sling-org-apache-sling-commons-mime",1,5]
[107432914,"apache","apache/sling-org-apache-sling-commons-osgi","https://github.com/apache/sling-org-apache-sling-commons-osgi",1,5]
[111731345,"apache","apache/sling-org-apache-sling-commons-testing","https://github.com/apache/sling-org-apache-sling-commons-testing",1,4]
[192721040,"apache","apache/sling-org-apache-sling-connection-timeout-agent","https://github.com/apache/sling-org-apache-sling-connection-timeout-agent",1,3]
[198176007,"apache","apache/sling-org-apache-sling-contentparser-api","https://github.com/apache/sling-org-apache-sling-contentparser-api",1,2]
[198176233,"apache","apache/sling-org-apache-sling-contentparser-json","https://github.com/apache/sling-org-apache-sling-contentparser-json",1,2]
[198188071,"apache","apache/sling-org-apache-sling-contentparser-testutils","https://github.com/apache/sling-org-apache-sling-contentparser-testutils",1,2]
[198176344,"apache","apache/sling-org-apache-sling-contentparser-xml","https://github.com/apache/sling-org-apache-sling-contentparser-xml",1,2]
[198176534,"apache","apache/sling-org-apache-sling-contentparser-xml-jcr","https://github.com/apache/sling-org-apache-sling-contentparser-xml-jcr",1,2]
[107434382,"apache","apache/sling-org-apache-sling-crankstart-test-model","https://github.com/apache/sling-org-apache-sling-crankstart-test-model",1,3]
[107434396,"apache","apache/sling-org-apache-sling-crankstart-test-services","https://github.com/apache/sling-org-apache-sling-crankstart-test-services",1,3]
[107433087,"apache","apache/sling-org-apache-sling-discovery-api","https://github.com/apache/sling-org-apache-sling-discovery-api",1,4]
[107433118,"apache","apache/sling-org-apache-sling-discovery-commons","https://github.com/apache/sling-org-apache-sling-discovery-commons",1,7]
[107433131,"apache","apache/sling-org-apache-sling-discovery-impl","https://github.com/apache/sling-org-apache-sling-discovery-impl",1,4]
[107433139,"apache","apache/sling-org-apache-sling-discovery-oak","https://github.com/apache/sling-org-apache-sling-discovery-oak",1,4]
[107433154,"apache","apache/sling-org-apache-sling-discovery-standalone","https://github.com/apache/sling-org-apache-sling-discovery-standalone",1,3]
[107433174,"apache","apache/sling-org-apache-sling-discovery-support","https://github.com/apache/sling-org-apache-sling-discovery-support",1,5]
[107434556,"apache","apache/sling-org-apache-sling-distribution-api","https://github.com/apache/sling-org-apache-sling-distribution-api",1,8]
[107434574,"apache","apache/sling-org-apache-sling-distribution-avro-serializer","https://github.com/apache/sling-org-apache-sling-distribution-avro-serializer",1,3]
[107434610,"apache","apache/sling-org-apache-sling-distribution-it","https://github.com/apache/sling-org-apache-sling-distribution-it",1,4]
[181680613,"apache","apache/sling-org-apache-sling-distribution-journal-it","https://github.com/apache/sling-org-apache-sling-distribution-journal-it",1,5]
[181680494,"apache","apache/sling-org-apache-sling-distribution-journal-kafka","https://github.com/apache/sling-org-apache-sling-distribution-journal-kafka",1,6]
[107434621,"apache","apache/sling-org-apache-sling-distribution-kryo-serializer","https://github.com/apache/sling-org-apache-sling-distribution-kryo-serializer",1,3]
[107433187,"apache","apache/sling-org-apache-sling-event-api","https://github.com/apache/sling-org-apache-sling-event-api",1,5]
[107433064,"apache","apache/sling-org-apache-sling-event-dea","https://github.com/apache/sling-org-apache-sling-event-dea",1,3]
[107434741,"apache","apache/sling-org-apache-sling-extensions-logback-groovy-fragment","https://github.com/apache/sling-org-apache-sling-extensions-logback-groovy-fragment",1,3]
[107434882,"apache","apache/sling-org-apache-sling-extensions-slf4j-mdc","https://github.com/apache/sling-org-apache-sling-extensions-slf4j-mdc",1,4]
[107433602,"apache","apache/sling-org-apache-sling-extensions-webconsolesecurityprovider","https://github.com/apache/sling-org-apache-sling-extensions-webconsolesecurityprovider",1,4]
[131209056,"apache","apache/sling-org-apache-sling-feature-analyser","https://github.com/apache/sling-org-apache-sling-feature-analyser",1,10]
[180580122,"apache","apache/sling-org-apache-sling-feature-apiregions-model","https://github.com/apache/sling-org-apache-sling-feature-apiregions-model",1,3]
[131209277,"apache","apache/sling-org-apache-sling-feature-applicationbuilder","https://github.com/apache/sling-org-apache-sling-feature-applicationbuilder",1,3]
[194118528,"apache","apache/sling-org-apache-sling-feature-diff","https://github.com/apache/sling-org-apache-sling-feature-diff",1,2]
[156534693,"apache","apache/sling-org-apache-sling-feature-extension-apiregions","https://github.com/apache/sling-org-apache-sling-feature-extension-apiregions",1,13]
[290769621,"apache","apache/sling-org-apache-sling-feature-extension-unpack","https://github.com/apache/sling-org-apache-sling-feature-extension-unpack",1,5]
[157192211,"apache","apache/sling-org-apache-sling-feature-inventoryprinter","https://github.com/apache/sling-org-apache-sling-feature-inventoryprinter",1,4]
[131209340,"apache","apache/sling-org-apache-sling-feature-io","https://github.com/apache/sling-org-apache-sling-feature-io",1,8]
[131209479,"apache","apache/sling-org-apache-sling-feature-modelconverter","https://github.com/apache/sling-org-apache-sling-feature-modelconverter",1,4]
[194118643,"apache","apache/sling-org-apache-sling-feature-r2f","https://github.com/apache/sling-org-apache-sling-feature-r2f",1,2]
[131209500,"apache","apache/sling-org-apache-sling-feature-resolver","https://github.com/apache/sling-org-apache-sling-feature-resolver",1,4]
[139611124,"apache","apache/sling-org-apache-sling-file-optimization","https://github.com/apache/sling-org-apache-sling-file-optimization",1,3]
[107433226,"apache","apache/sling-org-apache-sling-fragment-activation","https://github.com/apache/sling-org-apache-sling-fragment-activation",1,3]
[107435195,"apache","apache/sling-org-apache-sling-fragment-nashorn","https://github.com/apache/sling-org-apache-sling-fragment-nashorn",1,3]
[107433237,"apache","apache/sling-org-apache-sling-fragment-transaction","https://github.com/apache/sling-org-apache-sling-fragment-transaction",1,3]
[107433251,"apache","apache/sling-org-apache-sling-fragment-ws","https://github.com/apache/sling-org-apache-sling-fragment-ws",1,3]
[107433256,"apache","apache/sling-org-apache-sling-fragment-xml","https://github.com/apache/sling-org-apache-sling-fragment-xml",1,3]
[386338900,"apache","apache/sling-org-apache-sling-graphql-schema-aggregator","https://github.com/apache/sling-org-apache-sling-graphql-schema-aggregator",1,3]
[107434690,"apache","apache/sling-org-apache-sling-hapi-samplecontent","https://github.com/apache/sling-org-apache-sling-hapi-samplecontent",1,3]
[107433277,"apache","apache/sling-org-apache-sling-hc-annotations","https://github.com/apache/sling-org-apache-sling-hc-annotations",1,3]
[107433286,"apache","apache/sling-org-apache-sling-hc-api","https://github.com/apache/sling-org-apache-sling-hc-api",1,4]
[107433334,"apache","apache/sling-org-apache-sling-hc-junit-bridge","https://github.com/apache/sling-org-apache-sling-hc-junit-bridge",1,3]
[107433346,"apache","apache/sling-org-apache-sling-hc-support","https://github.com/apache/sling-org-apache-sling-hc-support",1,4]
[107433355,"apache","apache/sling-org-apache-sling-hc-webconsole","https://github.com/apache/sling-org-apache-sling-hc-webconsole",1,3]
[107435309,"apache","apache/sling-org-apache-sling-installer-console","https://github.com/apache/sling-org-apache-sling-installer-console",1,3]
[107435352,"apache","apache/sling-org-apache-sling-installer-factory-deploymentpackage","https://github.com/apache/sling-org-apache-sling-installer-factory-deploymentpackage",1,3]
[259884486,"apache","apache/sling-org-apache-sling-installer-factory-feature","https://github.com/apache/sling-org-apache-sling-installer-factory-feature",1,4]
[107435369,"apache","apache/sling-org-apache-sling-installer-factory-model","https://github.com/apache/sling-org-apache-sling-installer-factory-model",1,3]
[107435379,"apache","apache/sling-org-apache-sling-installer-factory-packages","https://github.com/apache/sling-org-apache-sling-installer-factory-packages",1,3]
[107435399,"apache","apache/sling-org-apache-sling-installer-factory-subsystems-base","https://github.com/apache/sling-org-apache-sling-installer-factory-subsystems-base",1,3]
[107433645,"apache","apache/sling-org-apache-sling-jcr-base","https://github.com/apache/sling-org-apache-sling-jcr-base",1,6]
[107433670,"apache","apache/sling-org-apache-sling-jcr-contentloader","https://github.com/apache/sling-org-apache-sling-jcr-contentloader",1,7]
[107433693,"apache","apache/sling-org-apache-sling-jcr-contentparser","https://github.com/apache/sling-org-apache-sling-jcr-contentparser",1,5]
[145762522,"apache","apache/sling-org-apache-sling-jcr-filetransfer","https://github.com/apache/sling-org-apache-sling-jcr-filetransfer",1,3]
[107433743,"apache","apache/sling-org-apache-sling-jcr-jackrabbit-base","https://github.com/apache/sling-org-apache-sling-jcr-jackrabbit-base",1,4]
[107433771,"apache","apache/sling-org-apache-sling-jcr-jcr-wrapper","https://github.com/apache/sling-org-apache-sling-jcr-jcr-wrapper",1,3]
[107435033,"apache","apache/sling-org-apache-sling-jcr-js-nodetypes","https://github.com/apache/sling-org-apache-sling-jcr-js-nodetypes",1,3]
[151272891,"apache","apache/sling-org-apache-sling-jcr-packageinit","https://github.com/apache/sling-org-apache-sling-jcr-packageinit",1,5]
[265228043,"apache","apache/sling-org-apache-sling-jcr-presence","https://github.com/apache/sling-org-apache-sling-jcr-presence",1,3]
[107433791,"apache","apache/sling-org-apache-sling-jcr-registration","https://github.com/apache/sling-org-apache-sling-jcr-registration",1,5]
[107433725,"apache","apache/sling-org-apache-sling-jcr-repository-it-resource-versioning","https://github.com/apache/sling-org-apache-sling-jcr-repository-it-resource-versioning",1,3]
[107435054,"apache","apache/sling-org-apache-sling-jcr-resourcesecurity","https://github.com/apache/sling-org-apache-sling-jcr-resourcesecurity",1,3]
[107433829,"apache","apache/sling-org-apache-sling-jcr-webconsole","https://github.com/apache/sling-org-apache-sling-jcr-webconsole",1,4]
[107434338,"apache","apache/sling-org-apache-sling-jobs-it","https://github.com/apache/sling-org-apache-sling-jobs-it",1,3]
[107434353,"apache","apache/sling-org-apache-sling-jobs-it-services","https://github.com/apache/sling-org-apache-sling-jobs-it-services",1,3]
[107435846,"apache","apache/sling-org-apache-sling-junit-performance","https://github.com/apache/sling-org-apache-sling-junit-performance",1,3]
[107435855,"apache","apache/sling-org-apache-sling-junit-remote","https://github.com/apache/sling-org-apache-sling-junit-remote",1,3]
[107435886,"apache","apache/sling-org-apache-sling-junit-scriptable","https://github.com/apache/sling-org-apache-sling-junit-scriptable",1,3]
[111731328,"apache","apache/sling-org-apache-sling-junit-teleporter","https://github.com/apache/sling-org-apache-sling-junit-teleporter",1,5]
[107435540,"apache","apache/sling-org-apache-sling-karaf-integration-tests","https://github.com/apache/sling-org-apache-sling-karaf-integration-tests",1,4]
[107435554,"apache","apache/sling-org-apache-sling-karaf-launchpad-oak-tar-integration-tests","https://github.com/apache/sling-org-apache-sling-karaf-launchpad-oak-tar-integration-tests",1,3]
[107435097,"apache","apache/sling-org-apache-sling-launchpad-contrib-testing","https://github.com/apache/sling-org-apache-sling-launchpad-contrib-testing",1,3]
[160522408,"apache","apache/sling-org-apache-sling-launchpad-startupmanager","https://github.com/apache/sling-org-apache-sling-launchpad-startupmanager",1,3]
[107435661,"apache","apache/sling-org-apache-sling-launchpad-test-bundles","https://github.com/apache/sling-org-apache-sling-launchpad-test-bundles",1,3]
[107435679,"apache","apache/sling-org-apache-sling-launchpad-test-fragment","https://github.com/apache/sling-org-apache-sling-launchpad-test-fragment",1,3]
[107435733,"apache","apache/sling-org-apache-sling-launchpad-test-services-war","https://github.com/apache/sling-org-apache-sling-launchpad-test-services-war",1,3]
[107435712,"apache","apache/sling-org-apache-sling-launchpad-testing-war","https://github.com/apache/sling-org-apache-sling-launchpad-testing-war",1,3]
[164893493,"apache","apache/sling-org-apache-sling-models-caconfig","https://github.com/apache/sling-org-apache-sling-models-caconfig",1,3]
[107433447,"apache","apache/sling-org-apache-sling-models-integration-tests","https://github.com/apache/sling-org-apache-sling-models-integration-tests",1,5]
[107433465,"apache","apache/sling-org-apache-sling-models-jacksonexporter","https://github.com/apache/sling-org-apache-sling-models-jacksonexporter",1,5]
[107433476,"apache","apache/sling-org-apache-sling-models-validation-impl","https://github.com/apache/sling-org-apache-sling-models-validation-impl",1,3]
[107435113,"apache","apache/sling-org-apache-sling-nosql-couchbase-client","https://github.com/apache/sling-org-apache-sling-nosql-couchbase-client",1,5]
[107435133,"apache","apache/sling-org-apache-sling-nosql-couchbase-resourceprovider","https://github.com/apache/sling-org-apache-sling-nosql-couchbase-resourceprovider",1,4]
[107435165,"apache","apache/sling-org-apache-sling-nosql-launchpad","https://github.com/apache/sling-org-apache-sling-nosql-launchpad",1,4]
[107434779,"apache","apache/sling-org-apache-sling-oak-restrictions","https://github.com/apache/sling-org-apache-sling-oak-restrictions",1,5]
[107436030,"apache","apache/sling-org-apache-sling-paxexam-util","https://github.com/apache/sling-org-apache-sling-paxexam-util",1,3]
[107436350,"apache","apache/sling-org-apache-sling-provisioning-model","https://github.com/apache/sling-org-apache-sling-provisioning-model",1,3]
[119511898,"apache","apache/sling-org-apache-sling-repoinit-it","https://github.com/apache/sling-org-apache-sling-repoinit-it",1,3]
[107434807,"apache","apache/sling-org-apache-sling-resource-inventory","https://github.com/apache/sling-org-apache-sling-resource-inventory",1,4]
[107433480,"apache","apache/sling-org-apache-sling-resource-presence","https://github.com/apache/sling-org-apache-sling-resource-presence",1,3]
[107433882,"apache","apache/sling-org-apache-sling-resourceaccesssecurity-it","https://github.com/apache/sling-org-apache-sling-resourceaccesssecurity-it",1,2]
[107433910,"apache","apache/sling-org-apache-sling-scripting-api","https://github.com/apache/sling-org-apache-sling-scripting-api",1,3]
[160821344,"apache","apache/sling-org-apache-sling-scripting-bundle-tracker","https://github.com/apache/sling-org-apache-sling-scripting-bundle-tracker",1,3]
[107435271,"apache","apache/sling-org-apache-sling-scripting-console","https://github.com/apache/sling-org-apache-sling-scripting-console",1,4]
[107433915,"apache","apache/sling-org-apache-sling-scripting-core","https://github.com/apache/sling-org-apache-sling-scripting-core",1,5]
[107433944,"apache","apache/sling-org-apache-sling-scripting-el-api","https://github.com/apache/sling-org-apache-sling-scripting-el-api",1,4]
[125369234,"apache","apache/sling-org-apache-sling-scripting-esx","https://github.com/apache/sling-org-apache-sling-scripting-esx",1,4]
[107435226,"apache","apache/sling-org-apache-sling-scripting-groovy","https://github.com/apache/sling-org-apache-sling-scripting-groovy",1,3]
[107435241,"apache","apache/sling-org-apache-sling-scripting-java","https://github.com/apache/sling-org-apache-sling-scripting-java",1,3]
[107433952,"apache","apache/sling-org-apache-sling-scripting-javascript","https://github.com/apache/sling-org-apache-sling-scripting-javascript",1,3]
[107434011,"apache","apache/sling-org-apache-sling-scripting-jsp","https://github.com/apache/sling-org-apache-sling-scripting-jsp",1,7]
[107433994,"apache","apache/sling-org-apache-sling-scripting-jsp-jstl","https://github.com/apache/sling-org-apache-sling-scripting-jsp-jstl",1,3]
[107434021,"apache","apache/sling-org-apache-sling-scripting-jsp-taglib","https://github.com/apache/sling-org-apache-sling-scripting-jsp-taglib",1,4]
[170503199,"apache","apache/sling-org-apache-sling-scripting-jsp-taglib-compat","https://github.com/apache/sling-org-apache-sling-scripting-jsp-taglib-compat",1,4]
[107434102,"apache","apache/sling-org-apache-sling-scripting-sightly-compiler-java","https://github.com/apache/sling-org-apache-sling-scripting-sightly-compiler-java",1,4]
[107434127,"apache","apache/sling-org-apache-sling-scripting-sightly-js-provider","https://github.com/apache/sling-org-apache-sling-scripting-sightly-js-provider",1,3]
[107434151,"apache","apache/sling-org-apache-sling-scripting-sightly-repl","https://github.com/apache/sling-org-apache-sling-scripting-sightly-repl",1,5]
[153603811,"apache","apache/sling-org-apache-sling-scripting-sightly-runtime","https://github.com/apache/sling-org-apache-sling-scripting-sightly-runtime",1,8]
[107956064,"apache","apache/sling-org-apache-sling-scripting-sightly-testing","https://github.com/apache/sling-org-apache-sling-scripting-sightly-testing",1,5]
[107434167,"apache","apache/sling-org-apache-sling-scripting-sightly-testing-content","https://github.com/apache/sling-org-apache-sling-scripting-sightly-testing-content",1,6]
[334096743,"apache","apache/sling-org-apache-sling-scripting-spi","https://github.com/apache/sling-org-apache-sling-scripting-spi",1,3]
[116960765,"apache","apache/sling-org-apache-sling-serviceuser-webconsole","https://github.com/apache/sling-org-apache-sling-serviceuser-webconsole",1,4]
[107433526,"apache","apache/sling-org-apache-sling-servlet-helpers","https://github.com/apache/sling-org-apache-sling-servlet-helpers",1,8]
[135262314,"apache","apache/sling-org-apache-sling-servlets-annotations-it","https://github.com/apache/sling-org-apache-sling-servlets-annotations-it",1,3]
[107435645,"apache","apache/sling-org-apache-sling-starter-startup","https://github.com/apache/sling-org-apache-sling-starter-startup",1,4]
[107435897,"apache","apache/sling-org-apache-sling-testing-caconfig-mock-plugin","https://github.com/apache/sling-org-apache-sling-testing-caconfig-mock-plugin",1,5]
[107435767,"apache","apache/sling-org-apache-sling-testing-email","https://github.com/apache/sling-org-apache-sling-testing-email",1,4]
[107435906,"apache","apache/sling-org-apache-sling-testing-jcr-mock","https://github.com/apache/sling-org-apache-sling-testing-jcr-mock",1,8]
[107435919,"apache","apache/sling-org-apache-sling-testing-logging-mock","https://github.com/apache/sling-org-apache-sling-testing-logging-mock",1,3]
[107435998,"apache","apache/sling-org-apache-sling-testing-paxexam","https://github.com/apache/sling-org-apache-sling-testing-paxexam",1,5]
[107435948,"apache","apache/sling-org-apache-sling-testing-resourceresolver-mock","https://github.com/apache/sling-org-apache-sling-testing-resourceresolver-mock",1,3]
[107436335,"apache","apache/sling-org-apache-sling-tooling-support-install","https://github.com/apache/sling-org-apache-sling-tooling-support-install",1,4]
[107436366,"apache","apache/sling-org-apache-sling-tooling-support-source","https://github.com/apache/sling-org-apache-sling-tooling-support-source",1,4]
[107433549,"apache","apache/sling-org-apache-sling-validation-api","https://github.com/apache/sling-org-apache-sling-validation-api",1,2]
[107433558,"apache","apache/sling-org-apache-sling-validation-core","https://github.com/apache/sling-org-apache-sling-validation-core",1,4]
[107433572,"apache","apache/sling-org-apache-sling-validation-examples","https://github.com/apache/sling-org-apache-sling-validation-examples",1,4]
[107433582,"apache","apache/sling-org-apache-sling-validation-test-services","https://github.com/apache/sling-org-apache-sling-validation-test-services",1,3]
[107436192,"apache","apache/sling-servlet-archetype","https://github.com/apache/sling-servlet-archetype",1,3]
[107436445,"apache","apache/sling-tooling-jenkins","https://github.com/apache/sling-tooling-jenkins",1,5]
[111731875,"apache","apache/sling-tooling-release","https://github.com/apache/sling-tooling-release",1,5]
[107436427,"apache","apache/sling-tooling-scm","https://github.com/apache/sling-tooling-scm",1,3]
[33766201,"apache","apache/struts-archive","https://github.com/apache/struts-archive",1,5]
[124141478,"apache","apache/tajo-site","https://github.com/apache/tajo-site",1,0]
[144980870,"apache","apache/tcl-moddtcl","https://github.com/apache/tcl-moddtcl",1,2]
[144600595,"apache","apache/tcl-modtcl","https://github.com/apache/tcl-modtcl",1,2]
[145545001,"apache","apache/tcl-site","https://github.com/apache/tcl-site",1,3]
[144290759,"apache","apache/tcl-websh","https://github.com/apache/tcl-websh",1,3]
[254329914,"apache","apache/tomcat-taglibs-parent","https://github.com/apache/tomcat-taglibs-parent",1,4]
[254330137,"apache","apache/tomcat-taglibs-rdc","https://github.com/apache/tomcat-taglibs-rdc",1,3]
[254330042,"apache","apache/tomcat-taglibs-site","https://github.com/apache/tomcat-taglibs-site",1,4]
[363285012,"apache","apache/tomee-bval","https://github.com/apache/tomee-bval",1,0]
[271370907,"apache","apache/tomee-patch-plugin","https://github.com/apache/tomee-patch-plugin",1,8]
[366196174,"apache","apache/tomee-release-tools","https://github.com/apache/tomee-release-tools",1,3]
[7770260,"apache","apache/tomee-site","https://github.com/apache/tomee-site",1,9]
[93136804,"apache","apache/tomee-site-ng","https://github.com/apache/tomee-site-ng",1,3]
[137256819,"apache","apache/trafficcontrol-website","https://github.com/apache/trafficcontrol-website",1,7]
[164788492,"apache","apache/trafodion-site","https://github.com/apache/trafodion-site",1,3]
[355973058,"apache","apache/treasurer-site","https://github.com/apache/treasurer-site",1,4]
[404362834,"apache","apache/turbine-fulcrum-build","https://github.com/apache/turbine-fulcrum-build",1,2]
[403603054,"apache","apache/turbine-fulcrum-cache","https://github.com/apache/turbine-fulcrum-cache",1,2]
[403605383,"apache","apache/turbine-fulcrum-crypto","https://github.com/apache/turbine-fulcrum-crypto",1,3]
[403605019,"apache","apache/turbine-fulcrum-factory","https://github.com/apache/turbine-fulcrum-factory",1,2]
[403605244,"apache","apache/turbine-fulcrum-intake","https://github.com/apache/turbine-fulcrum-intake",1,3]
[403603768,"apache","apache/turbine-fulcrum-json","https://github.com/apache/turbine-fulcrum-json",1,3]
[403605486,"apache","apache/turbine-fulcrum-localization","https://github.com/apache/turbine-fulcrum-localization",1,2]
[403604915,"apache","apache/turbine-fulcrum-parser","https://github.com/apache/turbine-fulcrum-parser",1,3]
[403604789,"apache","apache/turbine-fulcrum-pool","https://github.com/apache/turbine-fulcrum-pool",1,2]
[403604549,"apache","apache/turbine-fulcrum-quartz","https://github.com/apache/turbine-fulcrum-quartz",1,3]
[403604073,"apache","apache/turbine-fulcrum-security","https://github.com/apache/turbine-fulcrum-security",1,2]
[406677579,"apache","apache/turbine-fulcrum-site","https://github.com/apache/turbine-fulcrum-site",1,2]
[403605768,"apache","apache/turbine-fulcrum-testcontainer","https://github.com/apache/turbine-fulcrum-testcontainer",1,2]
[408852790,"apache","apache/turbine-fulcrum-upload","https://github.com/apache/turbine-fulcrum-upload",1,2]
[403604351,"apache","apache/turbine-fulcrum-yaafi","https://github.com/apache/turbine-fulcrum-yaafi",1,3]
[403606024,"apache","apache/turbine-fulcrum-yaafi-crypto","https://github.com/apache/turbine-fulcrum-yaafi-crypto",1,3]
[403625303,"apache","apache/turbine-parent","https://github.com/apache/turbine-parent",1,2]
[403601887,"apache","apache/turbine-site","https://github.com/apache/turbine-site",1,2]
[167555288,"apache","apache/tuscany-js","https://github.com/apache/tuscany-js",1,0]
[258219612,"apache","apache/uima-async-scaleout","https://github.com/apache/uima-async-scaleout",1,3]
[332737005,"apache","apache/uima-build-jenkins-shared-library","https://github.com/apache/uima-build-jenkins-shared-library",1,2]
[312392792,"apache","apache/uima-build-resources","https://github.com/apache/uima-build-resources",1,2]
[309940012,"apache","apache/uima-parent-pom","https://github.com/apache/uima-parent-pom",1,2]
[252478940,"apache","apache/velocity-master","https://github.com/apache/velocity-master",1,2]
[47420230,"apache","apache/whimsy-test","https://github.com/apache/whimsy-test",1,3]
[164474703,"apache","apache/whimsy-whimsical-site","https://github.com/apache/whimsy-whimsical-site",1,3]
[75813285,"apache","apache/wink-website","https://github.com/apache/wink-website",1,2]
[220320709,"apache","apache/ws-parent","https://github.com/apache/ws-parent",1,2]
[220104742,"apache","apache/ws-woden","https://github.com/apache/ws-woden",1,0]
[181531812,"apache","apache/xalan-site","https://github.com/apache/xalan-site",1,3]
[233064440,"apache","apache/xerces-c-admin","https://github.com/apache/xerces-c-admin",1,2]
[305190382,"apache","apache/yetus-homebrew","https://github.com/apache/yetus-homebrew",1,3]
[298000757,"apache","apache/yetus-test-patch-action","https://github.com/apache/yetus-test-patch-action",1,5]
[113548221,"apache","apache/activemq-web","https://github.com/apache/activemq-web",0,10]
[506682907,"apache","apache/airavata-admin-user-docs","https://github.com/apache/airavata-admin-user-docs",0,0]
[485953726,"apache","apache/airavata-custos-docs","https://github.com/apache/airavata-custos-docs",0,0]
[448722133,"apache","apache/airavata-jupyter-kernel","https://github.com/apache/airavata-jupyter-kernel",0,0]
[476765395,"apache","apache/airavata-user-docs","https://github.com/apache/airavata-user-docs",0,0]
[464742595,"apache","apache/ant-antlibs-s3","https://github.com/apache/ant-antlibs-s3",0,0]
[27421661,"apache","apache/ant-ivy-site-styles","https://github.com/apache/ant-ivy-site-styles",0,0]
[187236356,"apache","apache/apachecon-site","https://github.com/apache/apachecon-site",0,0]
[510643537,"apache","apache/attic-site","https://github.com/apache/attic-site",0,2]
[456633310,"apache","apache/beam-starter-go","https://github.com/apache/beam-starter-go",0,3]
[456633089,"apache","apache/beam-starter-java","https://github.com/apache/beam-starter-java",0,2]
[456633384,"apache","apache/beam-starter-kotlin","https://github.com/apache/beam-starter-kotlin",0,1]
[456633195,"apache","apache/beam-starter-python","https://github.com/apache/beam-starter-python",0,1]
[456633515,"apache","apache/beam-starter-scala","https://github.com/apache/beam-starter-scala",0,1]
[477145593,"apache","apache/buildstream-plugins","https://github.com/apache/buildstream-plugins",0,2]
[456450536,"apache","apache/camel-website-pub","https://github.com/apache/camel-website-pub",0,4]
[488782949,"apache","apache/datasketches-memory17","https://github.com/apache/datasketches-memory17",0,1]
[488782949,"apache","apache/datasketches-memory17","https://github.com/apache/datasketches-memory17",0,1]
[441041830,"apache","apache/echarts-wordcloud-generator","https://github.com/apache/echarts-wordcloud-generator",0,1]
[141437506,"apache","apache/fineract-cn-stellar-bridge","https://github.com/apache/fineract-cn-stellar-bridge",0,55]
[535788760,"apache","apache/flink-connector-opensearch","https://github.com/apache/flink-connector-opensearch",0,1]
[477260084,"apache","apache/flume-search","https://github.com/apache/flume-search",0,1]
[291655371,"apache","apache/foundation-site","https://github.com/apache/foundation-site",0,4]
[450602159,"apache","apache/hive-site","https://github.com/apache/hive-site",0,4]
[521598509,"apache","apache/infrastructure-artifacts-configuration","https://github.com/apache/infrastructure-artifacts-configuration",0,0]
[470388440,"apache","apache/infrastructure-commitbot","https://github.com/apache/infrastructure-commitbot",0,0]
[510823798,"apache","apache/infrastructure-download-integrity-checker","https://github.com/apache/infrastructure-download-integrity-checker",0,0]
[474345927,"apache","apache/infrastructure-gha-notifier","https://github.com/apache/infrastructure-gha-notifier",0,1]
[475078174,"apache","apache/infrastructure-gitbox2-test","https://github.com/apache/infrastructure-gitbox2-test",0,0]
[504089477,"apache","apache/infrastructure-github-discussions-notifier","https://github.com/apache/infrastructure-github-discussions-notifier",0,0]
[431291915,"apache","apache/infrastructure-github-event-notifier","https://github.com/apache/infrastructure-github-event-notifier",0,1]
[375261103,"apache","apache/infrastructure-pelican","https://github.com/apache/infrastructure-pelican",0,11]
[430742259,"apache","apache/infrastructure-pypubsub-ldap","https://github.com/apache/infrastructure-pypubsub-ldap",0,0]
[506030779,"apache","apache/infrastructure-website-template","https://github.com/apache/infrastructure-website-template",0,0]
[474716611,"apache","apache/libcloud-site","https://github.com/apache/libcloud-site",0,0]
[289774789,"apache","apache/logging-site","https://github.com/apache/logging-site",0,2]
[151704562,"apache","apache/netbeans-docs","https://github.com/apache/netbeans-docs",0,2]
[313377243,"apache","apache/ozone-docker-testkrb5","https://github.com/apache/ozone-docker-testkrb5",0,3]
[281977497,"apache","apache/phoenix-thirdparty","https://github.com/apache/phoenix-thirdparty",0,8]
[542858498,"apache","apache/pulsar-pulsar-client-cpp","https://github.com/apache/pulsar-pulsar-client-cpp",0,0]
[453634147,"apache","apache/ratis-hadoop-projects","https://github.com/apache/ratis-hadoop-projects",0,4]
[503917492,"apache","apache/royale-pelican","https://github.com/apache/royale-pelican",0,0]
[505761229,"apache","apache/royale-pelican-website","https://github.com/apache/royale-pelican-website",0,2]
[459148447,"apache","apache/security-site","https://github.com/apache/security-site",0,0]
[499428894,"apache","apache/sling-maven-enforcer-rules","https://github.com/apache/sling-maven-enforcer-rules",0,0]
[380223819,"apache","apache/sling-org-apache-sling-sitemap","https://github.com/apache/sling-org-apache-sling-sitemap",0,4]
[466585371,"apache","apache/steve-website","https://github.com/apache/steve-website",0,0]
[308593093,"apache","apache/thrift-website","https://github.com/apache/thrift-website",0,5]
[492254737,"apache","apache/tomee-mbean-annotation-api","https://github.com/apache/tomee-mbean-annotation-api",0,0]
[516119005,"apache","apache/trafficcontrol-trafficops-types","https://github.com/apache/trafficcontrol-trafficops-types",0,0]
[436670845,"apache","apache/turbine-build","https://github.com/apache/turbine-build",0,0]
[474950489,"apache","apache/uima-site","https://github.com/apache/uima-site",0,0]
[457384816,"apache","apache/uima-uimaj-io-jsoncas","https://github.com/apache/uima-uimaj-io-jsoncas",0,1]
[481985038,"apache","apache/www-eccn","https://github.com/apache/www-eccn",0,0]
[181356720,"apache","apache/xalan-pmc","https://github.com/apache/xalan-pmc",0,2]
[182602665,"apache","apache/xalan-test","https://github.com/apache/xalan-test",0,2]

{"sheet":"CNCF","index":1,"n_rows":119,"n_cols":6,"rows_kept":119,"cut":false,"hidden":false,"merged":[]}
["ID","Org","full_name","URL","Star","Fork"]
[72878982,"cncf","cncf/landscape","https://github.com/cncf/landscape",8491,1596]
[86499813,"cncf","cncf/curriculum","https://github.com/cncf/curriculum",3952,1209]
[125122827,"cncf","cncf/tag-security","https://github.com/cncf/tag-security",1453,369]
[89749658,"cncf","cncf/wg-serverless","https://github.com/cncf/wg-serverless",1433,153]
[47574295,"cncf","cncf/toc","https://github.com/cncf/toc",1361,549]
[81339842,"cncf","cncf/mentoring","https://github.com/cncf/mentoring",1312,413]
[55518058,"cncf","cncf/presentations","https://github.com/cncf/presentations",750,305]
[99268620,"cncf","cncf/k8s-conformance","https://github.com/cncf/k8s-conformance",702,714]
[158094964,"cncf","cncf/trailmap","https://github.com/cncf/trailmap",472,73]
[190800486,"cncf","cncf/tag-app-delivery","https://github.com/cncf/tag-app-delivery",419,94]
[329970318,"cncf","cncf/glossary","https://github.com/cncf/glossary",417,281]
[98758976,"cncf","cncf/devstats","https://github.com/cncf/devstats",411,254]
[65915265,"cncf","cncf/foundation","https://github.com/cncf/foundation",389,359]
[47575435,"cncf","cncf/artwork","https://github.com/cncf/artwork",377,219]
[243834671,"cncf","cncf/tag-observability","https://github.com/cncf/tag-observability",352,45]
[184290900,"cncf","cncf/financial-user-group","https://github.com/cncf/financial-user-group",246,65]
[189425864,"cncf","cncf/udpa","https://github.com/cncf/udpa",211,71]
[160055127,"cncf","cncf/landscapeapp","https://github.com/cncf/landscapeapp",185,96]
[115025663,"cncf","cncf/contribute","https://github.com/cncf/contribute",166,107]
[128820206,"cncf","cncf/cnf-testbed","https://github.com/cncf/cnf-testbed",151,50]
[363953805,"cncf","cncf/cloud-native-community-cookbook","https://github.com/cncf/cloud-native-community-cookbook",148,38]
[88523514,"cncf","cncf/gitdm","https://github.com/cncf/gitdm",147,909]
[55425573,"cncf","cncf/cluster","https://github.com/cncf/cluster",138,41]
[187472851,"cncf","cncf/telecom-user-group","https://github.com/cncf/telecom-user-group",123,33]
[314298379,"cncf","cncf/xds","https://github.com/cncf/xds",122,45]
[234632572,"cncf","cncf/cnf-testsuite","https://github.com/cncf/cnf-testsuite",117,50]
[63094915,"cncf","cncf/ambassadors","https://github.com/cncf/ambassadors",114,52]
[189503489,"cncf","cncf/kubernetes-community-days","https://github.com/cncf/kubernetes-community-days",114,84]
[89488183,"cncf","cncf/velocity","https://github.com/cncf/velocity",112,46]
[83478469,"cncf","cncf/tag-storage","https://github.com/cncf/tag-storage",98,51]
[130231969,"cncf","cncf/svg-autocrop","https://github.com/cncf/svg-autocrop",92,17]
[117860986,"cncf","cncf/communitygroups","https://github.com/cncf/communitygroups",91,26]
[337496044,"cncf","cncf/cartografos","https://github.com/cncf/cartografos",83,14]
[128857751,"cncf","cncf/apisnoop","https://github.com/cncf/apisnoop",79,40]
[60750744,"cncf","cncf/demo","https://github.com/cncf/demo",76,39]
[165714532,"cncf","cncf/enduser-public","https://github.com/cncf/enduser-public",75,10]
[314061027,"cncf","cncf/cnf-wg","https://github.com/cncf/cnf-wg",74,45]
[243834124,"cncf","cncf/tag-contributor-strategy","https://github.com/cncf/tag-contributor-strategy",72,54]
[202327057,"cncf","cncf/research-user-group","https://github.com/cncf/research-user-group",71,19]
[491568412,"cncf","cncf/tag-env-sustainability","https://github.com/cncf/tag-env-sustainability",68,15]
[205469586,"cncf","cncf/surveys","https://github.com/cncf/surveys",63,20]
[375129671,"cncf","cncf/students","https://github.com/cncf/students",62,9]
[218821918,"cncf","cncf/memorials","https://github.com/cncf/memorials",61,82]
[421806901,"cncf","cncf/cncf-fuzzing","https://github.com/cncf/cncf-fuzzing",57,22]
[212455555,"cncf","cncf/tag-network","https://github.com/cncf/tag-network",50,12]
[219124817,"cncf","cncf/cncf.io","https://github.com/cncf/cncf.io",49,21]
[98899067,"cncf","cncf/servicedesk","https://github.com/cncf/servicedesk",49,35]
[214256303,"cncf","cncf/tag-runtime","https://github.com/cncf/tag-runtime",47,23]
[342656828,"cncf","cncf/cloudnativetv","https://github.com/cncf/cloudnativetv",33,6]
[82975554,"cncf","cncf/wg-ci","https://github.com/cncf/wg-ci",33,28]
[176269027,"cncf","cncf/devstatscode","https://github.com/cncf/devstatscode",30,18]
[277923166,"cncf","cncf/project-template","https://github.com/cncf/project-template",30,26]
[448045451,"cncf","cncf/clomonitor","https://github.com/cncf/clomonitor",27,10]
[397312358,"cncf","cncf/people","https://github.com/cncf/people",27,54]
[297440587,"cncf","cncf/techdocs","https://github.com/cncf/techdocs",27,17]
[83684974,"cncf","cncf/wg-networking","https://github.com/cncf/wg-networking",26,24]
[62331732,"cncf","cncf/cla","https://github.com/cncf/cla",24,20]
[227433242,"cncf","cncf/hugo-netlify-starter","https://github.com/cncf/hugo-netlify-starter",23,21]
[277571485,"cncf","cncf/radar","https://github.com/cncf/radar",22,21]
[484125694,"cncf","cncf/landscape-graph","https://github.com/cncf/landscape-graph",16,7]
[105037325,"cncf","cncf/awards","https://github.com/cncf/awards",15,11]
[498298288,"cncf","cncf/gitvote","https://github.com/cncf/gitvote",15,1]
[145695890,"cncf","cncf/devstats-example","https://github.com/cncf/devstats-example",13,21]
[360974978,"cncf","cncf/crossplane-conformance","https://github.com/cncf/crossplane-conformance",12,12]
[392838373,"cncf","cncf/chaosengineering-wg","https://github.com/cncf/chaosengineering-wg",11,4]
[359956438,"cncf","cncf/cnf-certification","https://github.com/cncf/cnf-certification",11,6]
[176945731,"cncf","cncf/devstats-docker-images","https://github.com/cncf/devstats-docker-images",9,14]
[92215480,"cncf","cncf/images","https://github.com/cncf/images",9,11]
[200899799,"cncf","cncf/sig-security-events","https://github.com/cncf/sig-security-events",9,9]
[189569213,"cncf","cncf/devstats-helm","https://github.com/cncf/devstats-helm",8,16]
[180297164,"cncf","cncf/devstats-reports","https://github.com/cncf/devstats-reports",8,5]
[116505516,"cncf","cncf/filterable-landscape","https://github.com/cncf/filterable-landscape",8,12]
[357255090,"cncf","cncf/prometheus-conformance","https://github.com/cncf/prometheus-conformance",8,4]
[170934204,"cncf","cncf/site-boilerplate","https://github.com/cncf/site-boilerplate",8,8]
[185022989,"cncf","cncf/china-video-block","https://github.com/cncf/china-video-block",7,4]
[189992720,"cncf","cncf/clone-page-tree","https://github.com/cncf/clone-page-tree",7,9]
[179275042,"cncf","cncf/devstats-helm-example","https://github.com/cncf/devstats-helm-example",7,12]
[185921087,"cncf","cncf/devstats-helm-graphql","https://github.com/cncf/devstats-helm-graphql",7,5]
[128013523,"cncf","cncf/hnanalysis","https://github.com/cncf/hnanalysis",7,8]
[215356408,"cncf","cncf/hnscraping","https://github.com/cncf/hnscraping",7,6]
[176917719,"cncf","cncf/devstats-helm-lf","https://github.com/cncf/devstats-helm-lf",6,5]
[176990572,"cncf","cncf/devstats-k8s-lf","https://github.com/cncf/devstats-k8s-lf",6,5]
[349122292,"cncf","cncf/docsy","https://github.com/cncf/docsy",6,1]
[200913431,"cncf","cncf/foundation-starter-kit","https://github.com/cncf/foundation-starter-kit",6,8]
[310151795,"cncf","cncf/business-value","https://github.com/cncf/business-value",5,7]
[179159779,"cncf","cncf/cloud-native-days","https://github.com/cncf/cloud-native-days",5,5]
[183299876,"cncf","cncf/cncf-branding","https://github.com/cncf/cncf-branding",5,11]
[158111709,"cncf","cncf/landscape-archive","https://github.com/cncf/landscape-archive",5,8]
[107810515,"cncf","cncf/obsolete-interactive-landscape","https://github.com/cncf/obsolete-interactive-landscape",5,5]
[229802908,"cncf","cncf/svg-autocrop-serverless","https://github.com/cncf/svg-autocrop-serverless",5,6]
[195217250,"cncf","cncf/contributors-world-map","https://github.com/cncf/contributors-world-map",4,6]
[450861121,"cncf","cncf/credits","https://github.com/cncf/credits",4,4]
[421878331,"cncf","cncf/dcochecker","https://github.com/cncf/dcochecker",4,4]
[108519817,"cncf","cncf/dev-affiliations","https://github.com/cncf/dev-affiliations",4,10]
[136469266,"cncf","cncf/devstats-website","https://github.com/cncf/devstats-website",4,9]
[120784151,"cncf","cncf/serverless-landscape","https://github.com/cncf/serverless-landscape",4,8]
[212226857,"cncf","cncf/sfdc","https://github.com/cncf/sfdc",4,5]
[372466030,"cncf","cncf/web-landscape","https://github.com/cncf/web-landscape",4,3]
[273635926,"cncf","cncf/wp-mu-plugins","https://github.com/cncf/wp-mu-plugins",4,7]
[198203169,"cncf","cncf/apisnoopregexp","https://github.com/cncf/apisnoopregexp",3,7]
[273192343,"cncf","cncf/count_kw","https://github.com/cncf/count_kw",3,5]
[198765621,"cncf","cncf/da-patroni","https://github.com/cncf/da-patroni",3,5]
[176920733,"cncf","cncf/devstats-docker-lf","https://github.com/cncf/devstats-docker-lf",3,6]
[186415185,"cncf","cncf/devstats-kubernetes-dashboard","https://github.com/cncf/devstats-kubernetes-dashboard",3,5]
[208203271,"cncf","cncf/jp-translations","https://github.com/cncf/jp-translations",3,5]
[361800559,"cncf","cncf/lf-landscapes","https://github.com/cncf/lf-landscapes",3,2]
[330919252,"cncf","cncf/next.js","https://github.com/cncf/next.js",3,1]
[200060710,"cncf","cncf/wordpress-site","https://github.com/cncf/wordpress-site",3,5]
[198847525,"cncf","cncf/y2c","https://github.com/cncf/y2c",3,5]
[197134950,"cncf","cncf/merge-sh-dbs","https://github.com/cncf/merge-sh-dbs",2,5]
[102151388,"cncf","cncf/multi-cloud-provisioner","https://github.com/cncf/multi-cloud-provisioner",2,0]
[131065174,"cncf","cncf/onap-demo","https://github.com/cncf/onap-demo",2,10]
[267136361,"cncf","cncf/parallel-netlify-builds","https://github.com/cncf/parallel-netlify-builds",2,5]
[176545392,"cncf","cncf/svg-website","https://github.com/cncf/svg-website",2,5]
[333052623,"cncf","cncf/website","https://github.com/cncf/website",2,3]
[237029338,"cncf","cncf/wp-svg-autocrop","https://github.com/cncf/wp-svg-autocrop",2,6]
[274442712,"cncf","cncf/.github","https://github.com/cncf/.github",1,6]
[506895071,"cncf","cncf/api","https://github.com/cncf/api",1,0]

{"sheet":"LinuxFoundation","index":2,"n_rows":454,"n_cols":6,"rows_kept":454,"cut":false,"hidden":false,"merged":[]}
["ID","Org","full_name","URL","Star","Fork"]
[20580498,"kubernetes","kubernetes/kubernetes","https://github.com/kubernetes/kubernetes",92451,33911]
[10744183,"netdata","netdata/netdata","https://github.com/netdata/netdata",60755,5382]
[156018,"redis","redis/redis","https://github.com/redis/redis",56977,21800]
[3638964,"ansible","ansible/ansible","https://github.com/ansible/ansible",54716,22437]
[3638964,"ansible","ansible/ansible","https://github.com/ansible/ansible",54716,22437]
[120538304,"kelseyhightower","kelseyhightower/nocode","https://github.com/kelseyhightower/nocode",53803,4581]
[15111821,"grafana","grafana/grafana","https://github.com/grafana/grafana",51223,10057]
[6838921,"prometheus","prometheus/prometheus","https://github.com/prometheus/prometheus",44507,7495]
[11225014,"etcd-io","etcd-io/etcd","https://github.com/etcd-io/etcd",41332,8843]
[42408804,"traefik","traefik/traefik","https://github.com/traefik/traefik",39791,4340]
[4710920,"apache","apache/dubbo","https://github.com/apache/dubbo",37913,25337]
[27729880,"grpc","grpc/grpc","https://github.com/grpc/grpc",35731,9401]
[29261473,"minio","minio/minio","https://github.com/minio/minio",35528,4208]
[17728164,"hashicorp","hashicorp/terraform","https://github.com/hashicorp/terraform",34339,7951]
[17165658,"apache","apache/spark","https://github.com/apache/spark",33992,26135]
[26783295,"Kong","Kong/kong","https://github.com/Kong/kong",32983,4285]
[41986369,"pingcap","pingcap/tidb","https://github.com/pingcap/tidb",32441,5277]
[74175805,"istio","istio/istio","https://github.com/istio/istio",31460,6676]
[53127403,"apolloconfig","apolloconfig/apollo","https://github.com/apolloconfig/apollo",27332,9970]
[53127403,"apolloconfig","apolloconfig/apollo","https://github.com/apolloconfig/apollo",27332,9970]
[15045751,"docker","docker/compose","https://github.com/docker/compose",27332,4559]
[31288958,"hashicorp","hashicorp/vault","https://github.com/hashicorp/vault",25903,3544]
[16607898,"harness","harness/drone","https://github.com/harness/drone",25792,2518]
[6452529,"rethinkdb","rethinkdb/rethinkdb","https://github.com/rethinkdb/rethinkdb",25702,1873]
[14125254,"hashicorp","hashicorp/consul","https://github.com/hashicorp/consul",25425,4156]
[17372733,"OAI","OAI/OpenAPI-Specification","https://github.com/OAI/OpenAPI-Specification",25045,8598]
[56353740,"kubernetes","kubernetes/minikube","https://github.com/kubernetes/minikube",24866,4293]
[13124802,"influxdata","influxdata/influxdb","https://github.com/influxdata/influxdb",24202,3243]
[137451403,"alibaba","alibaba/nacos","https://github.com/alibaba/nacos",24072,10709]
[2211243,"apache","apache/kafka","https://github.com/apache/kafka",23181,11915]
[59239347,"portainer","portainer/portainer","https://github.com/portainer/portainer",23167,2047]
[2500088,"gitlabhq","gitlabhq/gitlabhq","https://github.com/gitlabhq/gitlabhq",23039,5711]
[163387337,"seata","seata/seata","https://github.com/seata/seata",22864,8090]
[43723161,"helm","helm/helm","https://github.com/helm/helm",22672,6388]
[135516270,"k3s-io","k3s-io/k3s","https://github.com/k3s-io/k3s",21064,1863]
[285864199,"zeromicro","zeromicro/go-zero","https://github.com/zeromicro/go-zero",20746,2995]
[65214191,"envoyproxy","envoyproxy/envoy","https://github.com/envoyproxy/envoy",20532,3898]
[45721011,"apache","apache/skywalking","https://github.com/apache/skywalking",20309,5897]
[13753636,"jhipster","jhipster/generator-jhipster","https://github.com/jhipster/generator-jhipster",19929,3879]
[128018428,"alibaba","alibaba/Sentinel","https://github.com/alibaba/Sentinel",19927,7209]
[26337322,"rancher","rancher/rancher","https://github.com/rancher/rancher",19883,2660]
[20587599,"apache","apache/flink","https://github.com/apache/flink",19857,11252]
[1103607,"jenkinsci","jenkinsci/jenkins","https://github.com/jenkinsci/jenkins",19554,7672]
[107505869,"firecracker-microvm","firecracker-microvm/firecracker","https://github.com/firecracker-microvm/firecracker",19490,1399]
[196353673,"taosdata","taosdata/TDengine","https://github.com/taosdata/TDengine",19342,4486]
[165041732,"go-kratos","go-kratos/kratos","https://github.com/go-kratos/kratos",18935,3636]
[236095576,"backstage","backstage/backstage","https://github.com/backstage/backstage",18424,3035]
[50613991,"goharbor","goharbor/harbor","https://github.com/goharbor/harbor",18378,4172]
[75164823,"apache","apache/rocketmq","https://github.com/apache/rocketmq",18142,10201]
[54400687,"grafana","grafana/k6","https://github.com/grafana/k6",18034,935]
[49876476,"apache","apache/shardingsphere","https://github.com/apache/shardingsphere",17400,6008]
[37912398,"nginx","nginx/nginx","https://github.com/nginx/nginx",17227,5975]
[129717717,"grafana","grafana/loki","https://github.com/grafana/loki",17150,2193]
[56342508,"jaegertracing","jaegertracing/jaeger","https://github.com/jaegertracing/jaeger",16465,1980]
[4576305,"openzipkin","openzipkin/zipkin","https://github.com/openzipkin/zipkin",15699,3005]
[109145553,"containers","containers/podman","https://github.com/containers/podman",15386,1631]
[11008207,"vitessio","vitessio/vitess","https://github.com/vitessio/vitess",14785,1835]
[62091339,"kubernetes","kubernetes/kops","https://github.com/kubernetes/kops",14360,4427]
[180687624,"aquasecurity","aquasecurity/trivy","https://github.com/aquasecurity/trivy",14052,1342]
[8966356,"hashicorp","hashicorp/packer","https://github.com/hashicorp/packer",13955,3259]
[302322,"gradle","gradle/gradle","https://github.com/gradle/gradle",13883,3985]
[72477752,"pulumi","pulumi/pulumi","https://github.com/pulumi/pulumi",13793,769]
[11125589,"keycloak","keycloak/keycloak","https://github.com/keycloak/keycloak",13656,4766]
[118654121,"GoogleContainerTools","GoogleContainerTools/skaffold","https://github.com/GoogleContainerTools/skaffold",13298,1452]
[36071697,"ory","ory/hydra","https://github.com/ory/hydra",13139,1269]
[48109239,"cilium","cilium/cilium","https://github.com/cilium/cilium",13130,1803]
[131212638,"google","google/gvisor","https://github.com/google/gvisor",13087,1103]
[1090311,"elastic","elastic/logstash","https://github.com/elastic/logstash",13076,3364]
[23418517,"apache","apache/hadoop","https://github.com/apache/hadoop",12955,8040]
[43613404,"kubernetes-sigs","kubernetes-sigs/kubespray","https://github.com/kubernetes-sigs/kubespray",12936,5459]
[1390248,"saltstack","saltstack/salt","https://github.com/saltstack/salt",12757,5342]
[31558937,"gravitational","gravitational/teleport","https://github.com/gravitational/teleport",12718,1287]
[2649214,"arangodb","arangodb/arangodb","https://github.com/arangodb/arangodb",12582,786]
[130013,"akka","akka/akka","https://github.com/akka/akka",12509,3603]
[25459400,"pinpoint-apm","pinpoint-apm/pinpoint","https://github.com/pinpoint-apm/pinpoint",12407,3636]
[36653430,"hashicorp","hashicorp/nomad","https://github.com/hashicorp/nomad",12303,1661]
[8759133,"Netflix","Netflix/zuul","https://github.com/Netflix/zuul",12186,2251]
[46089560,"containerd","containerd/containerd","https://github.com/containerd/containerd",12143,2451]
[6358188,"apache","apache/druid","https://github.com/apache/druid",12068,3348]
[48833910,"tikv","tikv/tikv","https://github.com/tikv/tikv",11921,1835]
[100982449,"argoproj","argoproj/argo-workflows","https://github.com/argoproj/argo-workflows",11776,2465]
[114187903,"apple","apple/foundationdb","https://github.com/apple/foundationdb",11753,1155]
[3784017,"alibaba","alibaba/tengine","https://github.com/alibaba/tengine",11644,2434]
[62117812,"apache","apache/pulsar","https://github.com/apache/pulsar",11640,3085]
[6443435,"nats-io","nats-io/nats-server","https://github.com/nats-io/nats-server",11592,1138]
[1918677,"fluent","fluent/fluentd","https://github.com/fluent/fluentd",11517,1266]
[5198041,"Netflix","Netflix/eureka","https://github.com/Netflix/eureka",11493,3608]
[146327667,"vectordotdev","vectordotdev/vector","https://github.com/vectordotdev/vector",11315,892]
[16554739,"elastic","elastic/beats","https://github.com/elastic/beats",11295,4578]
[119419195,"GoogleContainerTools","GoogleContainerTools/kaniko","https://github.com/GoogleContainerTools/kaniko",11088,1151]
[130430977,"kubesphere","kubesphere/kubesphere","https://github.com/kubesphere/kubesphere",11059,1675]
[2310495,"ceph","ceph/ceph","https://github.com/ceph/ceph",11048,5118]
[927442,"postgres","postgres/postgres","https://github.com/postgres/postgres",11020,3491]
[109162639,"thanos-io","thanos-io/thanos","https://github.com/thanos-io/thanos",10972,1702]
[480080,"openresty","openresty/openresty","https://github.com/openresty/openresty",10872,1424]
[160999,"apache","apache/zookeeper","https://github.com/apache/zookeeper",10832,6795]
[120896210,"argoproj","argoproj/argo-cd","https://github.com/argoproj/argo-cd",10694,2907]
[148545807,"kubernetes-sigs","kubernetes-sigs/kind","https://github.com/kubernetes-sigs/kind",10524,1222]
[6650539,"neo4j","neo4j/neo4j","https://github.com/neo4j/neo4j",10453,2182]
[7202769,"emqx","emqx/emqx","https://github.com/emqx/emqx",10419,1849]
[62921553,"rook","rook/rook","https://github.com/rook/rook",10375,2415]
[180481986,"apache","apache/apisix","https://github.com/apache/apisix",10302,1922]
[924551,"rabbitmq","rabbitmq/rabbitmq-server","https://github.com/rabbitmq/rabbitmq-server",9990,3732]
[54230994,"coredns","coredns/coredns","https://github.com/coredns/coredns",9775,1762]
[36960321,"opencontainers","opencontainers/runc","https://github.com/opencontainers/runc",9616,1818]
[79316451,"TarsCloud","TarsCloud/Tars","https://github.com/TarsCloud/Tars",9508,2109]
[92313258,"cert-manager","cert-manager/cert-manager","https://github.com/cert-manager/cert-manager",9399,1737]
[310611,"apache","apache/thrift","https://github.com/apache/thrift",9356,3873]
[283410102,"sogou","sogou/workflow","https://github.com/sogou/workflow",9259,1829]
[46140633,"quay","quay/clair","https://github.com/quay/clair",9043,1097]
[113106184,"linkerd","linkerd/linkerd2","https://github.com/linkerd/linkerd2",8887,1061]
[26509369,"rkt","rkt/rkt","https://github.com/rkt/rkt",8856,908]
[173335706,"apache","apache/dolphinscheduler","https://github.com/apache/dolphinscheduler",8777,3355]
[21436816,"spinnaker","spinnaker/spinnaker","https://github.com/spinnaker/spinnaker",8636,1173]
[110401202,"easzlab","easzlab/kubeasz","https://github.com/easzlab/kubeasz",8532,3089]
[28449431,"scylladb","scylladb/scylladb","https://github.com/scylladb/scylladb",8430,940]
[24494032,"mysql","mysql/mysql-server","https://github.com/mysql/mysql-server",8323,3190]
[22442668,"openshift","openshift/origin","https://github.com/openshift/origin",8201,4744]
[64654523,"openebs","openebs/openebs","https://github.com/openebs/openebs",7772,954]
[19537979,"TykTechnologies","TykTechnologies/tyk","https://github.com/TykTechnologies/tyk",7762,940]
[206424,"apache","apache/cassandra","https://github.com/apache/cassandra",7553,3223]
[46932243,"linuxkit","linuxkit/linuxkit","https://github.com/linuxkit/linuxkit",7526,968]
[21704134,"flannel-io","flannel-io/flannel","https://github.com/flannel-io/flannel",7504,2716]
[36778364,"attic-labs","attic-labs/noms","https://github.com/attic-labs/noms",7480,281]
[40916314,"dexidp","dexidp/dex","https://github.com/dexidp/dex",7398,1413]
[146641150,"tektoncd","tektoncd/pipeline","https://github.com/tektoncd/pipeline",7348,1562]
[150954997,"VictoriaMetrics","VictoriaMetrics/VictoriaMetrics","https://github.com/VictoriaMetrics/VictoriaMetrics",7214,698]
[48714685,"open-policy-agent","open-policy-agent/opa","https://github.com/open-policy-agent/opa",7172,979]
[105944401,"yugabyte","yugabyte/yugabyte-db","https://github.com/yugabyte/yugabyte-db",7082,841]
[26390092,"deepstreamIO","deepstreamIO/deepstream.io","https://github.com/deepstreamIO/deepstream.io",7017,402]
[15926180,"draios","draios/sysdig","https://github.com/draios/sysdig",7016,694]
[108278,"chef","chef/chef","https://github.com/chef/chef",7006,2570]
[108278,"chef","chef/chef","https://github.com/chef/chef",7006,2570]
[55850689,"open-falcon","open-falcon/falcon-plus","https://github.com/open-falcon/falcon-plus",6966,1534]
[28366058,"distribution","distribution/distribution","https://github.com/distribution/distribution",6949,2156]
[132732601,"canonical","canonical/microk8s","https://github.com/canonical/microk8s",6794,676]
[32935745,"eclipse","eclipse/che","https://github.com/eclipse/che",6722,1208]
[910744,"puppetlabs","puppetlabs/puppet","https://github.com/puppetlabs/puppet",6699,2247]
[99143276,"vmware-tanzu","vmware-tanzu/velero","https://github.com/vmware-tanzu/velero",6662,1123]
[15155534,"gocd","gocd/gocd","https://github.com/gocd/gocd",6592,946]
[18950460,"concourse","concourse/concourse","https://github.com/concourse/concourse",6563,820]
[14135470,"apache","apache/storm","https://github.com/apache/storm",6391,4091]
[23059575,"weaveworks","weaveworks/weave","https://github.com/weaveworks/weave",6361,647]
[82700090,"uber","uber/cadence","https://github.com/uber/cadence",6310,635]
[82700090,"uber","uber/cadence","https://github.com/uber/cadence",6310,635]
[166515022,"trinodb","trinodb/trino","https://github.com/trinodb/trino",6198,1970]
[143896900,"tilt-dev","tilt-dev/tilt","https://github.com/tilt-dev/tilt",6050,228]
[120650407,"operator-framework","operator-framework/operator-sdk","https://github.com/operator-framework/operator-sdk",6041,1570]
[192779991,"vmware-tanzu","vmware-tanzu/octant","https://github.com/vmware-tanzu/octant",6036,426]
[7276954,"Alluxio","Alluxio/alluxio","https://github.com/Alluxio/alluxio",5901,2742]
[50904245,"apache","apache/beam","https://github.com/apache/beam",5886,3660]
[147886080,"crossplane","crossplane/crossplane","https://github.com/crossplane/crossplane",5858,594]
[105262714,"oauth2-proxy","oauth2-proxy/oauth2-proxy","https://github.com/oauth2-proxy/oauth2-proxy",5793,1060]
[199763479,"bfenetworks","bfenetworks/bfe","https://github.com/bfenetworks/bfe",5669,916]
[34659664,"weaveworks","weaveworks/scope","https://github.com/weaveworks/scope",5544,704]
[4254338,"graphite-project","graphite-project/graphite-web","https://github.com/graphite-project/graphite-web",5538,1283]
[244694886,"ccfos","ccfos/nightingale","https://github.com/ccfos/nightingale",5421,941]
[82933315,"telepresenceio","telepresenceio/telepresence","https://github.com/telepresenceio/telepresence",5346,421]
[150713223,"kubeedge","kubeedge/kubeedge","https://github.com/kubeedge/kubeedge",5299,1407]
[72875399,"luraproject","luraproject/lura","https://github.com/luraproject/lura",5242,506]
[49986046,"falcosecurity","falcosecurity/falco","https://github.com/falcosecurity/falco",5224,696]
[206213815,"chaos-mesh","chaos-mesh/chaos-mesh","https://github.com/chaos-mesh/chaos-mesh",5190,656]
[160626997,"uber","uber/kraken","https://github.com/uber/kraken",5185,360]
[110027931,"metallb","metallb/metallb","https://github.com/metallb/metallb",5184,682]
[94779471,"aquasecurity","aquasecurity/kube-bench","https://github.com/aquasecurity/kube-bench",5174,983]
[384451028,"cloudwego","cloudwego/kitex","https://github.com/cloudwego/kitex",5128,547]
[175192867,"chaosblade-io","chaosblade-io/chaosblade","https://github.com/chaosblade-io/chaosblade",4972,839]
[11469439,"apache","apache/mesos","https://github.com/apache/mesos",4961,1698]
[19051806,"StackStorm","StackStorm/st2","https://github.com/StackStorm/st2",4955,673]
[67793333,"cortexproject","cortexproject/cortex","https://github.com/cortexproject/cortex",4865,698]
[371564104,"megaease","megaease/easegress","https://github.com/megaease/easegress",4799,418]
[865412,"OpenTSDB","OpenTSDB/opentsdb","https://github.com/OpenTSDB/opentsdb",4729,1257]
[224386599,"bridgecrewio","bridgecrewio/checkov","https://github.com/bridgecrewio/checkov",4709,709]
[886774,"rundeck","rundeck/rundeck","https://github.com/rundeck/rundeck",4701,833]
[7083240,"orientechnologies","orientechnologies/orientdb","https://github.com/orientechnologies/orientdb",4510,860]
[13839311,"openstack","openstack/openstack","https://github.com/openstack/openstack",4485,1564]
[19816070,"MariaDB","MariaDB/server","https://github.com/MariaDB/server",4470,1405]
[158171016,"KubeOperator","KubeOperator/KubeOperator","https://github.com/KubeOperator/KubeOperator",4441,806]
[33429211,"containernetworking","containernetworking/cni","https://github.com/containernetworking/cni",4436,951]
[52837350,"cloud-custodian","cloud-custodian/cloud-custodian","https://github.com/cloud-custodian/cloud-custodian",4411,1215]
[52837350,"cloud-custodian","cloud-custodian/cloud-custodian","https://github.com/cloud-custodian/cloud-custodian",4411,1215]
[31006158,"apache","apache/ignite","https://github.com/apache/ignite",4284,1795]
[67828134,"cri-o","cri-o/cri-o","https://github.com/cri-o/cri-o",4250,845]
[61153677,"m3db","m3db/m3","https://github.com/m3db/m3",4249,410]
[116400734,"jenkins-x","jenkins-x/jx","https://github.com/jenkins-x/jx",4243,779]
[276822250,"kubevela","kubevela/kubevela","https://github.com/kubevela/kubevela",4233,603]
[88298561,"longhorn","longhorn/longhorn","https://github.com/longhorn/longhorn",4116,546]
[3631697,"tsuru","tsuru/tsuru","https://github.com/tsuru/tsuru",4113,509]
[141447532,"aquasecurity","aquasecurity/kube-hunter","https://github.com/aquasecurity/kube-hunter",3928,529]
[51290852,"bigchaindb","bigchaindb/bigchaindb","https://github.com/bigchaindb/bigchaindb",3928,782]
[140654872,"mosn","mosn/mosn","https://github.com/mosn/mosn",3920,740]
[63882194,"projectcalico","projectcalico/calico","https://github.com/projectcalico/calico",3905,928]
[99412308,"apache","apache/incubator-seatunnel","https://github.com/apache/incubator-seatunnel",3899,699]
[86740149,"emissary-ingress","emissary-ingress/emissary","https://github.com/emissary-ingress/emissary",3880,629]
[258469100,"fluxcd","fluxcd/flux2","https://github.com/fluxcd/flux2",3862,406]
[149515625,"fluxcd","fluxcd/flagger","https://github.com/fluxcd/flagger",3861,582]
[243394576,"pixie-io","pixie-io/pixie","https://github.com/pixie-io/pixie",3851,266]
[43884372,"sorintlab","sorintlab/stolon","https://github.com/sorintlab/stolon",3832,413]
[1377037,"gluster","gluster/glusterfs","https://github.com/gluster/glusterfs",3824,1022]
[224908244,"WasmEdge","WasmEdge/WasmEdge","https://github.com/WasmEdge/WasmEdge",3804,393]
[113701924,"cloudevents","cloudevents/spec","https://github.com/cloudevents/spec",3683,493]
[43158694,"apache","apache/incubator-heron","https://github.com/apache/incubator-heron",3619,621]
[128709824,"sofastack","sofastack/sofa-rpc","https://github.com/sofastack/sofa-rpc",3613,1097]
[76686583,"kubevirt","kubevirt/kubevirt","https://github.com/kubevirt/kubevirt",3553,859]
[118510171,"solo-io","solo-io/gloo","https://github.com/solo-io/gloo",3544,364]
[26192117,"lxc","lxc/lxd","https://github.com/lxc/lxd",3497,798]
[9342529,"crate","crate/crate","https://github.com/crate/crate",3494,514]
[58194180,"strimzi","strimzi/strimzi-kafka-operator","https://github.com/strimzi/strimzi-kafka-operator",3452,986]
[27911088,"apache","apache/nifi","https://github.com/apache/nifi",3440,2338]
[46904685,"opentracing","opentracing/opentracing-go","https://github.com/opentracing/opentracing-go",3405,321]
[189490177,"openkruise","openkruise/kruise","https://github.com/openkruise/kruise",3356,562]
[50365232,"werf","werf/werf","https://github.com/werf/werf",3329,168]
[109451092,"siderolabs","siderolabs/talos","https://github.com/siderolabs/talos",3322,270]
[103084166,"tenable","tenable/terrascan","https://github.com/tenable/terrascan",3294,395]
[85039965,"litmuschaos","litmuschaos/litmus","https://github.com/litmuschaos/litmus",3290,525]
[163722349,"pomerium","pomerium/pomerium","https://github.com/pomerium/pomerium",3240,255]
[108462822,"projectcontour","projectcontour/contour","https://github.com/projectcontour/contour",3232,581]
[105809298,"cdk8s-team","cdk8s-team/cdk8s","https://github.com/cdk8s-team/cdk8s",3194,245]
[105809298,"cdk8s-team","cdk8s-team/cdk8s","https://github.com/cdk8s-team/cdk8s",3194,245]
[128791889,"haproxy","haproxy/haproxy","https://github.com/haproxy/haproxy",3147,611]
[145153231,"loft-sh","loft-sh/devspace","https://github.com/loft-sh/devspace",3095,266]
[18383364,"openvswitch","openvswitch/ovs","https://github.com/openvswitch/ovs",2991,1752]
[83363132,"CrunchyData","CrunchyData/postgres-operator","https://github.com/CrunchyData/postgres-operator",2969,464]
[33866783,"SUSE","SUSE/Portus","https://github.com/SUSE/Portus",2960,486]
[169108858,"kyverno","kyverno/kyverno","https://github.com/kyverno/kyverno",2952,415]
[145011089,"buzzfeed","buzzfeed/sso","https://github.com/buzzfeed/sso",2950,177]
[120181748,"kiali","kiali/kiali","https://github.com/kiali/kiali",2945,420]
[124312956,"microsoft","microsoft/service-fabric","https://github.com/microsoft/service-fabric",2935,389]
[175425051,"kumahq","kumahq/kuma","https://github.com/kumahq/kuma",2931,261]
[171396748,"cubefs","cubefs/cubefs","https://github.com/cubefs/cubefs",2911,389]
[37743436,"notaryproject","notaryproject/notary","https://github.com/notaryproject/notary",2888,515]
[51556828,"moby","moby/swarmkit","https://github.com/moby/swarmkit",2875,602]
[108337180,"rancher","rancher/rke","https://github.com/rancher/rke",2810,549]
[55072677,"semi-technologies","semi-technologies/weaviate","https://github.com/semi-technologies/weaviate",2801,163]
[38812664,"zalando","zalando/skipper","https://github.com/zalando/skipper",2753,297]
[157735858,"FairwindsOps","FairwindsOps/polaris","https://github.com/FairwindsOps/polaris",2686,179]
[175592968,"volcano-sh","volcano-sh/volcano","https://github.com/volcano-sh/volcano",2633,608]
[191840044,"oam-dev","oam-dev/spec","https://github.com/oam-dev/spec",2618,237]
[98453563,"vmware-tanzu","vmware-tanzu/sonobuoy","https://github.com/vmware-tanzu/sonobuoy",2614,321]
[41571541,"inspec","inspec/inspec","https://github.com/inspec/inspec",2559,669]
[311639195,"karmada-io","karmada-io/karmada","https://github.com/karmada-io/karmada",2557,515]
[32866430,"square","square/keywhiz","https://github.com/square/keywhiz",2524,215]
[17253775,"zabbix","zabbix/zabbix","https://github.com/zabbix/zabbix",2518,732]
[143846881,"okteto","okteto/okteto","https://github.com/okteto/okteto",2506,239]
[227895834,"openservicemesh","openservicemesh/osm","https://github.com/openservicemesh/osm",2480,265]
[36098429,"habitat-sh","habitat-sh/habitat","https://github.com/habitat-sh/habitat",2397,331]
[43982667,"apptainer","apptainer/singularity","https://github.com/apptainer/singularity",2377,435]
[108049853,"brigadecore","brigadecore/brigade","https://github.com/brigadecore/brigade",2364,251]
[236055696,"grafana","grafana/tempo","https://github.com/grafana/tempo",2343,270]
[790019,"openstack","openstack/swift","https://github.com/openstack/swift",2335,1057]
[40127179,"FeatureBaseDB","FeatureBaseDB/featurebase","https://github.com/FeatureBaseDB/featurebase",2322,221]
[159242360,"kubernetes-sigs","kubernetes-sigs/kui","https://github.com/kubernetes-sigs/kui",2316,172]
[117377862,"gardener","gardener/gardener","https://github.com/gardener/gardener",2307,395]
[143456583,"rancher","rancher/rio","https://github.com/rancher/rio",2282,228]
[206459,"apache","apache/avro","https://github.com/apache/avro",2258,1389]
[258750,"theforeman","theforeman/foreman","https://github.com/theforeman/foreman",2244,949]
[238662977,"deepfence","deepfence/ThreatMapper","https://github.com/deepfence/ThreatMapper",2122,223]
[110539997,"kata-containers","kata-containers/runtime","https://github.com/kata-containers/runtime",2108,384]
[220517730,"quay","quay/quay","https://github.com/quay/quay",2041,216]
[20445947,"juju","juju/juju","https://github.com/juju/juju",2036,439]
[125824259,"xtdb","xtdb/xtdb","https://github.com/xtdb/xtdb",1998,146]
[3910314,"cloudfoundry","cloudfoundry/bosh","https://github.com/cloudfoundry/bosh",1985,656]
[3910314,"cloudfoundry","cloudfoundry/bosh","https://github.com/cloudfoundry/bosh",1985,656]
[355946670,"loft-sh","loft-sh/vcluster","https://github.com/loft-sh/vcluster",1982,170]
[175095528,"submariner-io","submariner-io/submariner","https://github.com/submariner-io/submariner",1965,151]
[88471725,"cloudnativelabs","cloudnativelabs/kube-router","https://github.com/cloudnativelabs/kube-router",1958,434]
[2445970,"VoltDB","VoltDB/voltdb","https://github.com/VoltDB/voltdb",1930,447]
[307894865,"alibaba","alibaba/GraphScope","https://github.com/alibaba/GraphScope",1913,228]
[95098170,"OpenObservability","OpenObservability/OpenMetrics","https://github.com/OpenObservability/OpenMetrics",1866,145]
[113219762,"powerfulseal","powerfulseal/powerfulseal","https://github.com/powerfulseal/powerfulseal",1817,168]
[91674936,"apache","apache/servicecomb-java-chassis","https://github.com/apache/servicecomb-java-chassis",1809,769]
[63096822,"pravega","pravega/pravega","https://github.com/pravega/pravega",1795,378]
[197374067,"grafana","grafana/tanka","https://github.com/grafana/tanka",1774,137]
[138544269,"buildpacks","buildpacks/pack","https://github.com/buildpacks/pack",1763,195]
[127344362,"trickstercache","trickstercache/trickster","https://github.com/trickstercache/trickster",1763,161]
[12440855,"Icinga","Icinga/icinga2","https://github.com/Icinga/icinga2",1759,533]
[187875305,"traefik","traefik/mesh","https://github.com/traefik/mesh",1742,122]
[99544448,"poseidon","poseidon/typhoon","https://github.com/poseidon/typhoon",1714,310]
[100131598,"solo-io","solo-io/squash","https://github.com/solo-io/squash",1684,107]
[5874515,"mistio","mistio/mist-ce","https://github.com/mistio/mist-ce",1677,273]
[12223350,"cloudfoundry","cloudfoundry/cli","https://github.com/cloudfoundry/cli",1667,902]
[388260896,"aws","aws/eks-anywhere","https://github.com/aws/eks-anywhere",1642,173]
[31788540,"spring-cloud","spring-cloud/spring-cloud-sleuth","https://github.com/spring-cloud/spring-cloud-sleuth",1630,750]
[44998824,"Yelp","Yelp/paasta","https://github.com/Yelp/paasta",1620,222]
[284555713,"nestybox","nestybox/sysbox","https://github.com/nestybox/sysbox",1609,95]
[104656275,"chaostoolkit","chaostoolkit/chaostoolkit","https://github.com/chaostoolkit/chaostoolkit",1603,165]
[76367175,"k8snetworkplumbingwg","k8snetworkplumbingwg/multus-cni","https://github.com/k8snetworkplumbingwg/multus-cni",1591,466]
[72786190,"linki","linki/chaoskube","https://github.com/linki/chaoskube",1563,109]
[162610275,"squat","squat/kilo","https://github.com/squat/kilo",1550,92]
[276365255,"opencurve","opencurve/curve","https://github.com/opencurve/curve",1512,290]
[137922416,"kuberhealthy","kuberhealthy/kuberhealthy","https://github.com/kuberhealthy/kuberhealthy",1509,214]
[157554479,"meshery","meshery/meshery","https://github.com/meshery/meshery",1507,706]
[166831098,"keptn","keptn/keptn","https://github.com/keptn/keptn",1505,227]
[102645710,"anchore","anchore/anchore-engine","https://github.com/anchore/anchore-engine",1503,267]
[179344069,"woodpecker-ci","woodpecker-ci/woodpecker","https://github.com/woodpecker-ci/woodpecker",1483,150]
[36487440,"gravitee-io","gravitee-io/gravitee-api-management","https://github.com/gravitee-io/gravitee-api-management",1480,348]
[2203782,"TritonDataCenter","TritonDataCenter/smartos-live","https://github.com/TritonDataCenter/smartos-live",1469,250]
[7942805,"theupdateframework","theupdateframework/python-tuf","https://github.com/theupdateframework/python-tuf",1436,234]
[183510345,"FairwindsOps","FairwindsOps/goldilocks","https://github.com/FairwindsOps/goldilocks",1433,79]
[311269921,"nocalhost","nocalhost/nocalhost","https://github.com/nocalhost/nocalhost",1398,118]
[177068961,"kubeovn","kubeovn/kube-ovn","https://github.com/kubeovn/kube-ovn",1392,334]
[99028287,"grafeas","grafeas/grafeas","https://github.com/grafeas/grafeas",1386,285]
[18988631,"siddhi-io","siddhi-io/siddhi","https://github.com/siddhi-io/siddhi",1382,499]
[217420145,"antrea-io","antrea-io/antrea","https://github.com/antrea-io/antrea",1337,267]
[303802332,"vmware-tanzu","vmware-tanzu/community-edition","https://github.com/vmware-tanzu/community-edition",1333,261]
[50505775,"moosefs","moosefs/moosefs","https://github.com/moosefs/moosefs",1331,174]
[62117818,"apache","apache/carbondata","https://github.com/apache/carbondata",1330,700]
[265800635,"openyurtio","openyurtio/openyurt","https://github.com/openyurtio/openyurt",1290,287]
[100061496,"spiffe","spiffe/spire","https://github.com/spiffe/spire",1250,333]
[248386471,"kubesphere","kubesphere/kubekey","https://github.com/kubesphere/kubekey",1229,337]
[173207060,"vmware-tanzu","vmware-tanzu/carvel-ytt","https://github.com/vmware-tanzu/carvel-ytt",1225,101]
[20789757,"ManageIQ","ManageIQ/manageiq","https://github.com/ManageIQ/manageiq",1216,842]
[316257595,"opstrace","opstrace/opstrace","https://github.com/opstrace/opstrace",1201,45]
[249814436,"FairwindsOps","FairwindsOps/pluto","https://github.com/FairwindsOps/pluto",1171,68]
[16119670,"NagiosEnterprises","NagiosEnterprises/nagioscore","https://github.com/NagiosEnterprises/nagioscore",1164,388]
[168629414,"openelb","openelb/openelb","https://github.com/openelb/openelb",1150,155]
[188402099,"agola-io","agola-io/agola","https://github.com/agola-io/agola",1145,101]
[278954673,"fluid-cloudnative","fluid-cloudnative/fluid","https://github.com/fluid-cloudnative/fluid",1139,394]
[62855546,"openservicebrokerapi","openservicebrokerapi/servicebroker","https://github.com/openservicebrokerapi/servicebroker",1118,434]
[125060113,"FairwindsOps","FairwindsOps/rbac-manager","https://github.com/FairwindsOps/rbac-manager",1111,101]
[99618772,"spiffe","spiffe/spiffe","https://github.com/spiffe/spiffe",1095,130]
[91765224,"container-storage-interface","container-storage-interface/spec","https://github.com/container-storage-interface/spec",1084,338]
[158545617,"kudobuilder","kudobuilder/kudo","https://github.com/kudobuilder/kudo",1051,98]
[116995448,"fossas","fossas/fossa-cli","https://github.com/fossas/fossa-cli",1043,160]
[99251094,"elastic","elastic/apm-server","https://github.com/elastic/apm-server",1038,416]
[233809604,"artifacthub","artifacthub/hub","https://github.com/artifacthub/hub",1036,140]
[155974736,"kubermatic","kubermatic/kubeone","https://github.com/kubermatic/kubeone",1014,200]
[133340671,"sofastack","sofastack/sofa-tracer","https://github.com/sofastack/sofa-tracer",1007,347]
[1050944,"infinispan","infinispan/infinispan","https://github.com/infinispan/infinispan",1000,571]
[155447233,"Azure","Azure/aks-engine","https://github.com/Azure/aks-engine",990,536]
[155558016,"solo-io","solo-io/gloo-mesh","https://github.com/solo-io/gloo-mesh",982,110]
[146337367,"wise2c-devops","wise2c-devops/breeze","https://github.com/wise2c-devops/breeze",979,360]
[19279199,"OpenSCAP","OpenSCAP/openscap","https://github.com/OpenSCAP/openscap",974,316]
[177296431,"servicemeshinterface","servicemeshinterface/smi-spec","https://github.com/servicemeshinterface/smi-spec",971,112]
[175833318,"skooner-k8s","skooner-k8s/skooner","https://github.com/skooner-k8s/skooner",971,151]
[59517730,"screwdriver-cd","screwdriver-cd/screwdriver","https://github.com/screwdriver-cd/screwdriver",952,158]
[30753733,"percona","percona/percona-server","https://github.com/percona/percona-server",939,410]
[1464595,"OpenNebula","OpenNebula/one","https://github.com/OpenNebula/one",921,421]
[138287889,"Netis","Netis/packet-agent","https://github.com/Netis/packet-agent",918,167]
[155893691,"getporter","getporter/porter","https://github.com/getporter/porter",885,147]
[50734768,"kubermatic","kubermatic/kubermatic","https://github.com/kubermatic/kubermatic",883,135]
[238232099,"loft-sh","loft-sh/kiosk","https://github.com/loft-sh/kiosk",868,57]
[322759957,"superedge","superedge/superedge","https://github.com/superedge/superedge",851,192]
[302703576,"project-akri","project-akri/akri","https://github.com/project-akri/akri",825,101]
[302703576,"project-akri","project-akri/akri","https://github.com/project-akri/akri",825,101]
[96556718,"FDio","FDio/vpp","https://github.com/FDio/vpp",824,480]
[82981995,"sensu","sensu/sensu-go","https://github.com/sensu/sensu-go",815,160]
[77096333,"sodafoundation","sodafoundation/api","https://github.com/sodafoundation/api",806,330]
[171669368,"tribe29","tribe29/checkmk","https://github.com/tribe29/checkmk",803,329]
[288523518,"couler-proj","couler-proj/couler","https://github.com/couler-proj/couler",766,77]
[288523518,"couler-proj","couler-proj/couler","https://github.com/couler-proj/couler",766,77]
[253887459,"rancher","rancher/rke2","https://github.com/rancher/rke2",753,175]
[309874357,"dragonflyoss","dragonflyoss/Dragonfly2","https://github.com/dragonflyoss/Dragonfly2",725,115]
[198856247,"replicatedhq","replicatedhq/kots","https://github.com/replicatedhq/kots",718,69]
[73948366,"AthenZ","AthenZ/athenz","https://github.com/AthenZ/athenz",717,233]
[86400116,"openmessaging","openmessaging/openmessaging-java","https://github.com/openmessaging/openmessaging-java",716,220]
[162945532,"oras-project","oras-project/oras","https://github.com/oras-project/oras",712,101]
[215783734,"deckhouse","deckhouse/deckhouse","https://github.com/deckhouse/deckhouse",699,57]
[215102779,"tinkerbell","tinkerbell/tink","https://github.com/tinkerbell/tink",689,109]
[211798430,"tremor-rs","tremor-rs/tremor-runtime","https://github.com/tremor-rs/tremor-runtime",685,108]
[16347164,"buildkite","buildkite/agent","https://github.com/buildkite/agent",677,265]
[183834521,"schemahero","schemahero/schemahero","https://github.com/schemahero/schemahero",669,63]
[126499529,"projectcontour","projectcontour/gimbal","https://github.com/projectcontour/gimbal",663,92]
[143233750,"FairwindsOps","FairwindsOps/rbac-lookup","https://github.com/FairwindsOps/rbac-lookup",662,38]
[306631211,"v6d-io","v6d-io/v6d","https://github.com/v6d-io/v6d",634,83]
[304403692,"wasmCloud","wasmCloud/wasmCloud","https://github.com/wasmCloud/wasmCloud",631,47]
[304403692,"wasmCloud","wasmCloud/wasmCloud","https://github.com/wasmCloud/wasmCloud",631,47]
[59531400,"in-toto","in-toto/in-toto","https://github.com/in-toto/in-toto",624,112]
[271714774,"pipe-cd","pipe-cd/pipecd","https://github.com/pipe-cd/pipecd",614,63]
[4693087,"travis-ci","travis-ci/travis-web","https://github.com/travis-ci/travis-web",606,335]
[373775141,"kubeshop","kubeshop/monokle","https://github.com/kubeshop/monokle",601,51]
[117251051,"LINBIT","LINBIT/linstor-server","https://github.com/LINBIT/linstor-server",586,46]
[198898598,"replicatedhq","replicatedhq/kURL","https://github.com/replicatedhq/kURL",584,57]
[23597054,"TritonDataCenter","TritonDataCenter/manta","https://github.com/TritonDataCenter/manta",581,65]
[9074774,"centreon","centreon/centreon","https://github.com/centreon/centreon",573,259]
[62174977,"cyberark","cyberark/conjur","https://github.com/cyberark/conjur",571,104]
[32169193,"open-io","open-io/oio-sds","https://github.com/open-io/oio-sds",560,93]
[139140778,"NexClipper","NexClipper/NexClipper","https://github.com/NexClipper/NexClipper",558,71]
[107638632,"Accenture","Accenture/reactive-interaction-gateway","https://github.com/Accenture/reactive-interaction-gateway",540,67]
[307768615,"curiefense","curiefense/curiefense","https://github.com/curiefense/curiefense",536,80]
[184620732,"open-telemetry","open-telemetry/community","https://github.com/open-telemetry/community",524,161]
[163074901,"kubemq-io","kubemq-io/kubemq-community","https://github.com/kubemq-io/kubemq-community",514,33]
[263214582,"inclavare-containers","inclavare-containers/inclavare-containers","https://github.com/inclavare-containers/inclavare-containers",509,64]
[127937836,"networkservicemesh","networkservicemesh/networkservicemesh","https://github.com/networkservicemesh/networkservicemesh",504,150]
[224421982,"k8gb-io","k8gb-io/k8gb","https://github.com/k8gb-io/k8gb",492,60]
[264246502,"serverlessworkflow","serverlessworkflow/specification","https://github.com/serverlessworkflow/specification",487,111]
[86123872,"cni-genie","cni-genie/CNI-Genie","https://github.com/cni-genie/CNI-Genie",481,123]
[381952060,"kubeshop","kubeshop/testkube","https://github.com/kubeshop/testkube",467,43]
[76088862,"megaease","megaease/easeagent","https://github.com/megaease/easeagent",467,86]
[386570418,"FabEdge","FabEdge/fabedge","https://github.com/FabEdge/fabedge",459,49]
[93576430,"scality","scality/Zenko","https://github.com/scality/Zenko",452,82]
[101875675,"uselagoon","uselagoon/lagoon","https://github.com/uselagoon/lagoon",447,141]
[412113556,"open-cluster-management-io","open-cluster-management-io/OCM","https://github.com/open-cluster-management-io/OCM",443,35]
[12347995,"Juniper","Juniper/contrail-controller","https://github.com/Juniper/contrail-controller",440,393]
[214656224,"inlets","inlets/inlets-pro","https://github.com/inlets/inlets-pro",439,40]
[214396571,"hyscale","hyscale/hyscale","https://github.com/hyscale/hyscale",437,41]
[334851928,"megaease","megaease/easemesh","https://github.com/megaease/easemesh",431,44]
[126647111,"cloud-ark","cloud-ark/kubeplus","https://github.com/cloud-ark/kubeplus",424,60]
[3543548,"cfengine","cfengine/core","https://github.com/cfengine/core",419,184]
[3543548,"cfengine","cfengine/core","https://github.com/cfengine/core",419,184]
[187084432,"razee-io","razee-io/Razee","https://github.com/razee-io/Razee",414,38]
[384241097,"open-gitops","open-gitops/project","https://github.com/open-gitops/project",401,20]
[2528254,"Normation","Normation/rudder","https://github.com/Normation/rudder",381,70]
[227010082,"kubedl-io","kubedl-io/kubedl","https://github.com/kubedl-io/kubedl",375,69]
[218068847,"apioak","apioak/apioak","https://github.com/apioak/apioak",375,56]
[130035428,"foniod","foniod/foniod","https://github.com/foniod/foniod",374,29]
[183445613,"parallaxsecond","parallaxsecond/parsec","https://github.com/parallaxsecond/parsec",365,52]
[166203864,"k8up-io","k8up-io/k8up","https://github.com/k8up-io/k8up",341,26]
[226072757,"piraeusdatastore","piraeusdatastore/piraeus","https://github.com/piraeusdatastore/piraeus",331,39]
[7058562,"mulesoft","mulesoft/mule","https://github.com/mulesoft/mule",329,653]
[152550404,"nokia","nokia/danm","https://github.com/nokia/danm",326,79]
[26314357,"openstack","openstack/magnum","https://github.com/openstack/magnum",305,222]
[385158917,"kubecube-io","kubecube-io/KubeCube","https://github.com/kubecube-io/KubeCube",303,51]
[124905930,"scality","scality/metalk8s","https://github.com/scality/metalk8s",289,46]
[114474246,"darxkies","darxkies/k8s-tew","https://github.com/darxkies/k8s-tew",289,36]
[218249592,"kubermatic","kubermatic/kubecarrier","https://github.com/kubermatic/kubecarrier",282,16]
[53965666,"3scale","3scale/APIcast","https://github.com/3scale/APIcast",276,152]
[84104787,"ortelius","ortelius/ortelius","https://github.com/ortelius/ortelius",249,112]
[168888155,"service-mesh-performance","service-mesh-performance/service-mesh-performance","https://github.com/service-mesh-performance/service-mesh-performance",231,115]
[134538006,"wso2","wso2/product-microgateway","https://github.com/wso2/product-microgateway",228,212]
[86509608,"maas","maas/maas","https://github.com/maas/maas",222,93]
[3180703,"couchbase","couchbase/manifest","https://github.com/couchbase/manifest",198,94]
[97228445,"ligato","ligato/vpp-agent","https://github.com/ligato/vpp-agent",195,116]
[332999480,"kubefirst","kubefirst/kubefirst","https://github.com/kubefirst/kubefirst",176,13]
[199619921,"saarasio","saarasio/enroute","https://github.com/saarasio/enroute",170,12]
[199487892,"digitalrebar","digitalrebar/provision","https://github.com/digitalrebar/provision",138,34]
[199487892,"digitalrebar","digitalrebar/provision","https://github.com/digitalrebar/provision",138,34]
[408727871,"kubeshop","kubeshop/kusk-gateway","https://github.com/kubeshop/kusk-gateway",136,15]
[54725435,"charmed-kubernetes","charmed-kubernetes/bundle","https://github.com/charmed-kubernetes/bundle",131,51]
[18326574,"cloudify-cosmo","cloudify-cosmo/cloudify-manager","https://github.com/cloudify-cosmo/cloudify-manager",126,72]
[18326574,"cloudify-cosmo","cloudify-cosmo/cloudify-manager","https://github.com/cloudify-cosmo/cloudify-manager",126,72]
[140261100,"cybozu-go","cybozu-go/cke","https://github.com/cybozu-go/cke",122,11]
[295485450,"Azure","Azure/API-Management","https://github.com/Azure/API-Management",90,7]
[368314469,"krator-rs","krator-rs/krator","https://github.com/krator-rs/krator",88,11]
[271250363,"k0sproject","k0sproject/k0s","https://github.com/k0sproject/k0s",84,262]
[203163249,"ilkilab","ilkilab/agorakube","https://github.com/ilkilab/agorakube",83,54]
[102576190,"puppetlabs","puppetlabs/puppetlabs-kubernetes","https://github.com/puppetlabs/puppetlabs-kubernetes",83,127]
[235835211,"sighupio","sighupio/fury-distribution","https://github.com/sighupio/fury-distribution",62,6]
[129878089,"slzcc","slzcc/crane","https://github.com/slzcc/crane",55,22]
[144783430,"airshipit","airshipit/treasuremap","https://github.com/airshipit/treasuremap",42,39]
[144783430,"airshipit","airshipit/treasuremap","https://github.com/airshipit/treasuremap",42,39]
[197241821,"airshipit","airshipit/airshipctl","https://github.com/airshipit/airshipctl",38,48]
[142926510,"particuleio","particuleio/symplegma","https://github.com/particuleio/symplegma",38,8]
[220698719,"flexkube","flexkube/libflexkube","https://github.com/flexkube/libflexkube",30,7]
[162939338,"QingCloudAppcenter","QingCloudAppcenter/QKE","https://github.com/QingCloudAppcenter/QKE",27,15]
[296643893,"elastisys","elastisys/ck8s-cluster","https://github.com/elastisys/ck8s-cluster",16,2]
[411029320,"smart-edge-open","smart-edge-open/open-developer-experience-kits","https://github.com/smart-edge-open/open-developer-experience-kits",14,15]
[120284730,"kubic-project","kubic-project/container-images","https://github.com/kubic-project/container-images",9,8]
[358693091,"shipwright-io","shipwright-io/community","https://github.com/shipwright-io/community",8,13]
[330533312,"aceeric","aceeric/desktop-kubernetes","https://github.com/aceeric/desktop-kubernetes",5,2]
[145783478,"catalyst-cloud","catalyst-cloud/magnum","https://github.com/catalyst-cloud/magnum",2,1]
[531514152,"cloudmatos","cloudmatos/matos","https://github.com/cloudmatos/matos",0,0]
[534740513,"vexxhost","vexxhost/magnum","https://github.com/vexxhost/magnum",0,1]

{"sheet":"GVP 项目","index":3,"n_rows":300,"n_cols":7,"rows_kept":300,"cut":false,"hidden":false,"merged":[]}
["Full_Path","GiteeUrl","GiteeStar","GiteeFork","GitHubUrl","GitHubStar","GitHubFork"]
["lengleng / pig","https://gitee.com/log4j/pig",34977,10894,"https://github.com/pig-mesh/pig",3931,630]
["若依 / RuoYi","https://gitee.com/y_project/RuoYi",32057,17028,"https://github.com/yangzongzhuan/RuoYi",2828,971]
["dromara / hutool","https://gitee.com/dromara/hutool",18815,6679,"https://github.com/dromara/hutool",23922,6648]
["江离 / Cloud-Platform","https://gitee.com/geek_qi/cloud-platform",17816,8280,"https://github.com/wxiaoqi/Spring-Cloud-Platform",5860,2364]
["微同科技 / 微同商城","https://gitee.com/fuyang_lipengjun/platform",16782,6287,"https://github.com/lipengjun92/platform-wxshop",252,98]
["smallchill / SpringBlade","https://gitee.com/smallc/SpringBlade",16737,6319,"https://github.com/chillzhuang/SpringBlade",5742,1227]
["keking / kkFileView","https://gitee.com/kekingcn/file-online-preview",15084,5918,"https://github.com/kekingcn/kkFileView",7479,2079]
["stylefeng / Guns","https://gitee.com/stylefeng/guns",14296,7210,"https://github.com/stylefeng/Guns",3489,1556]
["铭飞 / MCMS","https://gitee.com/mingSoft/MCMS",13520,6251,"https://github.com/ming-soft/mcms",1335,653]
["layui / layui","https://gitee.com/layui/layui",13319,3940,"https://github.com/layui/layui",26464,7081]
["binarywang / WxJava","https://gitee.com/binary/weixin-java-tools",13276,4367,"https://github.com/chanjarster/weixin-java-tools",2683,9230]
["小柒2012 / spring-boot-seckill","https://gitee.com/52itstyle/spring-boot-seckill",12347,5311,"https://github.com/ZoeShaw101/spring-boot-seckill",364,167]
["openEuler / kernel","https://gitee.com/openeuler/kernel",11000,614,null,0,0]
["@HuangBingGui / JeeSpringCloud","https://gitee.com/JeeHuangBingGui/jeeSpringCloud",10326,3385,"https://github.com/HuangBingGui/JeeSpringCloudV3.2",332,163]
["robergroup / pdman","https://gitee.com/robergroup/pdman",10068,2177,null,0,0]
["Longbow / BootstrapAdmin","https://gitee.com/LongbowEnterprise/BootstrapAdmin",9891,1162,"https://github.com/ArgoZhang/BootstrapAdmin",474,25]
["baomidou / mybatis-plus","https://gitee.com/baomidou/mybatis-plus",9867,3021,"https://github.com/baomidou/mybatis-plus",13532,3712]
["人人开源 / renren-security","https://gitee.com/renrenio/renren-security",9680,4768,"https://github.com/renrenio/renren-security",1932,1069]
["轨迹 / J-IM","https://gitee.com/xchao/j-im",9614,2604,null,0,0]
["许雪里 / xxl-job","https://gitee.com/xuxueli0323/xxl-job",9446,4725,"https://github.com/xuxueli/xxl-job",22547,9501]
["众邦科技 / CRMEB打通版","https://gitee.com/ZhongBangKeJi/CRMEB",9322,2919,"https://github.com/crmeb/CRMEB",3725,1064]
["季圣华 / 华夏ERP","https://gitee.com/jishenghua/JSH_ERP",9129,4275,"https://github.com/jishenghua/jshERP",1652,736]
["JFinal / JFinal","https://gitee.com/jfinal/jfinal",8540,3600,"https://github.com/jfinal/jfinal",3168,1355]
["dotNET China / Furion","https://gitee.com/dotnetchina/Furion",8379,3435,"https://github.com/MonkSoul/Furion",1709,306]
["卓源软件 / JeeSite","https://gitee.com/thinkgem/jeesite",8289,3935,"https://github.com/thinkgem/jeesite",7825,2806]
["dromara / Sa-Token","https://gitee.com/dromara/sa-token",8279,2094,"https://github.com/dromara/Sa-Token",10304,1866]
["计全科技 / jeepay","https://gitee.com/jeequan/jeepay",8210,3937,"https://github.com/jeequan/jeepay",2633,1220]
["yadong.zhang / JustAuth","https://gitee.com/yadong.zhang/JustAuth",7730,2456,"https://github.com/justauth/JustAuth",13758,2434]
["Javen / IJPay","https://gitee.com/javen205/IJPay",7692,2655,"https://github.com/Javen205/IJPay",4028,1140]
["Longbow / BootstrapBlazor","https://gitee.com/LongbowEnterprise/BootstrapBlazor",7640,532,"https://github.com/dotnetcore/BootstrapBlazor",1135,171]
["jeecp / open-capacity-platform","https://gitee.com/owenwangwen/open-capacity-platform",7606,3609,"https://github.com/open-capacity-platform/open-capacity-platform",47,36]
["方舟编译器 / OpenArkCompiler","https://gitee.com/openarkcompiler/OpenArkCompiler",7569,1339,"https://github.com/OpenArkCompiler/openarkcompiler",17,3]
["MindSpore / mindspore","https://gitee.com/mindspore/mindspore",6920,3211,null,0,0]
["anji-plus / AJ-Report","https://gitee.com/anji-plus/report",6683,2730,"https://github.com/anji-plus/report",371,122]
["狮子的魂 / ip2region","https://gitee.com/lionsoul/ip2region",6446,1639,"https://github.com/lionsoul2014/ip2region",12059,2199]
["领课网络（RonCoo） / roncoo-pay","https://gitee.com/roncoocom/roncoo-pay",6265,3029,"https://github.com/roncoo/roncoo-pay",4370,2515]
["程序员二师兄 / oasys","https://gitee.com/aaluoxiang/oa_system",6202,2706,"https://github.com/misstt123/oasys",171,80]
["ssssssss-team / spider-flow","https://gitee.com/ssssssss-team/spider-flow",5810,2658,"https://github.com/ssssssss-team/spider-flow",7225,1359]
["Karson / FastAdmin","https://gitee.com/karson/fastadmin",5654,1976,"https://github.com/karsonzhang/fastadmin",1502,548]
["萧明 / knife4j","https://gitee.com/xiaoym/knife4j",5547,1183,"https://github.com/xiaoymin/swagger-bootstrap-ui",3082,518]
["一枚码农 / lenosp","https://gitee.com/bweird/lenosp",5305,1958,"https://github.com/yuanlinqiang/lenosp",69,39]
["远方夕阳 / cim","https://gitee.com/farsunset/cim",5234,2353,"https://github.com/farsunset/cim",312,134]
["大漠穷秋 / NiceFish","https://gitee.com/mumu-osc/NiceFish",5168,1562,"https://github.com/damoqiongqiu/NiceFish",698,187]
["JPressProjects / jpress","https://gitee.com/JPressProjects/jpress",4999,2331,"https://github.com/JPressProjects/jpress",2476,1158]
["AgileBPM / agile-bpm-basic","https://gitee.com/agile-bpm/agile-bpm-basic",4950,914,"https://github.com/AgileBPM/agile-bpm-basic",74,38]
["java110 / MicroCommunity","https://gitee.com/wuxw7/MicroCommunity",4875,2445,"https://github.com/java110/MicroCommunity",715,327]
["张红元 / iot-dc3","https://gitee.com/pnoker/iot-dc3",4874,2193,"https://github.com/pnoker/iot-dc3",218,85]
["京东零售 / asyncTool","https://gitee.com/jd-platform-opensource/asyncTool",4824,1844,"https://github.com/twilight19870/asyncTool",42,18]
["腾讯开源 / APIJSON","https://gitee.com/Tencent/APIJSON",4687,1057,"https://github.com/Tencent/APIJSON",13770,1807]
["smallwei / Avue","https://gitee.com/smallweigit/avue",4652,1512,"https://github.com/nmxiaowei/avue",1936,462]
["Sunny / SunnyUI","https://gitee.com/yhuse/SunnyUI",4638,888,"https://github.com/yhuse/SunnyUI",1210,286]
["Barry / QtScrcpy","https://gitee.com/Barryda/QtScrcpy",4533,1200,"https://github.com/barry-ran/QtScrcpy",7628,1355]
["红薯 / J2Cache","https://gitee.com/ld/J2Cache",4509,1614,"https://github.com/oschina/J2Cache",54,21]
["anji-plus / AJ-Captcha","https://gitee.com/anji-plus/captcha",4468,1222,"https://github.com/anji-plus/captcha",827,226]
["陈钇蒙 / nginxWebUI","https://gitee.com/cym1102/nginxWebUI",4308,1326,"https://github.com/cym1102/nginxWebUI",989,187]
["曹二众 / jeewms","https://gitee.com/erzhongxmu/jeewms",4228,1899,null,0,0]
["黄亿华 / webmagic","https://gitee.com/flashsword20/webmagic",4223,1651,"https://github.com/code4craft/webmagic",10533,4078]
["思维跳跃科技 / uexam","https://gitee.com/mindskip/uexam",4221,1784,"https://github.com/mindskip/xzs",2195,538]
["萤火科技 / 萤火小程序商城","https://gitee.com/xany/bestshop-php",4215,1582,null,0,0]
["DataGear / datagear","https://gitee.com/datagear/datagear",4173,1662,"https://github.com/datageartech/datagear",687,211]
["Arthas / arthas","https://gitee.com/arthas/arthas",3969,968,"https://github.com/alibaba/arthas",30518,6658]
["O2OA企业应用开发平台 / O2OA","https://gitee.com/o2oa/O2OA",3885,2812,"https://github.com/o2oa/o2oa",3290,1071]
["领课网络（RonCoo） / roncoo-education","https://gitee.com/roncoocom/roncoo-education",3880,1864,"https://github.com/roncoo/roncoo-education",961,479]
["PaddlePaddle / Paddle","https://gitee.com/paddlepaddle/Paddle",3854,290,"https://github.com/PaddlePaddle/Paddle",18901,4709]
["idea4good / GuiLite","https://gitee.com/idea4good/GuiLite",3835,978,"https://github.com/idea4good/GuiLite",6442,714]
["liuruoze / EasyPR","https://gitee.com/liuruoze/EasyPR",3663,1457,"https://github.com/liuruoze/EasyPR",6162,2515]
["DCloud / uni-app","https://gitee.com/dcloud/uni-app",3620,684,"https://github.com/dcloudio/uni-app",37141,3352]
["dotNET China / OpenAuth.Net","https://gitee.com/dotnetchina/OpenAuth.Net",3602,1329,"https://github.com/yubaolee/OpenAuth.Net",78,33]
["纵之格 / ShopXO","https://gitee.com/zongzhige/shopxo",3579,1357,"https://github.com/gongfuxiang/shopxo",2012,670]
["smartboot / smart-socket","https://gitee.com/smartboot/smart-socket",3573,922,"https://github.com/smartboot/smart-socket",391,90]
["JFinal / jfinal-weixin","https://gitee.com/jfinal/jfinal-weixin",3532,1431,null,0,0]
["RT-Thread / rt-thread","https://gitee.com/rtthread/rt-thread",3527,1528,"https://github.com/RT-Thread/rt-thread",7429,4078]
["李春光 / bootdo","https://gitee.com/lcg0124/bootdo",3526,1795,"https://github.com/lcg0124/bootdo",751,445]
["雾渺 / KODExplorer","https://gitee.com/kalcaddle/KODExplorer",3521,1124,"https://github.com/kalcaddle/kodbox",998,185]
["dgiot开源社区 / dgiot","https://gitee.com/dgiiot/dgiot",3508,2518,"https://github.com/dgiot/dgiot",3200,1052]
["plume开源社区 / Plumelog","https://gitee.com/plumeorg/plumelog",3474,970,"https://github.com/fayechenlong/plumelog",156,55]
["JetLinks物联网基础平台 / jetlinks-community","https://gitee.com/jetlinks/jetlinks-community",3391,1435,"https://github.com/jetlinks/jetlinks-community",3147,1150]
["xuliangzhan / vxe-table","https://gitee.com/xuliangzhan_admin/vxe-table",3341,708,"https://github.com/x-extends/vxe-table",5307,798]
["AJay13 / ECommerceCrawlers","https://gitee.com/AJay13/ECommerceCrawlers",3257,1249,"https://github.com/DropsDevopsOrg/ECommerceCrawlers",3528,1118]
["EOVA / eova","https://gitee.com/eova/eova",3222,1439,"https://github.com/jieven/eova",36,12]
["tomsun28 / bootshiro","https://gitee.com/tomsun28/bootshiro",3139,1333,"https://github.com/tomsun28/bootshiro",599,250]
["qwdigital / LinkWeChat","https://gitee.com/LinkWeChat/link-wechat",3136,1234,"https://github.com/Link-WeChat/link-wechat",9,4]
["dromara / Jpom","https://gitee.com/dromara/Jpom",3062,1012,"https://github.com/dromara/Jpom",499,157]
["mengshukeji / Luckysheet","https://gitee.com/mengshukeji/Luckysheet",3059,913,"https://github.com/mengshukeji/Luckysheet",12089,1652]
["Ehsan / CrapApi","https://gitee.com/CrapApi/CrapApi",2989,1066,"https://github.com/EhsanTang/ApiManager",2288,765]
["uCharts / uCharts","https://gitee.com/uCharts/uCharts",2923,547,null,0,0]
["JbootProjects / jboot","https://gitee.com/JbootProjects/jboot",2906,893,"https://github.com/yangfuhai/jboot",705,241]
["dromara / liteFlow","https://gitee.com/dromara/liteFlow",2894,673,"https://github.com/dromara/liteFlow",1039,185]
["百度开源 / amis","https://gitee.com/baidu/amis",2876,736,"https://github.com/baidu/amis",11985,1688]
["seagull / LuckyFrameWeb","https://gitee.com/seagull1985/LuckyFrameWeb",2810,1493,"https://github.com/seagull1985/LuckyFrameWeb",419,208]
["stylefeng / Roses","https://gitee.com/stylefeng/roses",2718,1236,"https://github.com/stylefeng/Roses",187,105]
["狂奔的蜗牛. / goproxy","https://gitee.com/snail/proxy",2710,740,"https://github.com/snail007/goproxy",12720,2541]
["MqttsNet / thinglinks","https://gitee.com/mqttsnet/thinglinks",2683,465,"https://github.com/mqttsnet/thinglinks",301,152]
["tianyaleixiaowu / md_blockchain","https://gitee.com/tianyalei/md_blockchain",2660,1157,"https://github.com/tianyaleixiaowu/md_blockchain",31,20]
["ApiAdmin / ApiAdmin","https://gitee.com/apiadmin/ApiAdmin",2658,746,"https://github.com/Zhao-github/ApiAdmin",474,155]
["许雪里 / xxl-sso","https://gitee.com/xuxueli0323/xxl-sso",2581,1228,"https://github.com/xuxueli/xxl-sso",1741,763]
["DWSurvey / DWSurvey","https://gitee.com/wkeyuan/DWSurvey",2580,972,"https://github.com/wkeyuan/DWSurvey",2051,682]
["进击的皇虫 / BookStack","https://gitee.com/truthhun/BookStack",2578,952,"https://github.com/truthhun/BookStack",2893,708]
["RememBerBer / WePush","https://gitee.com/zhoubochina/WePush",2527,759,"https://github.com/rememberber/WePush",2870,837]
["百小僧 / Layx","https://gitee.com/monksoul/LayX",2523,410,"https://github.com/monksoul/LayX",668,118]
["野火IM / im-server","https://gitee.com/wfchat/im-server",2521,840,"https://github.com/wildfirechat/im-server",6815,1586]
["dromara / go-view","https://gitee.com/dromara/go-view",2500,854,"https://github.com/dromara/go-view",22,6]
["Longbow / SliderCaptcha","https://gitee.com/LongbowEnterprise/SliderCaptcha",2496,547,"https://github.com/dotnetcore/BootstrapBlazor",1135,171]
["ShardingSphere / Apache ShardingSphere","https://gitee.com/Sharding-Sphere/sharding-sphere",2487,896,"https://github.com/apache/shardingsphere",17340,5985]
["州的先生 / MrDoc","https://gitee.com/zmister/MrDoc",2478,758,"https://github.com/zmister2016/MrDoc",2183,432]
["Radar / radar","https://gitee.com/freshday/radar",2371,1096,null,0,0]
["京东零售 / hotkey","https://gitee.com/jd-platform-opensource/hotkey",2363,840,null,0,0]
["FastTunnel / FastTunnel","https://gitee.com/Hgui/FastTunnel",2355,582,"https://github.com/FastTunnel/FastTunnel",913,195]
["驰骋BPM / JFlow","https://gitee.com/opencc/JFlow",2334,660,null,0,0]
["Anyon / ThinkAdmin","https://gitee.com/zoujingli/ThinkAdmin",2286,875,"https://github.com/zoujingli/ThinkAdmin",1997,809]
["开放金融技术 / zbus","https://gitee.com/openforce/zbus",2260,868,"https://github.com/rushmore/zbus-server",74,27]
["baomidou / kisso","https://gitee.com/baomidou/kisso",2220,766,"https://github.com/baomidou/kisso",224,70]
["dromara / TLog","https://gitee.com/dromara/TLog",2210,491,"https://github.com/dromara/TLog",339,69]
["Apache ShenYu / shenyu","https://gitee.com/Apache-ShenYu/shenyu",2193,921,"https://github.com/apache/shenyu",7140,2457]
["John / gf","https://gitee.com/johng/gf",2148,528,"https://github.com/gogf/gf",8161,1169]
["dromara / MaxKey","https://gitee.com/dromara/MaxKey",2104,696,"https://github.com/dromara/MaxKey",616,169]
["dromara / mendmix","https://gitee.com/dromara/mendmix",2089,922,"https://github.com/dromara/mendmix",632,283]
["Huawei LiteOS / LiteOS","https://gitee.com/LiteOS/LiteOS",2088,1050,"https://github.com/LiteOS/LiteOS",4574,1534]
["doramart / DoraCMS","https://gitee.com/doramart/DoraCMS",2065,715,"https://github.com/doramart/DoraCMS",3285,1004]
["哆啦好梦 / electron-egg","https://gitee.com/wallace5303/electron-egg",2015,461,"https://github.com/wallace5303/electron-egg",476,84]
["yansongda / easyPay","https://gitee.com/yansongda/pay",1978,437,"https://github.com/yansongda/pay",4409,949]
["celaraze / chemex","https://gitee.com/celaraze/chemex",1952,611,"https://github.com/celaraze/chemex",409,109]
["柠檬夕桐 / neural","https://gitee.com/yu120/neural",1943,790,"https://github.com/yu120/neural",432,112]
["HandyOrg / HandyControl","https://gitee.com/handyorg/HandyControl",1871,457,"https://github.com/HandyOrg/HandyControl",4132,795]
["狮子的魂 / jcseg","https://gitee.com/lionsoul/jcseg",1859,551,"https://github.com/lionsoul2014/jcseg",821,213]
["DolphinScheduler / DolphinScheduler","https://gitee.com/dolphinscheduler/DolphinScheduler",1857,690,"https://github.com/apache/DolphinScheduler",8709,3330]
["umicro / uView","https://gitee.com/umicro/uView",1850,342,"https://github.com/umicro/uView",3541,735]
["HenryYee / Yearning","https://gitee.com/cookieYe/Yearning",1838,581,"https://github.com/cookieY/Yearning",7003,1811]
["dromara / koalas-rpc","https://gitee.com/dromara/koalas-rpc",1838,725,"https://github.com/dromara/koalas-rpc",81,28]
["aipaw / wookteam","https://gitee.com/aipaw/wookteam",1815,585,"https://github.com/aalphaa/wookteam",119,153]
["dogstar / PhalApi","https://gitee.com/dogstar/PhalApi",1797,484,"https://github.com/phalapi/phalapi",1477,365]
["dotNET China / SqlSugar ORM","https://gitee.com/dotnetchina/SqlSugar",1749,327,"https://github.com/donet5/SqlSugar",4162,1201]
["dotNET China / MiniExcel","https://gitee.com/dotnetchina/MiniExcel",1688,310,"https://github.com/mini-software/MiniExcel",1170,121]
["驰骋BPM / CCFlow","https://gitee.com/opencc/ccflow",1674,468,"https://github.com/ccbpm/CCFlow",30,6]
["WeBank / DataSphereStudio","https://gitee.com/WeBank/DataSphereStudio",1664,641,"https://github.com/WeBankFinTech/DataSphereStudio",2295,811]
["新德汇前端 / xdh-map","https://gitee.com/newgateway/xdh-map",1662,451,null,0,0]
["李玉宝 / OpenAuth.Core","https://gitee.com/yubaolee/OpenAuth.Core",1636,584,"https://github.com/yubaolee/OpenAuth.Cor",766,220]
["thinkcmf / ThinkCMF","https://gitee.com/thinkcmf/ThinkCMF",1623,503,"https://github.com/thinkcmf/thinkcmf",2023,610]
["LepusGroup / lepus","https://gitee.com/lepus-group/lepus",1619,640,"https://github.com/Georce/lepus",327,137]
["於之 / IOTGate","https://gitee.com/willbeahero/IOTGate",1616,608,"https://github.com/BrianApple/IOTGate",38,26]
["dromara / hmily","https://gitee.com/dromara/hmily",1606,508,"https://github.com/dromara/hmily",3899,1394]
["sjqzhang / go-fastdfs","https://gitee.com/sjqzhang/go-fastdfs",1595,362,"https://github.com/sjqzhang/go-fastdfs",3243,667]
["IoTSharp / IoTSharp","https://gitee.com/IoTSharp/IoTSharp",1592,429,"https://github.com/IoTSharp/IoTSharp",507,135]
["openspug / spug","https://gitee.com/openspug/spug",1586,572,"https://github.com/openspug/spug",7955,1718]
["夏楚 / ZLMediaKit","https://gitee.com/xia-chu/ZLMediaKit",1578,695,"https://github.com/ZLMediaKit/ZLMediaKit",7611,2080]
["伤神小怪兽 / HP-Socket","https://gitee.com/ldcsaa/HP-Socket",1561,516,"https://github.com/ldcsaa/HP-Socket",4858,1670]
["Elastic-Job / elastic-job","https://gitee.com/elasticjob/elastic-job",1493,565,"https://github.com/apache/shardingsphere-elasticjob",7687,3205]
["SOFAStack / sofa-boot","https://gitee.com/sofastack/sofa-boot",1491,465,"https://github.com/sofastack/sofa-boot",4609,1187]
["tuiqiao / CBoard","https://gitee.com/tuiqiao/CBoard",1473,683,"https://github.com/TuiQiao/CBoard",2877,1149]
["fasiondog / hikyuu","https://gitee.com/fasiondog/hikyuu",1462,589,"https://github.com/fasiondog/hikyuu",1378,438]
["GreaterWMS / GreaterWMS","https://gitee.com/Singosgu/GreaterWMS",1458,600,"https://github.com/GreaterWMS/GreaterWMS",2248,542]
["Anyon / WeChatDeveloper","https://gitee.com/zoujingli/WeChatDeveloper",1458,265,"https://github.com/zoujingli/WeChatDeveloper",1167,414]
["Notadd / Neditor","https://gitee.com/notadd/neditor",1451,276,"https://github.com/notadd/neditor",1908,267]
["泰晓科技 / Linux Lab","https://gitee.com/tinylab/linux-lab",1439,228,"https://github.com/tinyclub/linux-lab",992,162]
["JeffreySu / WeiXinMPSDK","https://gitee.com/JeffreySu/WeiXinMPSDK",1396,389,"https://github.com/JeffreySu/WeiXinMPSDK",7520,4231]
["running-elephant / datart","https://gitee.com/running-elephant/datart",1394,509,"https://github.com/running-elephant/datart",948,339]
["帝博软件 / diboot","https://gitee.com/dibo_software/diboot",1385,476,"https://github.com/dibo-software/diboot",212,950]
["dotNET China / TouchSocket","https://gitee.com/dotnetchina/TouchSocket",1384,372,"https://github.com/RRQM/TouchSocket",252,50]
["seagull /  LuckyFrame","https://gitee.com/seagull1985/LuckyFrameClient",1370,872,"https://github.com/seagull1985/LuckyFrameClient",133,100]
["happyfish100 / FastDFS","https://gitee.com/fastdfs100/fastdfs",1338,306,"https://github.com/happyfish100/fastdfs",8215,1926]
["Chatopera / 春松客服","https://gitee.com/chatopera/cskefu",1333,646,"https://github.com/cskefu/cskefu",2162,718]
["ThinkPHP / thinkphp","https://gitee.com/liu21st/thinkphp",1315,296,"https://github.com/top-think/thinkphp",2856,1537]
["码农俱乐部 / bbs-go","https://gitee.com/mlogclub/bbs-go",1296,418,"https://github.com/mlogclub/bbs-go",2080,460]
["假诗人 / PowerJob","https://gitee.com/KFCFans/PowerJob",1270,385,"https://github.com/PowerJob/PowerJob",3710,660]
["Wizzer / NutzWk","https://gitee.com/wizzer/NutzWk",1257,458,"https://github.com/budwk/budwk",125,28]
["小圈圈 / Archery","https://gitee.com/rtttte/Archery",1248,443,"https://github.com/hhyo/Archery",4241,1317]
["xiweicheng / tms","https://gitee.com/xiweicheng/tms",1248,486,"https://github.com/xiweicheng/tms",288,91]
["北京智云视图科技有限公司 / HyperLPR","https://gitee.com/zeusees/HyperLPR",1227,391,"https://github.com/szad670401/HyperLPR",4733,1867]
["好雨科技 / Rainbond","https://gitee.com/rainbond/Rainbond",1207,415,"https://github.com/goodrain/rainbond",3429,646]
["springrain / springrain","https://gitee.com/chunanyong/springrain",1187,528,"https://github.com/springrain/springrain",1,0]
["dromara / cubic","https://gitee.com/dromara/cubic",1171,367,"https://github.com/dromara/cubic",306,61]
["NocoBase / NocoBase","https://gitee.com/nocobase/nocobase",1166,323,"https://github.com/nocobase/nocobase",3193,379]
["Taoes / SimpleDocker","https://gitee.com/taoes_admin/SimpleDocker",1109,238,"https://github.com/taoes/SimpleDocker",146,31]
["yutiansut / QUANTAXIS","https://gitee.com/yutiansut/QUANTAXIS",1103,454,"https://github.com/yutiansut/QUANTAXIS",6750,2684]
["流之云 / tpflow","https://gitee.com/ntdgg/tpflow",1070,169,"https://github.com/ntdgg/tpflow",15,4]
["合宙Luat / LuatOS","https://gitee.com/openLuat/LuatOS",1038,244,"https://github.com/openLuat/LuatOS",243,66]
["Koode / Kooder","https://gitee.com/koode/kooder",1037,217,"https://github.com/oschina/kooder",312,45]
["符节开源 / jap","https://gitee.com/fujieid/jap",1031,279,"https://github.com/fujieid/jap",136,27]
["openGauss / openGauss-server","https://gitee.com/opengauss/openGauss-server",971,890,"https://github.com/opengauss-mirror/openGauss-server",427,144]
["xrkmonitor / xrkmonitor","https://gitee.com/xrkmonitorcom/open",960,280,null,0,0]
["pyminer / pyminer","https://gitee.com/py2cn/pyminer",957,216,"https://github.com/pyminer/pyminer",65,11]
["dotNET China / NanUI","https://gitee.com/dotnetchina/NanUI",956,208,"https://github.com/NetDimension/NanUI/",2372,545]
["DiDi-opensource / chameleon","https://gitee.com/didiopensource/chameleon",924,220,"https://github.com/didi/chameleon",8929,692]
["StreamxHub / StreamX","https://gitee.com/streamxhub/streamx",914,282,"https://github.com/apache/incubator-streampark",2468,570]
["zlgopen / awtk","https://gitee.com/zlgopen/awtk",913,295,"https://github.com/zlgopen/awtk",2573,700]
["科学大数据开源社区 / PiFlow","https://gitee.com/opensci/piflow",904,297,"https://github.com/cas-bigdatalab/piflow",462,151]
["赵建辉 / rtty","https://gitee.com/zhaojh329/rtty",901,230,"https://github.com/zhaojh329/rtty",2898,393]
["云智慧 / FlyFish","https://gitee.com/CloudWise/fly-fish",901,286,"https://github.com/CloudWise-OpenSource/FlyFish",363,96]
["dotNET China / weaving-socket","https://gitee.com/dotnetchina/weaving-socket",899,225,"https://github.com/dreamsfly900/weaving-socket",111,64]
["antv / L7","https://gitee.com/antv/L7",888,229,"https://github.com/antvis/L7",2835,489]
["Gokins / Gokins","https://gitee.com/gokins/gokins",865,228,"https://github.com/gokins/gokins",87,23]
["企捷科技 / QJ_OneLotus","https://gitee.com/qikj/QJ_Single",862,407,null,0,0]
["Anyon / wechat-php-sdk","https://gitee.com/zoujingli/wechat-php-sdk",851,263,"https://github.com/zoujingli/wechat-php-sdk",654,246]
["bean / BabyOS","https://gitee.com/notrynohigh/BabyOS",835,299,"https://github.com/notrynohigh/BabyOS",299,103]
["ofdrw / ofdrw","https://gitee.com/ofdrw/ofdrw",827,316,"https://github.com/ofdrw/ofdrw",729,274]
["想飞の猫 / FCat","https://gitee.com/xfdm/FCat",825,320,null,0,0]
["birdLark / LarkMidTable","https://gitee.com/LarkMidTable/LarkMidTable",821,300,"https://github.com/birdLark/LarkMidTable",1096,433]
["Nutz / nutzboot","https://gitee.com/nutz/nutzboot",819,241,"https://github.com/nutzam/nutzboot",477,135]
["OceanBase / oceanbase","https://gitee.com/oceanbase/oceanbase",817,234,"https://github.com/oceanbase/oceanbase",4660,1038]
["ApacheLinkis / incubator-linkis","https://gitee.com/apacheLinkis/Linkis",811,309,"https://github.com/apache/incubator-linkis",2682,932]
["sentcms管理系统 / sentcms","https://gitee.com/sentcms/sentcms",810,266,null,0,0]
["actframework / actframework","https://gitee.com/actframework/actframework",801,194,"https://github.com/actframework/actframework",722,124]
["泰斯特 / Taisite-Platform","https://gitee.com/amazingTest/Taisite-Platform",799,309,"https://github.com/amazingTest/Taisite-Platform",285,132]
["dromara / hertzbeat","https://gitee.com/dromara/hertzbeat",789,221,"https://github.com/dromara/hertzbeat",1718,249]
["jitamin / jitamin","https://gitee.com/jitamin/jitamin",789,244,"https://github.com//jitamin/jitamin",916,286]
["acl-dev / acl","https://gitee.com/acl-dev/acl",788,332,"https://github.com/acl-dev/acl",2290,895]
["tboox / tbox","https://gitee.com/tboox/tbox",784,264,"https://github.com/tboox/tbox",4173,635]
["SOFAStack / sofa-bolt","https://gitee.com/sofastack/sofa-bolt",777,299,"https://github.com/sofastack/sofa-bolt",2187,806]
["jones2000 / HQChart","https://gitee.com/jones2000/HQChart",777,254,"https://github.com/jones2000/HQChart",2021,267]
["xView / actionview","https://gitee.com/actionview/av",774,226,"https://github.com/lxerxa/actionview",1699,340]
["林间有风 / lin-ui","https://gitee.com/talelin/lin-ui",770,132,"https://github.com/TaleLin/lin-ui",3605,468]
["doocs / md","https://gitee.com/Doocs/md",760,201,"https://github.com/doocs/md",3403,470]
["朱天龙 (Armink) / EasyFlash","https://gitee.com/Armink/EasyFlash",759,268,"https://github.com/armink/EasyFlash",1566,667]
["hyperf / hyperf","https://gitee.com/hyperf/hyperf",750,119,"https://github.com/hyperf/hyperf",4793,970]
["DiDi-opensource / DDMQ","https://gitee.com/didiopensource/DDMQ",745,297,"https://github.com/didi/DDMQ",1236,335]
["KodeRover / zadig","https://gitee.com/koderover/zadig",744,237,"https://github.com/koderover/zadig",1697,587]
["HFish / HFish","https://gitee.com/lauix/HFish",743,289,"https://github.com/hacklcx/HFish",3360,607]
["百度开源 / Senta","https://gitee.com/baidu/Senta",738,212,"https://github.com/baidu/Senta",1614,342]
["Nutz / nutz","https://gitee.com/nutz/nutz",728,160,"https://github.com/nutzam/nutz",2495,968]
["Nepxion / Discovery","https://gitee.com/nepxion/Discovery",707,234,"https://github.com/nepxion/Discovery",4988,1328]
["WeBank / wecube-platform","https://gitee.com/WeBank/wecube-platform",698,293,"https://github.com/WeBankPartners/wecube-platform",315,72]
["腾讯开源 / TencentOS-tiny","https://gitee.com/Tencent/TencentOS-tiny",696,259,"https://github.com/OpenAtomFoundation/TencentOS-tiny",5623,1484]
["Sam / iotgateway","https://gitee.com/iioter/iotgateway",693,262,"https://github.com/iioter/iotgateway/",432,136]
["MindSpore / mindquantum","https://gitee.com/mindspore/mindquantum",693,1058,null,0,0]
["SOFAStack / sofa-rpc","https://gitee.com/sofastack/sofa-rpc",688,216,"https://github.com/sofastack/sofa-rpc",3614,1095]
["JDChain / jdchain","https://gitee.com/jdchain/jdchain",659,209,"https://github.com/blockchain-jd-com/jdchain",511,202]
["小马哥 / hippo4j","https://gitee.com/itmachen/hippo4j",641,218,"https://github.com/opengoofy/hippo4j",2773,649]
["GaoJiuFeng / EasyTask","https://gitee.com/392223903/EasyTask",634,98,"https://github.com/thinker-gao/easy-task",41,8]
["view-design / ViewUI","https://gitee.com/view-design/ViewUI",631,136,"https://github.com/view-design/ViewUI",2603,800]
["gozfree / gear-lib","https://gitee.com/gozfreee/gear-lib",621,250,"https://github.com/gozfree/gear-lib",2566,724]
["肖昆 / XTDrone","https://gitee.com/robin_shaun/XTDrone",620,210,"https://github.com/robin-shaun/XTDrone",524,131]
["qiujiayu / AutoLoadCache","https://gitee.com/qiujiayu/AutoLoadCache",617,193,"https://github.com/qiujiayu/AutoLoadCache",1936,685]
["腾讯蓝鲸智云 / bk-PaaS","https://gitee.com/Tencent-BlueKing/bk-PaaS",616,215,"https://github.com/Tencent/bk-PaaS",755,364]
["开源建木 / 建木","https://gitee.com/jianmu-dev/jianmu",612,194,"https://github.com/jianmu-dev/jianmu",4,3]
["zdhxiong / mdui","https://gitee.com/zdhxiong/mdui",595,108,"https://github.com/zdhxiong/mdui",3469,353]
["山东云则 / IoTLink","https://gitee.com/sdyunze/iotlink",594,279,null,0,0]
["Ant Design Blazor / ant-design-blazor","https://gitee.com/ant-design-blazor/ant-design-blazor",586,118,"https://github.com/ant-design-blazor/ant-design-blazor",4452,688]
["MindSpore / mindscience","https://gitee.com/mindspore/mindscience",580,265,null,0,0]
["justlive1 / earth-frost","https://gitee.com/justlive1/earth-frost",561,220,"https://github.com/justlive1/earth-frost",86,19]
["Generalized_Aviation / GAAS","https://gitee.com/gaasdev/GAAS",550,179,"https://github.com/generalized-intelligence/GAAS",1648,406]
["aceld / zinx","https://gitee.com/Aceld/zinx",547,163,"https://github.com/aceld/zinx",5144,903]
["DataLinkDC / Dinky","https://gitee.com/DataLinkDC/Dinky",544,264,"https://github.com/DataLinkDC/dlink",1289,519]
["swoft / swoft","https://gitee.com/swoft/swoft",540,125,"https://github.com/swoft-cloud/swoft",5501,792]
["京东零售 / nutui","https://gitee.com/jd-platform-opensource/nutui",538,103,"https://github.com/jdf2e/nutui",4697,644]
["tboox / xmake","https://gitee.com/tboox/xmake",532,104,"https://github.com/xmake-io/xmake",5615,519]
["gouguoyin / phprap","https://gitee.com/gouguoyin/phprap",531,124,"https://github.com/gouguoyin/phprap",119,34]
["zstackio / zstack","https://gitee.com/zstackio/zstack",514,0,"https://github.com/zstackio/zstack",1149,382]
["朱天龙 (Armink) / FlashDB","https://gitee.com/Armink/FlashDB",513,173,"https://github.com/armink/FlashDB",870,257]
["happyfish100 / FastCFS","https://gitee.com/fastdfs100/FastCFS",513,94,"https://github.com/happyfish100/FastCFS",366,62]
["WeBank / fes.js","https://gitee.com/WeBank/fes.js",508,84,"https://github.com/WeBankFinTech/fes.js",1065,118]
["区块链技术与应用联合实验室 / RepChain","https://gitee.com/BTAJL/repchain",504,101,null,0,0]
["宇润 / imi","https://gitee.com/yurunsoft/IMI",503,97,"https://github.com/imiphp/imi",963,145]
["libhv / libhv","https://gitee.com/libhv/libhv",498,154,"https://github.com/ithewei/libhv",4642,843]
["CVTeam_CN / RoboCar","https://gitee.com/cv_team/uestc-careye",497,188,null,0,0]
["悬镜安全 / OpenSCA-cli","https://gitee.com/XmirrorSecurity/OpenSCA-cli",492,45,"https://github.com/XmirrorSecurity/OpenSCA-cli",709,247]
["varlet / varlet-ui","https://gitee.com/varlet/varlet-ui",484,81,"https://github.com/varletjs/varlet",3257,439]
["foolcage / zvt","https://gitee.com/foolcage/zvt",484,203,"https://github.com/zvtvz/zvt",2165,695]
["Calvin / AIAS","https://gitee.com/mymagicpower/AIAS",465,202,"https://github.com/mymagicpower/AIAS",249,100]
["李昂 / pikascript","https://gitee.com/Lyon1998/pikascript",459,85,"https://github.com/pikastech/pikascript/",843,50]
["apioak / apioak","https://gitee.com/apioak/apioak",453,138,"https://github.com/apioak/apioak",374,55]
["dromara / Raincat","https://gitee.com/dromara/Raincat",448,175,"https://github.com/dromara/raincat",1854,686]
["openEuler / bishengjdk-8","https://gitee.com/openeuler/bishengjdk-8",446,140,null,0,0]
["美柚 / big-whale","https://gitee.com/meetyoucrop/big-whale",444,190,"https://github.com/MeetYouDevs/big-whale",274,113]
["springrain / zorm","https://gitee.com/chunanyong/zorm",444,80,"https://github.com/springrain/zorm",26,0]
["Jenkins中文社区 / jenkins-cli","https://gitee.com/jenkins-zh/jenkins-cli",439,88,"https://github.com/jenkins-zh/jenkins-cli",336,76]
["viest / php-ext-xlswriter","https://gitee.com/viest/php-ext-xlswriter",436,75,"https://github.com/viest/php-ext-xlswriter",1869,200]
["liu / LCUI","https://gitee.com/lc-soft/LCUI",426,54,"https://github.com/lc-soft/LCUI",3818,349]
["万里数据库 / GreatSQL","https://gitee.com/GreatSQL/GreatSQL",410,64,"https://github.com/GreatSQL/GreatSQL",50,10]
["腾讯蓝鲸智云 / bk-ci","https://gitee.com/Tencent-BlueKing/bk-ci",408,142,"https://github.com/Tencent/bk-ci",1989,436]
["openEuler / iSulad","https://gitee.com/openeuler/iSulad",406,217,null,0,0]
["phodal / ledge","https://gitee.com/phodal/ledge",403,125,"https://github.com/phodal/ledge",1964,311]
["fastNLP / fastNLP","https://gitee.com/fastnlp/fastNLP",399,115,"https://github.com/fastnlp/fastNLP",2684,431]
["openEuler / stratovirt","https://gitee.com/openeuler/stratovirt",394,156,null,0,0]
["winshining / nginx-http-flv-module","https://gitee.com/winshining/nginx-http-flv-module",356,93,"https://github.com/winshining/nginx-http-flv-module",2282,509]
["Apache SeaTunnel / incubator-seatunnel","https://gitee.com/seatunnel/incubator-seatunnel",350,122,"https://github.com/apache/incubator-seatunnel",3878,687]
["狮子的魂 / friso","https://gitee.com/lionsoul/friso",342,103,"https://github.com/lionsoul2014/friso",391,83]
["SOFAStack / sofa-tracer","https://gitee.com/sofastack/sofa-tracer",327,124,"https://github.com/sofastack/sofa-tracer",1007,347]
["openEuler / A-Tune","https://gitee.com/openeuler/A-Tune",309,152,null,0,0]
["wwy / UAVS","https://gitee.com/wwy2018/UAVS",306,119,"https://github.com/dhondta/dronesploit",1070,196]
["SmartIDE / SmartIDE","https://gitee.com/smartide/SmartIDE",304,63,"https://github.com/SmartIDE/SmartIDE",314,37]
["王斌 / cetus","https://gitee.com/wangbin579/cetus",295,55,"https://github.com/session-replay-tools/cetus",1230,318]
["YoMo / yomo","https://gitee.com/yomorun/yomo",286,64,"https://github.com/yomorun/yomo",1202,105]
["donal / ofd.js","https://gitee.com/Donal/ofd.js",280,74,"https://github.com/DLTech21/ofd.js",23,124]
["DCloud / uni-ui","https://gitee.com/dcloud/uni-ui",278,68,"https://github.com/dcloudio/uni-ui",1365,531]
["星火计划 / 星火应用商店 Spark-Store","https://gitee.com/deepin-community-store/spark-store",277,39,"https://github.com/spark-store-project/spark-store",2,1]
["W5 TEAM / w5","https://gitee.com/w5team/w5",275,79,"https://github.com/w5teams/w5",1042,166]
["第四范式 / OpenMLDB","https://gitee.com/paradigm4/OpenMLDB",259,48,"https://github.com/4paradigm/OpenMLDB",1638,582]
["qdtroy / DuiLib_Ultimate","https://gitee.com/qdtroy/DuiLib_Ultimate",255,134,"https://github.com/qdtroy/DuiLib_Ultimate",1216,598]
["OneOS / OneOS","https://gitee.com/cmcc-oneos/OneOS",246,146,null,0,0]
["Jmix(CUBA) 平台中国团队 / cuba","https://gitee.com/jmix/cuba",244,73,"https://github.com/jmix-framework/jmix",241,54]
["louislivi / SMProxy","https://gitee.com/louislivi/smproxy",243,46,"https://github.com/louislivi/SMProxy",1726,249]
["袋鼠云 / Taier","https://gitee.com/dtstack_dev_0/taier",242,73,"https://github.com/DTStack/Taier",486,175]
["mix-php / mix","https://gitee.com/mix-php/mix",208,22,"https://github.com/mix-php/mix",1809,213]
["NeekeGao / SeasLog","https://gitee.com/neeke/SeasLog",204,24,"https://github.com/SeasX/SeasLog",1189,289]
["MycatOne / Mycat2","https://gitee.com/MycatOne/Mycat2",193,76,"https://github.com/MyCATApache/Mycat2",1296,436]
["赵建辉 / oui","https://gitee.com/zhaojh329/oui",182,63,"https://github.com/zhaojh329/oui",731,174]
["芯华章科技股份有限公司 / EpicFV","https://gitee.com/x-epic/EpicFV",162,19,"https://github.com/x-epic/EpicFV",17,3]
["芯华章科技股份有限公司 / EpicSim","https://gitee.com/x-epic/EpicSim",132,23,"https://github.com/x-epic/EpicSim",62,10]
["go-atomci / atomci","https://gitee.com/goatom/atomci",120,53,"https://github.com/go-atomci/atomci",152,31]

{"sheet":"Ranking-Star","index":4,"n_rows":4931,"n_cols":2,"rows_kept":4931,"cut":false,"hidden":false,"merged":[]}
["Path","Exist"]
["public-apis/public-apis",{"$f":"VLOOKUP(A2,汇总!D:E,2,FALSE)","v":"https://github.com/public-apis/public-apis"}]
["vuejs/vue",{"$f":"VLOOKUP(A3,汇总!D:E,2,FALSE)","v":"https://github.com/vuejs/vue"}]
["donnemartin/system-design-primer",{"$f":"VLOOKUP(A4,汇总!D:E,2,FALSE)","v":"https://github.com/donnemartin/system-design-primer"}]
["facebook/react",{"$f":"VLOOKUP(A5,汇总!D:E,2,FALSE)","v":"https://github.com/facebook/react"}]
["tensorflow/tensorflow",{"$f":"VLOOKUP(A6,汇总!D:E,2,FALSE)","v":"https://github.com/tensorflow/tensorflow"}]
["codecrafters-io/build-your-own-x",{"$f":"VLOOKUP(A7,汇总!D:E,2,FALSE)","v":"https://github.com/codecrafters-io/build-your-own-x"}]
["twbs/bootstrap",{"$f":"VLOOKUP(A8,汇总!D:E,2,FALSE)","v":"https://github.com/twbs/bootstrap"}]
["getify/You-Dont-Know-JS",{"$f":"VLOOKUP(A9,汇总!D:E,2,FALSE)","v":"https://github.com/getify/You-Dont-Know-JS"}]
["CyC2018/CS-Notes",{"$f":"VLOOKUP(A10,汇总!D:E,2,FALSE)","v":"https://github.com/CyC2018/CS-Notes"}]
["trekhleb/javascript-algorithms",{"$f":"VLOOKUP(A11,汇总!D:E,2,FALSE)","v":"https://github.com/trekhleb/javascript-algorithms"}]
["ohmyzsh/ohmyzsh",{"$f":"VLOOKUP(A12,汇总!D:E,2,FALSE)","v":"https://github.com/ohmyzsh/ohmyzsh"}]
["TheAlgorithms/Python",{"$f":"VLOOKUP(A13,汇总!D:E,2,FALSE)","v":"https://github.com/TheAlgorithms/Python"}]
["flutter/flutter",{"$f":"VLOOKUP(A14,汇总!D:E,2,FALSE)","v":"https://github.com/flutter/flutter"}]
["vinta/awesome-python",{"$f":"VLOOKUP(A15,汇总!D:E,2,FALSE)","v":"https://github.com/vinta/awesome-python"}]
["github/gitignore",{"$f":"VLOOKUP(A16,汇总!D:E,2,FALSE)","v":"https://github.com/github/gitignore"}]
["torvalds/linux",{"$f":"VLOOKUP(A17,汇总!D:E,2,FALSE)","v":"https://github.com/torvalds/linux"}]
["microsoft/vscode",{"$f":"VLOOKUP(A18,汇总!D:E,2,FALSE)","v":"https://github.com/microsoft/vscode"}]
["Snailclimb/JavaGuide",{"$f":"VLOOKUP(A19,汇总!D:E,2,FALSE)","v":"https://github.com/Snailclimb/JavaGuide"}]
["airbnb/javascript",{"$f":"VLOOKUP(A20,汇总!D:E,2,FALSE)","v":"https://github.com/airbnb/javascript"}]
["jackfrued/Python-100-Days",{"$f":"VLOOKUP(A21,汇总!D:E,2,FALSE)","v":"https://github.com/jackfrued/Python-100-Days"}]
["ossu/computer-science",{"$f":"VLOOKUP(A22,汇总!D:E,2,FALSE)","v":"https://github.com/ossu/computer-science"}]
["ytdl-org/youtube-dl",{"$f":"VLOOKUP(A23,汇总!D:E,2,FALSE)","v":"https://github.com/ytdl-org/youtube-dl"}]
["jlevy/the-art-of-command-line",{"$f":"VLOOKUP(A24,汇总!D:E,2,FALSE)","v":"https://github.com/jlevy/the-art-of-command-line"}]
["labuladong/fucking-algorithm",{"$f":"VLOOKUP(A25,汇总!D:E,2,FALSE)","v":"https://github.com/labuladong/fucking-algorithm"}]
["facebook/react-native",{"$f":"VLOOKUP(A26,汇总!D:E,2,FALSE)","v":"https://github.com/facebook/react-native"}]
["awesome-selfhosted/awesome-selfhosted",{"$f":"VLOOKUP(A27,汇总!D:E,2,FALSE)","v":"https://github.com/awesome-selfhosted/awesome-selfhosted"}]
["golang/go",{"$f":"VLOOKUP(A28,汇总!D:E,2,FALSE)","v":"https://github.com/golang/go"}]
["electron/electron",{"$f":"VLOOKUP(A29,汇总!D:E,2,FALSE)","v":"https://github.com/electron/electron"}]
["30-seconds/30-seconds-of-code",{"$f":"VLOOKUP(A30,汇总!D:E,2,FALSE)","v":"https://github.com/30-seconds/30-seconds-of-code"}]
["d3/d3",{"$f":"VLOOKUP(A31,汇总!D:E,2,FALSE)","v":"https://github.com/d3/d3"}]
["facebook/create-react-app",{"$f":"VLOOKUP(A32,汇总!D:E,2,FALSE)","v":"https://github.com/facebook/create-react-app"}]
["axios/axios",{"$f":"VLOOKUP(A33,汇总!D:E,2,FALSE)","v":"https://github.com/axios/axios"}]
["justjavac/free-programming-books-zh_CN",{"$f":"VLOOKUP(A34,汇总!D:E,2,FALSE)","v":"https://github.com/justjavac/free-programming-books-zh_CN"}]
["vercel/next.js",{"$f":"VLOOKUP(A35,汇总!D:E,2,FALSE)","v":"https://github.com/vercel/next.js"}]
["kubernetes/kubernetes",{"$f":"VLOOKUP(A36,汇总!D:E,2,FALSE)","v":"https://github.com/kubernetes/kubernetes"}]
["nodejs/node",{"$f":"VLOOKUP(A37,汇总!D:E,2,FALSE)","v":"https://github.com/nodejs/node"}]
["avelino/awesome-go",{"$f":"VLOOKUP(A38,汇总!D:E,2,FALSE)","v":"https://github.com/avelino/awesome-go"}]
["mrdoob/three.js",{"$f":"VLOOKUP(A39,汇总!D:E,2,FALSE)","v":"https://github.com/mrdoob/three.js"}]
["denoland/deno",{"$f":"VLOOKUP(A40,汇总!D:E,2,FALSE)","v":"https://github.com/denoland/deno"}]
["microsoft/terminal",{"$f":"VLOOKUP(A41,汇总!D:E,2,FALSE)","v":"https://github.com/microsoft/terminal"}]
["microsoft/TypeScript",{"$f":"VLOOKUP(A42,汇总!D:E,2,FALSE)","v":"https://github.com/microsoft/TypeScript"}]
["angular/angular",{"$f":"VLOOKUP(A43,汇总!D:E,2,FALSE)","v":"https://github.com/angular/angular"}]
["ant-design/ant-design",{"$f":"VLOOKUP(A44,汇总!D:E,2,FALSE)","v":"https://github.com/ant-design/ant-design"}]
["goldbergyoni/nodebestpractices",{"$f":"VLOOKUP(A45,汇总!D:E,2,FALSE)","v":"https://github.com/goldbergyoni/nodebestpractices"}]
["mui/material-ui",{"$f":"VLOOKUP(A46,汇总!D:E,2,FALSE)","v":"https://github.com/mui/material-ui"}]
["puppeteer/puppeteer",{"$f":"VLOOKUP(A47,汇总!D:E,2,FALSE)","v":"https://github.com/puppeteer/puppeteer"}]
["trimstray/the-book-of-secret-knowledge",{"$f":"VLOOKUP(A48,汇总!D:E,2,FALSE)","v":"https://github.com/trimstray/the-book-of-secret-knowledge"}]
["yangshun/tech-interview-handbook",{"$f":"VLOOKUP(A49,汇总!D:E,2,FALSE)","v":"https://github.com/yangshun/tech-interview-handbook"}]
["microsoft/PowerToys",{"$f":"VLOOKUP(A50,汇总!D:E,2,FALSE)","v":"https://github.com/microsoft/PowerToys"}]
["PanJiaChen/vue-element-admin",{"$f":"VLOOKUP(A51,汇总!D:E,2,FALSE)","v":"https://github.com/PanJiaChen/vue-element-admin"}]
["practical-tutorials/project-based-learning",{"$f":"VLOOKUP(A52,汇总!D:E,2,FALSE)","v":"https://github.com/practical-tutorials/project-based-learning"}]
["iluwatar/java-design-patterns",{"$f":"VLOOKUP(A53,汇总!D:E,2,FALSE)","v":"https://github.com/iluwatar/java-design-patterns"}]
["animate-css/animate.css",{"$f":"VLOOKUP(A54,汇总!D:E,2,FALSE)","v":"https://github.com/animate-css/animate.css"}]
["tensorflow/models",{"$f":"VLOOKUP(A55,汇总!D:E,2,FALSE)","v":"https://github.com/tensorflow/models"}]
["storybookjs/storybook",{"$f":"VLOOKUP(A56,汇总!D:E,2,FALSE)","v":"https://github.com/storybookjs/storybook"}]
["nvbn/thefuck",{"$f":"VLOOKUP(A57,汇总!D:E,2,FALSE)","v":"https://github.com/nvbn/thefuck"}]
["ryanmcdermott/clean-code-javascript",{"$f":"VLOOKUP(A58,汇总!D:E,2,FALSE)","v":"https://github.com/ryanmcdermott/clean-code-javascript"}]
["rust-lang/rust",{"$f":"VLOOKUP(A59,汇总!D:E,2,FALSE)","v":"https://github.com/rust-lang/rust"}]
["MisterBooo/LeetCodeAnimation",{"$f":"VLOOKUP(A60,汇总!D:E,2,FALSE)","v":"https://github.com/MisterBooo/LeetCodeAnimation"}]
["huggingface/transformers",{"$f":"VLOOKUP(A61,汇总!D:E,2,FALSE)","v":"https://github.com/huggingface/transformers"}]
["laravel/laravel",{"$f":"VLOOKUP(A62,汇总!D:E,2,FALSE)","v":"https://github.com/laravel/laravel"}]
["Genymobile/scrcpy",{"$f":"VLOOKUP(A63,汇总!D:E,2,FALSE)","v":"https://github.com/Genymobile/scrcpy"}]
["FortAwesome/Font-Awesome",{"$f":"VLOOKUP(A64,汇总!D:E,2,FALSE)","v":"https://github.com/FortAwesome/Font-Awesome"}]
["gothinkster/realworld",{"$f":"VLOOKUP(A65,汇总!D:E,2,FALSE)","v":"https://github.com/gothinkster/realworld"}]
["doocs/advanced-java",{"$f":"VLOOKUP(A66,汇总!D:E,2,FALSE)","v":"https://github.com/doocs/advanced-java"}]
["django/django",{"$f":"VLOOKUP(A67,汇总!D:E,2,FALSE)","v":"https://github.com/django/django"}]
["tonsky/FiraCode",{"$f":"VLOOKUP(A68,汇总!D:E,2,FALSE)","v":"https://github.com/tonsky/FiraCode"}]
["vuejs/awesome-vue",{"$f":"VLOOKUP(A69,汇总!D:E,2,FALSE)","v":"https://github.com/vuejs/awesome-vue"}]
["bitcoin/bitcoin",{"$f":"VLOOKUP(A70,汇总!D:E,2,FALSE)","v":"https://github.com/bitcoin/bitcoin"}]
["papers-we-love/papers-we-love",{"$f":"VLOOKUP(A71,汇总!D:E,2,FALSE)","v":"https://github.com/papers-we-love/papers-we-love"}]
["moby/moby",{"$f":"VLOOKUP(A72,汇总!D:E,2,FALSE)","v":"https://github.com/moby/moby"}]
["opencv/opencv",{"$f":"VLOOKUP(A73,汇总!D:E,2,FALSE)","v":"https://github.com/opencv/opencv"}]
["typicode/json-server",{"$f":"VLOOKUP(A74,汇总!D:E,2,FALSE)","v":"https://github.com/typicode/json-server"}]
["spring-projects/spring-boot",{"$f":"VLOOKUP(A75,汇总!D:E,2,FALSE)","v":"https://github.com/spring-projects/spring-boot"}]
["gin-gonic/gin",{"$f":"VLOOKUP(A76,汇总!D:E,2,FALSE)","v":"https://github.com/gin-gonic/gin"}]
["mtdvio/every-programmer-should-know",{"$f":"VLOOKUP(A77,汇总!D:E,2,FALSE)","v":"https://github.com/mtdvio/every-programmer-should-know"}]
["gohugoio/hugo",{"$f":"VLOOKUP(A78,汇总!D:E,2,FALSE)","v":"https://github.com/gohugoio/hugo"}]
["sveltejs/svelte",{"$f":"VLOOKUP(A79,汇总!D:E,2,FALSE)","v":"https://github.com/sveltejs/svelte"}]
["hakimel/reveal.js",{"$f":"VLOOKUP(A80,汇总!D:E,2,FALSE)","v":"https://github.com/hakimel/reveal.js"}]
["thedaviddias/Front-End-Checklist",{"$f":"VLOOKUP(A81,汇总!D:E,2,FALSE)","v":"https://github.com/thedaviddias/Front-End-Checklist"}]
["webpack/webpack",{"$f":"VLOOKUP(A82,汇总!D:E,2,FALSE)","v":"https://github.com/webpack/webpack"}]
["elastic/elasticsearch",{"$f":"VLOOKUP(A83,汇总!D:E,2,FALSE)","v":"https://github.com/elastic/elasticsearch"}]
["macrozheng/mall",{"$f":"VLOOKUP(A84,汇总!D:E,2,FALSE)","v":"https://github.com/macrozheng/mall"}]
["nvm-sh/nvm",{"$f":"VLOOKUP(A85,汇总!D:E,2,FALSE)","v":"https://github.com/nvm-sh/nvm"}]
["tailwindlabs/tailwindcss",{"$f":"VLOOKUP(A86,汇总!D:E,2,FALSE)","v":"https://github.com/tailwindlabs/tailwindcss"}]
["netdata/netdata",{"$f":"VLOOKUP(A87,汇总!D:E,2,FALSE)","v":"https://github.com/netdata/netdata"}]
["apple/swift",{"$f":"VLOOKUP(A88,汇总!D:E,2,FALSE)","v":"https://github.com/apple/swift"}]
["pallets/flask",{"$f":"VLOOKUP(A89,汇总!D:E,2,FALSE)","v":"https://github.com/pallets/flask"}]
["fatedier/frp",{"$f":"VLOOKUP(A90,汇总!D:E,2,FALSE)","v":"https://github.com/fatedier/frp"}]
["ripienaar/free-for-dev",{"$f":"VLOOKUP(A91,汇总!D:E,2,FALSE)","v":"https://github.com/ripienaar/free-for-dev"}]
["521xueweihan/HelloGitHub",{"$f":"VLOOKUP(A92,汇总!D:E,2,FALSE)","v":"https://github.com/521xueweihan/HelloGitHub"}]
["angular/angular.js",{"$f":"VLOOKUP(A93,汇总!D:E,2,FALSE)","v":"https://github.com/angular/angular.js"}]
["pytorch/pytorch",{"$f":"VLOOKUP(A94,汇总!D:E,2,FALSE)","v":"https://github.com/pytorch/pytorch"}]
["reduxjs/redux",{"$f":"VLOOKUP(A95,汇总!D:E,2,FALSE)","v":"https://github.com/reduxjs/redux"}]
["atom/atom",{"$f":"VLOOKUP(A96,汇总!D:E,2,FALSE)","v":"https://github.com/atom/atom"}]
["resume/resume.github.com",{"$f":"VLOOKUP(A97,汇总!D:E,2,FALSE)","v":"https://github.com/resume/resume.github.com"}]
["expressjs/express",{"$f":"VLOOKUP(A98,汇总!D:E,2,FALSE)","v":"https://github.com/expressjs/express"}]
["kdn251/interviews",{"$f":"VLOOKUP(A99,汇总!D:E,2,FALSE)","v":"https://github.com/kdn251/interviews"}]
["chartjs/Chart.js",{"$f":"VLOOKUP(A100,汇总!D:E,2,FALSE)","v":"https://github.com/chartjs/Chart.js"}]
["neovim/neovim",{"$f":"VLOOKUP(A101,汇总!D:E,2,FALSE)","v":"https://github.com/neovim/neovim"}]
["florinpop17/app-ideas",{"$f":"VLOOKUP(A102,汇总!D:E,2,FALSE)","v":"https://github.com/florinpop17/app-ideas"}]
["microsoft/Web-Dev-For-Beginners",{"$f":"VLOOKUP(A103,汇总!D:E,2,FALSE)","v":"https://github.com/microsoft/Web-Dev-For-Beginners"}]
["redis/redis",{"$f":"VLOOKUP(A104,汇总!D:E,2,FALSE)","v":"https://github.com/redis/redis"}]
["xingshaocheng/architect-awesome",{"$f":"VLOOKUP(A105,汇总!D:E,2,FALSE)","v":"https://github.com/xingshaocheng/architect-awesome"}]
["coder/code-server",{"$f":"VLOOKUP(A106,汇总!D:E,2,FALSE)","v":"https://github.com/coder/code-server"}]
["adam-p/markdown-here",{"$f":"VLOOKUP(A107,汇总!D:E,2,FALSE)","v":"https://github.com/adam-p/markdown-here"}]
["jquery/jquery",{"$f":"VLOOKUP(A108,汇总!D:E,2,FALSE)","v":"https://github.com/jquery/jquery"}]
["socketio/socket.io",{"$f":"VLOOKUP(A109,汇总!D:E,2,FALSE)","v":"https://github.com/socketio/socket.io"}]
["Hack-with-Github/Awesome-Hacking",{"$f":"VLOOKUP(A110,汇总!D:E,2,FALSE)","v":"https://github.com/Hack-with-Github/Awesome-Hacking"}]
["protocolbuffers/protobuf",{"$f":"VLOOKUP(A111,汇总!D:E,2,FALSE)","v":"https://github.com/protocolbuffers/protobuf"}]
["keras-team/keras",{"$f":"VLOOKUP(A112,汇总!D:E,2,FALSE)","v":"https://github.com/keras-team/keras"}]
["josephmisiti/awesome-machine-learning",{"$f":"VLOOKUP(A113,汇总!D:E,2,FALSE)","v":"https://github.com/josephmisiti/awesome-machine-learning"}]
["iptv-org/iptv",{"$f":"VLOOKUP(A114,汇总!D:E,2,FALSE)","v":"https://github.com/iptv-org/iptv"}]
["h5bp/Front-end-Developer-Interview-Questions",{"$f":"VLOOKUP(A115,汇总!D:E,2,FALSE)","v":"https://github.com/h5bp/Front-end-Developer-Interview-Questions"}]
["shadowsocks/shadowsocks-windows",{"$f":"VLOOKUP(A116,汇总!D:E,2,FALSE)","v":"https://github.com/shadowsocks/shadowsocks-windows"}]
["home-assistant/core",{"$f":"VLOOKUP(A117,汇总!D:E,2,FALSE)","v":"https://github.com/home-assistant/core"}]
["ansible/ansible",{"$f":"VLOOKUP(A118,汇总!D:E,2,FALSE)","v":"https://github.com/ansible/ansible"}]
["lodash/lodash",{"$f":"VLOOKUP(A119,汇总!D:E,2,FALSE)","v":"https://github.com/lodash/lodash"}]
["godotengine/godot",{"$f":"VLOOKUP(A120,汇总!D:E,2,FALSE)","v":"https://github.com/godotengine/godot"}]
["kelseyhightower/nocode",{"$f":"VLOOKUP(A121,汇总!D:E,2,FALSE)","v":"https://github.com/kelseyhightower/nocode"}]
["chrislgarry/Apollo-11",{"$f":"VLOOKUP(A122,汇总!D:E,2,FALSE)","v":"https://github.com/chrislgarry/Apollo-11"}]
["gatsbyjs/gatsby",{"$f":"VLOOKUP(A123,汇总!D:E,2,FALSE)","v":"https://github.com/gatsbyjs/gatsby"}]
["jaywcjlove/awesome-mac",{"$f":"VLOOKUP(A124,汇总!D:E,2,FALSE)","v":"https://github.com/jaywcjlove/awesome-mac"}]
["h5bp/html5-boilerplate",{"$f":"VLOOKUP(A125,汇总!D:E,2,FALSE)","v":"https://github.com/h5bp/html5-boilerplate"}]
["apache/echarts",{"$f":"VLOOKUP(A126,汇总!D:E,2,FALSE)","v":"https://github.com/apache/echarts"}]
["ElemeFE/element",{"$f":"VLOOKUP(A127,汇总!D:E,2,FALSE)","v":"https://github.com/ElemeFE/element"}]
["leonardomso/33-js-concepts",{"$f":"VLOOKUP(A128,汇总!D:E,2,FALSE)","v":"https://github.com/leonardomso/33-js-concepts"}]
["tauri-apps/tauri",{"$f":"VLOOKUP(A129,汇总!D:E,2,FALSE)","v":"https://github.com/tauri-apps/tauri"}]
["scikit-learn/scikit-learn",{"$f":"VLOOKUP(A130,汇总!D:E,2,FALSE)","v":"https://github.com/scikit-learn/scikit-learn"}]
["rails/rails",{"$f":"VLOOKUP(A131,汇总!D:E,2,FALSE)","v":"https://github.com/rails/rails"}]
["enaqx/awesome-react",{"$f":"VLOOKUP(A132,汇总!D:E,2,FALSE)","v":"https://github.com/enaqx/awesome-react"}]
["grafana/grafana",{"$f":"VLOOKUP(A133,汇总!D:E,2,FALSE)","v":"https://github.com/grafana/grafana"}]
["awesomedata/awesome-public-datasets",{"$f":"VLOOKUP(A134,汇总!D:E,2,FALSE)","v":"https://github.com/awesomedata/awesome-public-datasets"}]
["nestjs/nest",{"$f":"VLOOKUP(A135,汇总!D:E,2,FALSE)","v":"https://github.com/nestjs/nest"}]
["mermaid-js/mermaid",{"$f":"VLOOKUP(A136,汇总!D:E,2,FALSE)","v":"https://github.com/mermaid-js/mermaid"}]
["Semantic-Org/Semantic-UI",{"$f":"VLOOKUP(A137,汇总!D:E,2,FALSE)","v":"https://github.com/Semantic-Org/Semantic-UI"}]
["tiangolo/fastapi",{"$f":"VLOOKUP(A138,汇总!D:E,2,FALSE)","v":"https://github.com/tiangolo/fastapi"}]
["DopplerHQ/awesome-interview-questions",{"$f":"VLOOKUP(A139,汇总!D:E,2,FALSE)","v":"https://github.com/DopplerHQ/awesome-interview-questions"}]
["azl397985856/leetcode",{"$f":"VLOOKUP(A140,汇总!D:E,2,FALSE)","v":"https://github.com/azl397985856/leetcode"}]
["spring-projects/spring-framework",{"$f":"VLOOKUP(A141,汇总!D:E,2,FALSE)","v":"https://github.com/spring-projects/spring-framework"}]
["scutan90/DeepLearning-500-questions",{"$f":"VLOOKUP(A142,汇总!D:E,2,FALSE)","v":"https://github.com/scutan90/DeepLearning-500-questions"}]
["necolas/normalize.css",{"$f":"VLOOKUP(A143,汇总!D:E,2,FALSE)","v":"https://github.com/necolas/normalize.css"}]
["strapi/strapi",{"$f":"VLOOKUP(A144,汇总!D:E,2,FALSE)","v":"https://github.com/strapi/strapi"}]
["apache/superset",{"$f":"VLOOKUP(A145,汇总!D:E,2,FALSE)","v":"https://github.com/apache/superset"}]
["psf/requests",{"$f":"VLOOKUP(A146,汇总!D:E,2,FALSE)","v":"https://github.com/psf/requests"}]
["GrowingGit/GitHub-Chinese-Top-Charts",{"$f":"VLOOKUP(A147,汇总!D:E,2,FALSE)","v":"https://github.com/GrowingGit/GitHub-Chinese-Top-Charts"}]
["remix-run/react-router",{"$f":"VLOOKUP(A148,汇总!D:E,2,FALSE)","v":"https://github.com/remix-run/react-router"}]
["lydiahallie/javascript-questions",{"$f":"VLOOKUP(A149,汇总!D:E,2,FALSE)","v":"https://github.com/lydiahallie/javascript-questions"}]
["TheAlgorithms/Java",{"$f":"VLOOKUP(A150,汇总!D:E,2,FALSE)","v":"https://github.com/TheAlgorithms/Java"}]
["vitejs/vite",{"$f":"VLOOKUP(A151,汇总!D:E,2,FALSE)","v":"https://github.com/vitejs/vite"}]
["ionic-team/ionic-framework",{"$f":"VLOOKUP(A152,汇总!D:E,2,FALSE)","v":"https://github.com/ionic-team/ionic-framework"}]
["sdmg15/Best-websites-a-programmer-should-visit",{"$f":"VLOOKUP(A153,汇总!D:E,2,FALSE)","v":"https://github.com/sdmg15/Best-websites-a-programmer-should-visit"}]
["python/cpython",{"$f":"VLOOKUP(A154,汇总!D:E,2,FALSE)","v":"https://github.com/python/cpython"}]
["Anduin2017/HowToCook",{"$f":"VLOOKUP(A155,汇总!D:E,2,FALSE)","v":"https://github.com/Anduin2017/HowToCook"}]
["junegunn/fzf",{"$f":"VLOOKUP(A156,汇总!D:E,2,FALSE)","v":"https://github.com/junegunn/fzf"}]
["3b1b/manim",{"$f":"VLOOKUP(A157,汇总!D:E,2,FALSE)","v":"https://github.com/3b1b/manim"}]
["hoppscotch/hoppscotch",{"$f":"VLOOKUP(A158,汇总!D:E,2,FALSE)","v":"https://github.com/hoppscotch/hoppscotch"}]
["sindresorhus/awesome-nodejs",{"$f":"VLOOKUP(A159,汇总!D:E,2,FALSE)","v":"https://github.com/sindresorhus/awesome-nodejs"}]
["moment/moment",{"$f":"VLOOKUP(A160,汇总!D:E,2,FALSE)","v":"https://github.com/moment/moment"}]
["syncthing/syncthing",{"$f":"VLOOKUP(A161,汇总!D:E,2,FALSE)","v":"https://github.com/syncthing/syncthing"}]
["tesseract-ocr/tesseract",{"$f":"VLOOKUP(A162,汇总!D:E,2,FALSE)","v":"https://github.com/tesseract-ocr/tesseract"}]
["google/material-design-icons",{"$f":"VLOOKUP(A163,汇总!D:E,2,FALSE)","v":"https://github.com/google/material-design-icons"}]
["ReactiveX/RxJava",{"$f":"VLOOKUP(A164,汇总!D:E,2,FALSE)","v":"https://github.com/ReactiveX/RxJava"}]
["anuraghazra/github-readme-stats",{"$f":"VLOOKUP(A165,汇总!D:E,2,FALSE)","v":"https://github.com/anuraghazra/github-readme-stats"}]
["jgthms/bulma",{"$f":"VLOOKUP(A166,汇总!D:E,2,FALSE)","v":"https://github.com/jgthms/bulma"}]
["ageitgey/face_recognition",{"$f":"VLOOKUP(A167,汇总!D:E,2,FALSE)","v":"https://github.com/ageitgey/face_recognition"}]
["google/guava",{"$f":"VLOOKUP(A168,汇总!D:E,2,FALSE)","v":"https://github.com/google/guava"}]
["soimort/you-get",{"$f":"VLOOKUP(A169,汇总!D:E,2,FALSE)","v":"https://github.com/soimort/you-get"}]
["jekyll/jekyll",{"$f":"VLOOKUP(A170,汇总!D:E,2,FALSE)","v":"https://github.com/jekyll/jekyll"}]
["NARKOZ/hacker-scripts",{"$f":"VLOOKUP(A171,汇总!D:E,2,FALSE)","v":"https://github.com/NARKOZ/hacker-scripts"}]
["scrapy/scrapy",{"$f":"VLOOKUP(A172,汇总!D:E,2,FALSE)","v":"https://github.com/scrapy/scrapy"}]
["prometheus/prometheus",{"$f":"VLOOKUP(A173,汇总!D:E,2,FALSE)","v":"https://github.com/prometheus/prometheus"}]
["bradtraversy/design-resources-for-developers",{"$f":"VLOOKUP(A174,汇总!D:E,2,FALSE)","v":"https://github.com/bradtraversy/design-resources-for-developers"}]
["MunGell/awesome-for-beginners",{"$f":"VLOOKUP(A175,汇总!D:E,2,FALSE)","v":"https://github.com/MunGell/awesome-for-beginners"}]
["wasabeef/awesome-android-ui",{"$f":"VLOOKUP(A176,汇总!D:E,2,FALSE)","v":"https://github.com/wasabeef/awesome-android-ui"}]
["prettier/prettier",{"$f":"VLOOKUP(A177,汇总!D:E,2,FALSE)","v":"https://github.com/prettier/prettier"}]
["Developer-Y/cs-video-courses",{"$f":"VLOOKUP(A178,汇总!D:E,2,FALSE)","v":"https://github.com/Developer-Y/cs-video-courses"}]
["localstack/localstack",{"$f":"VLOOKUP(A179,汇总!D:E,2,FALSE)","v":"https://github.com/localstack/localstack"}]
["git/git",{"$f":"VLOOKUP(A180,汇总!D:E,2,FALSE)","v":"https://github.com/git/git"}]
["minimaxir/big-list-of-naughty-strings",{"$f":"VLOOKUP(A181,汇总!D:E,2,FALSE)","v":"https://github.com/minimaxir/big-list-of-naughty-strings"}]
["fighting41love/funNLP",{"$f":"VLOOKUP(A182,汇总!D:E,2,FALSE)","v":"https://github.com/fighting41love/funNLP"}]
["serverless/serverless",{"$f":"VLOOKUP(A183,汇总!D:E,2,FALSE)","v":"https://github.com/serverless/serverless"}]
["caddyserver/caddy",{"$f":"VLOOKUP(A184,汇总!D:E,2,FALSE)","v":"https://github.com/caddyserver/caddy"}]
["juliangarnier/anime",{"$f":"VLOOKUP(A185,汇总!D:E,2,FALSE)","v":"https://github.com/juliangarnier/anime"}]
["Solido/awesome-flutter",{"$f":"VLOOKUP(A186,汇总!D:E,2,FALSE)","v":"https://github.com/Solido/awesome-flutter"}]
["meteor/meteor",{"$f":"VLOOKUP(A187,汇总!D:E,2,FALSE)","v":"https://github.com/meteor/meteor"}]
["prakhar1989/awesome-courses",{"$f":"VLOOKUP(A188,汇总!D:E,2,FALSE)","v":"https://github.com/prakhar1989/awesome-courses"}]
["square/okhttp",{"$f":"VLOOKUP(A189,汇总!D:E,2,FALSE)","v":"https://github.com/square/okhttp"}]
["microsoft/playwright",{"$f":"VLOOKUP(A190,汇总!D:E,2,FALSE)","v":"https://github.com/microsoft/playwright"}]
["ziishaned/learn-regex",{"$f":"VLOOKUP(A191,汇总!D:E,2,FALSE)","v":"https://github.com/ziishaned/learn-regex"}]
["JetBrains/kotlin",{"$f":"VLOOKUP(A192,汇总!D:E,2,FALSE)","v":"https://github.com/JetBrains/kotlin"}]
["microsoft/ML-For-Beginners",{"$f":"VLOOKUP(A193,汇总!D:E,2,FALSE)","v":"https://github.com/microsoft/ML-For-Beginners"}]
["deepfakes/faceswap",{"$f":"VLOOKUP(A194,汇总!D:E,2,FALSE)","v":"https://github.com/deepfakes/faceswap"}]
["aymericdamien/TensorFlow-Examples",{"$f":"VLOOKUP(A195,汇总!D:E,2,FALSE)","v":"https://github.com/aymericdamien/TensorFlow-Examples"}]
["alacritty/alacritty",{"$f":"VLOOKUP(A196,汇总!D:E,2,FALSE)","v":"https://github.com/alacritty/alacritty"}]
["danielmiessler/SecLists",{"$f":"VLOOKUP(A197,汇总!D:E,2,FALSE)","v":"https://github.com/danielmiessler/SecLists"}]
["obsproject/obs-studio",{"$f":"VLOOKUP(A198,汇总!D:E,2,FALSE)","v":"https://github.com/obsproject/obs-studio"}]
["ocornut/imgui",{"$f":"VLOOKUP(A199,汇总!D:E,2,FALSE)","v":"https://github.com/ocornut/imgui"}]
["ColorlibHQ/AdminLTE",{"$f":"VLOOKUP(A200,汇总!D:E,2,FALSE)","v":"https://github.com/ColorlibHQ/AdminLTE"}]
["swisskyrepo/PayloadsAllTheThings",{"$f":"VLOOKUP(A201,汇总!D:E,2,FALSE)","v":"https://github.com/swisskyrepo/PayloadsAllTheThings"}]
["android/architecture-samples",{"$f":"VLOOKUP(A202,汇总!D:E,2,FALSE)","v":"https://github.com/android/architecture-samples"}]
["babel/babel",{"$f":"VLOOKUP(A203,汇总!D:E,2,FALSE)","v":"https://github.com/babel/babel"}]
["nuxt/nuxt.js",{"$f":"VLOOKUP(A204,汇总!D:E,2,FALSE)","v":"https://github.com/nuxt/nuxt.js"}]
["parcel-bundler/parcel",{"$f":"VLOOKUP(A205,汇总!D:E,2,FALSE)","v":"https://github.com/parcel-bundler/parcel"}]
["etcd-io/etcd",{"$f":"VLOOKUP(A206,汇总!D:E,2,FALSE)","v":"https://github.com/etcd-io/etcd"}]
["TryGhost/Ghost",{"$f":"VLOOKUP(A207,汇总!D:E,2,FALSE)","v":"https://github.com/TryGhost/Ghost"}]
["binhnguyennus/awesome-scalability",{"$f":"VLOOKUP(A208,汇总!D:E,2,FALSE)","v":"https://github.com/binhnguyennus/awesome-scalability"}]
["DefinitelyTyped/DefinitelyTyped",{"$f":"VLOOKUP(A209,汇总!D:E,2,FALSE)","v":"https://github.com/DefinitelyTyped/DefinitelyTyped"}]
["cypress-io/cypress",{"$f":"VLOOKUP(A210,汇总!D:E,2,FALSE)","v":"https://github.com/cypress-io/cypress"}]
["gogs/gogs",{"$f":"VLOOKUP(A211,汇总!D:E,2,FALSE)","v":"https://github.com/gogs/gogs"}]
["astaxie/build-web-application-with-golang",{"$f":"VLOOKUP(A212,汇总!D:E,2,FALSE)","v":"https://github.com/astaxie/build-web-application-with-golang"}]
["yarnpkg/yarn",{"$f":"VLOOKUP(A213,汇总!D:E,2,FALSE)","v":"https://github.com/yarnpkg/yarn"}]
["tldr-pages/tldr",{"$f":"VLOOKUP(A214,汇总!D:E,2,FALSE)","v":"https://github.com/tldr-pages/tldr"}]
["vsouza/awesome-ios",{"$f":"VLOOKUP(A215,汇总!D:E,2,FALSE)","v":"https://github.com/vsouza/awesome-ios"}]
["fffaraz/awesome-cpp",{"$f":"VLOOKUP(A216,汇总!D:E,2,FALSE)","v":"https://github.com/fffaraz/awesome-cpp"}]
["square/retrofit",{"$f":"VLOOKUP(A217,汇总!D:E,2,FALSE)","v":"https://github.com/square/retrofit"}]
["JuliaLang/julia",{"$f":"VLOOKUP(A218,汇总!D:E,2,FALSE)","v":"https://github.com/JuliaLang/julia"}]
["iamkun/dayjs",{"$f":"VLOOKUP(A219,汇总!D:E,2,FALSE)","v":"https://github.com/iamkun/dayjs"}]
["v2ray/v2ray-core",{"$f":"VLOOKUP(A220,汇总!D:E,2,FALSE)","v":"https://github.com/v2ray/v2ray-core"}]
["facebook/jest",{"$f":"VLOOKUP(A221,汇总!D:E,2,FALSE)","v":"https://github.com/facebook/jest"}]
["ventoy/Ventoy",{"$f":"VLOOKUP(A222,汇总!D:E,2,FALSE)","v":"https://github.com/ventoy/Ventoy"}]
["mozilla/pdf.js",{"$f":"VLOOKUP(A223,汇总!D:E,2,FALSE)","v":"https://github.com/mozilla/pdf.js"}]
["karan/Projects",{"$f":"VLOOKUP(A224,汇总!D:E,2,FALSE)","v":"https://github.com/karan/Projects"}]
["Textualize/rich",{"$f":"VLOOKUP(A225,汇总!D:E,2,FALSE)","v":"https://github.com/Textualize/rich"}]
["traefik/traefik",{"$f":"VLOOKUP(A226,汇总!D:E,2,FALSE)","v":"https://github.com/traefik/traefik"}]
["ethereum/go-ethereum",{"$f":"VLOOKUP(A227,汇总!D:E,2,FALSE)","v":"https://github.com/ethereum/go-ethereum"}]
["vercel/hyper",{"$f":"VLOOKUP(A228,汇总!D:E,2,FALSE)","v":"https://github.com/vercel/hyper"}]
["supabase/supabase",{"$f":"VLOOKUP(A229,汇总!D:E,2,FALSE)","v":"https://github.com/supabase/supabase"}]
["k88hudson/git-flight-rules",{"$f":"VLOOKUP(A230,汇总!D:E,2,FALSE)","v":"https://github.com/k88hudson/git-flight-rules"}]
["algorithm-visualizer/algorithm-visualizer",{"$f":"VLOOKUP(A231,汇总!D:E,2,FALSE)","v":"https://github.com/algorithm-visualizer/algorithm-visualizer"}]
["x64dbg/x64dbg",{"$f":"VLOOKUP(A232,汇总!D:E,2,FALSE)","v":"https://github.com/x64dbg/x64dbg"}]
["nwjs/nw.js",{"$f":"VLOOKUP(A233,汇总!D:E,2,FALSE)","v":"https://github.com/nwjs/nw.js"}]
["bailicangdu/vue2-elm",{"$f":"VLOOKUP(A234,汇总!D:E,2,FALSE)","v":"https://github.com/bailicangdu/vue2-elm"}]
["justjavac/awesome-wechat-weapp",{"$f":"VLOOKUP(A235,汇总!D:E,2,FALSE)","v":"https://github.com/justjavac/awesome-wechat-weapp"}]
["pi-hole/pi-hole",{"$f":"VLOOKUP(A236,汇总!D:E,2,FALSE)","v":"https://github.com/pi-hole/pi-hole"}]
["Dogfalo/materialize",{"$f":"VLOOKUP(A237,汇总!D:E,2,FALSE)","v":"https://github.com/Dogfalo/materialize"}]
["ryanoasis/nerd-fonts",{"$f":"VLOOKUP(A238,汇总!D:E,2,FALSE)","v":"https://github.com/ryanoasis/nerd-fonts"}]
["Avik-Jain/100-Days-Of-ML-Code",{"$f":"VLOOKUP(A239,汇总!D:E,2,FALSE)","v":"https://github.com/Avik-Jain/100-Days-Of-ML-Code"}]
["facebook/docusaurus",{"$f":"VLOOKUP(A240,汇总!D:E,2,FALSE)","v":"https://github.com/facebook/docusaurus"}]
["Alamofire/Alamofire",{"$f":"VLOOKUP(A241,汇总!D:E,2,FALSE)","v":"https://github.com/Alamofire/Alamofire"}]
["Eugeny/tabby",{"$f":"VLOOKUP(A242,汇总!D:E,2,FALSE)","v":"https://github.com/Eugeny/tabby"}]
["apache/dubbo",{"$f":"VLOOKUP(A243,汇总!D:E,2,FALSE)","v":"https://github.com/apache/dubbo"}]
["Unitech/pm2",{"$f":"VLOOKUP(A244,汇总!D:E,2,FALSE)","v":"https://github.com/Unitech/pm2"}]
["chinese-poetry/chinese-poetry",{"$f":"VLOOKUP(A245,汇总!D:E,2,FALSE)","v":"https://github.com/chinese-poetry/chinese-poetry"}]
["pixijs/pixijs",{"$f":"VLOOKUP(A246,汇总!D:E,2,FALSE)","v":"https://github.com/pixijs/pixijs"}]
["styled-components/styled-components",{"$f":"VLOOKUP(A247,汇总!D:E,2,FALSE)","v":"https://github.com/styled-components/styled-components"}]
["sharkdp/bat",{"$f":"VLOOKUP(A248,汇总!D:E,2,FALSE)","v":"https://github.com/sharkdp/bat"}]
["dcloudio/uni-app",{"$f":"VLOOKUP(A249,汇总!D:E,2,FALSE)","v":"https://github.com/dcloudio/uni-app"}]
["tiimgreen/github-cheat-sheet",{"$f":"VLOOKUP(A250,汇总!D:E,2,FALSE)","v":"https://github.com/tiimgreen/github-cheat-sheet"}]
["FiloSottile/mkcert",{"$f":"VLOOKUP(A251,汇总!D:E,2,FALSE)","v":"https://github.com/FiloSottile/mkcert"}]
["Alvin9999/new-pac",{"$f":"VLOOKUP(A252,汇总!D:E,2,FALSE)","v":"https://github.com/Alvin9999/new-pac"}]
["CorentinJ/Real-Time-Voice-Cloning",{"$f":"VLOOKUP(A253,汇总!D:E,2,FALSE)","v":"https://github.com/CorentinJ/Real-Time-Voice-Cloning"}]
["impress/impress.js",{"$f":"VLOOKUP(A254,汇总!D:E,2,FALSE)","v":"https://github.com/impress/impress.js"}]
["typescript-cheatsheets/react",{"$f":"VLOOKUP(A255,汇总!D:E,2,FALSE)","v":"https://github.com/typescript-cheatsheets/react"}]
["Fndroid/clash_for_windows_pkg",{"$f":"VLOOKUP(A256,汇总!D:E,2,FALSE)","v":"https://github.com/Fndroid/clash_for_windows_pkg"}]
["huginn/huginn",{"$f":"VLOOKUP(A257,汇总!D:E,2,FALSE)","v":"https://github.com/huginn/huginn"}]
["discourse/discourse",{"$f":"VLOOKUP(A258,汇总!D:E,2,FALSE)","v":"https://github.com/discourse/discourse"}]
["FreeCodeCampChina/freecodecamp.cn",{"$f":"VLOOKUP(A259,汇总!D:E,2,FALSE)","v":"https://github.com/FreeCodeCampChina/freecodecamp.cn"}]
["marktext/marktext",{"$f":"VLOOKUP(A260,汇总!D:E,2,FALSE)","v":"https://github.com/marktext/marktext"}]
["jakevdp/PythonDataScienceHandbook",{"$f":"VLOOKUP(A261,汇总!D:E,2,FALSE)","v":"https://github.com/jakevdp/PythonDataScienceHandbook"}]
["GitSquared/edex-ui",{"$f":"VLOOKUP(A262,汇总!D:E,2,FALSE)","v":"https://github.com/GitSquared/edex-ui"}]
["commaai/openpilot",{"$f":"VLOOKUP(A263,汇总!D:E,2,FALSE)","v":"https://github.com/commaai/openpilot"}]
["ngosang/trackerslist",{"$f":"VLOOKUP(A264,汇总!D:E,2,FALSE)","v":"https://github.com/ngosang/trackerslist"}]
["sherlock-project/sherlock",{"$f":"VLOOKUP(A265,汇总!D:E,2,FALSE)","v":"https://github.com/sherlock-project/sherlock"}]
["fastlane/fastlane",{"$f":"VLOOKUP(A266,汇总!D:E,2,FALSE)","v":"https://github.com/fastlane/fastlane"}]
["grpc/grpc",{"$f":"VLOOKUP(A267,汇总!D:E,2,FALSE)","v":"https://github.com/grpc/grpc"}]
["Leaflet/Leaflet",{"$f":"VLOOKUP(A268,汇总!D:E,2,FALSE)","v":"https://github.com/Leaflet/Leaflet"}]
["PhilJay/MPAndroidChart",{"$f":"VLOOKUP(A269,汇总!D:E,2,FALSE)","v":"https://github.com/PhilJay/MPAndroidChart"}]
["isocpp/CppCoreGuidelines",{"$f":"VLOOKUP(A270,汇总!D:E,2,FALSE)","v":"https://github.com/isocpp/CppCoreGuidelines"}]
["minio/minio",{"$f":"VLOOKUP(A271,汇总!D:E,2,FALSE)","v":"https://github.com/minio/minio"}]
["hexojs/hexo",{"$f":"VLOOKUP(A272,汇总!D:E,2,FALSE)","v":"https://github.com/hexojs/hexo"}]
["pandas-dev/pandas",{"$f":"VLOOKUP(A273,汇总!D:E,2,FALSE)","v":"https://github.com/pandas-dev/pandas"}]
["vuetifyjs/vuetify",{"$f":"VLOOKUP(A274,汇总!D:E,2,FALSE)","v":"https://github.com/vuetifyjs/vuetify"}]
["d2l-ai/d2l-zh",{"$f":"VLOOKUP(A275,汇总!D:E,2,FALSE)","v":"https://github.com/d2l-ai/d2l-zh"}]
["yangshun/front-end-interview-handbook",{"$f":"VLOOKUP(A276,汇总!D:E,2,FALSE)","v":"https://github.com/yangshun/front-end-interview-handbook"}]
["dypsilon/frontend-dev-bookmarks",{"$f":"VLOOKUP(A277,汇总!D:E,2,FALSE)","v":"https://github.com/dypsilon/frontend-dev-bookmarks"}]
["iperov/DeepFaceLab",{"$f":"VLOOKUP(A278,汇总!D:E,2,FALSE)","v":"https://github.com/iperov/DeepFaceLab"}]
["PowerShell/PowerShell",{"$f":"VLOOKUP(A279,汇总!D:E,2,FALSE)","v":"https://github.com/PowerShell/PowerShell"}]
["faif/python-patterns",{"$f":"VLOOKUP(A280,汇总!D:E,2,FALSE)","v":"https://github.com/faif/python-patterns"}]
["alex/what-happens-when",{"$f":"VLOOKUP(A281,汇总!D:E,2,FALSE)","v":"https://github.com/alex/what-happens-when"}]
["kamranahmedse/design-patterns-for-humans",{"$f":"VLOOKUP(A282,汇总!D:E,2,FALSE)","v":"https://github.com/kamranahmedse/design-patterns-for-humans"}]
["golang-standards/project-layout",{"$f":"VLOOKUP(A283,汇总!D:E,2,FALSE)","v":"https://github.com/golang-standards/project-layout"}]
["rclone/rclone",{"$f":"VLOOKUP(A284,汇总!D:E,2,FALSE)","v":"https://github.com/rclone/rclone"}]
["NationalSecurityAgency/ghidra",{"$f":"VLOOKUP(A285,汇总!D:E,2,FALSE)","v":"https://github.com/NationalSecurityAgency/ghidra"}]
["nodejs/node-v0.x-archive",{"$f":"VLOOKUP(A286,汇总!D:E,2,FALSE)","v":"https://github.com/nodejs/node-v0.x-archive"}]
["oven-sh/bun",{"$f":"VLOOKUP(A287,汇总!D:E,2,FALSE)","v":"https://github.com/oven-sh/bun"}]
["slatedocs/slate",{"$f":"VLOOKUP(A288,汇总!D:E,2,FALSE)","v":"https://github.com/slatedocs/slate"}]
["hashicorp/terraform",{"$f":"VLOOKUP(A289,汇总!D:E,2,FALSE)","v":"https://github.com/hashicorp/terraform"}]
["php/php-src",{"$f":"VLOOKUP(A290,汇总!D:E,2,FALSE)","v":"https://github.com/php/php-src"}]
["google/zx",{"$f":"VLOOKUP(A291,汇总!D:E,2,FALSE)","v":"https://github.com/google/zx"}]
["videojs/video.js",{"$f":"VLOOKUP(A292,汇总!D:E,2,FALSE)","v":"https://github.com/videojs/video.js"}]
["0voice/interview_internal_reference",{"$f":"VLOOKUP(A293,汇总!D:E,2,FALSE)","v":"https://github.com/0voice/interview_internal_reference"}]
["alvarotrigo/fullPage.js",{"$f":"VLOOKUP(A294,汇总!D:E,2,FALSE)","v":"https://github.com/alvarotrigo/fullPage.js"}]
["jgraph/drawio-desktop",{"$f":"VLOOKUP(A295,汇总!D:E,2,FALSE)","v":"https://github.com/jgraph/drawio-desktop"}]
["apachecn/ailearning",{"$f":"VLOOKUP(A296,汇总!D:E,2,FALSE)","v":"https://github.com/apachecn/ailearning"}]
["apache/spark",{"$f":"VLOOKUP(A297,汇总!D:E,2,FALSE)","v":"https://github.com/apache/spark"}]
["wagoodman/dive",{"$f":"VLOOKUP(A298,汇总!D:E,2,FALSE)","v":"https://github.com/wagoodman/dive"}]
["sahat/hackathon-starter",{"$f":"VLOOKUP(A299,汇总!D:E,2,FALSE)","v":"https://github.com/sahat/hackathon-starter"}]
["akullpp/awesome-java",{"$f":"VLOOKUP(A300,汇总!D:E,2,FALSE)","v":"https://github.com/akullpp/awesome-java"}]
["quilljs/quill",{"$f":"VLOOKUP(A301,汇总!D:E,2,FALSE)","v":"https://github.com/quilljs/quill"}]
["agalwood/Motrix",{"$f":"VLOOKUP(A302,汇总!D:E,2,FALSE)","v":"https://github.com/agalwood/Motrix"}]
["lerna/lerna",{"$f":"VLOOKUP(A303,汇总!D:E,2,FALSE)","v":"https://github.com/lerna/lerna"}]
["Homebrew/brew",{"$f":"VLOOKUP(A304,汇总!D:E,2,FALSE)","v":"https://github.com/Homebrew/brew"}]
["adobe/brackets",{"$f":"VLOOKUP(A305,汇总!D:E,2,FALSE)","v":"https://github.com/adobe/brackets"}]
["floodsung/Deep-Learning-Papers-Reading-Roadmap",{"$f":"VLOOKUP(A306,汇总!D:E,2,FALSE)","v":"https://github.com/floodsung/Deep-Learning-Papers-Reading-Roadmap"}]
["RocketChat/Rocket.Chat",{"$f":"VLOOKUP(A307,汇总!D:E,2,FALSE)","v":"https://github.com/RocketChat/Rocket.Chat"}]
["evanw/esbuild",{"$f":"VLOOKUP(A308,汇总!D:E,2,FALSE)","v":"https://github.com/evanw/esbuild"}]
["BurntSushi/ripgrep",{"$f":"VLOOKUP(A309,汇总!D:E,2,FALSE)","v":"https://github.com/BurntSushi/ripgrep"}]
["excalidraw/excalidraw",{"$f":"VLOOKUP(A310,汇总!D:E,2,FALSE)","v":"https://github.com/excalidraw/excalidraw"}]
["AFNetworking/AFNetworking",{"$f":"VLOOKUP(A311,汇总!D:E,2,FALSE)","v":"https://github.com/AFNetworking/AFNetworking"}]
["airbnb/lottie-android",{"$f":"VLOOKUP(A312,汇总!D:E,2,FALSE)","v":"https://github.com/airbnb/lottie-android"}]
["shadowsocks/shadowsocks",{"$f":"VLOOKUP(A313,汇总!D:E,2,FALSE)","v":"https://github.com/shadowsocks/shadowsocks"}]
["koajs/koa",{"$f":"VLOOKUP(A314,汇总!D:E,2,FALSE)","v":"https://github.com/koajs/koa"}]
["yt-dlp/yt-dlp",{"$f":"VLOOKUP(A315,汇总!D:E,2,FALSE)","v":"https://github.com/yt-dlp/yt-dlp"}]
["preactjs/preact",{"$f":"VLOOKUP(A316,汇总!D:E,2,FALSE)","v":"https://github.com/preactjs/preact"}]
["bumptech/glide",{"$f":"VLOOKUP(A317,汇总!D:E,2,FALSE)","v":"https://github.com/bumptech/glide"}]
["Kong/kong",{"$f":"VLOOKUP(A318,汇总!D:E,2,FALSE)","v":"https://github.com/Kong/kong"}]
["wg/wrk",{"$f":"VLOOKUP(A319,汇总!D:E,2,FALSE)","v":"https://github.com/wg/wrk"}]
["exacity/deeplearningbook-chinese",{"$f":"VLOOKUP(A320,汇总!D:E,2,FALSE)","v":"https://github.com/exacity/deeplearningbook-chinese"}]
["ant-design/ant-design-pro",{"$f":"VLOOKUP(A321,汇总!D:E,2,FALSE)","v":"https://github.com/ant-design/ant-design-pro"}]
["shadowsocks/shadowsocks-android",{"$f":"VLOOKUP(A322,汇总!D:E,2,FALSE)","v":"https://github.com/shadowsocks/shadowsocks-android"}]
["photonstorm/phaser",{"$f":"VLOOKUP(A323,汇总!D:E,2,FALSE)","v":"https://github.com/photonstorm/phaser"}]
["vuejs/core",{"$f":"VLOOKUP(A324,汇总!D:E,2,FALSE)","v":"https://github.com/vuejs/core"}]
["BVLC/caffe",{"$f":"VLOOKUP(A325,汇总!D:E,2,FALSE)","v":"https://github.com/BVLC/caffe"}]
["kelseyhightower/kubernetes-the-hard-way",{"$f":"VLOOKUP(A326,汇总!D:E,2,FALSE)","v":"https://github.com/kelseyhightower/kubernetes-the-hard-way"}]
["nolimits4web/swiper",{"$f":"VLOOKUP(A327,汇总!D:E,2,FALSE)","v":"https://github.com/nolimits4web/swiper"}]
["gulpjs/gulp",{"$f":"VLOOKUP(A328,汇总!D:E,2,FALSE)","v":"https://github.com/gulpjs/gulp"}]
["gorhill/uBlock",{"$f":"VLOOKUP(A329,汇总!D:E,2,FALSE)","v":"https://github.com/gorhill/uBlock"}]
["zenorocha/clipboard.js",{"$f":"VLOOKUP(A330,汇总!D:E,2,FALSE)","v":"https://github.com/zenorocha/clipboard.js"}]
["open-guides/og-aws",{"$f":"VLOOKUP(A331,汇总!D:E,2,FALSE)","v":"https://github.com/open-guides/og-aws"}]
["go-gitea/gitea",{"$f":"VLOOKUP(A332,汇总!D:E,2,FALSE)","v":"https://github.com/go-gitea/gitea"}]
["brillout/awesome-react-components",{"$f":"VLOOKUP(A333,汇总!D:E,2,FALSE)","v":"https://github.com/brillout/awesome-react-components"}]
["pingcap/tidb",{"$f":"VLOOKUP(A334,汇总!D:E,2,FALSE)","v":"https://github.com/pingcap/tidb"}]
["2dust/v2rayN",{"$f":"VLOOKUP(A335,汇总!D:E,2,FALSE)","v":"https://github.com/2dust/v2rayN"}]
["serhii-londar/open-source-mac-os-apps",{"$f":"VLOOKUP(A336,汇总!D:E,2,FALSE)","v":"https://github.com/serhii-londar/open-source-mac-os-apps"}]
["laurent22/joplin",{"$f":"VLOOKUP(A337,汇总!D:E,2,FALSE)","v":"https://github.com/laurent22/joplin"}]
["immutable-js/immutable-js",{"$f":"VLOOKUP(A338,汇总!D:E,2,FALSE)","v":"https://github.com/immutable-js/immutable-js"}]
["poteto/hiring-without-whiteboards",{"$f":"VLOOKUP(A339,汇总!D:E,2,FALSE)","v":"https://github.com/poteto/hiring-without-whiteboards"}]
["streamich/react-use",{"$f":"VLOOKUP(A340,汇总!D:E,2,FALSE)","v":"https://github.com/streamich/react-use"}]
["google-research/bert",{"$f":"VLOOKUP(A341,汇总!D:E,2,FALSE)","v":"https://github.com/google-research/bert"}]
["getsentry/sentry",{"$f":"VLOOKUP(A342,汇总!D:E,2,FALSE)","v":"https://github.com/getsentry/sentry"}]
["youngyangyang04/leetcode-master",{"$f":"VLOOKUP(A343,汇总!D:E,2,FALSE)","v":"https://github.com/youngyangyang04/leetcode-master"}]
["google/material-design-lite",{"$f":"VLOOKUP(A344,汇总!D:E,2,FALSE)","v":"https://github.com/google/material-design-lite"}]
["eugenp/tutorials",{"$f":"VLOOKUP(A345,汇总!D:E,2,FALSE)","v":"https://github.com/eugenp/tutorials"}]
["nlohmann/json",{"$f":"VLOOKUP(A346,汇总!D:E,2,FALSE)","v":"https://github.com/nlohmann/json"}]
["AobingJava/JavaFamily",{"$f":"VLOOKUP(A347,汇总!D:E,2,FALSE)","v":"https://github.com/AobingJava/JavaFamily"}]
["FFmpeg/FFmpeg",{"$f":"VLOOKUP(A348,汇总!D:E,2,FALSE)","v":"https://github.com/FFmpeg/FFmpeg"}]
["jondot/awesome-react-native",{"$f":"VLOOKUP(A349,汇总!D:E,2,FALSE)","v":"https://github.com/jondot/awesome-react-native"}]
["dkhamsing/open-source-ios-apps",{"$f":"VLOOKUP(A350,汇总!D:E,2,FALSE)","v":"https://github.com/dkhamsing/open-source-ios-apps"}]
["dylanaraps/pure-bash-bible",{"$f":"VLOOKUP(A351,汇总!D:E,2,FALSE)","v":"https://github.com/dylanaraps/pure-bash-bible"}]
["skylot/jadx",{"$f":"VLOOKUP(A352,汇总!D:E,2,FALSE)","v":"https://github.com/skylot/jadx"}]
["nativefier/nativefier",{"$f":"VLOOKUP(A353,汇总!D:E,2,FALSE)","v":"https://github.com/nativefier/nativefier"}]
["satwikkansal/wtfpython",{"$f":"VLOOKUP(A354,汇总!D:E,2,FALSE)","v":"https://github.com/satwikkansal/wtfpython"}]
["google/styleguide",{"$f":"VLOOKUP(A355,汇总!D:E,2,FALSE)","v":"https://github.com/google/styleguide"}]
["NervJS/taro",{"$f":"VLOOKUP(A356,汇总!D:E,2,FALSE)","v":"https://github.com/NervJS/taro"}]
["tabler/tabler",{"$f":"VLOOKUP(A357,汇总!D:E,2,FALSE)","v":"https://github.com/tabler/tabler"}]
["Dreamacro/clash",{"$f":"VLOOKUP(A358,汇总!D:E,2,FALSE)","v":"https://github.com/Dreamacro/clash"}]
["istio/istio",{"$f":"VLOOKUP(A359,汇总!D:E,2,FALSE)","v":"https://github.com/istio/istio"}]
["romkatv/powerlevel10k",{"$f":"VLOOKUP(A360,汇总!D:E,2,FALSE)","v":"https://github.com/romkatv/powerlevel10k"}]
["jgraph/drawio",{"$f":"VLOOKUP(A361,汇总!D:E,2,FALSE)","v":"https://github.com/jgraph/drawio"}]
["Blankj/AndroidUtilCode",{"$f":"VLOOKUP(A362,汇总!D:E,2,FALSE)","v":"https://github.com/Blankj/AndroidUtilCode"}]
["geekxh/hello-algorithm",{"$f":"VLOOKUP(A363,汇总!D:E,2,FALSE)","v":"https://github.com/geekxh/hello-algorithm"}]
["formulahendry/955.WLB",{"$f":"VLOOKUP(A364,汇总!D:E,2,FALSE)","v":"https://github.com/formulahendry/955.WLB"}]
["SheetJS/sheetjs",{"$f":"VLOOKUP(A365,汇总!D:E,2,FALSE)","v":"https://github.com/SheetJS/sheetjs"}]
["XX-net/XX-Net",{"$f":"VLOOKUP(A366,汇总!D:E,2,FALSE)","v":"https://github.com/XX-net/XX-Net"}]
["xitu/gold-miner",{"$f":"VLOOKUP(A367,汇总!D:E,2,FALSE)","v":"https://github.com/xitu/gold-miner"}]
["iina/iina",{"$f":"VLOOKUP(A368,汇总!D:E,2,FALSE)","v":"https://github.com/iina/iina"}]
["microsoft/monaco-editor",{"$f":"VLOOKUP(A369,汇总!D:E,2,FALSE)","v":"https://github.com/microsoft/monaco-editor"}]
["carbon-app/carbon",{"$f":"VLOOKUP(A370,汇总!D:E,2,FALSE)","v":"https://github.com/carbon-app/carbon"}]
["ultralytics/yolov5",{"$f":"VLOOKUP(A371,汇总!D:E,2,FALSE)","v":"https://github.com/ultralytics/yolov5"}]
["jaredpalmer/formik",{"$f":"VLOOKUP(A372,汇总!D:E,2,FALSE)","v":"https://github.com/jaredpalmer/formik"}]
["unknwon/the-way-to-go_ZH_CN",{"$f":"VLOOKUP(A373,汇总!D:E,2,FALSE)","v":"https://github.com/unknwon/the-way-to-go_ZH_CN"}]
["blueimp/jQuery-File-Upload",{"$f":"VLOOKUP(A374,汇总!D:E,2,FALSE)","v":"https://github.com/blueimp/jQuery-File-Upload"}]
["Trinea/android-open-project",{"$f":"VLOOKUP(A375,汇总!D:E,2,FALSE)","v":"https://github.com/Trinea/android-open-project"}]
["GokuMohandas/Made-With-ML",{"$f":"VLOOKUP(A376,汇总!D:E,2,FALSE)","v":"https://github.com/GokuMohandas/Made-With-ML"}]
["jeecgboot/jeecg-boot",{"$f":"VLOOKUP(A377,汇总!D:E,2,FALSE)","v":"https://github.com/jeecgboot/jeecg-boot"}]
["react-hook-form/react-hook-form",{"$f":"VLOOKUP(A378,汇总!D:E,2,FALSE)","v":"https://github.com/react-hook-form/react-hook-form"}]
["bilibili/ijkplayer",{"$f":"VLOOKUP(A379,汇总!D:E,2,FALSE)","v":"https://github.com/bilibili/ijkplayer"}]
["google/leveldb",{"$f":"VLOOKUP(A380,汇总!D:E,2,FALSE)","v":"https://github.com/google/leveldb"}]
["LeCoupa/awesome-cheatsheets",{"$f":"VLOOKUP(A381,汇总!D:E,2,FALSE)","v":"https://github.com/LeCoupa/awesome-cheatsheets"}]
["shadowsocks/ShadowsocksX-NG",{"$f":"VLOOKUP(A382,汇总!D:E,2,FALSE)","v":"https://github.com/shadowsocks/ShadowsocksX-NG"}]
["testerSunshine/12306",{"$f":"VLOOKUP(A383,汇总!D:E,2,FALSE)","v":"https://github.com/testerSunshine/12306"}]
["bregman-arie/devops-exercises",{"$f":"VLOOKUP(A384,汇总!D:E,2,FALSE)","v":"https://github.com/bregman-arie/devops-exercises"}]
["alibaba/arthas",{"$f":"VLOOKUP(A385,汇总!D:E,2,FALSE)","v":"https://github.com/alibaba/arthas"}]
["chubin/cheat.sh",{"$f":"VLOOKUP(A386,汇总!D:E,2,FALSE)","v":"https://github.com/chubin/cheat.sh"}]
["vlang/v",{"$f":"VLOOKUP(A387,汇总!D:E,2,FALSE)","v":"https://github.com/vlang/v"}]
["nocodb/nocodb",{"$f":"VLOOKUP(A388,汇总!D:E,2,FALSE)","v":"https://github.com/nocodb/nocodb"}]
["rust-lang/rustlings",{"$f":"VLOOKUP(A389,汇总!D:E,2,FALSE)","v":"https://github.com/rust-lang/rustlings"}]
["gto76/python-cheatsheet",{"$f":"VLOOKUP(A390,汇总!D:E,2,FALSE)","v":"https://github.com/gto76/python-cheatsheet"}]
["zxing/zxing",{"$f":"VLOOKUP(A391,汇总!D:E,2,FALSE)","v":"https://github.com/zxing/zxing"}]
["TanStack/query",{"$f":"VLOOKUP(A392,汇总!D:E,2,FALSE)","v":"https://github.com/TanStack/query"}]
["jesseduffield/lazygit",{"$f":"VLOOKUP(A393,汇总!D:E,2,FALSE)","v":"https://github.com/jesseduffield/lazygit"}]
["koalaman/shellcheck",{"$f":"VLOOKUP(A394,汇总!D:E,2,FALSE)","v":"https://github.com/koalaman/shellcheck"}]
["cli/cli",{"$f":"VLOOKUP(A395,汇总!D:E,2,FALSE)","v":"https://github.com/cli/cli"}]
["netty/netty",{"$f":"VLOOKUP(A396,汇总!D:E,2,FALSE)","v":"https://github.com/netty/netty"}]
["mastodon/mastodon",{"$f":"VLOOKUP(A397,汇总!D:E,2,FALSE)","v":"https://github.com/mastodon/mastodon"}]
["date-fns/date-fns",{"$f":"VLOOKUP(A398,汇总!D:E,2,FALSE)","v":"https://github.com/date-fns/date-fns"}]
["go-gorm/gorm",{"$f":"VLOOKUP(A399,汇总!D:E,2,FALSE)","v":"https://github.com/go-gorm/gorm"}]
["metabase/metabase",{"$f":"VLOOKUP(A400,汇总!D:E,2,FALSE)","v":"https://github.com/metabase/metabase"}]
["freeCodeCamp/devdocs",{"$f":"VLOOKUP(A401,汇总!D:E,2,FALSE)","v":"https://github.com/freeCodeCamp/devdocs"}]
["meilisearch/meilisearch",{"$f":"VLOOKUP(A402,汇总!D:E,2,FALSE)","v":"https://github.com/meilisearch/meilisearch"}]
["dotnet/aspnetcore",{"$f":"VLOOKUP(A403,汇总!D:E,2,FALSE)","v":"https://github.com/dotnet/aspnetcore"}]
["rustdesk/rustdesk",{"$f":"VLOOKUP(A404,汇总!D:E,2,FALSE)","v":"https://github.com/rustdesk/rustdesk"}]
["vuejs/vue-cli",{"$f":"VLOOKUP(A405,汇总!D:E,2,FALSE)","v":"https://github.com/vuejs/vue-cli"}]
["typeorm/typeorm",{"$f":"VLOOKUP(A406,汇总!D:E,2,FALSE)","v":"https://github.com/typeorm/typeorm"}]
["bayandin/awesome-awesomeness",{"$f":"VLOOKUP(A407,汇总!D:E,2,FALSE)","v":"https://github.com/bayandin/awesome-awesomeness"}]
["topjohnwu/Magisk",{"$f":"VLOOKUP(A408,汇总!D:E,2,FALSE)","v":"https://github.com/topjohnwu/Magisk"}]
["joshbuchea/HEAD",{"$f":"VLOOKUP(A409,汇总!D:E,2,FALSE)","v":"https://github.com/joshbuchea/HEAD"}]
["certbot/certbot",{"$f":"VLOOKUP(A410,汇总!D:E,2,FALSE)","v":"https://github.com/certbot/certbot"}]
["foundation/foundation-sites",{"$f":"VLOOKUP(A411,汇总!D:E,2,FALSE)","v":"https://github.com/foundation/foundation-sites"}]
["fxsjy/jieba",{"$f":"VLOOKUP(A412,汇总!D:E,2,FALSE)","v":"https://github.com/fxsjy/jieba"}]
["psf/black",{"$f":"VLOOKUP(A413,汇总!D:E,2,FALSE)","v":"https://github.com/psf/black"}]
["junegunn/vim-plug",{"$f":"VLOOKUP(A414,汇总!D:E,2,FALSE)","v":"https://github.com/junegunn/vim-plug"}]
["QSCTech/zju-icicles",{"$f":"VLOOKUP(A415,汇总!D:E,2,FALSE)","v":"https://github.com/QSCTech/zju-icicles"}]
["iamadamdev/bypass-paywalls-chrome",{"$f":"VLOOKUP(A416,汇总!D:E,2,FALSE)","v":"https://github.com/iamadamdev/bypass-paywalls-chrome"}]
["CSSEGISandData/COVID-19",{"$f":"VLOOKUP(A417,汇总!D:E,2,FALSE)","v":"https://github.com/CSSEGISandData/COVID-19"}]
["lukehoban/es6features",{"$f":"VLOOKUP(A418,汇总!D:E,2,FALSE)","v":"https://github.com/lukehoban/es6features"}]
["ariya/phantomjs",{"$f":"VLOOKUP(A419,汇总!D:E,2,FALSE)","v":"https://github.com/ariya/phantomjs"}]
["rust-unofficial/awesome-rust",{"$f":"VLOOKUP(A420,汇总!D:E,2,FALSE)","v":"https://github.com/rust-unofficial/awesome-rust"}]
["pyenv/pyenv",{"$f":"VLOOKUP(A421,汇总!D:E,2,FALSE)","v":"https://github.com/pyenv/pyenv"}]
["sorrycc/awesome-javascript",{"$f":"VLOOKUP(A422,汇总!D:E,2,FALSE)","v":"https://github.com/sorrycc/awesome-javascript"}]
["beego/beego",{"$f":"VLOOKUP(A423,汇总!D:E,2,FALSE)","v":"https://github.com/beego/beego"}]
["starship/starship",{"$f":"VLOOKUP(A424,汇总!D:E,2,FALSE)","v":"https://github.com/starship/starship"}]
["chakra-ui/chakra-ui",{"$f":"VLOOKUP(A425,汇总!D:E,2,FALSE)","v":"https://github.com/chakra-ui/chakra-ui"}]
["mitmproxy/mitmproxy",{"$f":"VLOOKUP(A426,汇总!D:E,2,FALSE)","v":"https://github.com/mitmproxy/mitmproxy"}]
["spf13/cobra",{"$f":"VLOOKUP(A427,汇总!D:E,2,FALSE)","v":"https://github.com/spf13/cobra"}]
["react-boilerplate/react-boilerplate",{"$f":"VLOOKUP(A428,汇总!D:E,2,FALSE)","v":"https://github.com/react-boilerplate/react-boilerplate"}]
["openai/gym",{"$f":"VLOOKUP(A429,汇总!D:E,2,FALSE)","v":"https://github.com/openai/gym"}]
["vim/vim",{"$f":"VLOOKUP(A430,汇总!D:E,2,FALSE)","v":"https://github.com/vim/vim"}]
["dbeaver/dbeaver",{"$f":"VLOOKUP(A431,汇总!D:E,2,FALSE)","v":"https://github.com/dbeaver/dbeaver"}]
["denysdovhan/wtfjs",{"$f":"VLOOKUP(A432,汇总!D:E,2,FALSE)","v":"https://github.com/denysdovhan/wtfjs"}]
["markedjs/marked",{"$f":"VLOOKUP(A433,汇总!D:E,2,FALSE)","v":"https://github.com/markedjs/marked"}]
["rapid7/metasploit-framework",{"$f":"VLOOKUP(A434,汇总!D:E,2,FALSE)","v":"https://github.com/rapid7/metasploit-framework"}]
["mathiasbynens/dotfiles",{"$f":"VLOOKUP(A435,汇总!D:E,2,FALSE)","v":"https://github.com/mathiasbynens/dotfiles"}]
["acmesh-official/acme.sh",{"$f":"VLOOKUP(A436,汇总!D:E,2,FALSE)","v":"https://github.com/acmesh-official/acme.sh"}]
["alibaba/p3c",{"$f":"VLOOKUP(A437,汇总!D:E,2,FALSE)","v":"https://github.com/alibaba/p3c"}]
["nektos/act",{"$f":"VLOOKUP(A438,汇总!D:E,2,FALSE)","v":"https://github.com/nektos/act"}]
["atlassian/react-beautiful-dnd",{"$f":"VLOOKUP(A439,汇总!D:E,2,FALSE)","v":"https://github.com/atlassian/react-beautiful-dnd"}]
["Asabeneh/30-Days-Of-JavaScript",{"$f":"VLOOKUP(A440,汇总!D:E,2,FALSE)","v":"https://github.com/Asabeneh/30-Days-Of-JavaScript"}]
["mqyqingfeng/Blog",{"$f":"VLOOKUP(A441,汇总!D:E,2,FALSE)","v":"https://github.com/mqyqingfeng/Blog"}]
["hasura/graphql-engine",{"$f":"VLOOKUP(A442,汇总!D:E,2,FALSE)","v":"https://github.com/hasura/graphql-engine"}]
["naptha/tesseract.js",{"$f":"VLOOKUP(A443,汇总!D:E,2,FALSE)","v":"https://github.com/naptha/tesseract.js"}]
["ityouknow/spring-boot-examples",{"$f":"VLOOKUP(A444,汇总!D:E,2,FALSE)","v":"https://github.com/ityouknow/spring-boot-examples"}]
["AppFlowy-IO/AppFlowy",{"$f":"VLOOKUP(A445,汇总!D:E,2,FALSE)","v":"https://github.com/AppFlowy-IO/AppFlowy"}]
["shengxinjing/programmer-job-blacklist",{"$f":"VLOOKUP(A446,汇总!D:E,2,FALSE)","v":"https://github.com/shengxinjing/programmer-job-blacklist"}]
["laravel/framework",{"$f":"VLOOKUP(A447,汇总!D:E,2,FALSE)","v":"https://github.com/laravel/framework"}]
["tastejs/todomvc",{"$f":"VLOOKUP(A448,汇总!D:E,2,FALSE)","v":"https://github.com/tastejs/todomvc"}]
["carbon-language/carbon-lang",{"$f":"VLOOKUP(A449,汇总!D:E,2,FALSE)","v":"https://github.com/carbon-language/carbon-lang"}]
["jashkenas/backbone",{"$f":"VLOOKUP(A450,汇总!D:E,2,FALSE)","v":"https://github.com/jashkenas/backbone"}]
["codepath/android_guides",{"$f":"VLOOKUP(A451,汇总!D:E,2,FALSE)","v":"https://github.com/codepath/android_guides"}]
["google/googletest",{"$f":"VLOOKUP(A452,汇总!D:E,2,FALSE)","v":"https://github.com/google/googletest"}]
["square/leakcanary",{"$f":"VLOOKUP(A453,汇总!D:E,2,FALSE)","v":"https://github.com/square/leakcanary"}]
["firstcontributions/first-contributions",{"$f":"VLOOKUP(A454,汇总!D:E,2,FALSE)","v":"https://github.com/firstcontributions/first-contributions"}]
["aosabook/500lines",{"$f":"VLOOKUP(A455,汇总!D:E,2,FALSE)","v":"https://github.com/aosabook/500lines"}]
["amix/vimrc",{"$f":"VLOOKUP(A456,汇总!D:E,2,FALSE)","v":"https://github.com/amix/vimrc"}]
["vuejs/vuex",{"$f":"VLOOKUP(A457,汇总!D:E,2,FALSE)","v":"https://github.com/vuejs/vuex"}]
["ReactiveX/rxjs",{"$f":"VLOOKUP(A458,汇总!D:E,2,FALSE)","v":"https://github.com/ReactiveX/rxjs"}]
["typicode/husky",{"$f":"VLOOKUP(A459,汇总!D:E,2,FALSE)","v":"https://github.com/typicode/husky"}]
["apache/airflow",{"$f":"VLOOKUP(A460,汇总!D:E,2,FALSE)","v":"https://github.com/apache/airflow"}]
["caolan/async",{"$f":"VLOOKUP(A461,汇总!D:E,2,FALSE)","v":"https://github.com/caolan/async"}]
["kenwheeler/slick",{"$f":"VLOOKUP(A462,汇总!D:E,2,FALSE)","v":"https://github.com/kenwheeler/slick"}]
["aria2/aria2",{"$f":"VLOOKUP(A463,汇总!D:E,2,FALSE)","v":"https://github.com/aria2/aria2"}]
["lib-pku/libpku",{"$f":"VLOOKUP(A464,汇总!D:E,2,FALSE)","v":"https://github.com/lib-pku/libpku"}]
["airbnb/lottie-web",{"$f":"VLOOKUP(A465,汇总!D:E,2,FALSE)","v":"https://github.com/airbnb/lottie-web"}]
["standard/standard",{"$f":"VLOOKUP(A466,汇总!D:E,2,FALSE)","v":"https://github.com/standard/standard"}]
["symfony/symfony",{"$f":"VLOOKUP(A467,汇总!D:E,2,FALSE)","v":"https://github.com/symfony/symfony"}]
["ziadoz/awesome-php",{"$f":"VLOOKUP(A468,汇总!D:E,2,FALSE)","v":"https://github.com/ziadoz/awesome-php"}]
["docker/compose",{"$f":"VLOOKUP(A469,汇总!D:E,2,FALSE)","v":"https://github.com/docker/compose"}]
["elsewhencode/project-guidelines",{"$f":"VLOOKUP(A470,汇总!D:E,2,FALSE)","v":"https://github.com/elsewhencode/project-guidelines"}]
["apolloconfig/apollo",{"$f":"VLOOKUP(A471,汇总!D:E,2,FALSE)","v":"https://github.com/apolloconfig/apollo"}]
["Homebrew/legacy-homebrew",{"$f":"VLOOKUP(A472,汇总!D:E,2,FALSE)","v":"https://github.com/Homebrew/legacy-homebrew"}]
["ruanyf/weekly",{"$f":"VLOOKUP(A473,汇总!D:E,2,FALSE)","v":"https://github.com/ruanyf/weekly"}]
["xkcoding/spring-boot-demo",{"$f":"VLOOKUP(A474,汇总!D:E,2,FALSE)","v":"https://github.com/xkcoding/spring-boot-demo"}]
["0xAX/linux-insides",{"$f":"VLOOKUP(A475,汇总!D:E,2,FALSE)","v":"https://github.com/0xAX/linux-insides"}]
["hankcs/HanLP",{"$f":"VLOOKUP(A476,汇总!D:E,2,FALSE)","v":"https://github.com/hankcs/HanLP"}]
["composer/composer",{"$f":"VLOOKUP(A477,汇总!D:E,2,FALSE)","v":"https://github.com/composer/composer"}]
["CompVis/stable-diffusion",{"$f":"VLOOKUP(A478,汇总!D:E,2,FALSE)","v":"https://github.com/CompVis/stable-diffusion"}]
["raywenderlich/swift-algorithm-club",{"$f":"VLOOKUP(A479,汇总!D:E,2,FALSE)","v":"https://github.com/raywenderlich/swift-algorithm-club"}]
["webtorrent/webtorrent",{"$f":"VLOOKUP(A480,汇总!D:E,2,FALSE)","v":"https://github.com/webtorrent/webtorrent"}]
["bannedbook/fanqiang",{"$f":"VLOOKUP(A481,汇总!D:E,2,FALSE)","v":"https://github.com/bannedbook/fanqiang"}]
["crossoverJie/JCSprout",{"$f":"VLOOKUP(A482,汇总!D:E,2,FALSE)","v":"https://github.com/crossoverJie/JCSprout"}]
["curl/curl",{"$f":"VLOOKUP(A483,汇总!D:E,2,FALSE)","v":"https://github.com/curl/curl"}]
["sequelize/sequelize",{"$f":"VLOOKUP(A484,汇总!D:E,2,FALSE)","v":"https://github.com/sequelize/sequelize"}]
["niklasvh/html2canvas",{"$f":"VLOOKUP(A485,汇总!D:E,2,FALSE)","v":"https://github.com/niklasvh/html2canvas"}]
["postcss/postcss",{"$f":"VLOOKUP(A486,汇总!D:E,2,FALSE)","v":"https://github.com/postcss/postcss"}]
["halfrost/LeetCode-Go",{"$f":"VLOOKUP(A487,汇总!D:E,2,FALSE)","v":"https://github.com/halfrost/LeetCode-Go"}]
["jgm/pandoc",{"$f":"VLOOKUP(A488,汇总!D:E,2,FALSE)","v":"https://github.com/jgm/pandoc"}]
["jashkenas/underscore",{"$f":"VLOOKUP(A489,汇总!D:E,2,FALSE)","v":"https://github.com/jashkenas/underscore"}]
["fzaninotto/Faker",{"$f":"VLOOKUP(A490,汇总!D:E,2,FALSE)","v":"https://github.com/fzaninotto/Faker"}]
["Tencent/weui",{"$f":"VLOOKUP(A491,汇总!D:E,2,FALSE)","v":"https://github.com/Tencent/weui"}]
["layui/layui",{"$f":"VLOOKUP(A492,汇总!D:E,2,FALSE)","v":"https://github.com/layui/layui"}]
["houshanren/hangzhou_house_knowledge",{"$f":"VLOOKUP(A493,汇总!D:E,2,FALSE)","v":"https://github.com/houshanren/hangzhou_house_knowledge"}]
["geekcomputers/Python",{"$f":"VLOOKUP(A494,汇总!D:E,2,FALSE)","v":"https://github.com/geekcomputers/Python"}]
["IanLunn/Hover",{"$f":"VLOOKUP(A495,汇总!D:E,2,FALSE)","v":"https://github.com/IanLunn/Hover"}]
["odoo/odoo",{"$f":"VLOOKUP(A496,汇总!D:E,2,FALSE)","v":"https://github.com/odoo/odoo"}]
["tmux/tmux",{"$f":"VLOOKUP(A497,汇总!D:E,2,FALSE)","v":"https://github.com/tmux/tmux"}]
["VincentGarreau/particles.js",{"$f":"VLOOKUP(A498,汇总!D:E,2,FALSE)","v":"https://github.com/VincentGarreau/particles.js"}]
["herrbischoff/awesome-macos-command-line",{"$f":"VLOOKUP(A499,汇总!D:E,2,FALSE)","v":"https://github.com/herrbischoff/awesome-macos-command-line"}]
["goabstract/Awesome-Design-Tools",{"$f":"VLOOKUP(A500,汇总!D:E,2,FALSE)","v":"https://github.com/goabstract/Awesome-Design-Tools"}]
["donnemartin/interactive-coding-challenges",{"$f":"VLOOKUP(A501,汇总!D:E,2,FALSE)","v":"https://github.com/donnemartin/interactive-coding-challenges"}]
["Advanced-Frontend/Daily-Interview-Question",{"$f":"VLOOKUP(A502,汇总!D:E,2,FALSE)","v":"https://github.com/Advanced-Frontend/Daily-Interview-Question"}]
["trailofbits/algo",{"$f":"VLOOKUP(A503,汇总!D:E,2,FALSE)","v":"https://github.com/trailofbits/algo"}]
["ZuzooVn/machine-learning-for-software-engineers",{"$f":"VLOOKUP(A504,汇总!D:E,2,FALSE)","v":"https://github.com/ZuzooVn/machine-learning-for-software-engineers"}]
["fengdu78/Coursera-ML-AndrewNg-Notes",{"$f":"VLOOKUP(A505,汇总!D:E,2,FALSE)","v":"https://github.com/fengdu78/Coursera-ML-AndrewNg-Notes"}]
["alibaba/druid",{"$f":"VLOOKUP(A506,汇总!D:E,2,FALSE)","v":"https://github.com/alibaba/druid"}]
["huihut/interview",{"$f":"VLOOKUP(A507,汇总!D:E,2,FALSE)","v":"https://github.com/huihut/interview"}]
["danielgindi/Charts",{"$f":"VLOOKUP(A508,汇总!D:E,2,FALSE)","v":"https://github.com/danielgindi/Charts"}]
["PKUanonym/REKCARC-TSC-UHT",{"$f":"VLOOKUP(A509,汇总!D:E,2,FALSE)","v":"https://github.com/PKUanonym/REKCARC-TSC-UHT"}]
["mingrammer/diagrams",{"$f":"VLOOKUP(A510,汇总!D:E,2,FALSE)","v":"https://github.com/mingrammer/diagrams"}]
["prisma/prisma",{"$f":"VLOOKUP(A511,汇总!D:E,2,FALSE)","v":"https://github.com/prisma/prisma"}]
["nvie/gitflow",{"$f":"VLOOKUP(A512,汇总!D:E,2,FALSE)","v":"https://github.com/nvie/gitflow"}]
["transloadit/uppy",{"$f":"VLOOKUP(A513,汇总!D:E,2,FALSE)","v":"https://github.com/transloadit/uppy"}]
["hashicorp/vault",{"$f":"VLOOKUP(A514,汇总!D:E,2,FALSE)","v":"https://github.com/hashicorp/vault"}]
["appwrite/appwrite",{"$f":"VLOOKUP(A515,汇总!D:E,2,FALSE)","v":"https://github.com/appwrite/appwrite"}]
["ccxt/ccxt",{"$f":"VLOOKUP(A516,汇总!D:E,2,FALSE)","v":"https://github.com/ccxt/ccxt"}]
["harness/drone",{"$f":"VLOOKUP(A517,汇总!D:E,2,FALSE)","v":"https://github.com/harness/drone"}]
["n8n-io/n8n",{"$f":"VLOOKUP(A518,汇总!D:E,2,FALSE)","v":"https://github.com/n8n-io/n8n"}]
["cockroachdb/cockroach",{"$f":"VLOOKUP(A519,汇总!D:E,2,FALSE)","v":"https://github.com/cockroachdb/cockroach"}]
["mobxjs/mobx",{"$f":"VLOOKUP(A520,汇总!D:E,2,FALSE)","v":"https://github.com/mobxjs/mobx"}]
["microsoft/calculator",{"$f":"VLOOKUP(A521,汇总!D:E,2,FALSE)","v":"https://github.com/microsoft/calculator"}]
["rethinkdb/rethinkdb",{"$f":"VLOOKUP(A522,汇总!D:E,2,FALSE)","v":"https://github.com/rethinkdb/rethinkdb"}]
["pcottle/learnGitBranching",{"$f":"VLOOKUP(A523,汇总!D:E,2,FALSE)","v":"https://github.com/pcottle/learnGitBranching"}]
["Binaryify/NeteaseCloudMusicApi",{"$f":"VLOOKUP(A524,汇总!D:E,2,FALSE)","v":"https://github.com/Binaryify/NeteaseCloudMusicApi"}]
["JakeWharton/butterknife",{"$f":"VLOOKUP(A525,汇总!D:E,2,FALSE)","v":"https://github.com/JakeWharton/butterknife"}]
["angular/angular-cli",{"$f":"VLOOKUP(A526,汇总!D:E,2,FALSE)","v":"https://github.com/angular/angular-cli"}]
["ClickHouse/ClickHouse",{"$f":"VLOOKUP(A527,汇总!D:E,2,FALSE)","v":"https://github.com/ClickHouse/ClickHouse"}]
["SortableJS/Sortable",{"$f":"VLOOKUP(A528,汇总!D:E,2,FALSE)","v":"https://github.com/SortableJS/Sortable"}]
["ianstormtaylor/slate",{"$f":"VLOOKUP(A529,汇总!D:E,2,FALSE)","v":"https://github.com/ianstormtaylor/slate"}]
["request/request",{"$f":"VLOOKUP(A530,汇总!D:E,2,FALSE)","v":"https://github.com/request/request"}]
["cheeriojs/cheerio",{"$f":"VLOOKUP(A531,汇总!D:E,2,FALSE)","v":"https://github.com/cheeriojs/cheerio"}]
["geekcompany/ResumeSample",{"$f":"VLOOKUP(A532,汇总!D:E,2,FALSE)","v":"https://github.com/geekcompany/ResumeSample"}]
["qiurunze123/miaosha",{"$f":"VLOOKUP(A533,汇总!D:E,2,FALSE)","v":"https://github.com/qiurunze123/miaosha"}]
["github/fetch",{"$f":"VLOOKUP(A534,汇总!D:E,2,FALSE)","v":"https://github.com/github/fetch"}]
["select2/select2",{"$f":"VLOOKUP(A535,汇总!D:E,2,FALSE)","v":"https://github.com/select2/select2"}]
["hashicorp/consul",{"$f":"VLOOKUP(A536,汇总!D:E,2,FALSE)","v":"https://github.com/hashicorp/consul"}]
["realpython/python-guide",{"$f":"VLOOKUP(A537,汇总!D:E,2,FALSE)","v":"https://github.com/realpython/python-guide"}]
["codemirror/codemirror5",{"$f":"VLOOKUP(A538,汇总!D:E,2,FALSE)","v":"https://github.com/codemirror/codemirror5"}]
["facebookresearch/Detectron",{"$f":"VLOOKUP(A539,汇总!D:E,2,FALSE)","v":"https://github.com/facebookresearch/Detectron"}]
["Modernizr/Modernizr",{"$f":"VLOOKUP(A540,汇总!D:E,2,FALSE)","v":"https://github.com/Modernizr/Modernizr"}]
["GoogleChrome/lighthouse",{"$f":"VLOOKUP(A541,汇总!D:E,2,FALSE)","v":"https://github.com/GoogleChrome/lighthouse"}]
["google-research/google-research",{"$f":"VLOOKUP(A542,汇总!D:E,2,FALSE)","v":"https://github.com/google-research/google-research"}]
["alibaba/easyexcel",{"$f":"VLOOKUP(A543,汇总!D:E,2,FALSE)","v":"https://github.com/alibaba/easyexcel"}]
["byoungd/English-level-up-tips",{"$f":"VLOOKUP(A544,汇总!D:E,2,FALSE)","v":"https://github.com/byoungd/English-level-up-tips"}]
["parallax/jsPDF",{"$f":"VLOOKUP(A545,汇总!D:E,2,FALSE)","v":"https://github.com/parallax/jsPDF"}]
["JedWatson/react-select",{"$f":"VLOOKUP(A546,汇总!D:E,2,FALSE)","v":"https://github.com/JedWatson/react-select"}]
["proxyee-down-org/proxyee-down",{"$f":"VLOOKUP(A547,汇总!D:E,2,FALSE)","v":"https://github.com/proxyee-down-org/proxyee-down"}]
["PaddlePaddle/PaddleOCR",{"$f":"VLOOKUP(A548,汇总!D:E,2,FALSE)","v":"https://github.com/PaddlePaddle/PaddleOCR"}]
["fastify/fastify",{"$f":"VLOOKUP(A549,汇总!D:E,2,FALSE)","v":"https://github.com/fastify/fastify"}]
["OAI/OpenAPI-Specification",{"$f":"VLOOKUP(A550,汇总!D:E,2,FALSE)","v":"https://github.com/OAI/OpenAPI-Specification"}]
["YMFE/yapi",{"$f":"VLOOKUP(A551,汇总!D:E,2,FALSE)","v":"https://github.com/YMFE/yapi"}]
["GitbookIO/gitbook",{"$f":"VLOOKUP(A552,汇总!D:E,2,FALSE)","v":"https://github.com/GitbookIO/gitbook"}]
["CMU-Perceptual-Computing-Lab/openpose",{"$f":"VLOOKUP(A553,汇总!D:E,2,FALSE)","v":"https://github.com/CMU-Perceptual-Computing-Lab/openpose"}]
["alibaba/fastjson",{"$f":"VLOOKUP(A554,汇总!D:E,2,FALSE)","v":"https://github.com/alibaba/fastjson"}]
["jobbole/awesome-python-cn",{"$f":"VLOOKUP(A555,汇总!D:E,2,FALSE)","v":"https://github.com/jobbole/awesome-python-cn"}]
["alebcay/awesome-shell",{"$f":"VLOOKUP(A556,汇总!D:E,2,FALSE)","v":"https://github.com/alebcay/awesome-shell"}]
["lenve/vhr",{"$f":"VLOOKUP(A557,汇总!D:E,2,FALSE)","v":"https://github.com/lenve/vhr"}]
["ajaxorg/ace",{"$f":"VLOOKUP(A558,汇总!D:E,2,FALSE)","v":"https://github.com/ajaxorg/ace"}]
["kubernetes/minikube",{"$f":"VLOOKUP(A559,汇总!D:E,2,FALSE)","v":"https://github.com/kubernetes/minikube"}]
["ageron/handson-ml",{"$f":"VLOOKUP(A560,汇总!D:E,2,FALSE)","v":"https://github.com/ageron/handson-ml"}]
["Light-City/CPlusPlusThings",{"$f":"VLOOKUP(A561,汇总!D:E,2,FALSE)","v":"https://github.com/Light-City/CPlusPlusThings"}]
["CamDavidsonPilon/Probabilistic-Programming-and-Bayesian-Methods-for-Hackers",{"$f":"VLOOKUP(A562,汇总!D:E,2,FALSE)","v":"https://github.com/CamDavidsonPilon/Probabilistic-Programming-and-Bayesian-Methods-for-Hackers"}]
["type-challenges/type-challenges",{"$f":"VLOOKUP(A563,汇总!D:E,2,FALSE)","v":"https://github.com/type-challenges/type-challenges"}]
["Automattic/mongoose",{"$f":"VLOOKUP(A564,汇总!D:E,2,FALSE)","v":"https://github.com/Automattic/mongoose"}]
["yunjey/pytorch-tutorial",{"$f":"VLOOKUP(A565,汇总!D:E,2,FALSE)","v":"https://github.com/yunjey/pytorch-tutorial"}]
["nagadomi/waifu2x",{"$f":"VLOOKUP(A566,汇总!D:E,2,FALSE)","v":"https://github.com/nagadomi/waifu2x"}]
["sqlmapproject/sqlmap",{"$f":"VLOOKUP(A567,汇总!D:E,2,FALSE)","v":"https://github.com/sqlmapproject/sqlmap"}]
["SeleniumHQ/selenium",{"$f":"VLOOKUP(A568,汇总!D:E,2,FALSE)","v":"https://github.com/SeleniumHQ/selenium"}]
["sharkdp/fd",{"$f":"VLOOKUP(A569,汇总!D:E,2,FALSE)","v":"https://github.com/sharkdp/fd"}]
["rstacruz/nprogress",{"$f":"VLOOKUP(A570,汇总!D:E,2,FALSE)","v":"https://github.com/rstacruz/nprogress"}]
["nylas/nylas-mail",{"$f":"VLOOKUP(A571,汇总!D:E,2,FALSE)","v":"https://github.com/nylas/nylas-mail"}]
["remy/nodemon",{"$f":"VLOOKUP(A572,汇总!D:E,2,FALSE)","v":"https://github.com/remy/nodemon"}]
["files-community/Files",{"$f":"VLOOKUP(A573,汇总!D:E,2,FALSE)","v":"https://github.com/files-community/Files"}]
["hashicorp/vagrant",{"$f":"VLOOKUP(A574,汇总!D:E,2,FALSE)","v":"https://github.com/hashicorp/vagrant"}]
["sudheerj/reactjs-interview-questions",{"$f":"VLOOKUP(A575,汇总!D:E,2,FALSE)","v":"https://github.com/sudheerj/reactjs-interview-questions"}]
["ibraheemdev/modern-unix",{"$f":"VLOOKUP(A576,汇总!D:E,2,FALSE)","v":"https://github.com/ibraheemdev/modern-unix"}]
["wuyouzhuguli/SpringAll",{"$f":"VLOOKUP(A577,汇总!D:E,2,FALSE)","v":"https://github.com/wuyouzhuguli/SpringAll"}]
["SDWebImage/SDWebImage",{"$f":"VLOOKUP(A578,汇总!D:E,2,FALSE)","v":"https://github.com/SDWebImage/SDWebImage"}]
["explosion/spaCy",{"$f":"VLOOKUP(A579,汇总!D:E,2,FALSE)","v":"https://github.com/explosion/spaCy"}]
["ycm-core/YouCompleteMe",{"$f":"VLOOKUP(A580,汇总!D:E,2,FALSE)","v":"https://github.com/ycm-core/YouCompleteMe"}]
["babysor/MockingBird",{"$f":"VLOOKUP(A581,汇总!D:E,2,FALSE)","v":"https://github.com/babysor/MockingBird"}]
["dwmkerr/hacker-laws",{"$f":"VLOOKUP(A582,汇总!D:E,2,FALSE)","v":"https://github.com/dwmkerr/hacker-laws"}]
["bvaughn/react-virtualized",{"$f":"VLOOKUP(A583,汇总!D:E,2,FALSE)","v":"https://github.com/bvaughn/react-virtualized"}]
["influxdata/influxdb",{"$f":"VLOOKUP(A584,汇总!D:E,2,FALSE)","v":"https://github.com/influxdata/influxdb"}]
["encode/django-rest-framework",{"$f":"VLOOKUP(A585,汇总!D:E,2,FALSE)","v":"https://github.com/encode/django-rest-framework"}]
["viraptor/reverse-interview",{"$f":"VLOOKUP(A586,汇总!D:E,2,FALSE)","v":"https://github.com/viraptor/reverse-interview"}]
["yewstack/yew",{"$f":"VLOOKUP(A587,汇总!D:E,2,FALSE)","v":"https://github.com/yewstack/yew"}]
["freefq/free",{"$f":"VLOOKUP(A588,汇总!D:E,2,FALSE)","v":"https://github.com/freefq/free"}]
["alibaba/canal",{"$f":"VLOOKUP(A589,汇总!D:E,2,FALSE)","v":"https://github.com/alibaba/canal"}]
["ggreer/the_silver_searcher",{"$f":"VLOOKUP(A590,汇总!D:E,2,FALSE)","v":"https://github.com/ggreer/the_silver_searcher"}]
["pmndrs/react-spring",{"$f":"VLOOKUP(A591,汇总!D:E,2,FALSE)","v":"https://github.com/pmndrs/react-spring"}]
["greenrobot/EventBus",{"$f":"VLOOKUP(A592,汇总!D:E,2,FALSE)","v":"https://github.com/greenrobot/EventBus"}]
["vercel/swr",{"$f":"VLOOKUP(A593,汇总!D:E,2,FALSE)","v":"https://github.com/vercel/swr"}]
["alibaba/nacos",{"$f":"VLOOKUP(A594,汇总!D:E,2,FALSE)","v":"https://github.com/alibaba/nacos"}]
["swc-project/swc",{"$f":"VLOOKUP(A595,汇总!D:E,2,FALSE)","v":"https://github.com/swc-project/swc"}]
["cmderdev/cmder",{"$f":"VLOOKUP(A596,汇总!D:E,2,FALSE)","v":"https://github.com/cmderdev/cmder"}]
["johnpapa/angular-styleguide",{"$f":"VLOOKUP(A597,汇总!D:E,2,FALSE)","v":"https://github.com/johnpapa/angular-styleguide"}]
["sickcodes/Docker-OSX",{"$f":"VLOOKUP(A598,汇总!D:E,2,FALSE)","v":"https://github.com/sickcodes/Docker-OSX"}]
["dromara/hutool",{"$f":"VLOOKUP(A599,汇总!D:E,2,FALSE)","v":"https://github.com/dromara/hutool"}]
["terryum/awesome-deep-learning-papers",{"$f":"VLOOKUP(A600,汇总!D:E,2,FALSE)","v":"https://github.com/terryum/awesome-deep-learning-papers"}]
["iview/iview",{"$f":"VLOOKUP(A601,汇总!D:E,2,FALSE)","v":"https://github.com/iview/iview"}]
["httpie/httpie",{"$f":"VLOOKUP(A602,汇总!D:E,2,FALSE)","v":"https://github.com/httpie/httpie"}]
["mattermost/mattermost-server",{"$f":"VLOOKUP(A603,汇总!D:E,2,FALSE)","v":"https://github.com/mattermost/mattermost-server"}]
["powerline/fonts",{"$f":"VLOOKUP(A604,汇总!D:E,2,FALSE)","v":"https://github.com/powerline/fonts"}]
["facebookresearch/fastText",{"$f":"VLOOKUP(A605,汇总!D:E,2,FALSE)","v":"https://github.com/facebookresearch/fastText"}]
["akveo/ngx-admin",{"$f":"VLOOKUP(A606,汇总!D:E,2,FALSE)","v":"https://github.com/akveo/ngx-admin"}]
["go-kit/kit",{"$f":"VLOOKUP(A607,汇总!D:E,2,FALSE)","v":"https://github.com/go-kit/kit"}]
["jesseduffield/lazydocker",{"$f":"VLOOKUP(A608,汇总!D:E,2,FALSE)","v":"https://github.com/jesseduffield/lazydocker"}]
["hollischuang/toBeTopJavaer",{"$f":"VLOOKUP(A609,汇总!D:E,2,FALSE)","v":"https://github.com/hollischuang/toBeTopJavaer"}]
["balena-io/etcher",{"$f":"VLOOKUP(A610,汇总!D:E,2,FALSE)","v":"https://github.com/balena-io/etcher"}]
["labstack/echo",{"$f":"VLOOKUP(A611,汇总!D:E,2,FALSE)","v":"https://github.com/labstack/echo"}]
["cfenollosa/os-tutorial",{"$f":"VLOOKUP(A612,汇总!D:E,2,FALSE)","v":"https://github.com/cfenollosa/os-tutorial"}]
["donnemartin/data-science-ipython-notebooks",{"$f":"VLOOKUP(A613,汇总!D:E,2,FALSE)","v":"https://github.com/donnemartin/data-science-ipython-notebooks"}]
["scwang90/SmartRefreshLayout",{"$f":"VLOOKUP(A614,汇总!D:E,2,FALSE)","v":"https://github.com/scwang90/SmartRefreshLayout"}]
["alibaba/spring-cloud-alibaba",{"$f":"VLOOKUP(A615,汇总!D:E,2,FALSE)","v":"https://github.com/alibaba/spring-cloud-alibaba"}]
["Kong/insomnia",{"$f":"VLOOKUP(A616,汇总!D:E,2,FALSE)","v":"https://github.com/Kong/insomnia"}]
["halo-dev/halo",{"$f":"VLOOKUP(A617,汇总!D:E,2,FALSE)","v":"https://github.com/halo-dev/halo"}]
["immerjs/immer",{"$f":"VLOOKUP(A618,汇总!D:E,2,FALSE)","v":"https://github.com/immerjs/immer"}]
["dokku/dokku",{"$f":"VLOOKUP(A619,汇总!D:E,2,FALSE)","v":"https://github.com/dokku/dokku"}]
["facebook/rocksdb",{"$f":"VLOOKUP(A620,汇总!D:E,2,FALSE)","v":"https://github.com/facebook/rocksdb"}]
["jamiebuilds/the-super-tiny-compiler",{"$f":"VLOOKUP(A621,汇总!D:E,2,FALSE)","v":"https://github.com/jamiebuilds/the-super-tiny-compiler"}]
["zsh-users/zsh-autosuggestions",{"$f":"VLOOKUP(A622,汇总!D:E,2,FALSE)","v":"https://github.com/zsh-users/zsh-autosuggestions"}]
["tj/commander.js",{"$f":"VLOOKUP(A623,汇总!D:E,2,FALSE)","v":"https://github.com/tj/commander.js"}]
["mbeaudru/modern-js-cheatsheet",{"$f":"VLOOKUP(A624,汇总!D:E,2,FALSE)","v":"https://github.com/mbeaudru/modern-js-cheatsheet"}]
["lovell/sharp",{"$f":"VLOOKUP(A625,汇总!D:E,2,FALSE)","v":"https://github.com/lovell/sharp"}]
["sindresorhus/awesome-electron",{"$f":"VLOOKUP(A626,汇总!D:E,2,FALSE)","v":"https://github.com/sindresorhus/awesome-electron"}]
["coreybutler/nvm-windows",{"$f":"VLOOKUP(A627,汇总!D:E,2,FALSE)","v":"https://github.com/coreybutler/nvm-windows"}]
["pypa/pipenv",{"$f":"VLOOKUP(A628,汇总!D:E,2,FALSE)","v":"https://github.com/pypa/pipenv"}]
["pjreddie/darknet",{"$f":"VLOOKUP(A629,汇总!D:E,2,FALSE)","v":"https://github.com/pjreddie/darknet"}]
["VundleVim/Vundle.vim",{"$f":"VLOOKUP(A630,汇总!D:E,2,FALSE)","v":"https://github.com/VundleVim/Vundle.vim"}]
["dmlc/xgboost",{"$f":"VLOOKUP(A631,汇总!D:E,2,FALSE)","v":"https://github.com/dmlc/xgboost"}]
["facebook/folly",{"$f":"VLOOKUP(A632,汇总!D:E,2,FALSE)","v":"https://github.com/facebook/folly"}]
["hammerjs/hammer.js",{"$f":"VLOOKUP(A633,汇总!D:E,2,FALSE)","v":"https://github.com/hammerjs/hammer.js"}]
["apache/kafka",{"$f":"VLOOKUP(A634,汇总!D:E,2,FALSE)","v":"https://github.com/apache/kafka"}]
["portainer/portainer",{"$f":"VLOOKUP(A635,汇总!D:E,2,FALSE)","v":"https://github.com/portainer/portainer"}]
["coolsnowwolf/lede",{"$f":"VLOOKUP(A636,汇总!D:E,2,FALSE)","v":"https://github.com/coolsnowwolf/lede"}]
["stedolan/jq",{"$f":"VLOOKUP(A637,汇总!D:E,2,FALSE)","v":"https://github.com/stedolan/jq"}]
["alibaba/flutter-go",{"$f":"VLOOKUP(A638,汇总!D:E,2,FALSE)","v":"https://github.com/alibaba/flutter-go"}]
["lukasz-madon/awesome-remote-job",{"$f":"VLOOKUP(A639,汇总!D:E,2,FALSE)","v":"https://github.com/lukasz-madon/awesome-remote-job"}]
["airbnb/lottie-ios",{"$f":"VLOOKUP(A640,汇总!D:E,2,FALSE)","v":"https://github.com/airbnb/lottie-ios"}]
["CymChad/BaseRecyclerViewAdapterHelper",{"$f":"VLOOKUP(A641,汇总!D:E,2,FALSE)","v":"https://github.com/CymChad/BaseRecyclerViewAdapterHelper"}]
["google/python-fire",{"$f":"VLOOKUP(A642,汇总!D:E,2,FALSE)","v":"https://github.com/google/python-fire"}]
["CodeHubApp/CodeHub",{"$f":"VLOOKUP(A643,汇总!D:E,2,FALSE)","v":"https://github.com/CodeHubApp/CodeHub"}]
["ageron/handson-ml2",{"$f":"VLOOKUP(A644,汇总!D:E,2,FALSE)","v":"https://github.com/ageron/handson-ml2"}]
["AllThingsSmitty/css-protips",{"$f":"VLOOKUP(A645,汇总!D:E,2,FALSE)","v":"https://github.com/AllThingsSmitty/css-protips"}]
["gitlabhq/gitlabhq",{"$f":"VLOOKUP(A646,汇总!D:E,2,FALSE)","v":"https://github.com/gitlabhq/gitlabhq"}]
["floating-ui/floating-ui",{"$f":"VLOOKUP(A647,汇总!D:E,2,FALSE)","v":"https://github.com/floating-ui/floating-ui"}]
["tqdm/tqdm",{"$f":"VLOOKUP(A648,汇总!D:E,2,FALSE)","v":"https://github.com/tqdm/tqdm"}]
["ehang-io/nps",{"$f":"VLOOKUP(A649,汇总!D:E,2,FALSE)","v":"https://github.com/ehang-io/nps"}]
["veggiemonk/awesome-docker",{"$f":"VLOOKUP(A650,汇总!D:E,2,FALSE)","v":"https://github.com/veggiemonk/awesome-docker"}]
["kataras/iris",{"$f":"VLOOKUP(A651,汇总!D:E,2,FALSE)","v":"https://github.com/kataras/iris"}]
["angular/components",{"$f":"VLOOKUP(A652,汇总!D:E,2,FALSE)","v":"https://github.com/angular/components"}]
["TheAlgorithms/JavaScript",{"$f":"VLOOKUP(A653,汇总!D:E,2,FALSE)","v":"https://github.com/TheAlgorithms/JavaScript"}]
["vuejs/devtools",{"$f":"VLOOKUP(A654,汇总!D:E,2,FALSE)","v":"https://github.com/vuejs/devtools"}]
["Netflix/Hystrix",{"$f":"VLOOKUP(A655,汇总!D:E,2,FALSE)","v":"https://github.com/Netflix/Hystrix"}]
["TencentARC/GFPGAN",{"$f":"VLOOKUP(A656,汇总!D:E,2,FALSE)","v":"https://github.com/TencentARC/GFPGAN"}]
["doczjs/docz",{"$f":"VLOOKUP(A657,汇总!D:E,2,FALSE)","v":"https://github.com/doczjs/docz"}]
["seata/seata",{"$f":"VLOOKUP(A658,汇总!D:E,2,FALSE)","v":"https://github.com/seata/seata"}]
["digitalocean/nginxconfig.io",{"$f":"VLOOKUP(A659,汇总!D:E,2,FALSE)","v":"https://github.com/digitalocean/nginxconfig.io"}]
["qishibo/AnotherRedisDesktopManager",{"$f":"VLOOKUP(A660,汇总!D:E,2,FALSE)","v":"https://github.com/qishibo/AnotherRedisDesktopManager"}]
["StreisandEffect/streisand",{"$f":"VLOOKUP(A661,汇总!D:E,2,FALSE)","v":"https://github.com/StreisandEffect/streisand"}]
["signalapp/Signal-Android",{"$f":"VLOOKUP(A662,汇总!D:E,2,FALSE)","v":"https://github.com/signalapp/Signal-Android"}]
["react-native-elements/react-native-elements",{"$f":"VLOOKUP(A663,汇总!D:E,2,FALSE)","v":"https://github.com/react-native-elements/react-native-elements"}]
["fabricjs/fabric.js",{"$f":"VLOOKUP(A664,汇总!D:E,2,FALSE)","v":"https://github.com/fabricjs/fabric.js"}]
["fastai/fastai",{"$f":"VLOOKUP(A665,汇总!D:E,2,FALSE)","v":"https://github.com/fastai/fastai"}]
["beurtschipper/Depix",{"$f":"VLOOKUP(A666,汇总!D:E,2,FALSE)","v":"https://github.com/beurtschipper/Depix"}]
["nsqio/nsq",{"$f":"VLOOKUP(A667,汇总!D:E,2,FALSE)","v":"https://github.com/nsqio/nsq"}]
["swagger-api/swagger-ui",{"$f":"VLOOKUP(A668,汇总!D:E,2,FALSE)","v":"https://github.com/swagger-api/swagger-ui"}]
["emscripten-core/emscripten",{"$f":"VLOOKUP(A669,汇总!D:E,2,FALSE)","v":"https://github.com/emscripten-core/emscripten"}]
["heartcombo/devise",{"$f":"VLOOKUP(A670,汇总!D:E,2,FALSE)","v":"https://github.com/heartcombo/devise"}]
["ReactiveX/RxSwift",{"$f":"VLOOKUP(A671,汇总!D:E,2,FALSE)","v":"https://github.com/ReactiveX/RxSwift"}]
["slidevjs/slidev",{"$f":"VLOOKUP(A672,汇总!D:E,2,FALSE)","v":"https://github.com/slidevjs/slidev"}]
["sampotts/plyr",{"$f":"VLOOKUP(A673,汇总!D:E,2,FALSE)","v":"https://github.com/sampotts/plyr"}]
["photoprism/photoprism",{"$f":"VLOOKUP(A674,汇总!D:E,2,FALSE)","v":"https://github.com/photoprism/photoprism"}]
["helm/helm",{"$f":"VLOOKUP(A675,汇总!D:E,2,FALSE)","v":"https://github.com/helm/helm"}]
["mdbootstrap/mdb-ui-kit",{"$f":"VLOOKUP(A676,汇总!D:E,2,FALSE)","v":"https://github.com/mdbootstrap/mdb-ui-kit"}]
["xuxueli/xxl-job",{"$f":"VLOOKUP(A677,汇总!D:E,2,FALSE)","v":"https://github.com/xuxueli/xxl-job"}]
["gofiber/fiber",{"$f":"VLOOKUP(A678,汇总!D:E,2,FALSE)","v":"https://github.com/gofiber/fiber"}]
["pure-css/pure",{"$f":"VLOOKUP(A679,汇总!D:E,2,FALSE)","v":"https://github.com/pure-css/pure"}]
["mongodb/mongo",{"$f":"VLOOKUP(A680,汇总!D:E,2,FALSE)","v":"https://github.com/mongodb/mongo"}]
["syl20bnr/spacemacs",{"$f":"VLOOKUP(A681,汇总!D:E,2,FALSE)","v":"https://github.com/syl20bnr/spacemacs"}]
["zhongyang219/TrafficMonitor",{"$f":"VLOOKUP(A682,汇总!D:E,2,FALSE)","v":"https://github.com/zhongyang219/TrafficMonitor"}]
["solidjs/solid",{"$f":"VLOOKUP(A683,汇总!D:E,2,FALSE)","v":"https://github.com/solidjs/solid"}]
["matteocrippa/awesome-swift",{"$f":"VLOOKUP(A684,汇总!D:E,2,FALSE)","v":"https://github.com/matteocrippa/awesome-swift"}]
["ryanhanwu/How-To-Ask-Questions-The-Smart-Way",{"$f":"VLOOKUP(A685,汇总!D:E,2,FALSE)","v":"https://github.com/ryanhanwu/How-To-Ask-Questions-The-Smart-Way"}]
["littlecodersh/ItChat",{"$f":"VLOOKUP(A686,汇总!D:E,2,FALSE)","v":"https://github.com/littlecodersh/ItChat"}]
["facebookresearch/detectron2",{"$f":"VLOOKUP(A687,汇总!D:E,2,FALSE)","v":"https://github.com/facebookresearch/detectron2"}]
["ramda/ramda",{"$f":"VLOOKUP(A688,汇总!D:E,2,FALSE)","v":"https://github.com/ramda/ramda"}]
["reduxjs/react-redux",{"$f":"VLOOKUP(A689,汇总!D:E,2,FALSE)","v":"https://github.com/reduxjs/react-redux"}]
["kahun/awesome-sysadmin",{"$f":"VLOOKUP(A690,汇总!D:E,2,FALSE)","v":"https://github.com/kahun/awesome-sysadmin"}]
["balderdashy/sails",{"$f":"VLOOKUP(A691,汇总!D:E,2,FALSE)","v":"https://github.com/balderdashy/sails"}]
["redux-saga/redux-saga",{"$f":"VLOOKUP(A692,汇总!D:E,2,FALSE)","v":"https://github.com/redux-saga/redux-saga"}]
["emberjs/ember.js",{"$f":"VLOOKUP(A693,汇总!D:E,2,FALSE)","v":"https://github.com/emberjs/ember.js"}]
["Wox-launcher/Wox",{"$f":"VLOOKUP(A694,汇总!D:E,2,FALSE)","v":"https://github.com/Wox-launcher/Wox"}]
["rollup/rollup",{"$f":"VLOOKUP(A695,汇总!D:E,2,FALSE)","v":"https://github.com/rollup/rollup"}]
["pmndrs/zustand",{"$f":"VLOOKUP(A696,汇总!D:E,2,FALSE)","v":"https://github.com/pmndrs/zustand"}]
["android/architecture-components-samples",{"$f":"VLOOKUP(A697,汇总!D:E,2,FALSE)","v":"https://github.com/android/architecture-components-samples"}]
["dimsemenov/PhotoSwipe",{"$f":"VLOOKUP(A698,汇总!D:E,2,FALSE)","v":"https://github.com/dimsemenov/PhotoSwipe"}]
["matterport/Mask_RCNN",{"$f":"VLOOKUP(A699,汇总!D:E,2,FALSE)","v":"https://github.com/matterport/Mask_RCNN"}]
["kilimchoi/engineering-blogs",{"$f":"VLOOKUP(A700,汇总!D:E,2,FALSE)","v":"https://github.com/kilimchoi/engineering-blogs"}]
["feathericons/feather",{"$f":"VLOOKUP(A701,汇总!D:E,2,FALSE)","v":"https://github.com/feathericons/feather"}]
["ray-project/ray",{"$f":"VLOOKUP(A702,汇总!D:E,2,FALSE)","v":"https://github.com/ray-project/ray"}]
["mbadolato/iTerm2-Color-Schemes",{"$f":"VLOOKUP(A703,汇总!D:E,2,FALSE)","v":"https://github.com/mbadolato/iTerm2-Color-Schemes"}]
["ovity/octotree",{"$f":"VLOOKUP(A704,汇总!D:E,2,FALSE)","v":"https://github.com/ovity/octotree"}]
["fouber/blog",{"$f":"VLOOKUP(A705,汇总!D:E,2,FALSE)","v":"https://github.com/fouber/blog"}]
["openfaas/faas",{"$f":"VLOOKUP(A706,汇总!D:E,2,FALSE)","v":"https://github.com/openfaas/faas"}]
["inconshreveable/ngrok",{"$f":"VLOOKUP(A707,汇总!D:E,2,FALSE)","v":"https://github.com/inconshreveable/ngrok"}]
["haizlin/fe-interview",{"$f":"VLOOKUP(A708,汇总!D:E,2,FALSE)","v":"https://github.com/haizlin/fe-interview"}]
["vapor/vapor",{"$f":"VLOOKUP(A709,汇总!D:E,2,FALSE)","v":"https://github.com/vapor/vapor"}]
["t4t5/sweetalert",{"$f":"VLOOKUP(A710,汇总!D:E,2,FALSE)","v":"https://github.com/t4t5/sweetalert"}]
["MostlyAdequate/mostly-adequate-guide",{"$f":"VLOOKUP(A711,汇总!D:E,2,FALSE)","v":"https://github.com/MostlyAdequate/mostly-adequate-guide"}]
["guzzle/guzzle",{"$f":"VLOOKUP(A712,汇总!D:E,2,FALSE)","v":"https://github.com/guzzle/guzzle"}]
["facebook/draft-js",{"$f":"VLOOKUP(A713,汇总!D:E,2,FALSE)","v":"https://github.com/facebook/draft-js"}]
["github/hub",{"$f":"VLOOKUP(A714,汇总!D:E,2,FALSE)","v":"https://github.com/github/hub"}]
["quasarframework/quasar",{"$f":"VLOOKUP(A715,汇总!D:E,2,FALSE)","v":"https://github.com/quasarframework/quasar"}]
["python-poetry/poetry",{"$f":"VLOOKUP(A716,汇总!D:E,2,FALSE)","v":"https://github.com/python-poetry/poetry"}]
["harvesthq/chosen",{"$f":"VLOOKUP(A717,汇总!D:E,2,FALSE)","v":"https://github.com/harvesthq/chosen"}]
["vercel/pkg",{"$f":"VLOOKUP(A718,汇总!D:E,2,FALSE)","v":"https://github.com/vercel/pkg"}]
["coder2gwy/coder2gwy",{"$f":"VLOOKUP(A719,汇总!D:E,2,FALSE)","v":"https://github.com/coder2gwy/coder2gwy"}]
["yuzu-emu/yuzu",{"$f":"VLOOKUP(A720,汇总!D:E,2,FALSE)","v":"https://github.com/yuzu-emu/yuzu"}]
["Tencent/wepy",{"$f":"VLOOKUP(A721,汇总!D:E,2,FALSE)","v":"https://github.com/Tencent/wepy"}]
["datasciencemasters/go",{"$f":"VLOOKUP(A722,汇总!D:E,2,FALSE)","v":"https://github.com/datasciencemasters/go"}]
["Polymer/polymer",{"$f":"VLOOKUP(A723,汇总!D:E,2,FALSE)","v":"https://github.com/Polymer/polymer"}]
["facebook/flow",{"$f":"VLOOKUP(A724,汇总!D:E,2,FALSE)","v":"https://github.com/facebook/flow"}]
["getredash/redash",{"$f":"VLOOKUP(A725,汇总!D:E,2,FALSE)","v":"https://github.com/getredash/redash"}]
["louislam/uptime-kuma",{"$f":"VLOOKUP(A726,汇总!D:E,2,FALSE)","v":"https://github.com/louislam/uptime-kuma"}]
["markerikson/react-redux-links",{"$f":"VLOOKUP(A727,汇总!D:E,2,FALSE)","v":"https://github.com/markerikson/react-redux-links"}]
["ShareX/ShareX",{"$f":"VLOOKUP(A728,汇总!D:E,2,FALSE)","v":"https://github.com/ShareX/ShareX"}]
["ascoders/weekly",{"$f":"VLOOKUP(A729,汇总!D:E,2,FALSE)","v":"https://github.com/ascoders/weekly"}]
["dnSpy/dnSpy",{"$f":"VLOOKUP(A730,汇总!D:E,2,FALSE)","v":"https://github.com/dnSpy/dnSpy"}]
["alpinejs/alpine",{"$f":"VLOOKUP(A731,汇总!D:E,2,FALSE)","v":"https://github.com/alpinejs/alpine"}]
["Pierian-Data/Complete-Python-3-Bootcamp",{"$f":"VLOOKUP(A732,汇总!D:E,2,FALSE)","v":"https://github.com/Pierian-Data/Complete-Python-3-Bootcamp"}]
["SerenityOS/serenity",{"$f":"VLOOKUP(A733,汇总!D:E,2,FALSE)","v":"https://github.com/SerenityOS/serenity"}]
["OWASP/CheatSheetSeries",{"$f":"VLOOKUP(A734,汇总!D:E,2,FALSE)","v":"https://github.com/OWASP/CheatSheetSeries"}]
["qianguyihao/Web",{"$f":"VLOOKUP(A735,汇总!D:E,2,FALSE)","v":"https://github.com/qianguyihao/Web"}]
["docsifyjs/docsify",{"$f":"VLOOKUP(A736,汇总!D:E,2,FALSE)","v":"https://github.com/docsifyjs/docsify"}]
["react-navigation/react-navigation",{"$f":"VLOOKUP(A737,汇总!D:E,2,FALSE)","v":"https://github.com/react-navigation/react-navigation"}]
["mochajs/mocha",{"$f":"VLOOKUP(A738,汇总!D:E,2,FALSE)","v":"https://github.com/mochajs/mocha"}]
["dotnet-architecture/eShopOnContainers",{"$f":"VLOOKUP(A739,汇总!D:E,2,FALSE)","v":"https://github.com/dotnet-architecture/eShopOnContainers"}]
["keon/algorithms",{"$f":"VLOOKUP(A740,汇总!D:E,2,FALSE)","v":"https://github.com/keon/algorithms"}]
["ApolloAuto/apollo",{"$f":"VLOOKUP(A741,汇总!D:E,2,FALSE)","v":"https://github.com/ApolloAuto/apollo"}]
["NativeScript/NativeScript",{"$f":"VLOOKUP(A742,汇总!D:E,2,FALSE)","v":"https://github.com/NativeScript/NativeScript"}]
["google/iosched",{"$f":"VLOOKUP(A743,汇总!D:E,2,FALSE)","v":"https://github.com/google/iosched"}]
["komeiji-satori/Dress",{"$f":"VLOOKUP(A744,汇总!D:E,2,FALSE)","v":"https://github.com/komeiji-satori/Dress"}]
["servo/servo",{"$f":"VLOOKUP(A745,汇总!D:E,2,FALSE)","v":"https://github.com/servo/servo"}]
["numpy/numpy",{"$f":"VLOOKUP(A746,汇总!D:E,2,FALSE)","v":"https://github.com/numpy/numpy"}]
["open-mmlab/mmdetection",{"$f":"VLOOKUP(A747,汇总!D:E,2,FALSE)","v":"https://github.com/open-mmlab/mmdetection"}]
["StevenBlack/hosts",{"$f":"VLOOKUP(A748,汇总!D:E,2,FALSE)","v":"https://github.com/StevenBlack/hosts"}]
["eriklindernoren/ML-From-Scratch",{"$f":"VLOOKUP(A749,汇总!D:E,2,FALSE)","v":"https://github.com/eriklindernoren/ML-From-Scratch"}]
["SwiftyJSON/SwiftyJSON",{"$f":"VLOOKUP(A750,汇总!D:E,2,FALSE)","v":"https://github.com/SwiftyJSON/SwiftyJSON"}]
["michalsnik/aos",{"$f":"VLOOKUP(A751,汇总!D:E,2,FALSE)","v":"https://github.com/michalsnik/aos"}]
["usablica/intro.js",{"$f":"VLOOKUP(A752,汇总!D:E,2,FALSE)","v":"https://github.com/usablica/intro.js"}]
["AMAI-GmbH/AI-Expert-Roadmap",{"$f":"VLOOKUP(A753,汇总!D:E,2,FALSE)","v":"https://github.com/AMAI-GmbH/AI-Expert-Roadmap"}]
["bilibili/flv.js",{"$f":"VLOOKUP(A754,汇总!D:E,2,FALSE)","v":"https://github.com/bilibili/flv.js"}]
["nicolargo/glances",{"$f":"VLOOKUP(A755,汇总!D:E,2,FALSE)","v":"https://github.com/nicolargo/glances"}]
["kriasoft/react-starter-kit",{"$f":"VLOOKUP(A756,汇总!D:E,2,FALSE)","v":"https://github.com/kriasoft/react-starter-kit"}]
["eugeneyan/applied-ml",{"$f":"VLOOKUP(A757,汇总!D:E,2,FALSE)","v":"https://github.com/eugeneyan/applied-ml"}]
["DIYgod/RSSHub",{"$f":"VLOOKUP(A758,汇总!D:E,2,FALSE)","v":"https://github.com/DIYgod/RSSHub"}]
["bradtraversy/50projects50days",{"$f":"VLOOKUP(A759,汇总!D:E,2,FALSE)","v":"https://github.com/bradtraversy/50projects50days"}]
["google/gson",{"$f":"VLOOKUP(A760,汇总!D:E,2,FALSE)","v":"https://github.com/google/gson"}]
["appsmithorg/appsmith",{"$f":"VLOOKUP(A761,汇总!D:E,2,FALSE)","v":"https://github.com/appsmithorg/appsmith"}]
["statelyai/xstate",{"$f":"VLOOKUP(A762,汇总!D:E,2,FALSE)","v":"https://github.com/statelyai/xstate"}]
["sirupsen/logrus",{"$f":"VLOOKUP(A763,汇总!D:E,2,FALSE)","v":"https://github.com/sirupsen/logrus"}]
["eslint/eslint",{"$f":"VLOOKUP(A764,汇总!D:E,2,FALSE)","v":"https://github.com/eslint/eslint"}]
["WerWolv/ImHex",{"$f":"VLOOKUP(A765,汇总!D:E,2,FALSE)","v":"https://github.com/WerWolv/ImHex"}]
["github/copilot-docs",{"$f":"VLOOKUP(A766,汇总!D:E,2,FALSE)","v":"https://github.com/github/copilot-docs"}]
["wangzheng0822/algo",{"$f":"VLOOKUP(A767,汇总!D:E,2,FALSE)","v":"https://github.com/wangzheng0822/algo"}]
["bevacqua/dragula",{"$f":"VLOOKUP(A768,汇总!D:E,2,FALSE)","v":"https://github.com/bevacqua/dragula"}]
["TheAlgorithms/C-Plus-Plus",{"$f":"VLOOKUP(A769,汇总!D:E,2,FALSE)","v":"https://github.com/TheAlgorithms/C-Plus-Plus"}]
["ipfs/ipfs",{"$f":"VLOOKUP(A770,汇总!D:E,2,FALSE)","v":"https://github.com/ipfs/ipfs"}]
["taichi-dev/taichi",{"$f":"VLOOKUP(A771,汇总!D:E,2,FALSE)","v":"https://github.com/taichi-dev/taichi"}]
["conwnet/github1s",{"$f":"VLOOKUP(A772,汇总!D:E,2,FALSE)","v":"https://github.com/conwnet/github1s"}]
["wesbos/JavaScript30",{"$f":"VLOOKUP(A773,汇总!D:E,2,FALSE)","v":"https://github.com/wesbos/JavaScript30"}]
["neoclide/coc.nvim",{"$f":"VLOOKUP(A774,汇总!D:E,2,FALSE)","v":"https://github.com/neoclide/coc.nvim"}]
["TeamNewPipe/NewPipe",{"$f":"VLOOKUP(A775,汇总!D:E,2,FALSE)","v":"https://github.com/TeamNewPipe/NewPipe"}]
["rwightman/pytorch-image-models",{"$f":"VLOOKUP(A776,汇总!D:E,2,FALSE)","v":"https://github.com/rwightman/pytorch-image-models"}]
["yeasy/docker_practice",{"$f":"VLOOKUP(A777,汇总!D:E,2,FALSE)","v":"https://github.com/yeasy/docker_practice"}]
["chenglou/react-motion",{"$f":"VLOOKUP(A778,汇总!D:E,2,FALSE)","v":"https://github.com/chenglou/react-motion"}]
["react-bootstrap/react-bootstrap",{"$f":"VLOOKUP(A779,汇总!D:E,2,FALSE)","v":"https://github.com/react-bootstrap/react-bootstrap"}]
["viatsko/awesome-vscode",{"$f":"VLOOKUP(A780,汇总!D:E,2,FALSE)","v":"https://github.com/viatsko/awesome-vscode"}]
["wsargent/docker-cheat-sheet",{"$f":"VLOOKUP(A781,汇总!D:E,2,FALSE)","v":"https://github.com/wsargent/docker-cheat-sheet"}]
["microsoft/cascadia-code",{"$f":"VLOOKUP(A782,汇总!D:E,2,FALSE)","v":"https://github.com/microsoft/cascadia-code"}]
["GorvGoyl/Clone-Wars",{"$f":"VLOOKUP(A783,汇总!D:E,2,FALSE)","v":"https://github.com/GorvGoyl/Clone-Wars"}]
["k3s-io/k3s",{"$f":"VLOOKUP(A784,汇总!D:E,2,FALSE)","v":"https://github.com/k3s-io/k3s"}]
["localForage/localForage",{"$f":"VLOOKUP(A785,汇总!D:E,2,FALSE)","v":"https://github.com/localForage/localForage"}]
["jlmakes/scrollreveal",{"$f":"VLOOKUP(A786,汇总!D:E,2,FALSE)","v":"https://github.com/jlmakes/scrollreveal"}]
["HeroTransitions/Hero",{"$f":"VLOOKUP(A787,汇总!D:E,2,FALSE)","v":"https://github.com/HeroTransitions/Hero"}]
["lyswhut/lx-music-desktop",{"$f":"VLOOKUP(A788,汇总!D:E,2,FALSE)","v":"https://github.com/lyswhut/lx-music-desktop"}]
["rwaldron/idiomatic.js",{"$f":"VLOOKUP(A789,汇总!D:E,2,FALSE)","v":"https://github.com/rwaldron/idiomatic.js"}]
["discordjs/discord.js",{"$f":"VLOOKUP(A790,汇总!D:E,2,FALSE)","v":"https://github.com/discordjs/discord.js"}]
["nushell/nushell",{"$f":"VLOOKUP(A791,汇总!D:E,2,FALSE)","v":"https://github.com/nushell/nushell"}]
["pugjs/pug",{"$f":"VLOOKUP(A792,汇总!D:E,2,FALSE)","v":"https://github.com/pugjs/pug"}]
["zhiwehu/Python-programming-exercises",{"$f":"VLOOKUP(A793,汇总!D:E,2,FALSE)","v":"https://github.com/zhiwehu/Python-programming-exercises"}]
["paularmstrong/normalizr",{"$f":"VLOOKUP(A794,汇总!D:E,2,FALSE)","v":"https://github.com/paularmstrong/normalizr"}]
["sebastianruder/NLP-progress",{"$f":"VLOOKUP(A795,汇总!D:E,2,FALSE)","v":"https://github.com/sebastianruder/NLP-progress"}]
["The-Run-Philosophy-Organization/run",{"$f":"VLOOKUP(A796,汇总!D:E,2,FALSE)","v":"https://github.com/The-Run-Philosophy-Organization/run"}]
["uglide/RedisDesktopManager",{"$f":"VLOOKUP(A797,汇总!D:E,2,FALSE)","v":"https://github.com/uglide/RedisDesktopManager"}]
["googlehosts/hosts",{"$f":"VLOOKUP(A798,汇总!D:E,2,FALSE)","v":"https://github.com/googlehosts/hosts"}]
["vuejs/vuepress",{"$f":"VLOOKUP(A799,汇总!D:E,2,FALSE)","v":"https://github.com/vuejs/vuepress"}]
["schollz/croc",{"$f":"VLOOKUP(A800,汇总!D:E,2,FALSE)","v":"https://github.com/schollz/croc"}]
["elixir-lang/elixir",{"$f":"VLOOKUP(A801,汇总!D:E,2,FALSE)","v":"https://github.com/elixir-lang/elixir"}]
["streamlit/streamlit",{"$f":"VLOOKUP(A802,汇总!D:E,2,FALSE)","v":"https://github.com/streamlit/streamlit"}]
["DesignPatternsPHP/DesignPatternsPHP",{"$f":"VLOOKUP(A803,汇总!D:E,2,FALSE)","v":"https://github.com/DesignPatternsPHP/DesignPatternsPHP"}]
["DrKLO/Telegram",{"$f":"VLOOKUP(A804,汇总!D:E,2,FALSE)","v":"https://github.com/DrKLO/Telegram"}]
["withastro/astro",{"$f":"VLOOKUP(A805,汇总!D:E,2,FALSE)","v":"https://github.com/withastro/astro"}]
["zeromicro/go-zero",{"$f":"VLOOKUP(A806,汇总!D:E,2,FALSE)","v":"https://github.com/zeromicro/go-zero"}]
["homebridge/homebridge",{"$f":"VLOOKUP(A807,汇总!D:E,2,FALSE)","v":"https://github.com/homebridge/homebridge"}]
["spf13/viper",{"$f":"VLOOKUP(A808,汇总!D:E,2,FALSE)","v":"https://github.com/spf13/viper"}]
["Z4nzu/hackingtool",{"$f":"VLOOKUP(A809,汇总!D:E,2,FALSE)","v":"https://github.com/Z4nzu/hackingtool"}]
["tornadoweb/tornado",{"$f":"VLOOKUP(A810,汇总!D:E,2,FALSE)","v":"https://github.com/tornadoweb/tornado"}]
["goldfire/howler.js",{"$f":"VLOOKUP(A811,汇总!D:E,2,FALSE)","v":"https://github.com/goldfire/howler.js"}]
["marmelab/react-admin",{"$f":"VLOOKUP(A812,汇总!D:E,2,FALSE)","v":"https://github.com/marmelab/react-admin"}]
["jaredhanson/passport",{"$f":"VLOOKUP(A813,汇总!D:E,2,FALSE)","v":"https://github.com/jaredhanson/passport"}]
["charlax/professional-programming",{"$f":"VLOOKUP(A814,汇总!D:E,2,FALSE)","v":"https://github.com/charlax/professional-programming"}]
["onevcat/Kingfisher",{"$f":"VLOOKUP(A815,汇总!D:E,2,FALSE)","v":"https://github.com/onevcat/Kingfisher"}]
["ColorlibHQ/gentelella",{"$f":"VLOOKUP(A816,汇总!D:E,2,FALSE)","v":"https://github.com/ColorlibHQ/gentelella"}]
["SwiftGGTeam/the-swift-programming-language-in-chinese",{"$f":"VLOOKUP(A817,汇总!D:E,2,FALSE)","v":"https://github.com/SwiftGGTeam/the-swift-programming-language-in-chinese"}]
["postcss/autoprefixer",{"$f":"VLOOKUP(A818,汇总!D:E,2,FALSE)","v":"https://github.com/postcss/autoprefixer"}]
["julycoding/The-Art-Of-Programming-By-July",{"$f":"VLOOKUP(A819,汇总!D:E,2,FALSE)","v":"https://github.com/julycoding/The-Art-Of-Programming-By-July"}]
["envoyproxy/envoy",{"$f":"VLOOKUP(A820,汇总!D:E,2,FALSE)","v":"https://github.com/envoyproxy/envoy"}]
["deezer/spleeter",{"$f":"VLOOKUP(A821,汇总!D:E,2,FALSE)","v":"https://github.com/deezer/spleeter"}]
["libgdx/libgdx",{"$f":"VLOOKUP(A822,汇总!D:E,2,FALSE)","v":"https://github.com/libgdx/libgdx"}]
["highlightjs/highlight.js",{"$f":"VLOOKUP(A823,汇总!D:E,2,FALSE)","v":"https://github.com/highlightjs/highlight.js"}]
["datawhalechina/pumpkin-book",{"$f":"VLOOKUP(A824,汇总!D:E,2,FALSE)","v":"https://github.com/datawhalechina/pumpkin-book"}]
["git-tips/tips",{"$f":"VLOOKUP(A825,汇总!D:E,2,FALSE)","v":"https://github.com/git-tips/tips"}]
["bitcoinbook/bitcoinbook",{"$f":"VLOOKUP(A826,汇总!D:E,2,FALSE)","v":"https://github.com/bitcoinbook/bitcoinbook"}]
["google/jax",{"$f":"VLOOKUP(A827,汇总!D:E,2,FALSE)","v":"https://github.com/google/jax"}]
["Meituan-Dianping/mpvue",{"$f":"VLOOKUP(A828,汇总!D:E,2,FALSE)","v":"https://github.com/Meituan-Dianping/mpvue"}]
["zyedidia/micro",{"$f":"VLOOKUP(A829,汇总!D:E,2,FALSE)","v":"https://github.com/zyedidia/micro"}]
["FallibleInc/security-guide-for-developers",{"$f":"VLOOKUP(A830,汇总!D:E,2,FALSE)","v":"https://github.com/FallibleInc/security-guide-for-developers"}]
["notable/notable",{"$f":"VLOOKUP(A831,汇总!D:E,2,FALSE)","v":"https://github.com/notable/notable"}]
["WeNeedHome/SummaryOfLoanSuspension",{"$f":"VLOOKUP(A832,汇总!D:E,2,FALSE)","v":"https://github.com/WeNeedHome/SummaryOfLoanSuspension"}]
["apache/skywalking",{"$f":"VLOOKUP(A833,汇总!D:E,2,FALSE)","v":"https://github.com/apache/skywalking"}]
["codex-team/editor.js",{"$f":"VLOOKUP(A834,汇总!D:E,2,FALSE)","v":"https://github.com/codex-team/editor.js"}]
["mozilla/DeepSpeech",{"$f":"VLOOKUP(A835,汇总!D:E,2,FALSE)","v":"https://github.com/mozilla/DeepSpeech"}]
["ruanyf/es6tutorial",{"$f":"VLOOKUP(A836,汇总!D:E,2,FALSE)","v":"https://github.com/ruanyf/es6tutorial"}]
["Awesome-Windows/Awesome",{"$f":"VLOOKUP(A837,汇总!D:E,2,FALSE)","v":"https://github.com/Awesome-Windows/Awesome"}]
["pbatard/rufus",{"$f":"VLOOKUP(A838,汇总!D:E,2,FALSE)","v":"https://github.com/pbatard/rufus"}]
["necolas/react-native-web",{"$f":"VLOOKUP(A839,汇总!D:E,2,FALSE)","v":"https://github.com/necolas/react-native-web"}]
["v8/v8",{"$f":"VLOOKUP(A840,汇总!D:E,2,FALSE)","v":"https://github.com/v8/v8"}]
["youzan/vant",{"$f":"VLOOKUP(A841,汇总!D:E,2,FALSE)","v":"https://github.com/youzan/vant"}]
["camsong/You-Dont-Need-jQuery",{"$f":"VLOOKUP(A842,汇总!D:E,2,FALSE)","v":"https://github.com/camsong/You-Dont-Need-jQuery"}]
["electron-react-boilerplate/electron-react-boilerplate",{"$f":"VLOOKUP(A843,汇总!D:E,2,FALSE)","v":"https://github.com/electron-react-boilerplate/electron-react-boilerplate"}]
["nextcloud/server",{"$f":"VLOOKUP(A844,汇总!D:E,2,FALSE)","v":"https://github.com/nextcloud/server"}]
["tsenart/vegeta",{"$f":"VLOOKUP(A845,汇总!D:E,2,FALSE)","v":"https://github.com/tsenart/vegeta"}]
["validatorjs/validator.js",{"$f":"VLOOKUP(A846,汇总!D:E,2,FALSE)","v":"https://github.com/validatorjs/validator.js"}]
["Lightning-AI/lightning",{"$f":"VLOOKUP(A847,汇总!D:E,2,FALSE)","v":"https://github.com/Lightning-AI/lightning"}]
["JohnCoates/Aerial",{"$f":"VLOOKUP(A848,汇总!D:E,2,FALSE)","v":"https://github.com/JohnCoates/Aerial"}]
["celery/celery",{"$f":"VLOOKUP(A849,汇总!D:E,2,FALSE)","v":"https://github.com/celery/celery"}]
["trekhleb/homemade-machine-learning",{"$f":"VLOOKUP(A850,汇总!D:E,2,FALSE)","v":"https://github.com/trekhleb/homemade-machine-learning"}]
["gfwlist/gfwlist",{"$f":"VLOOKUP(A851,汇总!D:E,2,FALSE)","v":"https://github.com/gfwlist/gfwlist"}]
["libuv/libuv",{"$f":"VLOOKUP(A852,汇总!D:E,2,FALSE)","v":"https://github.com/libuv/libuv"}]
["futurice/android-best-practices",{"$f":"VLOOKUP(A853,汇总!D:E,2,FALSE)","v":"https://github.com/futurice/android-best-practices"}]
["tmrts/go-patterns",{"$f":"VLOOKUP(A854,汇总!D:E,2,FALSE)","v":"https://github.com/tmrts/go-patterns"}]
["petkaantonov/bluebird",{"$f":"VLOOKUP(A855,汇总!D:E,2,FALSE)","v":"https://github.com/petkaantonov/bluebird"}]
["mpv-player/mpv",{"$f":"VLOOKUP(A856,汇总!D:E,2,FALSE)","v":"https://github.com/mpv-player/mpv"}]
["judasn/IntelliJ-IDEA-Tutorial",{"$f":"VLOOKUP(A857,汇总!D:E,2,FALSE)","v":"https://github.com/judasn/IntelliJ-IDEA-Tutorial"}]
["withfig/autocomplete",{"$f":"VLOOKUP(A858,汇总!D:E,2,FALSE)","v":"https://github.com/withfig/autocomplete"}]
["leereilly/games",{"$f":"VLOOKUP(A859,汇总!D:E,2,FALSE)","v":"https://github.com/leereilly/games"}]
["apache/incubator-mxnet",{"$f":"VLOOKUP(A860,汇总!D:E,2,FALSE)","v":"https://github.com/apache/incubator-mxnet"}]
["lutzroeder/netron",{"$f":"VLOOKUP(A861,汇总!D:E,2,FALSE)","v":"https://github.com/lutzroeder/netron"}]
["microsoft/api-guidelines",{"$f":"VLOOKUP(A862,汇总!D:E,2,FALSE)","v":"https://github.com/microsoft/api-guidelines"}]
["OpenZeppelin/openzeppelin-contracts",{"$f":"VLOOKUP(A863,汇总!D:E,2,FALSE)","v":"https://github.com/OpenZeppelin/openzeppelin-contracts"}]
["nothings/stb",{"$f":"VLOOKUP(A864,汇总!D:E,2,FALSE)","v":"https://github.com/nothings/stb"}]
["BradLarson/GPUImage",{"$f":"VLOOKUP(A865,汇总!D:E,2,FALSE)","v":"https://github.com/BradLarson/GPUImage"}]
["mxgmn/WaveFunctionCollapse",{"$f":"VLOOKUP(A866,汇总!D:E,2,FALSE)","v":"https://github.com/mxgmn/WaveFunctionCollapse"}]
["avajs/ava",{"$f":"VLOOKUP(A867,汇总!D:E,2,FALSE)","v":"https://github.com/avajs/ava"}]
["SamyPesse/How-to-Make-a-Computer-Operating-System",{"$f":"VLOOKUP(A868,汇总!D:E,2,FALSE)","v":"https://github.com/SamyPesse/How-to-Make-a-Computer-Operating-System"}]
["ReactiveCocoa/ReactiveCocoa",{"$f":"VLOOKUP(A869,汇总!D:E,2,FALSE)","v":"https://github.com/ReactiveCocoa/ReactiveCocoa"}]
["enzymejs/enzyme",{"$f":"VLOOKUP(A870,汇总!D:E,2,FALSE)","v":"https://github.com/enzymejs/enzyme"}]
["alibaba/Sentinel",{"$f":"VLOOKUP(A871,汇总!D:E,2,FALSE)","v":"https://github.com/alibaba/Sentinel"}]
["jhipster/generator-jhipster",{"$f":"VLOOKUP(A872,汇总!D:E,2,FALSE)","v":"https://github.com/jhipster/generator-jhipster"}]
["js-cookie/js-cookie",{"$f":"VLOOKUP(A873,汇总!D:E,2,FALSE)","v":"https://github.com/js-cookie/js-cookie"}]
["telegramdesktop/tdesktop",{"$f":"VLOOKUP(A874,汇总!D:E,2,FALSE)","v":"https://github.com/telegramdesktop/tdesktop"}]
["Seldaek/monolog",{"$f":"VLOOKUP(A875,汇总!D:E,2,FALSE)","v":"https://github.com/Seldaek/monolog"}]
["yichengchen/clashX",{"$f":"VLOOKUP(A876,汇总!D:E,2,FALSE)","v":"https://github.com/yichengchen/clashX"}]
["rancher/rancher",{"$f":"VLOOKUP(A877,汇总!D:E,2,FALSE)","v":"https://github.com/rancher/rancher"}]
["hwdsl2/setup-ipsec-vpn",{"$f":"VLOOKUP(A878,汇总!D:E,2,FALSE)","v":"https://github.com/hwdsl2/setup-ipsec-vpn"}]
["MustangYM/WeChatExtension-ForMac",{"$f":"VLOOKUP(A879,汇总!D:E,2,FALSE)","v":"https://github.com/MustangYM/WeChatExtension-ForMac"}]
["redisson/redisson",{"$f":"VLOOKUP(A880,汇总!D:E,2,FALSE)","v":"https://github.com/redisson/redisson"}]
["Igglybuff/awesome-piracy",{"$f":"VLOOKUP(A881,汇总!D:E,2,FALSE)","v":"https://github.com/Igglybuff/awesome-piracy"}]
["jaywcjlove/linux-command",{"$f":"VLOOKUP(A882,汇总!D:E,2,FALSE)","v":"https://github.com/jaywcjlove/linux-command"}]
["apache/flink",{"$f":"VLOOKUP(A883,汇总!D:E,2,FALSE)","v":"https://github.com/apache/flink"}]
["google/ExoPlayer",{"$f":"VLOOKUP(A884,汇总!D:E,2,FALSE)","v":"https://github.com/google/ExoPlayer"}]
["remoteintech/remote-jobs",{"$f":"VLOOKUP(A885,汇总!D:E,2,FALSE)","v":"https://github.com/remoteintech/remote-jobs"}]
["locustio/locust",{"$f":"VLOOKUP(A886,汇总!D:E,2,FALSE)","v":"https://github.com/locustio/locust"}]
["python-telegram-bot/python-telegram-bot",{"$f":"VLOOKUP(A887,汇总!D:E,2,FALSE)","v":"https://github.com/python-telegram-bot/python-telegram-bot"}]
["zhaoolee/ChromeAppHeroes",{"$f":"VLOOKUP(A888,汇总!D:E,2,FALSE)","v":"https://github.com/zhaoolee/ChromeAppHeroes"}]
["pmndrs/react-three-fiber",{"$f":"VLOOKUP(A889,汇总!D:E,2,FALSE)","v":"https://github.com/pmndrs/react-three-fiber"}]
["facebookarchive/pop",{"$f":"VLOOKUP(A890,汇总!D:E,2,FALSE)","v":"https://github.com/facebookarchive/pop"}]
["parse-community/parse-server",{"$f":"VLOOKUP(A891,汇总!D:E,2,FALSE)","v":"https://github.com/parse-community/parse-server"}]
["sdras/awesome-actions",{"$f":"VLOOKUP(A892,汇总!D:E,2,FALSE)","v":"https://github.com/sdras/awesome-actions"}]
["FredKSchott/snowpack",{"$f":"VLOOKUP(A893,汇总!D:E,2,FALSE)","v":"https://github.com/FredKSchott/snowpack"}]
["pnpm/pnpm",{"$f":"VLOOKUP(A894,汇总!D:E,2,FALSE)","v":"https://github.com/pnpm/pnpm"}]
["forem/forem",{"$f":"VLOOKUP(A895,汇总!D:E,2,FALSE)","v":"https://github.com/forem/forem"}]
["ReactiveX/RxAndroid",{"$f":"VLOOKUP(A896,汇总!D:E,2,FALSE)","v":"https://github.com/ReactiveX/RxAndroid"}]
["felixrieseberg/windows95",{"$f":"VLOOKUP(A897,汇总!D:E,2,FALSE)","v":"https://github.com/felixrieseberg/windows95"}]
["fish-shell/fish-shell",{"$f":"VLOOKUP(A898,汇总!D:E,2,FALSE)","v":"https://github.com/fish-shell/fish-shell"}]
["robertdavidgraham/masscan",{"$f":"VLOOKUP(A899,汇总!D:E,2,FALSE)","v":"https://github.com/robertdavidgraham/masscan"}]
["tipsy/profile-summary-for-github",{"$f":"VLOOKUP(A900,汇总!D:E,2,FALSE)","v":"https://github.com/tipsy/profile-summary-for-github"}]
["benweet/stackedit",{"$f":"VLOOKUP(A901,汇总!D:E,2,FALSE)","v":"https://github.com/benweet/stackedit"}]
["xi-editor/xi-editor",{"$f":"VLOOKUP(A902,汇总!D:E,2,FALSE)","v":"https://github.com/xi-editor/xi-editor"}]
["Reactive-Extensions/RxJS",{"$f":"VLOOKUP(A903,汇总!D:E,2,FALSE)","v":"https://github.com/Reactive-Extensions/RxJS"}]
["academic/awesome-datascience",{"$f":"VLOOKUP(A904,汇总!D:E,2,FALSE)","v":"https://github.com/academic/awesome-datascience"}]
["drduh/macOS-Security-and-Privacy-Guide",{"$f":"VLOOKUP(A905,汇总!D:E,2,FALSE)","v":"https://github.com/drduh/macOS-Security-and-Privacy-Guide"}]
["jenkinsci/jenkins",{"$f":"VLOOKUP(A906,汇总!D:E,2,FALSE)","v":"https://github.com/jenkinsci/jenkins"}]
["dracula/dracula-theme",{"$f":"VLOOKUP(A907,汇总!D:E,2,FALSE)","v":"https://github.com/dracula/dracula-theme"}]
["winstonjs/winston",{"$f":"VLOOKUP(A908,汇总!D:E,2,FALSE)","v":"https://github.com/winstonjs/winston"}]
["chubin/wttr.in",{"$f":"VLOOKUP(A909,汇总!D:E,2,FALSE)","v":"https://github.com/chubin/wttr.in"}]
["firecracker-microvm/firecracker",{"$f":"VLOOKUP(A910,汇总!D:E,2,FALSE)","v":"https://github.com/firecracker-microvm/firecracker"}]
["ruby/ruby",{"$f":"VLOOKUP(A911,汇总!D:E,2,FALSE)","v":"https://github.com/ruby/ruby"}]
["lensapp/lens",{"$f":"VLOOKUP(A912,汇总!D:E,2,FALSE)","v":"https://github.com/lensapp/lens"}]
["bazelbuild/bazel",{"$f":"VLOOKUP(A913,汇总!D:E,2,FALSE)","v":"https://github.com/bazelbuild/bazel"}]
["ChristosChristofidis/awesome-deep-learning",{"$f":"VLOOKUP(A914,汇总!D:E,2,FALSE)","v":"https://github.com/ChristosChristofidis/awesome-deep-learning"}]
["eligrey/FileSaver.js",{"$f":"VLOOKUP(A915,汇总!D:E,2,FALSE)","v":"https://github.com/eligrey/FileSaver.js"}]
["remix-run/remix",{"$f":"VLOOKUP(A916,汇总!D:E,2,FALSE)","v":"https://github.com/remix-run/remix"}]
["Homebrew/homebrew-cask",{"$f":"VLOOKUP(A917,汇总!D:E,2,FALSE)","v":"https://github.com/Homebrew/homebrew-cask"}]
["openssl/openssl",{"$f":"VLOOKUP(A918,汇总!D:E,2,FALSE)","v":"https://github.com/openssl/openssl"}]
["geekan/HowToLiveLonger",{"$f":"VLOOKUP(A919,汇总!D:E,2,FALSE)","v":"https://github.com/geekan/HowToLiveLonger"}]
["ogham/exa",{"$f":"VLOOKUP(A920,汇总!D:E,2,FALSE)","v":"https://github.com/ogham/exa"}]
["freqtrade/freqtrade",{"$f":"VLOOKUP(A921,汇总!D:E,2,FALSE)","v":"https://github.com/freqtrade/freqtrade"}]
["afollestad/material-dialogs",{"$f":"VLOOKUP(A922,汇总!D:E,2,FALSE)","v":"https://github.com/afollestad/material-dialogs"}]
["qier222/YesPlayMusic",{"$f":"VLOOKUP(A923,汇总!D:E,2,FALSE)","v":"https://github.com/qier222/YesPlayMusic"}]
["dapr/dapr",{"$f":"VLOOKUP(A924,汇总!D:E,2,FALSE)","v":"https://github.com/dapr/dapr"}]
["railsware/upterm",{"$f":"VLOOKUP(A925,汇总!D:E,2,FALSE)","v":"https://github.com/railsware/upterm"}]
["go-micro/go-micro",{"$f":"VLOOKUP(A926,汇总!D:E,2,FALSE)","v":"https://github.com/go-micro/go-micro"}]
["rome/tools",{"$f":"VLOOKUP(A927,汇总!D:E,2,FALSE)","v":"https://github.com/rome/tools"}]
["taosdata/TDengine",{"$f":"VLOOKUP(A928,汇总!D:E,2,FALSE)","v":"https://github.com/taosdata/TDengine"}]
["TanStack/table",{"$f":"VLOOKUP(A929,汇总!D:E,2,FALSE)","v":"https://github.com/TanStack/table"}]
["osquery/osquery",{"$f":"VLOOKUP(A930,汇总!D:E,2,FALSE)","v":"https://github.com/osquery/osquery"}]
["facebookresearch/fairseq",{"$f":"VLOOKUP(A931,汇总!D:E,2,FALSE)","v":"https://github.com/facebookresearch/fairseq"}]
["palantir/blueprint",{"$f":"VLOOKUP(A932,汇总!D:E,2,FALSE)","v":"https://github.com/palantir/blueprint"}]
["verekia/js-stack-from-scratch",{"$f":"VLOOKUP(A933,汇总!D:E,2,FALSE)","v":"https://github.com/verekia/js-stack-from-scratch"}]
["vnpy/vnpy",{"$f":"VLOOKUP(A934,汇总!D:E,2,FALSE)","v":"https://github.com/vnpy/vnpy"}]
["go-delve/delve",{"$f":"VLOOKUP(A935,汇总!D:E,2,FALSE)","v":"https://github.com/go-delve/delve"}]
["segmentio/nightmare",{"$f":"VLOOKUP(A936,汇总!D:E,2,FALSE)","v":"https://github.com/segmentio/nightmare"}]
["shimohq/chinese-programmer-wrong-pronunciation",{"$f":"VLOOKUP(A937,汇总!D:E,2,FALSE)","v":"https://github.com/shimohq/chinese-programmer-wrong-pronunciation"}]
["ossrs/srs",{"$f":"VLOOKUP(A938,汇总!D:E,2,FALSE)","v":"https://github.com/ossrs/srs"}]
["PostgREST/postgrest",{"$f":"VLOOKUP(A939,汇总!D:E,2,FALSE)","v":"https://github.com/PostgREST/postgrest"}]
["jumpserver/jumpserver",{"$f":"VLOOKUP(A940,汇总!D:E,2,FALSE)","v":"https://github.com/jumpserver/jumpserver"}]
["hapijs/joi",{"$f":"VLOOKUP(A941,汇总!D:E,2,FALSE)","v":"https://github.com/hapijs/joi"}]
["vadimdemedes/ink",{"$f":"VLOOKUP(A942,汇总!D:E,2,FALSE)","v":"https://github.com/vadimdemedes/ink"}]
["chalk/chalk",{"$f":"VLOOKUP(A943,汇总!D:E,2,FALSE)","v":"https://github.com/chalk/chalk"}]
["MLEveryday/100-Days-Of-ML-Code",{"$f":"VLOOKUP(A944,汇总!D:E,2,FALSE)","v":"https://github.com/MLEveryday/100-Days-Of-ML-Code"}]
["norvig/pytudes",{"$f":"VLOOKUP(A945,汇总!D:E,2,FALSE)","v":"https://github.com/norvig/pytudes"}]
["davideuler/architecture.of.internet-product",{"$f":"VLOOKUP(A946,汇总!D:E,2,FALSE)","v":"https://github.com/davideuler/architecture.of.internet-product"}]
["goldbergyoni/javascript-testing-best-practices",{"$f":"VLOOKUP(A947,汇总!D:E,2,FALSE)","v":"https://github.com/goldbergyoni/javascript-testing-best-practices"}]
["iawia002/lux",{"$f":"VLOOKUP(A948,汇总!D:E,2,FALSE)","v":"https://github.com/iawia002/lux"}]
["graphql/graphql-js",{"$f":"VLOOKUP(A949,汇总!D:E,2,FALSE)","v":"https://github.com/graphql/graphql-js"}]
["didi/DoKit",{"$f":"VLOOKUP(A950,汇总!D:E,2,FALSE)","v":"https://github.com/didi/DoKit"}]
["Popmotion/popmotion",{"$f":"VLOOKUP(A951,汇总!D:E,2,FALSE)","v":"https://github.com/Popmotion/popmotion"}]
["urfave/cli",{"$f":"VLOOKUP(A952,汇总!D:E,2,FALSE)","v":"https://github.com/urfave/cli"}]
["SpaceVim/SpaceVim",{"$f":"VLOOKUP(A953,汇总!D:E,2,FALSE)","v":"https://github.com/SpaceVim/SpaceVim"}]
["TeamStuQ/skill-map",{"$f":"VLOOKUP(A954,汇总!D:E,2,FALSE)","v":"https://github.com/TeamStuQ/skill-map"}]
["nostalgic-css/NES.css",{"$f":"VLOOKUP(A955,汇总!D:E,2,FALSE)","v":"https://github.com/nostalgic-css/NES.css"}]
["n0shake/Public-APIs",{"$f":"VLOOKUP(A956,汇总!D:E,2,FALSE)","v":"https://github.com/n0shake/Public-APIs"}]
["nikitavoloboev/my-mac-os",{"$f":"VLOOKUP(A957,汇总!D:E,2,FALSE)","v":"https://github.com/nikitavoloboev/my-mac-os"}]
["pytorch/examples",{"$f":"VLOOKUP(A958,汇总!D:E,2,FALSE)","v":"https://github.com/pytorch/examples"}]
["dani-garcia/vaultwarden",{"$f":"VLOOKUP(A959,汇总!D:E,2,FALSE)","v":"https://github.com/dani-garcia/vaultwarden"}]
["refined-github/refined-github",{"$f":"VLOOKUP(A960,汇总!D:E,2,FALSE)","v":"https://github.com/refined-github/refined-github"}]
["javascript-tutorial/en.javascript.info",{"$f":"VLOOKUP(A961,汇总!D:E,2,FALSE)","v":"https://github.com/javascript-tutorial/en.javascript.info"}]
["PaddlePaddle/Paddle",{"$f":"VLOOKUP(A962,汇总!D:E,2,FALSE)","v":"https://github.com/PaddlePaddle/Paddle"}]
["tobiasahlin/SpinKit",{"$f":"VLOOKUP(A963,汇总!D:E,2,FALSE)","v":"https://github.com/tobiasahlin/SpinKit"}]
["go-kratos/kratos",{"$f":"VLOOKUP(A964,汇总!D:E,2,FALSE)","v":"https://github.com/go-kratos/kratos"}]
["tachiyomiorg/tachiyomi",{"$f":"VLOOKUP(A965,汇总!D:E,2,FALSE)","v":"https://github.com/tachiyomiorg/tachiyomi"}]
["bevyengine/bevy",{"$f":"VLOOKUP(A966,汇总!D:E,2,FALSE)","v":"https://github.com/bevyengine/bevy"}]
["gchq/CyberChef",{"$f":"VLOOKUP(A967,汇总!D:E,2,FALSE)","v":"https://github.com/gchq/CyberChef"}]
["kdeldycke/awesome-falsehood",{"$f":"VLOOKUP(A968,汇总!D:E,2,FALSE)","v":"https://github.com/kdeldycke/awesome-falsehood"}]
["recharts/recharts",{"$f":"VLOOKUP(A969,汇总!D:E,2,FALSE)","v":"https://github.com/recharts/recharts"}]
["google/mediapipe",{"$f":"VLOOKUP(A970,汇总!D:E,2,FALSE)","v":"https://github.com/google/mediapipe"}]
["flameshot-org/flameshot",{"$f":"VLOOKUP(A971,汇总!D:E,2,FALSE)","v":"https://github.com/flameshot-org/flameshot"}]
["vuejs/vue-router",{"$f":"VLOOKUP(A972,汇总!D:E,2,FALSE)","v":"https://github.com/vuejs/vue-router"}]
["Ebazhanov/linkedin-skill-assessments-quizzes",{"$f":"VLOOKUP(A973,汇总!D:E,2,FALSE)","v":"https://github.com/Ebazhanov/linkedin-skill-assessments-quizzes"}]
["SnapKit/SnapKit",{"$f":"VLOOKUP(A974,汇总!D:E,2,FALSE)","v":"https://github.com/SnapKit/SnapKit"}]
["websockets/ws",{"$f":"VLOOKUP(A975,汇总!D:E,2,FALSE)","v":"https://github.com/websockets/ws"}]
["jorgebucaran/hyperapp",{"$f":"VLOOKUP(A976,汇总!D:E,2,FALSE)","v":"https://github.com/jorgebucaran/hyperapp"}]
["changkun/modern-cpp-tutorial",{"$f":"VLOOKUP(A977,汇总!D:E,2,FALSE)","v":"https://github.com/changkun/modern-cpp-tutorial"}]
["google/flatbuffers",{"$f":"VLOOKUP(A978,汇总!D:E,2,FALSE)","v":"https://github.com/google/flatbuffers"}]
["aseprite/aseprite",{"$f":"VLOOKUP(A979,汇总!D:E,2,FALSE)","v":"https://github.com/aseprite/aseprite"}]
["google/eng-practices",{"$f":"VLOOKUP(A980,汇总!D:E,2,FALSE)","v":"https://github.com/google/eng-practices"}]
["ai/nanoid",{"$f":"VLOOKUP(A981,汇总!D:E,2,FALSE)","v":"https://github.com/ai/nanoid"}]
["ftlabs/fastclick",{"$f":"VLOOKUP(A982,汇总!D:E,2,FALSE)","v":"https://github.com/ftlabs/fastclick"}]
["rxhanson/Rectangle",{"$f":"VLOOKUP(A983,汇总!D:E,2,FALSE)","v":"https://github.com/rxhanson/Rectangle"}]
["reduxjs/reselect",{"$f":"VLOOKUP(A984,汇总!D:E,2,FALSE)","v":"https://github.com/reduxjs/reselect"}]
["requarks/wiki",{"$f":"VLOOKUP(A985,汇总!D:E,2,FALSE)","v":"https://github.com/requarks/wiki"}]
["elunez/eladmin",{"$f":"VLOOKUP(A986,汇总!D:E,2,FALSE)","v":"https://github.com/elunez/eladmin"}]
["philc/vimium",{"$f":"VLOOKUP(A987,汇总!D:E,2,FALSE)","v":"https://github.com/philc/vimium"}]
["PHPMailer/PHPMailer",{"$f":"VLOOKUP(A988,汇总!D:E,2,FALSE)","v":"https://github.com/PHPMailer/PHPMailer"}]
["checkcheckzz/system-design-interview",{"$f":"VLOOKUP(A989,汇总!D:E,2,FALSE)","v":"https://github.com/checkcheckzz/system-design-interview"}]
["dhg/Skeleton",{"$f":"VLOOKUP(A990,汇总!D:E,2,FALSE)","v":"https://github.com/dhg/Skeleton"}]
["ruanyf/jstraining",{"$f":"VLOOKUP(A991,汇总!D:E,2,FALSE)","v":"https://github.com/ruanyf/jstraining"}]
["jitsi/jitsi-meet",{"$f":"VLOOKUP(A992,汇总!D:E,2,FALSE)","v":"https://github.com/jitsi/jitsi-meet"}]
["sebastianbergmann/phpunit",{"$f":"VLOOKUP(A993,汇总!D:E,2,FALSE)","v":"https://github.com/sebastianbergmann/phpunit"}]
["phoenixframework/phoenix",{"$f":"VLOOKUP(A994,汇总!D:E,2,FALSE)","v":"https://github.com/phoenixframework/phoenix"}]
["Awesome-HarmonyOS/HarmonyOS",{"$f":"VLOOKUP(A995,汇总!D:E,2,FALSE)","v":"https://github.com/Awesome-HarmonyOS/HarmonyOS"}]
["Redocly/redoc",{"$f":"VLOOKUP(A996,汇总!D:E,2,FALSE)","v":"https://github.com/Redocly/redoc"}]
["MonitorControl/MonitorControl",{"$f":"VLOOKUP(A997,汇总!D:E,2,FALSE)","v":"https://github.com/MonitorControl/MonitorControl"}]
["Prinzhorn/skrollr",{"$f":"VLOOKUP(A998,汇总!D:E,2,FALSE)","v":"https://github.com/Prinzhorn/skrollr"}]
["lapce/lapce",{"$f":"VLOOKUP(A999,汇总!D:E,2,FALSE)","v":"https://github.com/lapce/lapce"}]
["backstage/backstage",{"$f":"VLOOKUP(A1000,汇总!D:E,2,FALSE)","v":"https://github.com/backstage/backstage"}]
["SergioBenitez/Rocket",{"$f":"VLOOKUP(A1001,汇总!D:E,2,FALSE)","v":"https://github.com/SergioBenitez/Rocket"}]
["FelisCatus/SwitchyOmega",{"$f":"VLOOKUP(A1002,汇总!D:E,2,FALSE)","v":"https://github.com/FelisCatus/SwitchyOmega"}]
["dgraph-io/dgraph",{"$f":"VLOOKUP(A1003,汇总!D:E,2,FALSE)","v":"https://github.com/dgraph-io/dgraph"}]
["wenyan-lang/wenyan",{"$f":"VLOOKUP(A1004,汇总!D:E,2,FALSE)","v":"https://github.com/wenyan-lang/wenyan"}]
["valyala/fasthttp",{"$f":"VLOOKUP(A1005,汇总!D:E,2,FALSE)","v":"https://github.com/valyala/fasthttp"}]
["quii/learn-go-with-tests",{"$f":"VLOOKUP(A1006,汇总!D:E,2,FALSE)","v":"https://github.com/quii/learn-go-with-tests"}]
["adobe-fonts/source-code-pro",{"$f":"VLOOKUP(A1007,汇总!D:E,2,FALSE)","v":"https://github.com/adobe-fonts/source-code-pro"}]
["BabylonJS/Babylon.js",{"$f":"VLOOKUP(A1008,汇总!D:E,2,FALSE)","v":"https://github.com/BabylonJS/Babylon.js"}]
["google/web-starter-kit",{"$f":"VLOOKUP(A1009,汇总!D:E,2,FALSE)","v":"https://github.com/google/web-starter-kit"}]
["junyanz/pytorch-CycleGAN-and-pix2pix",{"$f":"VLOOKUP(A1010,汇总!D:E,2,FALSE)","v":"https://github.com/junyanz/pytorch-CycleGAN-and-pix2pix"}]
["arendst/Tasmota",{"$f":"VLOOKUP(A1011,汇总!D:E,2,FALSE)","v":"https://github.com/arendst/Tasmota"}]
["heartexlabs/labelImg",{"$f":"VLOOKUP(A1012,汇总!D:E,2,FALSE)","v":"https://github.com/heartexlabs/labelImg"}]
["jquense/yup",{"$f":"VLOOKUP(A1013,汇总!D:E,2,FALSE)","v":"https://github.com/jquense/yup"}]
["NickeManarin/ScreenToGif",{"$f":"VLOOKUP(A1014,汇总!D:E,2,FALSE)","v":"https://github.com/NickeManarin/ScreenToGif"}]
["nuysoft/Mock",{"$f":"VLOOKUP(A1015,汇总!D:E,2,FALSE)","v":"https://github.com/nuysoft/Mock"}]
["ethereum/solidity",{"$f":"VLOOKUP(A1016,汇总!D:E,2,FALSE)","v":"https://github.com/ethereum/solidity"}]
["goharbor/harbor",{"$f":"VLOOKUP(A1017,汇总!D:E,2,FALSE)","v":"https://github.com/goharbor/harbor"}]
["GeekyAnts/NativeBase",{"$f":"VLOOKUP(A1018,汇总!D:E,2,FALSE)","v":"https://github.com/GeekyAnts/NativeBase"}]
["square/picasso",{"$f":"VLOOKUP(A1019,汇总!D:E,2,FALSE)","v":"https://github.com/square/picasso"}]
["docker/awesome-compose",{"$f":"VLOOKUP(A1020,汇总!D:E,2,FALSE)","v":"https://github.com/docker/awesome-compose"}]
["Baseflow/PhotoView",{"$f":"VLOOKUP(A1021,汇总!D:E,2,FALSE)","v":"https://github.com/Baseflow/PhotoView"}]
["fyne-io/fyne",{"$f":"VLOOKUP(A1022,汇总!D:E,2,FALSE)","v":"https://github.com/fyne-io/fyne"}]
["facebook/zstd",{"$f":"VLOOKUP(A1023,汇总!D:E,2,FALSE)","v":"https://github.com/facebook/zstd"}]
["MichaelCade/90DaysOfDevOps",{"$f":"VLOOKUP(A1024,汇总!D:E,2,FALSE)","v":"https://github.com/MichaelCade/90DaysOfDevOps"}]
["ValveSoftware/Proton",{"$f":"VLOOKUP(A1025,汇总!D:E,2,FALSE)","v":"https://github.com/ValveSoftware/Proton"}]
["1c7/chinese-independent-developer",{"$f":"VLOOKUP(A1026,汇总!D:E,2,FALSE)","v":"https://github.com/1c7/chinese-independent-developer"}]
["Molunerfinn/PicGo",{"$f":"VLOOKUP(A1027,汇总!D:E,2,FALSE)","v":"https://github.com/Molunerfinn/PicGo"}]
["dennybritz/reinforcement-learning",{"$f":"VLOOKUP(A1028,汇总!D:E,2,FALSE)","v":"https://github.com/dennybritz/reinforcement-learning"}]
["typicode/lowdb",{"$f":"VLOOKUP(A1029,汇总!D:E,2,FALSE)","v":"https://github.com/typicode/lowdb"}]
["svg/svgo",{"$f":"VLOOKUP(A1030,汇总!D:E,2,FALSE)","v":"https://github.com/svg/svgo"}]
["react-dnd/react-dnd",{"$f":"VLOOKUP(A1031,汇总!D:E,2,FALSE)","v":"https://github.com/react-dnd/react-dnd"}]
["v2fly/v2ray-core",{"$f":"VLOOKUP(A1032,汇总!D:E,2,FALSE)","v":"https://github.com/v2fly/v2ray-core"}]
["jcjohnson/neural-style",{"$f":"VLOOKUP(A1033,汇总!D:E,2,FALSE)","v":"https://github.com/jcjohnson/neural-style"}]
["basarat/typescript-book",{"$f":"VLOOKUP(A1034,汇总!D:E,2,FALSE)","v":"https://github.com/basarat/typescript-book"}]
["wekan/wekan",{"$f":"VLOOKUP(A1035,汇总!D:E,2,FALSE)","v":"https://github.com/wekan/wekan"}]
["bcit-ci/CodeIgniter",{"$f":"VLOOKUP(A1036,汇总!D:E,2,FALSE)","v":"https://github.com/bcit-ci/CodeIgniter"}]
["eggjs/egg",{"$f":"VLOOKUP(A1037,汇总!D:E,2,FALSE)","v":"https://github.com/eggjs/egg"}]
["pubkey/rxdb",{"$f":"VLOOKUP(A1038,汇总!D:E,2,FALSE)","v":"https://github.com/pubkey/rxdb"}]
["restic/restic",{"$f":"VLOOKUP(A1039,汇总!D:E,2,FALSE)","v":"https://github.com/restic/restic"}]
["dotnet/core",{"$f":"VLOOKUP(A1040,汇总!D:E,2,FALSE)","v":"https://github.com/dotnet/core"}]
["apache/rocketmq",{"$f":"VLOOKUP(A1041,汇总!D:E,2,FALSE)","v":"https://github.com/apache/rocketmq"}]
["processing/p5.js",{"$f":"VLOOKUP(A1042,汇总!D:E,2,FALSE)","v":"https://github.com/processing/p5.js"}]
["apollographql/apollo-client",{"$f":"VLOOKUP(A1043,汇总!D:E,2,FALSE)","v":"https://github.com/apollographql/apollo-client"}]
["gorilla/websocket",{"$f":"VLOOKUP(A1044,汇总!D:E,2,FALSE)","v":"https://github.com/gorilla/websocket"}]
["derailed/k9s",{"$f":"VLOOKUP(A1045,汇总!D:E,2,FALSE)","v":"https://github.com/derailed/k9s"}]
["facebookresearch/faiss",{"$f":"VLOOKUP(A1046,汇总!D:E,2,FALSE)","v":"https://github.com/facebookresearch/faiss"}]
["oldj/SwitchHosts",{"$f":"VLOOKUP(A1047,汇总!D:E,2,FALSE)","v":"https://github.com/oldj/SwitchHosts"}]
["cookiecutter/cookiecutter",{"$f":"VLOOKUP(A1048,汇总!D:E,2,FALSE)","v":"https://github.com/cookiecutter/cookiecutter"}]
["grafana/k6",{"$f":"VLOOKUP(A1049,汇总!D:E,2,FALSE)","v":"https://github.com/grafana/k6"}]
["wesm/pydata-book",{"$f":"VLOOKUP(A1050,汇总!D:E,2,FALSE)","v":"https://github.com/wesm/pydata-book"}]
["SnapKit/Masonry",{"$f":"VLOOKUP(A1051,汇总!D:E,2,FALSE)","v":"https://github.com/SnapKit/Masonry"}]
["penpot/penpot",{"$f":"VLOOKUP(A1052,汇总!D:E,2,FALSE)","v":"https://github.com/penpot/penpot"}]
["facert/awesome-spider",{"$f":"VLOOKUP(A1053,汇总!D:E,2,FALSE)","v":"https://github.com/facert/awesome-spider"}]
["EnterpriseQualityCoding/FizzBuzzEnterpriseEdition",{"$f":"VLOOKUP(A1054,汇总!D:E,2,FALSE)","v":"https://github.com/EnterpriseQualityCoding/FizzBuzzEnterpriseEdition"}]
["badges/shields",{"$f":"VLOOKUP(A1055,汇总!D:E,2,FALSE)","v":"https://github.com/badges/shields"}]
["zadam/trilium",{"$f":"VLOOKUP(A1056,汇总!D:E,2,FALSE)","v":"https://github.com/zadam/trilium"}]
["SortableJS/Vue.Draggable",{"$f":"VLOOKUP(A1057,汇总!D:E,2,FALSE)","v":"https://github.com/SortableJS/Vue.Draggable"}]
["alibaba/weex",{"$f":"VLOOKUP(A1058,汇总!D:E,2,FALSE)","v":"https://github.com/alibaba/weex"}]
["InterviewMap/CS-Interview-Knowledge-Map",{"$f":"VLOOKUP(A1059,汇总!D:E,2,FALSE)","v":"https://github.com/InterviewMap/CS-Interview-Knowledge-Map"}]
["jsdom/jsdom",{"$f":"VLOOKUP(A1060,汇总!D:E,2,FALSE)","v":"https://github.com/jsdom/jsdom"}]
["luong-komorebi/Awesome-Linux-Software",{"$f":"VLOOKUP(A1061,汇总!D:E,2,FALSE)","v":"https://github.com/luong-komorebi/Awesome-Linux-Software"}]
["magenta/magenta",{"$f":"VLOOKUP(A1062,汇总!D:E,2,FALSE)","v":"https://github.com/magenta/magenta"}]
["shieldfy/API-Security-Checklist",{"$f":"VLOOKUP(A1063,汇总!D:E,2,FALSE)","v":"https://github.com/shieldfy/API-Security-Checklist"}]
["VSCodium/vscodium",{"$f":"VLOOKUP(A1064,汇总!D:E,2,FALSE)","v":"https://github.com/VSCodium/vscodium"}]
["elastic/kibana",{"$f":"VLOOKUP(A1065,汇总!D:E,2,FALSE)","v":"https://github.com/elastic/kibana"}]
["crystal-lang/crystal",{"$f":"VLOOKUP(A1066,汇总!D:E,2,FALSE)","v":"https://github.com/crystal-lang/crystal"}]
["ziglang/zig",{"$f":"VLOOKUP(A1067,汇总!D:E,2,FALSE)","v":"https://github.com/ziglang/zig"}]
["microsoft/winget-cli",{"$f":"VLOOKUP(A1068,汇总!D:E,2,FALSE)","v":"https://github.com/microsoft/winget-cli"}]
["dotnet/corefx",{"$f":"VLOOKUP(A1069,汇总!D:E,2,FALSE)","v":"https://github.com/dotnet/corefx"}]
["gocolly/colly",{"$f":"VLOOKUP(A1070,汇总!D:E,2,FALSE)","v":"https://github.com/gocolly/colly"}]
["CarGuo/GSYVideoPlayer",{"$f":"VLOOKUP(A1071,汇总!D:E,2,FALSE)","v":"https://github.com/CarGuo/GSYVideoPlayer"}]
["hemanth/functional-programming-jargon",{"$f":"VLOOKUP(A1072,汇总!D:E,2,FALSE)","v":"https://github.com/hemanth/functional-programming-jargon"}]
["directus/directus",{"$f":"VLOOKUP(A1073,汇总!D:E,2,FALSE)","v":"https://github.com/directus/directus"}]
["mybatis/mybatis-3",{"$f":"VLOOKUP(A1074,汇总!D:E,2,FALSE)","v":"https://github.com/mybatis/mybatis-3"}]
["responsively-org/responsively-app",{"$f":"VLOOKUP(A1075,汇总!D:E,2,FALSE)","v":"https://github.com/responsively-org/responsively-app"}]
["itdevbooks/pdf",{"$f":"VLOOKUP(A1076,汇总!D:E,2,FALSE)","v":"https://github.com/itdevbooks/pdf"}]
["stretchr/testify",{"$f":"VLOOKUP(A1077,汇总!D:E,2,FALSE)","v":"https://github.com/stretchr/testify"}]
["tokio-rs/tokio",{"$f":"VLOOKUP(A1078,汇总!D:E,2,FALSE)","v":"https://github.com/tokio-rs/tokio"}]
["facebookexperimental/Recoil",{"$f":"VLOOKUP(A1079,汇总!D:E,2,FALSE)","v":"https://github.com/facebookexperimental/Recoil"}]
["doocs/leetcode",{"$f":"VLOOKUP(A1080,汇总!D:E,2,FALSE)","v":"https://github.com/doocs/leetcode"}]
["preservim/nerdtree",{"$f":"VLOOKUP(A1081,汇总!D:E,2,FALSE)","v":"https://github.com/preservim/nerdtree"}]
["mojs/mojs",{"$f":"VLOOKUP(A1082,汇总!D:E,2,FALSE)","v":"https://github.com/mojs/mojs"}]
["chai2010/advanced-go-programming-book",{"$f":"VLOOKUP(A1083,汇总!D:E,2,FALSE)","v":"https://github.com/chai2010/advanced-go-programming-book"}]
["uikit/uikit",{"$f":"VLOOKUP(A1084,汇总!D:E,2,FALSE)","v":"https://github.com/uikit/uikit"}]
["expo/expo",{"$f":"VLOOKUP(A1085,汇总!D:E,2,FALSE)","v":"https://github.com/expo/expo"}]
["Micropoor/Micro8",{"$f":"VLOOKUP(A1086,汇总!D:E,2,FALSE)","v":"https://github.com/Micropoor/Micro8"}]
["airyland/vux",{"$f":"VLOOKUP(A1087,汇总!D:E,2,FALSE)","v":"https://github.com/airyland/vux"}]
["HelloZeroNet/ZeroNet",{"$f":"VLOOKUP(A1088,汇总!D:E,2,FALSE)","v":"https://github.com/HelloZeroNet/ZeroNet"}]
["fingerprintjs/fingerprintjs",{"$f":"VLOOKUP(A1089,汇总!D:E,2,FALSE)","v":"https://github.com/fingerprintjs/fingerprintjs"}]
["google/flexbox-layout",{"$f":"VLOOKUP(A1090,汇总!D:E,2,FALSE)","v":"https://github.com/google/flexbox-layout"}]
["slundberg/shap",{"$f":"VLOOKUP(A1091,汇总!D:E,2,FALSE)","v":"https://github.com/slundberg/shap"}]
["swoole/swoole-src",{"$f":"VLOOKUP(A1092,汇总!D:E,2,FALSE)","v":"https://github.com/swoole/swoole-src"}]
["Swordfish90/cool-retro-term",{"$f":"VLOOKUP(A1093,汇总!D:E,2,FALSE)","v":"https://github.com/Swordfish90/cool-retro-term"}]
["you-dont-need/You-Dont-Need-JavaScript",{"$f":"VLOOKUP(A1094,汇总!D:E,2,FALSE)","v":"https://github.com/you-dont-need/You-Dont-Need-JavaScript"}]
["oracle/graal",{"$f":"VLOOKUP(A1095,汇总!D:E,2,FALSE)","v":"https://github.com/oracle/graal"}]
["rough-stuff/rough",{"$f":"VLOOKUP(A1096,汇总!D:E,2,FALSE)","v":"https://github.com/rough-stuff/rough"}]
["GoogleChromeLabs/squoosh",{"$f":"VLOOKUP(A1097,汇总!D:E,2,FALSE)","v":"https://github.com/GoogleChromeLabs/squoosh"}]
["gpakosz/.tmux",{"$f":"VLOOKUP(A1098,汇总!D:E,2,FALSE)","v":"https://github.com/gpakosz/.tmux"}]
["nosir/cleave.js",{"$f":"VLOOKUP(A1099,汇总!D:E,2,FALSE)","v":"https://github.com/nosir/cleave.js"}]
["toml-lang/toml",{"$f":"VLOOKUP(A1100,汇总!D:E,2,FALSE)","v":"https://github.com/toml-lang/toml"}]
["adam-golab/react-developer-roadmap",{"$f":"VLOOKUP(A1101,汇总!D:E,2,FALSE)","v":"https://github.com/adam-golab/react-developer-roadmap"}]
["spaceship-prompt/spaceship-prompt",{"$f":"VLOOKUP(A1102,汇总!D:E,2,FALSE)","v":"https://github.com/spaceship-prompt/spaceship-prompt"}]
["iampawan/FlutterExampleApps",{"$f":"VLOOKUP(A1103,汇总!D:E,2,FALSE)","v":"https://github.com/iampawan/FlutterExampleApps"}]
["gorilla/mux",{"$f":"VLOOKUP(A1104,汇总!D:E,2,FALSE)","v":"https://github.com/gorilla/mux"}]
["mysqljs/mysql",{"$f":"VLOOKUP(A1105,汇总!D:E,2,FALSE)","v":"https://github.com/mysqljs/mysql"}]
["facebook/hhvm",{"$f":"VLOOKUP(A1106,汇总!D:E,2,FALSE)","v":"https://github.com/facebook/hhvm"}]
["eclipse-theia/theia",{"$f":"VLOOKUP(A1107,汇总!D:E,2,FALSE)","v":"https://github.com/eclipse-theia/theia"}]
["zloirock/core-js",{"$f":"VLOOKUP(A1108,汇总!D:E,2,FALSE)","v":"https://github.com/zloirock/core-js"}]
["apache/shardingsphere",{"$f":"VLOOKUP(A1109,汇总!D:E,2,FALSE)","v":"https://github.com/apache/shardingsphere"}]
["npm/npm",{"$f":"VLOOKUP(A1110,汇总!D:E,2,FALSE)","v":"https://github.com/npm/npm"}]
["plotly/dash",{"$f":"VLOOKUP(A1111,汇总!D:E,2,FALSE)","v":"https://github.com/plotly/dash"}]
["linlinjava/litemall",{"$f":"VLOOKUP(A1112,汇总!D:E,2,FALSE)","v":"https://github.com/linlinjava/litemall"}]
["huiyadanli/RevokeMsgPatcher",{"$f":"VLOOKUP(A1113,汇总!D:E,2,FALSE)","v":"https://github.com/huiyadanli/RevokeMsgPatcher"}]
["HarisIqbal88/PlotNeuralNet",{"$f":"VLOOKUP(A1114,汇总!D:E,2,FALSE)","v":"https://github.com/HarisIqbal88/PlotNeuralNet"}]
["facebook/flux",{"$f":"VLOOKUP(A1115,汇总!D:E,2,FALSE)","v":"https://github.com/facebook/flux"}]
["DovAmir/awesome-design-patterns",{"$f":"VLOOKUP(A1116,汇总!D:E,2,FALSE)","v":"https://github.com/DovAmir/awesome-design-patterns"}]
["massgravel/Microsoft-Activation-Scripts",{"$f":"VLOOKUP(A1117,汇总!D:E,2,FALSE)","v":"https://github.com/massgravel/Microsoft-Activation-Scripts"}]
["reduxjs/redux-thunk",{"$f":"VLOOKUP(A1118,汇总!D:E,2,FALSE)","v":"https://github.com/reduxjs/redux-thunk"}]
["brettwooldridge/HikariCP",{"$f":"VLOOKUP(A1119,汇总!D:E,2,FALSE)","v":"https://github.com/brettwooldridge/HikariCP"}]
["alibaba/ice",{"$f":"VLOOKUP(A1120,汇总!D:E,2,FALSE)","v":"https://github.com/alibaba/ice"}]
["posquit0/Awesome-CV",{"$f":"VLOOKUP(A1121,汇总!D:E,2,FALSE)","v":"https://github.com/posquit0/Awesome-CV"}]
["facebook/relay",{"$f":"VLOOKUP(A1122,汇总!D:E,2,FALSE)","v":"https://github.com/facebook/relay"}]
["qbittorrent/qBittorrent",{"$f":"VLOOKUP(A1123,汇总!D:E,2,FALSE)","v":"https://github.com/qbittorrent/qBittorrent"}]
["zergtant/pytorch-handbook",{"$f":"VLOOKUP(A1124,汇总!D:E,2,FALSE)","v":"https://github.com/zergtant/pytorch-handbook"}]
["element-plus/element-plus",{"$f":"VLOOKUP(A1125,汇总!D:E,2,FALSE)","v":"https://github.com/element-plus/element-plus"}]
["nginx/nginx",{"$f":"VLOOKUP(A1126,汇总!D:E,2,FALSE)","v":"https://github.com/nginx/nginx"}]
["BoostIO/BoostNote-Legacy",{"$f":"VLOOKUP(A1127,汇总!D:E,2,FALSE)","v":"https://github.com/BoostIO/BoostNote-Legacy"}]
["monicahq/monica",{"$f":"VLOOKUP(A1128,汇总!D:E,2,FALSE)","v":"https://github.com/monicahq/monica"}]
["microsoft/CNTK",{"$f":"VLOOKUP(A1129,汇总!D:E,2,FALSE)","v":"https://github.com/microsoft/CNTK"}]
["dianping/cat",{"$f":"VLOOKUP(A1130,汇总!D:E,2,FALSE)","v":"https://github.com/dianping/cat"}]
["filebrowser/filebrowser",{"$f":"VLOOKUP(A1131,汇总!D:E,2,FALSE)","v":"https://github.com/filebrowser/filebrowser"}]
["julianshapiro/velocity",{"$f":"VLOOKUP(A1132,汇总!D:E,2,FALSE)","v":"https://github.com/julianshapiro/velocity"}]
["grafana/loki",{"$f":"VLOOKUP(A1133,汇总!D:E,2,FALSE)","v":"https://github.com/grafana/loki"}]
["vueComponent/ant-design-vue",{"$f":"VLOOKUP(A1134,汇总!D:E,2,FALSE)","v":"https://github.com/vueComponent/ant-design-vue"}]
["yudai/gotty",{"$f":"VLOOKUP(A1135,汇总!D:E,2,FALSE)","v":"https://github.com/yudai/gotty"}]
["JacksonTian/fks",{"$f":"VLOOKUP(A1136,汇总!D:E,2,FALSE)","v":"https://github.com/JacksonTian/fks"}]
["ZhongFuCheng3y/athena",{"$f":"VLOOKUP(A1137,汇总!D:E,2,FALSE)","v":"https://github.com/ZhongFuCheng3y/athena"}]
["spmallick/learnopencv",{"$f":"VLOOKUP(A1138,汇总!D:E,2,FALSE)","v":"https://github.com/spmallick/learnopencv"}]
["PanJiaChen/vue-admin-template",{"$f":"VLOOKUP(A1139,汇总!D:E,2,FALSE)","v":"https://github.com/PanJiaChen/vue-admin-template"}]
["notepad-plus-plus/notepad-plus-plus",{"$f":"VLOOKUP(A1140,汇总!D:E,2,FALSE)","v":"https://github.com/notepad-plus-plus/notepad-plus-plus"}]
["dotnet/maui",{"$f":"VLOOKUP(A1141,汇总!D:E,2,FALSE)","v":"https://github.com/dotnet/maui"}]
["uber-go/zap",{"$f":"VLOOKUP(A1142,汇总!D:E,2,FALSE)","v":"https://github.com/uber-go/zap"}]
["sqlitebrowser/sqlitebrowser",{"$f":"VLOOKUP(A1143,汇总!D:E,2,FALSE)","v":"https://github.com/sqlitebrowser/sqlitebrowser"}]
["handsontable/handsontable",{"$f":"VLOOKUP(A1144,汇总!D:E,2,FALSE)","v":"https://github.com/handsontable/handsontable"}]
["testing-library/react-testing-library",{"$f":"VLOOKUP(A1145,汇总!D:E,2,FALSE)","v":"https://github.com/testing-library/react-testing-library"}]
["jbhuang0604/awesome-computer-vision",{"$f":"VLOOKUP(A1146,汇总!D:E,2,FALSE)","v":"https://github.com/jbhuang0604/awesome-computer-vision"}]
["basecamp/trix",{"$f":"VLOOKUP(A1147,汇总!D:E,2,FALSE)","v":"https://github.com/basecamp/trix"}]
["MichMich/MagicMirror",{"$f":"VLOOKUP(A1148,汇总!D:E,2,FALSE)","v":"https://github.com/MichMich/MagicMirror"}]
["saleor/saleor",{"$f":"VLOOKUP(A1149,汇总!D:E,2,FALSE)","v":"https://github.com/saleor/saleor"}]
["logseq/logseq",{"$f":"VLOOKUP(A1150,汇总!D:E,2,FALSE)","v":"https://github.com/logseq/logseq"}]
["radareorg/radare2",{"$f":"VLOOKUP(A1151,汇总!D:E,2,FALSE)","v":"https://github.com/radareorg/radare2"}]
["reactnativecn/react-native-guide",{"$f":"VLOOKUP(A1152,汇总!D:E,2,FALSE)","v":"https://github.com/reactnativecn/react-native-guide"}]
["livewire/livewire",{"$f":"VLOOKUP(A1153,汇总!D:E,2,FALSE)","v":"https://github.com/livewire/livewire"}]
["tailwindlabs/headlessui",{"$f":"VLOOKUP(A1154,汇总!D:E,2,FALSE)","v":"https://github.com/tailwindlabs/headlessui"}]
["enaqx/awesome-pentest",{"$f":"VLOOKUP(A1155,汇总!D:E,2,FALSE)","v":"https://github.com/enaqx/awesome-pentest"}]
["forezp/SpringCloudLearning",{"$f":"VLOOKUP(A1156,汇总!D:E,2,FALSE)","v":"https://github.com/forezp/SpringCloudLearning"}]
["framework7io/framework7",{"$f":"VLOOKUP(A1157,汇总!D:E,2,FALSE)","v":"https://github.com/framework7io/framework7"}]
["thangchung/awesome-dotnet-core",{"$f":"VLOOKUP(A1158,汇总!D:E,2,FALSE)","v":"https://github.com/thangchung/awesome-dotnet-core"}]
["SBoudrias/Inquirer.js",{"$f":"VLOOKUP(A1159,汇总!D:E,2,FALSE)","v":"https://github.com/SBoudrias/Inquirer.js"}]
["sindresorhus/quick-look-plugins",{"$f":"VLOOKUP(A1160,汇总!D:E,2,FALSE)","v":"https://github.com/sindresorhus/quick-look-plugins"}]
["facebook/fresco",{"$f":"VLOOKUP(A1161,汇总!D:E,2,FALSE)","v":"https://github.com/facebook/fresco"}]
["grpc/grpc-go",{"$f":"VLOOKUP(A1162,汇总!D:E,2,FALSE)","v":"https://github.com/grpc/grpc-go"}]
["chaozh/awesome-blockchain-cn",{"$f":"VLOOKUP(A1163,汇总!D:E,2,FALSE)","v":"https://github.com/chaozh/awesome-blockchain-cn"}]
["matomo-org/matomo",{"$f":"VLOOKUP(A1164,汇总!D:E,2,FALSE)","v":"https://github.com/matomo-org/matomo"}]
["less/less.js",{"$f":"VLOOKUP(A1165,汇总!D:E,2,FALSE)","v":"https://github.com/less/less.js"}]
["dropzone/dropzone",{"$f":"VLOOKUP(A1166,汇总!D:E,2,FALSE)","v":"https://github.com/dropzone/dropzone"}]
["tj/n",{"$f":"VLOOKUP(A1167,汇总!D:E,2,FALSE)","v":"https://github.com/tj/n"}]
["microsoft/vcpkg",{"$f":"VLOOKUP(A1168,汇总!D:E,2,FALSE)","v":"https://github.com/microsoft/vcpkg"}]
["233boy/v2ray",{"$f":"VLOOKUP(A1169,汇总!D:E,2,FALSE)","v":"https://github.com/233boy/v2ray"}]
["jellyfin/jellyfin",{"$f":"VLOOKUP(A1170,汇总!D:E,2,FALSE)","v":"https://github.com/jellyfin/jellyfin"}]
["GitHubDaily/GitHubDaily",{"$f":"VLOOKUP(A1171,汇总!D:E,2,FALSE)","v":"https://github.com/GitHubDaily/GitHubDaily"}]
["vim-airline/vim-airline",{"$f":"VLOOKUP(A1172,汇总!D:E,2,FALSE)","v":"https://github.com/vim-airline/vim-airline"}]
["defunkt/jquery-pjax",{"$f":"VLOOKUP(A1173,汇总!D:E,2,FALSE)","v":"https://github.com/defunkt/jquery-pjax"}]
["nostra13/Android-Universal-Image-Loader",{"$f":"VLOOKUP(A1174,汇总!D:E,2,FALSE)","v":"https://github.com/nostra13/Android-Universal-Image-Loader"}]
["prisma/prisma1",{"$f":"VLOOKUP(A1175,汇总!D:E,2,FALSE)","v":"https://github.com/prisma/prisma1"}]
["handlebars-lang/handlebars.js",{"$f":"VLOOKUP(A1176,汇总!D:E,2,FALSE)","v":"https://github.com/handlebars-lang/handlebars.js"}]
["microsoft/MS-DOS",{"$f":"VLOOKUP(A1177,汇总!D:E,2,FALSE)","v":"https://github.com/microsoft/MS-DOS"}]
["chriskiehl/Gooey",{"$f":"VLOOKUP(A1178,汇总!D:E,2,FALSE)","v":"https://github.com/chriskiehl/Gooey"}]
["tailwindlabs/heroicons",{"$f":"VLOOKUP(A1179,汇总!D:E,2,FALSE)","v":"https://github.com/tailwindlabs/heroicons"}]
["bokeh/bokeh",{"$f":"VLOOKUP(A1180,汇总!D:E,2,FALSE)","v":"https://github.com/bokeh/bokeh"}]
["outline/outline",{"$f":"VLOOKUP(A1181,汇总!D:E,2,FALSE)","v":"https://github.com/outline/outline"}]
["angular/material",{"$f":"VLOOKUP(A1182,汇总!D:E,2,FALSE)","v":"https://github.com/angular/material"}]
["jtoy/awesome-tensorflow",{"$f":"VLOOKUP(A1183,汇总!D:E,2,FALSE)","v":"https://github.com/jtoy/awesome-tensorflow"}]
["OpenBB-finance/OpenBBTerminal",{"$f":"VLOOKUP(A1184,汇总!D:E,2,FALSE)","v":"https://github.com/OpenBB-finance/OpenBBTerminal"}]
["WordPress/WordPress",{"$f":"VLOOKUP(A1185,汇总!D:E,2,FALSE)","v":"https://github.com/WordPress/WordPress"}]
["statsd/statsd",{"$f":"VLOOKUP(A1186,汇总!D:E,2,FALSE)","v":"https://github.com/statsd/statsd"}]
["2dust/v2rayNG",{"$f":"VLOOKUP(A1187,汇总!D:E,2,FALSE)","v":"https://github.com/2dust/v2rayNG"}]
["tensorflow/tfjs",{"$f":"VLOOKUP(A1188,汇总!D:E,2,FALSE)","v":"https://github.com/tensorflow/tfjs"}]
["Kr328/ClashForAndroid",{"$f":"VLOOKUP(A1189,汇总!D:E,2,FALSE)","v":"https://github.com/Kr328/ClashForAndroid"}]
["ueberdosis/tiptap",{"$f":"VLOOKUP(A1190,汇总!D:E,2,FALSE)","v":"https://github.com/ueberdosis/tiptap"}]
["realm/SwiftLint",{"$f":"VLOOKUP(A1191,汇总!D:E,2,FALSE)","v":"https://github.com/realm/SwiftLint"}]
["kelthuzadx/hosts",{"$f":"VLOOKUP(A1192,汇总!D:E,2,FALSE)","v":"https://github.com/kelthuzadx/hosts"}]
["nfl/react-helmet",{"$f":"VLOOKUP(A1193,汇总!D:E,2,FALSE)","v":"https://github.com/nfl/react-helmet"}]
["tpope/vim-fugitive",{"$f":"VLOOKUP(A1194,汇总!D:E,2,FALSE)","v":"https://github.com/tpope/vim-fugitive"}]
["Tencent/tinker",{"$f":"VLOOKUP(A1195,汇总!D:E,2,FALSE)","v":"https://github.com/Tencent/tinker"}]
["diem/diem",{"$f":"VLOOKUP(A1196,汇总!D:E,2,FALSE)","v":"https://github.com/diem/diem"}]
["ElemeFE/mint-ui",{"$f":"VLOOKUP(A1197,汇总!D:E,2,FALSE)","v":"https://github.com/ElemeFE/mint-ui"}]
["knex/knex",{"$f":"VLOOKUP(A1198,汇总!D:E,2,FALSE)","v":"https://github.com/knex/knex"}]
["cocos2d/cocos2d-x",{"$f":"VLOOKUP(A1199,汇总!D:E,2,FALSE)","v":"https://github.com/cocos2d/cocos2d-x"}]
["amark/gun",{"$f":"VLOOKUP(A1200,汇总!D:E,2,FALSE)","v":"https://github.com/amark/gun"}]
["sanic-org/sanic",{"$f":"VLOOKUP(A1201,汇总!D:E,2,FALSE)","v":"https://github.com/sanic-org/sanic"}]
["artf/grapesjs",{"$f":"VLOOKUP(A1202,汇总!D:E,2,FALSE)","v":"https://github.com/artf/grapesjs"}]
["zulip/zulip",{"$f":"VLOOKUP(A1203,汇总!D:E,2,FALSE)","v":"https://github.com/zulip/zulip"}]
["semantic-release/semantic-release",{"$f":"VLOOKUP(A1204,汇总!D:E,2,FALSE)","v":"https://github.com/semantic-release/semantic-release"}]
["jaegertracing/jaeger",{"$f":"VLOOKUP(A1205,汇总!D:E,2,FALSE)","v":"https://github.com/jaegertracing/jaeger"}]
["LingCoder/OnJava8",{"$f":"VLOOKUP(A1206,汇总!D:E,2,FALSE)","v":"https://github.com/LingCoder/OnJava8"}]
["dotnet/roslyn",{"$f":"VLOOKUP(A1207,汇总!D:E,2,FALSE)","v":"https://github.com/dotnet/roslyn"}]
["aFarkas/lazysizes",{"$f":"VLOOKUP(A1208,汇总!D:E,2,FALSE)","v":"https://github.com/aFarkas/lazysizes"}]
["trojan-gfw/trojan",{"$f":"VLOOKUP(A1209,汇总!D:E,2,FALSE)","v":"https://github.com/trojan-gfw/trojan"}]
["alsotang/node-lessons",{"$f":"VLOOKUP(A1210,汇总!D:E,2,FALSE)","v":"https://github.com/alsotang/node-lessons"}]
["twitter/typeahead.js",{"$f":"VLOOKUP(A1211,汇总!D:E,2,FALSE)","v":"https://github.com/twitter/typeahead.js"}]
["nondanee/UnblockNeteaseMusic",{"$f":"VLOOKUP(A1212,汇总!D:E,2,FALSE)","v":"https://github.com/nondanee/UnblockNeteaseMusic"}]
["jamiebuilds/react-loadable",{"$f":"VLOOKUP(A1213,汇总!D:E,2,FALSE)","v":"https://github.com/jamiebuilds/react-loadable"}]
["Tencent/mars",{"$f":"VLOOKUP(A1214,汇总!D:E,2,FALSE)","v":"https://github.com/Tencent/mars"}]
["nginx-proxy/nginx-proxy",{"$f":"VLOOKUP(A1215,汇总!D:E,2,FALSE)","v":"https://github.com/nginx-proxy/nginx-proxy"}]
["react-grid-layout/react-grid-layout",{"$f":"VLOOKUP(A1216,汇总!D:E,2,FALSE)","v":"https://github.com/react-grid-layout/react-grid-layout"}]
["EastWorld/wechat-app-mall",{"$f":"VLOOKUP(A1217,汇总!D:E,2,FALSE)","v":"https://github.com/EastWorld/wechat-app-mall"}]
["material-components/material-components-web",{"$f":"VLOOKUP(A1218,汇总!D:E,2,FALSE)","v":"https://github.com/material-components/material-components-web"}]
["haoel/leetcode",{"$f":"VLOOKUP(A1219,汇总!D:E,2,FALSE)","v":"https://github.com/haoel/leetcode"}]
["joewalnes/websocketd",{"$f":"VLOOKUP(A1220,汇总!D:E,2,FALSE)","v":"https://github.com/joewalnes/websocketd"}]
["AtsushiSakai/PythonRobotics",{"$f":"VLOOKUP(A1221,汇总!D:E,2,FALSE)","v":"https://github.com/AtsushiSakai/PythonRobotics"}]
["Shopify/draggable",{"$f":"VLOOKUP(A1222,汇总!D:E,2,FALSE)","v":"https://github.com/Shopify/draggable"}]
["shuzheng/zheng",{"$f":"VLOOKUP(A1223,汇总!D:E,2,FALSE)","v":"https://github.com/shuzheng/zheng"}]
["ionic-team/ionicons",{"$f":"VLOOKUP(A1224,汇总!D:E,2,FALSE)","v":"https://github.com/ionic-team/ionicons"}]
["ForrestKnight/open-source-cs",{"$f":"VLOOKUP(A1225,汇总!D:E,2,FALSE)","v":"https://github.com/ForrestKnight/open-source-cs"}]
["matryer/xbar",{"$f":"VLOOKUP(A1226,汇总!D:E,2,FALSE)","v":"https://github.com/matryer/xbar"}]
["css-modules/css-modules",{"$f":"VLOOKUP(A1227,汇总!D:E,2,FALSE)","v":"https://github.com/css-modules/css-modules"}]
["ScoopInstaller/Scoop",{"$f":"VLOOKUP(A1228,汇总!D:E,2,FALSE)","v":"https://github.com/ScoopInstaller/Scoop"}]
["electronicarts/CnC_Remastered_Collection",{"$f":"VLOOKUP(A1229,汇总!D:E,2,FALSE)","v":"https://github.com/electronicarts/CnC_Remastered_Collection"}]
["ethereumbook/ethereumbook",{"$f":"VLOOKUP(A1230,汇总!D:E,2,FALSE)","v":"https://github.com/ethereumbook/ethereumbook"}]
["dylanaraps/neofetch",{"$f":"VLOOKUP(A1231,汇总!D:E,2,FALSE)","v":"https://github.com/dylanaraps/neofetch"}]
["jhao104/proxy_pool",{"$f":"VLOOKUP(A1232,汇总!D:E,2,FALSE)","v":"https://github.com/jhao104/proxy_pool"}]
["flutter/plugins",{"$f":"VLOOKUP(A1233,汇总!D:E,2,FALSE)","v":"https://github.com/flutter/plugins"}]
["hubotio/hubot",{"$f":"VLOOKUP(A1234,汇总!D:E,2,FALSE)","v":"https://github.com/hubotio/hubot"}]
["youzan/vant-weapp",{"$f":"VLOOKUP(A1235,汇总!D:E,2,FALSE)","v":"https://github.com/youzan/vant-weapp"}]
["Asabeneh/30-Days-Of-React",{"$f":"VLOOKUP(A1236,汇总!D:E,2,FALSE)","v":"https://github.com/Asabeneh/30-Days-Of-React"}]
["eip-work/kuboard-press",{"$f":"VLOOKUP(A1237,汇总!D:E,2,FALSE)","v":"https://github.com/eip-work/kuboard-press"}]
["nickbutcher/plaid",{"$f":"VLOOKUP(A1238,汇总!D:E,2,FALSE)","v":"https://github.com/nickbutcher/plaid"}]
["jashkenas/coffeescript",{"$f":"VLOOKUP(A1239,汇总!D:E,2,FALSE)","v":"https://github.com/jashkenas/coffeescript"}]
["termux/termux-app",{"$f":"VLOOKUP(A1240,汇总!D:E,2,FALSE)","v":"https://github.com/termux/termux-app"}]
["jina-ai/jina",{"$f":"VLOOKUP(A1241,汇总!D:E,2,FALSE)","v":"https://github.com/jina-ai/jina"}]
["instillai/TensorFlow-Course",{"$f":"VLOOKUP(A1242,汇总!D:E,2,FALSE)","v":"https://github.com/instillai/TensorFlow-Course"}]
["microsoft/Data-Science-For-Beginners",{"$f":"VLOOKUP(A1243,汇总!D:E,2,FALSE)","v":"https://github.com/microsoft/Data-Science-For-Beginners"}]
["iview/iview-admin",{"$f":"VLOOKUP(A1244,汇总!D:E,2,FALSE)","v":"https://github.com/iview/iview-admin"}]
["buger/goreplay",{"$f":"VLOOKUP(A1245,汇总!D:E,2,FALSE)","v":"https://github.com/buger/goreplay"}]
["matplotlib/matplotlib",{"$f":"VLOOKUP(A1246,汇总!D:E,2,FALSE)","v":"https://github.com/matplotlib/matplotlib"}]
["reddit-archive/reddit",{"$f":"VLOOKUP(A1247,汇总!D:E,2,FALSE)","v":"https://github.com/reddit-archive/reddit"}]
["fastai/fastbook",{"$f":"VLOOKUP(A1248,汇总!D:E,2,FALSE)","v":"https://github.com/fastai/fastbook"}]
["kovidgoyal/kitty",{"$f":"VLOOKUP(A1249,汇总!D:E,2,FALSE)","v":"https://github.com/kovidgoyal/kitty"}]
["llvm/llvm-project",{"$f":"VLOOKUP(A1250,汇总!D:E,2,FALSE)","v":"https://github.com/llvm/llvm-project"}]
["android/sunflower",{"$f":"VLOOKUP(A1251,汇总!D:E,2,FALSE)","v":"https://github.com/android/sunflower"}]
["web3/web3.js",{"$f":"VLOOKUP(A1252,汇总!D:E,2,FALSE)","v":"https://github.com/web3/web3.js"}]
["visionmedia/superagent",{"$f":"VLOOKUP(A1253,汇总!D:E,2,FALSE)","v":"https://github.com/visionmedia/superagent"}]
["AykutSarac/jsoncrack.com",{"$f":"VLOOKUP(A1254,汇总!D:E,2,FALSE)","v":"https://github.com/AykutSarac/jsoncrack.com"}]
["framer/motion",{"$f":"VLOOKUP(A1255,汇总!D:E,2,FALSE)","v":"https://github.com/framer/motion"}]
["oblador/react-native-vector-icons",{"$f":"VLOOKUP(A1256,汇总!D:E,2,FALSE)","v":"https://github.com/oblador/react-native-vector-icons"}]
["getlantern/download",{"$f":"VLOOKUP(A1257,汇总!D:E,2,FALSE)","v":"https://github.com/getlantern/download"}]
["simdjson/simdjson",{"$f":"VLOOKUP(A1258,汇总!D:E,2,FALSE)","v":"https://github.com/simdjson/simdjson"}]
["motdotla/dotenv",{"$f":"VLOOKUP(A1259,汇总!D:E,2,FALSE)","v":"https://github.com/motdotla/dotenv"}]
["fengdu78/lihang-code",{"$f":"VLOOKUP(A1260,汇总!D:E,2,FALSE)","v":"https://github.com/fengdu78/lihang-code"}]
["gentilkiwi/mimikatz",{"$f":"VLOOKUP(A1261,汇总!D:E,2,FALSE)","v":"https://github.com/gentilkiwi/mimikatz"}]
["dvajs/dva",{"$f":"VLOOKUP(A1262,汇总!D:E,2,FALSE)","v":"https://github.com/dvajs/dva"}]
["rubocop/ruby-style-guide",{"$f":"VLOOKUP(A1263,汇总!D:E,2,FALSE)","v":"https://github.com/rubocop/ruby-style-guide"}]
["Anuken/Mindustry",{"$f":"VLOOKUP(A1264,汇总!D:E,2,FALSE)","v":"https://github.com/Anuken/Mindustry"}]
["icsharpcode/ILSpy",{"$f":"VLOOKUP(A1265,汇总!D:E,2,FALSE)","v":"https://github.com/icsharpcode/ILSpy"}]
["spotify/luigi",{"$f":"VLOOKUP(A1266,汇总!D:E,2,FALSE)","v":"https://github.com/spotify/luigi"}]
["ruanyf/react-demos",{"$f":"VLOOKUP(A1267,汇总!D:E,2,FALSE)","v":"https://github.com/ruanyf/react-demos"}]
["tc39/proposals",{"$f":"VLOOKUP(A1268,汇总!D:E,2,FALSE)","v":"https://github.com/tc39/proposals"}]
["winterbe/java8-tutorial",{"$f":"VLOOKUP(A1269,汇总!D:E,2,FALSE)","v":"https://github.com/winterbe/java8-tutorial"}]
["jdg/MBProgressHUD",{"$f":"VLOOKUP(A1270,汇总!D:E,2,FALSE)","v":"https://github.com/jdg/MBProgressHUD"}]
["Kotlin/anko",{"$f":"VLOOKUP(A1271,汇总!D:E,2,FALSE)","v":"https://github.com/Kotlin/anko"}]
["JaidedAI/EasyOCR",{"$f":"VLOOKUP(A1272,汇总!D:E,2,FALSE)","v":"https://github.com/JaidedAI/EasyOCR"}]
["briannesbitt/Carbon",{"$f":"VLOOKUP(A1273,汇总!D:E,2,FALSE)","v":"https://github.com/briannesbitt/Carbon"}]
["fchollet/deep-learning-with-python-notebooks",{"$f":"VLOOKUP(A1274,汇总!D:E,2,FALSE)","v":"https://github.com/fchollet/deep-learning-with-python-notebooks"}]
["wagerfield/parallax",{"$f":"VLOOKUP(A1275,汇总!D:E,2,FALSE)","v":"https://github.com/wagerfield/parallax"}]
["airbnb/visx",{"$f":"VLOOKUP(A1276,汇总!D:E,2,FALSE)","v":"https://github.com/airbnb/visx"}]
["cloudreve/Cloudreve",{"$f":"VLOOKUP(A1277,汇总!D:E,2,FALSE)","v":"https://github.com/cloudreve/Cloudreve"}]
["JedWatson/classnames",{"$f":"VLOOKUP(A1278,汇总!D:E,2,FALSE)","v":"https://github.com/JedWatson/classnames"}]
["so-fancy/diff-so-fancy",{"$f":"VLOOKUP(A1279,汇总!D:E,2,FALSE)","v":"https://github.com/so-fancy/diff-so-fancy"}]
["hzlzh/Best-App",{"$f":"VLOOKUP(A1280,汇总!D:E,2,FALSE)","v":"https://github.com/hzlzh/Best-App"}]
["nndl/nndl.github.io",{"$f":"VLOOKUP(A1281,汇总!D:E,2,FALSE)","v":"https://github.com/nndl/nndl.github.io"}]
["tj/git-extras",{"$f":"VLOOKUP(A1282,汇总!D:E,2,FALSE)","v":"https://github.com/tj/git-extras"}]
["teambit/bit",{"$f":"VLOOKUP(A1283,汇总!D:E,2,FALSE)","v":"https://github.com/teambit/bit"}]
["desktop/desktop",{"$f":"VLOOKUP(A1284,汇总!D:E,2,FALSE)","v":"https://github.com/desktop/desktop"}]
["KaTeX/KaTeX",{"$f":"VLOOKUP(A1285,汇总!D:E,2,FALSE)","v":"https://github.com/KaTeX/KaTeX"}]
["Nyr/openvpn-install",{"$f":"VLOOKUP(A1286,汇总!D:E,2,FALSE)","v":"https://github.com/Nyr/openvpn-install"}]
["lin-xin/vue-manage-system",{"$f":"VLOOKUP(A1287,汇总!D:E,2,FALSE)","v":"https://github.com/lin-xin/vue-manage-system"}]
["fivethirtyeight/data",{"$f":"VLOOKUP(A1288,汇总!D:E,2,FALSE)","v":"https://github.com/fivethirtyeight/data"}]
["iissnan/hexo-theme-next",{"$f":"VLOOKUP(A1289,汇总!D:E,2,FALSE)","v":"https://github.com/iissnan/hexo-theme-next"}]
["Vonng/ddia",{"$f":"VLOOKUP(A1290,汇总!D:E,2,FALSE)","v":"https://github.com/Vonng/ddia"}]
["getify/Functional-Light-JS",{"$f":"VLOOKUP(A1291,汇总!D:E,2,FALSE)","v":"https://github.com/getify/Functional-Light-JS"}]
["hackiftekhar/IQKeyboardManager",{"$f":"VLOOKUP(A1292,汇总!D:E,2,FALSE)","v":"https://github.com/hackiftekhar/IQKeyboardManager"}]
["desandro/masonry",{"$f":"VLOOKUP(A1293,汇总!D:E,2,FALSE)","v":"https://github.com/desandro/masonry"}]
["ustbhuangyi/better-scroll",{"$f":"VLOOKUP(A1294,汇总!D:E,2,FALSE)","v":"https://github.com/ustbhuangyi/better-scroll"}]
["Olshansk/interview",{"$f":"VLOOKUP(A1295,汇总!D:E,2,FALSE)","v":"https://github.com/Olshansk/interview"}]
["lewagon/dotfiles",{"$f":"VLOOKUP(A1296,汇总!D:E,2,FALSE)","v":"https://github.com/lewagon/dotfiles"}]
["google/fonts",{"$f":"VLOOKUP(A1297,汇总!D:E,2,FALSE)","v":"https://github.com/google/fonts"}]
["ipader/SwiftGuide",{"$f":"VLOOKUP(A1298,汇总!D:E,2,FALSE)","v":"https://github.com/ipader/SwiftGuide"}]
["cjbarber/ToolsOfTheTrade",{"$f":"VLOOKUP(A1299,汇总!D:E,2,FALSE)","v":"https://github.com/cjbarber/ToolsOfTheTrade"}]
["gabime/spdlog",{"$f":"VLOOKUP(A1300,汇总!D:E,2,FALSE)","v":"https://github.com/gabime/spdlog"}]
["netlify/netlify-cms",{"$f":"VLOOKUP(A1301,汇总!D:E,2,FALSE)","v":"https://github.com/netlify/netlify-cms"}]
["mitesh77/Best-Flutter-UI-Templates",{"$f":"VLOOKUP(A1302,汇总!D:E,2,FALSE)","v":"https://github.com/mitesh77/Best-Flutter-UI-Templates"}]
["bmorelli25/Become-A-Full-Stack-Web-Developer",{"$f":"VLOOKUP(A1303,汇总!D:E,2,FALSE)","v":"https://github.com/bmorelli25/Become-A-Full-Stack-Web-Developer"}]
["auth0/node-jsonwebtoken",{"$f":"VLOOKUP(A1304,汇总!D:E,2,FALSE)","v":"https://github.com/auth0/node-jsonwebtoken"}]
["pyg-team/pytorch_geometric",{"$f":"VLOOKUP(A1305,汇总!D:E,2,FALSE)","v":"https://github.com/pyg-team/pytorch_geometric"}]
["salomonelli/best-resume-ever",{"$f":"VLOOKUP(A1306,汇总!D:E,2,FALSE)","v":"https://github.com/salomonelli/best-resume-ever"}]
["openzipkin/zipkin",{"$f":"VLOOKUP(A1307,汇总!D:E,2,FALSE)","v":"https://github.com/openzipkin/zipkin"}]
["easychen/howto-make-more-money",{"$f":"VLOOKUP(A1308,汇总!D:E,2,FALSE)","v":"https://github.com/easychen/howto-make-more-money"}]
["30-seconds/30-seconds-of-css",{"$f":"VLOOKUP(A1309,汇总!D:E,2,FALSE)","v":"https://github.com/30-seconds/30-seconds-of-css"}]
["asdf-vm/asdf",{"$f":"VLOOKUP(A1310,汇总!D:E,2,FALSE)","v":"https://github.com/asdf-vm/asdf"}]
["nikic/PHP-Parser",{"$f":"VLOOKUP(A1311,汇总!D:E,2,FALSE)","v":"https://github.com/nikic/PHP-Parser"}]
["menzi11/BullshitGenerator",{"$f":"VLOOKUP(A1312,汇总!D:E,2,FALSE)","v":"https://github.com/menzi11/BullshitGenerator"}]
["wulkano/Kap",{"$f":"VLOOKUP(A1313,汇总!D:E,2,FALSE)","v":"https://github.com/wulkano/Kap"}]
["yabwe/medium-editor",{"$f":"VLOOKUP(A1314,汇总!D:E,2,FALSE)","v":"https://github.com/yabwe/medium-editor"}]
["copy/v86",{"$f":"VLOOKUP(A1315,汇总!D:E,2,FALSE)","v":"https://github.com/copy/v86"}]
["utmapp/UTM",{"$f":"VLOOKUP(A1316,汇总!D:E,2,FALSE)","v":"https://github.com/utmapp/UTM"}]
["Tencent/ncnn",{"$f":"VLOOKUP(A1317,汇总!D:E,2,FALSE)","v":"https://github.com/Tencent/ncnn"}]
["ossu/data-science",{"$f":"VLOOKUP(A1318,汇总!D:E,2,FALSE)","v":"https://github.com/ossu/data-science"}]
["catchorg/Catch2",{"$f":"VLOOKUP(A1319,汇总!D:E,2,FALSE)","v":"https://github.com/catchorg/Catch2"}]
["jeromeetienne/AR.js",{"$f":"VLOOKUP(A1320,汇总!D:E,2,FALSE)","v":"https://github.com/jeromeetienne/AR.js"}]
["iovisor/bcc",{"$f":"VLOOKUP(A1321,汇总!D:E,2,FALSE)","v":"https://github.com/iovisor/bcc"}]
["openai/gpt-2",{"$f":"VLOOKUP(A1322,汇总!D:E,2,FALSE)","v":"https://github.com/openai/gpt-2"}]
["binux/pyspider",{"$f":"VLOOKUP(A1323,汇总!D:E,2,FALSE)","v":"https://github.com/binux/pyspider"}]
["appium/appium",{"$f":"VLOOKUP(A1324,汇总!D:E,2,FALSE)","v":"https://github.com/appium/appium"}]
["facebook/yoga",{"$f":"VLOOKUP(A1325,汇总!D:E,2,FALSE)","v":"https://github.com/facebook/yoga"}]
["redis/node-redis",{"$f":"VLOOKUP(A1326,汇总!D:E,2,FALSE)","v":"https://github.com/redis/node-redis"}]
["infernojs/inferno",{"$f":"VLOOKUP(A1327,汇总!D:E,2,FALSE)","v":"https://github.com/infernojs/inferno"}]
["janl/mustache.js",{"$f":"VLOOKUP(A1328,汇总!D:E,2,FALSE)","v":"https://github.com/janl/mustache.js"}]
["ipython/ipython",{"$f":"VLOOKUP(A1329,汇总!D:E,2,FALSE)","v":"https://github.com/ipython/ipython"}]
["realm/realm-swift",{"$f":"VLOOKUP(A1330,汇总!D:E,2,FALSE)","v":"https://github.com/realm/realm-swift"}]
["ShusenTang/Dive-into-DL-PyTorch",{"$f":"VLOOKUP(A1331,汇总!D:E,2,FALSE)","v":"https://github.com/ShusenTang/Dive-into-DL-PyTorch"}]
["go-redis/redis",{"$f":"VLOOKUP(A1332,汇总!D:E,2,FALSE)","v":"https://github.com/go-redis/redis"}]
["CodeByZach/pace",{"$f":"VLOOKUP(A1333,汇总!D:E,2,FALSE)","v":"https://github.com/CodeByZach/pace"}]
["emotion-js/emotion",{"$f":"VLOOKUP(A1334,汇总!D:E,2,FALSE)","v":"https://github.com/emotion-js/emotion"}]
["seaweedfs/seaweedfs",{"$f":"VLOOKUP(A1335,汇总!D:E,2,FALSE)","v":"https://github.com/seaweedfs/seaweedfs"}]
["hashcat/hashcat",{"$f":"VLOOKUP(A1336,汇总!D:E,2,FALSE)","v":"https://github.com/hashcat/hashcat"}]
["zsh-users/zsh-syntax-highlighting",{"$f":"VLOOKUP(A1337,汇总!D:E,2,FALSE)","v":"https://github.com/zsh-users/zsh-syntax-highlighting"}]
["iced-rs/iced",{"$f":"VLOOKUP(A1338,汇总!D:E,2,FALSE)","v":"https://github.com/iced-rs/iced"}]
["quantopian/zipline",{"$f":"VLOOKUP(A1339,汇总!D:E,2,FALSE)","v":"https://github.com/quantopian/zipline"}]
["jantic/DeOldify",{"$f":"VLOOKUP(A1340,汇总!D:E,2,FALSE)","v":"https://github.com/jantic/DeOldify"}]
["fullcalendar/fullcalendar",{"$f":"VLOOKUP(A1341,汇总!D:E,2,FALSE)","v":"https://github.com/fullcalendar/fullcalendar"}]
["helm/charts",{"$f":"VLOOKUP(A1342,汇总!D:E,2,FALSE)","v":"https://github.com/helm/charts"}]
["afatcoder/LeetcodeTop",{"$f":"VLOOKUP(A1343,汇总!D:E,2,FALSE)","v":"https://github.com/afatcoder/LeetcodeTop"}]
["jasmine/jasmine",{"$f":"VLOOKUP(A1344,汇总!D:E,2,FALSE)","v":"https://github.com/jasmine/jasmine"}]
["Asabeneh/30-Days-Of-Python",{"$f":"VLOOKUP(A1345,汇总!D:E,2,FALSE)","v":"https://github.com/Asabeneh/30-Days-Of-Python"}]
["quozd/awesome-dotnet",{"$f":"VLOOKUP(A1346,汇总!D:E,2,FALSE)","v":"https://github.com/quozd/awesome-dotnet"}]
["zziz/pwc",{"$f":"VLOOKUP(A1347,汇总!D:E,2,FALSE)","v":"https://github.com/zziz/pwc"}]
["containers/podman",{"$f":"VLOOKUP(A1348,汇总!D:E,2,FALSE)","v":"https://github.com/containers/podman"}]
["izackwu/TeachYourselfCS-CN",{"$f":"VLOOKUP(A1349,汇总!D:E,2,FALSE)","v":"https://github.com/izackwu/TeachYourselfCS-CN"}]
["AvaloniaUI/Avalonia",{"$f":"VLOOKUP(A1350,汇总!D:E,2,FALSE)","v":"https://github.com/AvaloniaUI/Avalonia"}]
["spf13/spf13-vim",{"$f":"VLOOKUP(A1351,汇总!D:E,2,FALSE)","v":"https://github.com/spf13/spf13-vim"}]
["DapperLib/Dapper",{"$f":"VLOOKUP(A1352,汇总!D:E,2,FALSE)","v":"https://github.com/DapperLib/Dapper"}]
["oxford-cs-deepnlp-2017/lectures",{"$f":"VLOOKUP(A1353,汇总!D:E,2,FALSE)","v":"https://github.com/oxford-cs-deepnlp-2017/lectures"}]
["lottie-react-native/lottie-react-native",{"$f":"VLOOKUP(A1354,汇总!D:E,2,FALSE)","v":"https://github.com/lottie-react-native/lottie-react-native"}]
["node-red/node-red",{"$f":"VLOOKUP(A1355,汇总!D:E,2,FALSE)","v":"https://github.com/node-red/node-red"}]
["Alikhll/golang-developer-roadmap",{"$f":"VLOOKUP(A1356,汇总!D:E,2,FALSE)","v":"https://github.com/Alikhll/golang-developer-roadmap"}]
["fmtlib/fmt",{"$f":"VLOOKUP(A1357,汇总!D:E,2,FALSE)","v":"https://github.com/fmtlib/fmt"}]
["you-dont-need/You-Dont-Need-Lodash-Underscore",{"$f":"VLOOKUP(A1358,汇总!D:E,2,FALSE)","v":"https://github.com/you-dont-need/You-Dont-Need-Lodash-Underscore"}]
["bloc97/Anime4K",{"$f":"VLOOKUP(A1359,汇总!D:E,2,FALSE)","v":"https://github.com/bloc97/Anime4K"}]
["ungoogled-software/ungoogled-chromium",{"$f":"VLOOKUP(A1360,汇总!D:E,2,FALSE)","v":"https://github.com/ungoogled-software/ungoogled-chromium"}]
["actix/actix-web",{"$f":"VLOOKUP(A1361,汇总!D:E,2,FALSE)","v":"https://github.com/actix/actix-web"}]
["rasbt/deeplearning-models",{"$f":"VLOOKUP(A1362,汇总!D:E,2,FALSE)","v":"https://github.com/rasbt/deeplearning-models"}]
["Jack-Cherish/python-spider",{"$f":"VLOOKUP(A1363,汇总!D:E,2,FALSE)","v":"https://github.com/Jack-Cherish/python-spider"}]
["altercation/solarized",{"$f":"VLOOKUP(A1364,汇总!D:E,2,FALSE)","v":"https://github.com/altercation/solarized"}]
["pqrs-org/Karabiner-Elements",{"$f":"VLOOKUP(A1365,汇总!D:E,2,FALSE)","v":"https://github.com/pqrs-org/Karabiner-Elements"}]
["dexteryy/spellbook-of-modern-webdev",{"$f":"VLOOKUP(A1366,汇总!D:E,2,FALSE)","v":"https://github.com/dexteryy/spellbook-of-modern-webdev"}]
["limetext/lime",{"$f":"VLOOKUP(A1367,汇总!D:E,2,FALSE)","v":"https://github.com/limetext/lime"}]
["miloyip/game-programmer",{"$f":"VLOOKUP(A1368,汇总!D:E,2,FALSE)","v":"https://github.com/miloyip/game-programmer"}]
["antonmedv/fx",{"$f":"VLOOKUP(A1369,汇总!D:E,2,FALSE)","v":"https://github.com/antonmedv/fx"}]
["dandavison/delta",{"$f":"VLOOKUP(A1370,汇总!D:E,2,FALSE)","v":"https://github.com/dandavison/delta"}]
["pouchdb/pouchdb",{"$f":"VLOOKUP(A1371,汇总!D:E,2,FALSE)","v":"https://github.com/pouchdb/pouchdb"}]
["inancgumus/learngo",{"$f":"VLOOKUP(A1372,汇总!D:E,2,FALSE)","v":"https://github.com/inancgumus/learngo"}]
["cool-RR/PySnooper",{"$f":"VLOOKUP(A1373,汇总!D:E,2,FALSE)","v":"https://github.com/cool-RR/PySnooper"}]
["NVIDIA/nvidia-docker",{"$f":"VLOOKUP(A1374,汇总!D:E,2,FALSE)","v":"https://github.com/NVIDIA/nvidia-docker"}]
["thedaviddias/Front-End-Performance-Checklist",{"$f":"VLOOKUP(A1375,汇总!D:E,2,FALSE)","v":"https://github.com/thedaviddias/Front-End-Performance-Checklist"}]
["flatpickr/flatpickr",{"$f":"VLOOKUP(A1376,汇总!D:E,2,FALSE)","v":"https://github.com/flatpickr/flatpickr"}]
["android10/Android-CleanArchitecture",{"$f":"VLOOKUP(A1377,汇总!D:E,2,FALSE)","v":"https://github.com/android10/Android-CleanArchitecture"}]
["YunaiV/SpringBoot-Labs",{"$f":"VLOOKUP(A1378,汇总!D:E,2,FALSE)","v":"https://github.com/YunaiV/SpringBoot-Labs"}]
["LMAX-Exchange/disruptor",{"$f":"VLOOKUP(A1379,汇总!D:E,2,FALSE)","v":"https://github.com/LMAX-Exchange/disruptor"}]
["allinurl/goaccess",{"$f":"VLOOKUP(A1380,汇总!D:E,2,FALSE)","v":"https://github.com/allinurl/goaccess"}]
["taizilongxu/interview_python",{"$f":"VLOOKUP(A1381,汇总!D:E,2,FALSE)","v":"https://github.com/taizilongxu/interview_python"}]
["nhn/tui.editor",{"$f":"VLOOKUP(A1382,汇总!D:E,2,FALSE)","v":"https://github.com/nhn/tui.editor"}]
["micropython/micropython",{"$f":"VLOOKUP(A1383,汇总!D:E,2,FALSE)","v":"https://github.com/micropython/micropython"}]
["xinntao/Real-ESRGAN",{"$f":"VLOOKUP(A1384,汇总!D:E,2,FALSE)","v":"https://github.com/xinntao/Real-ESRGAN"}]
["nswbmw/N-blog",{"$f":"VLOOKUP(A1385,汇总!D:E,2,FALSE)","v":"https://github.com/nswbmw/N-blog"}]
["alievk/avatarify-python",{"$f":"VLOOKUP(A1386,汇总!D:E,2,FALSE)","v":"https://github.com/alievk/avatarify-python"}]
["docker-slim/docker-slim",{"$f":"VLOOKUP(A1387,汇总!D:E,2,FALSE)","v":"https://github.com/docker-slim/docker-slim"}]
["doomemacs/doomemacs",{"$f":"VLOOKUP(A1388,汇总!D:E,2,FALSE)","v":"https://github.com/doomemacs/doomemacs"}]
["source-foundry/Hack",{"$f":"VLOOKUP(A1389,汇总!D:E,2,FALSE)","v":"https://github.com/source-foundry/Hack"}]
["charmbracelet/bubbletea",{"$f":"VLOOKUP(A1390,汇总!D:E,2,FALSE)","v":"https://github.com/charmbracelet/bubbletea"}]
["Budibase/budibase",{"$f":"VLOOKUP(A1391,汇总!D:E,2,FALSE)","v":"https://github.com/Budibase/budibase"}]
["magic-wormhole/magic-wormhole",{"$f":"VLOOKUP(A1392,汇总!D:E,2,FALSE)","v":"https://github.com/magic-wormhole/magic-wormhole"}]
["fengdu78/deeplearning_ai_books",{"$f":"VLOOKUP(A1393,汇总!D:E,2,FALSE)","v":"https://github.com/fengdu78/deeplearning_ai_books"}]
["lllyasviel/style2paints",{"$f":"VLOOKUP(A1394,汇总!D:E,2,FALSE)","v":"https://github.com/lllyasviel/style2paints"}]
["Sycnex/Windows10Debloater",{"$f":"VLOOKUP(A1395,汇总!D:E,2,FALSE)","v":"https://github.com/Sycnex/Windows10Debloater"}]
["browsh-org/browsh",{"$f":"VLOOKUP(A1396,汇总!D:E,2,FALSE)","v":"https://github.com/browsh-org/browsh"}]
["JeffLi1993/springboot-learning-example",{"$f":"VLOOKUP(A1397,汇总!D:E,2,FALSE)","v":"https://github.com/JeffLi1993/springboot-learning-example"}]
["SimulatedGREG/electron-vue",{"$f":"VLOOKUP(A1398,汇总!D:E,2,FALSE)","v":"https://github.com/SimulatedGREG/electron-vue"}]
["kivy/kivy",{"$f":"VLOOKUP(A1399,汇总!D:E,2,FALSE)","v":"https://github.com/kivy/kivy"}]
["d2l-ai/d2l-en",{"$f":"VLOOKUP(A1400,汇总!D:E,2,FALSE)","v":"https://github.com/d2l-ai/d2l-en"}]
["braydie/HowToBeAProgrammer",{"$f":"VLOOKUP(A1401,汇总!D:E,2,FALSE)","v":"https://github.com/braydie/HowToBeAProgrammer"}]
["bower/bower",{"$f":"VLOOKUP(A1402,汇总!D:E,2,FALSE)","v":"https://github.com/bower/bower"}]
["nodemailer/nodemailer",{"$f":"VLOOKUP(A1403,汇总!D:E,2,FALSE)","v":"https://github.com/nodemailer/nodemailer"}]
["Tencent/vConsole",{"$f":"VLOOKUP(A1404,汇总!D:E,2,FALSE)","v":"https://github.com/Tencent/vConsole"}]
["Tencent/MMKV",{"$f":"VLOOKUP(A1405,汇总!D:E,2,FALSE)","v":"https://github.com/Tencent/MMKV"}]
["sweetalert2/sweetalert2",{"$f":"VLOOKUP(A1406,汇总!D:E,2,FALSE)","v":"https://github.com/sweetalert2/sweetalert2"}]
["mkdocs/mkdocs",{"$f":"VLOOKUP(A1407,汇总!D:E,2,FALSE)","v":"https://github.com/mkdocs/mkdocs"}]
["darkreader/darkreader",{"$f":"VLOOKUP(A1408,汇总!D:E,2,FALSE)","v":"https://github.com/darkreader/darkreader"}]
["plotly/plotly.js",{"$f":"VLOOKUP(A1409,汇总!D:E,2,FALSE)","v":"https://github.com/plotly/plotly.js"}]
["CodeEditApp/CodeEdit",{"$f":"VLOOKUP(A1410,汇总!D:E,2,FALSE)","v":"https://github.com/CodeEditApp/CodeEdit"}]
["microsoft/react-native-windows",{"$f":"VLOOKUP(A1411,汇总!D:E,2,FALSE)","v":"https://github.com/microsoft/react-native-windows"}]
["facebook/prophet",{"$f":"VLOOKUP(A1412,汇总!D:E,2,FALSE)","v":"https://github.com/facebook/prophet"}]
["madrobby/zepto",{"$f":"VLOOKUP(A1413,汇总!D:E,2,FALSE)","v":"https://github.com/madrobby/zepto"}]
["jarun/nnn",{"$f":"VLOOKUP(A1414,汇总!D:E,2,FALSE)","v":"https://github.com/jarun/nnn"}]
["AnthonyCalandra/modern-cpp-features",{"$f":"VLOOKUP(A1415,汇总!D:E,2,FALSE)","v":"https://github.com/AnthonyCalandra/modern-cpp-features"}]
["kriskowal/q",{"$f":"VLOOKUP(A1416,汇总!D:E,2,FALSE)","v":"https://github.com/kriskowal/q"}]
["designmodo/Flat-UI",{"$f":"VLOOKUP(A1417,汇总!D:E,2,FALSE)","v":"https://github.com/designmodo/Flat-UI"}]
["greensock/GSAP",{"$f":"VLOOKUP(A1418,汇总!D:E,2,FALSE)","v":"https://github.com/greensock/GSAP"}]
["fatih/vim-go",{"$f":"VLOOKUP(A1419,汇总!D:E,2,FALSE)","v":"https://github.com/fatih/vim-go"}]
["yaronn/blessed-contrib",{"$f":"VLOOKUP(A1420,汇总!D:E,2,FALSE)","v":"https://github.com/yaronn/blessed-contrib"}]
["airbnb/react-sketchapp",{"$f":"VLOOKUP(A1421,汇总!D:E,2,FALSE)","v":"https://github.com/airbnb/react-sketchapp"}]
["redwoodjs/redwood",{"$f":"VLOOKUP(A1422,汇总!D:E,2,FALSE)","v":"https://github.com/redwoodjs/redwood"}]
["iBotPeaches/Apktool",{"$f":"VLOOKUP(A1423,汇总!D:E,2,FALSE)","v":"https://github.com/iBotPeaches/Apktool"}]
["RasaHQ/rasa",{"$f":"VLOOKUP(A1424,汇总!D:E,2,FALSE)","v":"https://github.com/RasaHQ/rasa"}]
["ampproject/amphtml",{"$f":"VLOOKUP(A1425,汇总!D:E,2,FALSE)","v":"https://github.com/ampproject/amphtml"}]
["cat-milk/Anime-Girls-Holding-Programming-Books",{"$f":"VLOOKUP(A1426,汇总!D:E,2,FALSE)","v":"https://github.com/cat-milk/Anime-Girls-Holding-Programming-Books"}]
["mantinedev/mantine",{"$f":"VLOOKUP(A1427,汇总!D:E,2,FALSE)","v":"https://github.com/mantinedev/mantine"}]
["localtunnel/localtunnel",{"$f":"VLOOKUP(A1428,汇总!D:E,2,FALSE)","v":"https://github.com/localtunnel/localtunnel"}]
["hoanhan101/ultimate-go",{"$f":"VLOOKUP(A1429,汇总!D:E,2,FALSE)","v":"https://github.com/hoanhan101/ultimate-go"}]
["krisk/Fuse",{"$f":"VLOOKUP(A1430,汇总!D:E,2,FALSE)","v":"https://github.com/krisk/Fuse"}]
["acdlite/recompose",{"$f":"VLOOKUP(A1431,汇总!D:E,2,FALSE)","v":"https://github.com/acdlite/recompose"}]
["swagger-api/swagger-codegen",{"$f":"VLOOKUP(A1432,汇总!D:E,2,FALSE)","v":"https://github.com/swagger-api/swagger-codegen"}]
["AlDanial/cloc",{"$f":"VLOOKUP(A1433,汇总!D:E,2,FALSE)","v":"https://github.com/AlDanial/cloc"}]
["vitessio/vitess",{"$f":"VLOOKUP(A1434,汇总!D:E,2,FALSE)","v":"https://github.com/vitessio/vitess"}]
["the1812/Bilibili-Evolved",{"$f":"VLOOKUP(A1435,汇总!D:E,2,FALSE)","v":"https://github.com/the1812/Bilibili-Evolved"}]
["joke2k/faker",{"$f":"VLOOKUP(A1436,汇总!D:E,2,FALSE)","v":"https://github.com/joke2k/faker"}]
["ssloy/tinyrenderer",{"$f":"VLOOKUP(A1437,汇总!D:E,2,FALSE)","v":"https://github.com/ssloy/tinyrenderer"}]
["yifeikong/reverse-interview-zh",{"$f":"VLOOKUP(A1438,汇总!D:E,2,FALSE)","v":"https://github.com/yifeikong/reverse-interview-zh"}]
["nrwl/nx",{"$f":"VLOOKUP(A1439,汇总!D:E,2,FALSE)","v":"https://github.com/nrwl/nx"}]
["dyc87112/SpringBoot-Learning",{"$f":"VLOOKUP(A1440,汇总!D:E,2,FALSE)","v":"https://github.com/dyc87112/SpringBoot-Learning"}]
["keystonejs/keystone-classic",{"$f":"VLOOKUP(A1441,汇总!D:E,2,FALSE)","v":"https://github.com/keystonejs/keystone-classic"}]
["riot/riot",{"$f":"VLOOKUP(A1442,汇总!D:E,2,FALSE)","v":"https://github.com/riot/riot"}]
["jobbole/awesome-java-cn",{"$f":"VLOOKUP(A1443,汇总!D:E,2,FALSE)","v":"https://github.com/jobbole/awesome-java-cn"}]
["twitter/twemoji",{"$f":"VLOOKUP(A1444,汇总!D:E,2,FALSE)","v":"https://github.com/twitter/twemoji"}]
["kholia/OSX-KVM",{"$f":"VLOOKUP(A1445,汇总!D:E,2,FALSE)","v":"https://github.com/kholia/OSX-KVM"}]
["abhisheknaiidu/awesome-github-profile-readme",{"$f":"VLOOKUP(A1446,汇总!D:E,2,FALSE)","v":"https://github.com/abhisheknaiidu/awesome-github-profile-readme"}]
["google/filament",{"$f":"VLOOKUP(A1447,汇总!D:E,2,FALSE)","v":"https://github.com/google/filament"}]
["rupa/z",{"$f":"VLOOKUP(A1448,汇总!D:E,2,FALSE)","v":"https://github.com/rupa/z"}]
["Carthage/Carthage",{"$f":"VLOOKUP(A1449,汇总!D:E,2,FALSE)","v":"https://github.com/Carthage/Carthage"}]
["InstaPy/InstaPy",{"$f":"VLOOKUP(A1450,汇总!D:E,2,FALSE)","v":"https://github.com/InstaPy/InstaPy"}]
["be5invis/Iosevka",{"$f":"VLOOKUP(A1451,汇总!D:E,2,FALSE)","v":"https://github.com/be5invis/Iosevka"}]
["AssemblyScript/assemblyscript",{"$f":"VLOOKUP(A1452,汇总!D:E,2,FALSE)","v":"https://github.com/AssemblyScript/assemblyscript"}]
["XIU2/TrackersListCollection",{"$f":"VLOOKUP(A1453,汇总!D:E,2,FALSE)","v":"https://github.com/XIU2/TrackersListCollection"}]
["grab/front-end-guide",{"$f":"VLOOKUP(A1454,汇总!D:E,2,FALSE)","v":"https://github.com/grab/front-end-guide"}]
["pyscript/pyscript",{"$f":"VLOOKUP(A1455,汇总!D:E,2,FALSE)","v":"https://github.com/pyscript/pyscript"}]
["saadeghi/daisyui",{"$f":"VLOOKUP(A1456,汇总!D:E,2,FALSE)","v":"https://github.com/saadeghi/daisyui"}]
["aframevr/aframe",{"$f":"VLOOKUP(A1457,汇总!D:E,2,FALSE)","v":"https://github.com/aframevr/aframe"}]
["ethereum/wiki",{"$f":"VLOOKUP(A1458,汇总!D:E,2,FALSE)","v":"https://github.com/ethereum/wiki"}]
["Kr1s77/awesome-python-login-model",{"$f":"VLOOKUP(A1459,汇总!D:E,2,FALSE)","v":"https://github.com/Kr1s77/awesome-python-login-model"}]
["mhinz/vim-galore",{"$f":"VLOOKUP(A1460,汇总!D:E,2,FALSE)","v":"https://github.com/mhinz/vim-galore"}]
["flipped-aurora/gin-vue-admin",{"$f":"VLOOKUP(A1461,汇总!D:E,2,FALSE)","v":"https://github.com/flipped-aurora/gin-vue-admin"}]
["TheAlgorithms/C",{"$f":"VLOOKUP(A1462,汇总!D:E,2,FALSE)","v":"https://github.com/TheAlgorithms/C"}]
["yanue/V2rayU",{"$f":"VLOOKUP(A1463,汇总!D:E,2,FALSE)","v":"https://github.com/yanue/V2rayU"}]
["xbmc/xbmc",{"$f":"VLOOKUP(A1464,汇总!D:E,2,FALSE)","v":"https://github.com/xbmc/xbmc"}]
["dipakkr/A-to-Z-Resources-for-Students",{"$f":"VLOOKUP(A1465,汇总!D:E,2,FALSE)","v":"https://github.com/dipakkr/A-to-Z-Resources-for-Students"}]
["twbs/ratchet",{"$f":"VLOOKUP(A1466,汇总!D:E,2,FALSE)","v":"https://github.com/twbs/ratchet"}]
["cmusatyalab/openface",{"$f":"VLOOKUP(A1467,汇总!D:E,2,FALSE)","v":"https://github.com/cmusatyalab/openface"}]
["julienschmidt/httprouter",{"$f":"VLOOKUP(A1468,汇总!D:E,2,FALSE)","v":"https://github.com/julienschmidt/httprouter"}]
["wangeditor-team/wangEditor",{"$f":"VLOOKUP(A1469,汇总!D:E,2,FALSE)","v":"https://github.com/wangeditor-team/wangEditor"}]
["checkly/headless-recorder",{"$f":"VLOOKUP(A1470,汇总!D:E,2,FALSE)","v":"https://github.com/checkly/headless-recorder"}]
["frappe/charts",{"$f":"VLOOKUP(A1471,汇总!D:E,2,FALSE)","v":"https://github.com/frappe/charts"}]
["barryvdh/laravel-debugbar",{"$f":"VLOOKUP(A1472,汇总!D:E,2,FALSE)","v":"https://github.com/barryvdh/laravel-debugbar"}]
["cyrildiagne/ar-cutpaste",{"$f":"VLOOKUP(A1473,汇总!D:E,2,FALSE)","v":"https://github.com/cyrildiagne/ar-cutpaste"}]
["alexpate/awesome-design-systems",{"$f":"VLOOKUP(A1474,汇总!D:E,2,FALSE)","v":"https://github.com/alexpate/awesome-design-systems"}]
["angular-ui/bootstrap",{"$f":"VLOOKUP(A1475,汇总!D:E,2,FALSE)","v":"https://github.com/angular-ui/bootstrap"}]
["CopyTranslator/CopyTranslator",{"$f":"VLOOKUP(A1476,汇总!D:E,2,FALSE)","v":"https://github.com/CopyTranslator/CopyTranslator"}]
["rsms/inter",{"$f":"VLOOKUP(A1477,汇总!D:E,2,FALSE)","v":"https://github.com/rsms/inter"}]
["Tencent/weui-wxss",{"$f":"VLOOKUP(A1478,汇总!D:E,2,FALSE)","v":"https://github.com/Tencent/weui-wxss"}]
["rbenv/rbenv",{"$f":"VLOOKUP(A1479,汇总!D:E,2,FALSE)","v":"https://github.com/rbenv/rbenv"}]
["pocketbase/pocketbase",{"$f":"VLOOKUP(A1480,汇总!D:E,2,FALSE)","v":"https://github.com/pocketbase/pocketbase"}]
["JetBrains/intellij-community",{"$f":"VLOOKUP(A1481,汇总!D:E,2,FALSE)","v":"https://github.com/JetBrains/intellij-community"}]
["esp8266/Arduino",{"$f":"VLOOKUP(A1482,汇总!D:E,2,FALSE)","v":"https://github.com/esp8266/Arduino"}]
["learn-anything/learn-anything",{"$f":"VLOOKUP(A1483,汇总!D:E,2,FALSE)","v":"https://github.com/learn-anything/learn-anything"}]
["kubernetes/kops",{"$f":"VLOOKUP(A1484,汇总!D:E,2,FALSE)","v":"https://github.com/kubernetes/kops"}]
["maxwellito/vivus",{"$f":"VLOOKUP(A1485,汇总!D:E,2,FALSE)","v":"https://github.com/maxwellito/vivus"}]
["mjmlio/mjml",{"$f":"VLOOKUP(A1486,汇总!D:E,2,FALSE)","v":"https://github.com/mjmlio/mjml"}]
["facebookarchive/prepack",{"$f":"VLOOKUP(A1487,汇总!D:E,2,FALSE)","v":"https://github.com/facebookarchive/prepack"}]
["kailashahirwar/cheatsheets-ai",{"$f":"VLOOKUP(A1488,汇总!D:E,2,FALSE)","v":"https://github.com/kailashahirwar/cheatsheets-ai"}]
["medcl/elasticsearch-analysis-ik",{"$f":"VLOOKUP(A1489,汇总!D:E,2,FALSE)","v":"https://github.com/medcl/elasticsearch-analysis-ik"}]
["imarvinle/awesome-cs-books",{"$f":"VLOOKUP(A1490,汇总!D:E,2,FALSE)","v":"https://github.com/imarvinle/awesome-cs-books"}]
["cayleygraph/cayley",{"$f":"VLOOKUP(A1491,汇总!D:E,2,FALSE)","v":"https://github.com/cayleygraph/cayley"}]
["rakyll/hey",{"$f":"VLOOKUP(A1492,汇总!D:E,2,FALSE)","v":"https://github.com/rakyll/hey"}]
["authelia/authelia",{"$f":"VLOOKUP(A1493,汇总!D:E,2,FALSE)","v":"https://github.com/authelia/authelia"}]
["hdodenhof/CircleImageView",{"$f":"VLOOKUP(A1494,汇总!D:E,2,FALSE)","v":"https://github.com/hdodenhof/CircleImageView"}]
["sunym1993/flash-linux0.11-talk",{"$f":"VLOOKUP(A1495,汇总!D:E,2,FALSE)","v":"https://github.com/sunym1993/flash-linux0.11-talk"}]
["Jam3/math-as-code",{"$f":"VLOOKUP(A1496,汇总!D:E,2,FALSE)","v":"https://github.com/Jam3/math-as-code"}]
["521xueweihan/git-tips",{"$f":"VLOOKUP(A1497,汇总!D:E,2,FALSE)","v":"https://github.com/521xueweihan/git-tips"}]
["spacedriveapp/spacedrive",{"$f":"VLOOKUP(A1498,汇总!D:E,2,FALSE)","v":"https://github.com/spacedriveapp/spacedrive"}]
["geeeeeeeeek/git-recipes",{"$f":"VLOOKUP(A1499,汇总!D:E,2,FALSE)","v":"https://github.com/geeeeeeeeek/git-recipes"}]
["OpenEmu/OpenEmu",{"$f":"VLOOKUP(A1500,汇总!D:E,2,FALSE)","v":"https://github.com/OpenEmu/OpenEmu"}]
["infinitered/ignite",{"$f":"VLOOKUP(A1501,汇总!D:E,2,FALSE)","v":"https://github.com/infinitered/ignite"}]
["ArchiveBox/ArchiveBox",{"$f":"VLOOKUP(A1502,汇总!D:E,2,FALSE)","v":"https://github.com/ArchiveBox/ArchiveBox"}]
["uNetworking/uWebSockets",{"$f":"VLOOKUP(A1503,汇总!D:E,2,FALSE)","v":"https://github.com/uNetworking/uWebSockets"}]
["markdown-it/markdown-it",{"$f":"VLOOKUP(A1504,汇总!D:E,2,FALSE)","v":"https://github.com/markdown-it/markdown-it"}]
["erusev/parsedown",{"$f":"VLOOKUP(A1505,汇总!D:E,2,FALSE)","v":"https://github.com/erusev/parsedown"}]
["alan2207/bulletproof-react",{"$f":"VLOOKUP(A1506,汇总!D:E,2,FALSE)","v":"https://github.com/alan2207/bulletproof-react"}]
["microsoft/LightGBM",{"$f":"VLOOKUP(A1507,汇总!D:E,2,FALSE)","v":"https://github.com/microsoft/LightGBM"}]
["commitizen/cz-cli",{"$f":"VLOOKUP(A1508,汇总!D:E,2,FALSE)","v":"https://github.com/commitizen/cz-cli"}]
["grpc-ecosystem/grpc-gateway",{"$f":"VLOOKUP(A1509,汇总!D:E,2,FALSE)","v":"https://github.com/grpc-ecosystem/grpc-gateway"}]
["justadudewhohacks/face-api.js",{"$f":"VLOOKUP(A1510,汇总!D:E,2,FALSE)","v":"https://github.com/justadudewhohacks/face-api.js"}]
["wting/autojump",{"$f":"VLOOKUP(A1511,汇总!D:E,2,FALSE)","v":"https://github.com/wting/autojump"}]
["google/libphonenumber",{"$f":"VLOOKUP(A1512,汇总!D:E,2,FALSE)","v":"https://github.com/google/libphonenumber"}]
["openjdk/jdk",{"$f":"VLOOKUP(A1513,汇总!D:E,2,FALSE)","v":"https://github.com/openjdk/jdk"}]
["browserify/browserify",{"$f":"VLOOKUP(A1514,汇总!D:E,2,FALSE)","v":"https://github.com/browserify/browserify"}]
["Moya/Moya",{"$f":"VLOOKUP(A1515,汇总!D:E,2,FALSE)","v":"https://github.com/Moya/Moya"}]
["ipfs/kubo",{"$f":"VLOOKUP(A1516,汇总!D:E,2,FALSE)","v":"https://github.com/ipfs/kubo"}]
["simple-icons/simple-icons",{"$f":"VLOOKUP(A1517,汇总!D:E,2,FALSE)","v":"https://github.com/simple-icons/simple-icons"}]
["huggingface/datasets",{"$f":"VLOOKUP(A1518,汇总!D:E,2,FALSE)","v":"https://github.com/huggingface/datasets"}]
["sass/sass",{"$f":"VLOOKUP(A1519,汇总!D:E,2,FALSE)","v":"https://github.com/sass/sass"}]
["graphql/graphiql",{"$f":"VLOOKUP(A1520,汇总!D:E,2,FALSE)","v":"https://github.com/graphql/graphiql"}]
["dogecoin/dogecoin",{"$f":"VLOOKUP(A1521,汇总!D:E,2,FALSE)","v":"https://github.com/dogecoin/dogecoin"}]
["Qv2ray/Qv2ray",{"$f":"VLOOKUP(A1522,汇总!D:E,2,FALSE)","v":"https://github.com/Qv2ray/Qv2ray"}]
["medusajs/medusa",{"$f":"VLOOKUP(A1523,汇总!D:E,2,FALSE)","v":"https://github.com/medusajs/medusa"}]
["feathersjs/feathers",{"$f":"VLOOKUP(A1524,汇总!D:E,2,FALSE)","v":"https://github.com/feathersjs/feathers"}]
["microsoft/recommenders",{"$f":"VLOOKUP(A1525,汇总!D:E,2,FALSE)","v":"https://github.com/microsoft/recommenders"}]
["redox-os/redox",{"$f":"VLOOKUP(A1526,汇总!D:E,2,FALSE)","v":"https://github.com/redox-os/redox"}]
["aquasecurity/trivy",{"$f":"VLOOKUP(A1527,汇总!D:E,2,FALSE)","v":"https://github.com/aquasecurity/trivy"}]
["modood/Administrative-divisions-of-China",{"$f":"VLOOKUP(A1528,汇总!D:E,2,FALSE)","v":"https://github.com/modood/Administrative-divisions-of-China"}]
["vbenjs/vue-vben-admin",{"$f":"VLOOKUP(A1529,汇总!D:E,2,FALSE)","v":"https://github.com/vbenjs/vue-vben-admin"}]
["remotion-dev/remotion",{"$f":"VLOOKUP(A1530,汇总!D:E,2,FALSE)","v":"https://github.com/remotion-dev/remotion"}]
["microsoft/fluentui",{"$f":"VLOOKUP(A1531,汇总!D:E,2,FALSE)","v":"https://github.com/microsoft/fluentui"}]
["bootstrap-vue/bootstrap-vue",{"$f":"VLOOKUP(A1532,汇总!D:E,2,FALSE)","v":"https://github.com/bootstrap-vue/bootstrap-vue"}]
["marcuswestin/WebViewJavascriptBridge",{"$f":"VLOOKUP(A1533,汇总!D:E,2,FALSE)","v":"https://github.com/marcuswestin/WebViewJavascriptBridge"}]
["pittcsc/Summer2023-Internships",{"$f":"VLOOKUP(A1534,汇总!D:E,2,FALSE)","v":"https://github.com/pittcsc/Summer2023-Internships"}]
["kamranahmedse/driver.js",{"$f":"VLOOKUP(A1535,汇总!D:E,2,FALSE)","v":"https://github.com/kamranahmedse/driver.js"}]
["fbsamples/f8app",{"$f":"VLOOKUP(A1536,汇总!D:E,2,FALSE)","v":"https://github.com/fbsamples/f8app"}]
["prestodb/presto",{"$f":"VLOOKUP(A1537,汇总!D:E,2,FALSE)","v":"https://github.com/prestodb/presto"}]
["koel/koel",{"$f":"VLOOKUP(A1538,汇总!D:E,2,FALSE)","v":"https://github.com/koel/koel"}]
["hyperledger/fabric",{"$f":"VLOOKUP(A1539,汇总!D:E,2,FALSE)","v":"https://github.com/hyperledger/fabric"}]
["gztchan/awesome-design",{"$f":"VLOOKUP(A1540,汇总!D:E,2,FALSE)","v":"https://github.com/gztchan/awesome-design"}]
["hapijs/hapi",{"$f":"VLOOKUP(A1541,汇总!D:E,2,FALSE)","v":"https://github.com/hapijs/hapi"}]
["janpaepke/ScrollMagic",{"$f":"VLOOKUP(A1542,汇总!D:E,2,FALSE)","v":"https://github.com/janpaepke/ScrollMagic"}]
["MengTo/Spring",{"$f":"VLOOKUP(A1543,汇总!D:E,2,FALSE)","v":"https://github.com/MengTo/Spring"}]
["yiisoft/yii2",{"$f":"VLOOKUP(A1544,汇总!D:E,2,FALSE)","v":"https://github.com/yiisoft/yii2"}]
["material-components/material-components-android",{"$f":"VLOOKUP(A1545,汇总!D:E,2,FALSE)","v":"https://github.com/material-components/material-components-android"}]
["ty4z2008/Qix",{"$f":"VLOOKUP(A1546,汇总!D:E,2,FALSE)","v":"https://github.com/ty4z2008/Qix"}]
["wtfutil/wtf",{"$f":"VLOOKUP(A1547,汇总!D:E,2,FALSE)","v":"https://github.com/wtfutil/wtf"}]
["mahmoud/awesome-python-applications",{"$f":"VLOOKUP(A1548,汇总!D:E,2,FALSE)","v":"https://github.com/mahmoud/awesome-python-applications"}]
["alibaba/ARouter",{"$f":"VLOOKUP(A1549,汇总!D:E,2,FALSE)","v":"https://github.com/alibaba/ARouter"}]
["afshinea/stanford-cs-229-machine-learning",{"$f":"VLOOKUP(A1550,汇总!D:E,2,FALSE)","v":"https://github.com/afshinea/stanford-cs-229-machine-learning"}]
["hashicorp/packer",{"$f":"VLOOKUP(A1551,汇总!D:E,2,FALSE)","v":"https://github.com/hashicorp/packer"}]
["deviantony/docker-elk",{"$f":"VLOOKUP(A1552,汇总!D:E,2,FALSE)","v":"https://github.com/deviantony/docker-elk"}]
["mxcl/PromiseKit",{"$f":"VLOOKUP(A1553,汇总!D:E,2,FALSE)","v":"https://github.com/mxcl/PromiseKit"}]
["verdaccio/verdaccio",{"$f":"VLOOKUP(A1554,汇总!D:E,2,FALSE)","v":"https://github.com/verdaccio/verdaccio"}]
["gpujs/gpu.js",{"$f":"VLOOKUP(A1555,汇总!D:E,2,FALSE)","v":"https://github.com/gpujs/gpu.js"}]
["ibireme/YYKit",{"$f":"VLOOKUP(A1556,汇总!D:E,2,FALSE)","v":"https://github.com/ibireme/YYKit"}]
["apache/incubator-brpc",{"$f":"VLOOKUP(A1557,汇总!D:E,2,FALSE)","v":"https://github.com/apache/incubator-brpc"}]
["google/cadvisor",{"$f":"VLOOKUP(A1558,汇总!D:E,2,FALSE)","v":"https://github.com/google/cadvisor"}]
["JaeYeopHan/Interview_Question_for_Beginner",{"$f":"VLOOKUP(A1559,汇总!D:E,2,FALSE)","v":"https://github.com/JaeYeopHan/Interview_Question_for_Beginner"}]
["mdx-js/mdx",{"$f":"VLOOKUP(A1560,汇总!D:E,2,FALSE)","v":"https://github.com/mdx-js/mdx"}]
["apache/incubator-weex",{"$f":"VLOOKUP(A1561,汇总!D:E,2,FALSE)","v":"https://github.com/apache/incubator-weex"}]
["automerge/automerge",{"$f":"VLOOKUP(A1562,汇总!D:E,2,FALSE)","v":"https://github.com/automerge/automerge"}]
["gradle/gradle",{"$f":"VLOOKUP(A1563,汇总!D:E,2,FALSE)","v":"https://github.com/gradle/gradle"}]
["textmate/textmate",{"$f":"VLOOKUP(A1564,汇总!D:E,2,FALSE)","v":"https://github.com/textmate/textmate"}]
["graphql/graphql-spec",{"$f":"VLOOKUP(A1565,汇总!D:E,2,FALSE)","v":"https://github.com/graphql/graphql-spec"}]
["FormidableLabs/webpack-dashboard",{"$f":"VLOOKUP(A1566,汇总!D:E,2,FALSE)","v":"https://github.com/FormidableLabs/webpack-dashboard"}]
["GoogleContainerTools/distroless",{"$f":"VLOOKUP(A1567,汇总!D:E,2,FALSE)","v":"https://github.com/GoogleContainerTools/distroless"}]
["scala/scala",{"$f":"VLOOKUP(A1568,汇总!D:E,2,FALSE)","v":"https://github.com/scala/scala"}]
["wangshub/wechat_jump_game",{"$f":"VLOOKUP(A1569,汇总!D:E,2,FALSE)","v":"https://github.com/wangshub/wechat_jump_game"}]
["PerfectlySoft/Perfect",{"$f":"VLOOKUP(A1570,汇总!D:E,2,FALSE)","v":"https://github.com/PerfectlySoft/Perfect"}]
["python/mypy",{"$f":"VLOOKUP(A1571,汇总!D:E,2,FALSE)","v":"https://github.com/python/mypy"}]
["brave/brave-browser",{"$f":"VLOOKUP(A1572,汇总!D:E,2,FALSE)","v":"https://github.com/brave/brave-browser"}]
["geeeeeeeeek/electronic-wechat",{"$f":"VLOOKUP(A1573,汇总!D:E,2,FALSE)","v":"https://github.com/geeeeeeeeek/electronic-wechat"}]
["keepassxreboot/keepassxc",{"$f":"VLOOKUP(A1574,汇总!D:E,2,FALSE)","v":"https://github.com/keepassxreboot/keepassxc"}]
["ahmetb/kubectx",{"$f":"VLOOKUP(A1575,汇总!D:E,2,FALSE)","v":"https://github.com/ahmetb/kubectx"}]
["CocoaPods/CocoaPods",{"$f":"VLOOKUP(A1576,汇总!D:E,2,FALSE)","v":"https://github.com/CocoaPods/CocoaPods"}]
["twintproject/twint",{"$f":"VLOOKUP(A1577,汇总!D:E,2,FALSE)","v":"https://github.com/twintproject/twint"}]
["milvus-io/milvus",{"$f":"VLOOKUP(A1578,汇总!D:E,2,FALSE)","v":"https://github.com/milvus-io/milvus"}]
["programthink/books",{"$f":"VLOOKUP(A1579,汇总!D:E,2,FALSE)","v":"https://github.com/programthink/books"}]
["h2y/Shadowrocket-ADBlock-Rules",{"$f":"VLOOKUP(A1580,汇总!D:E,2,FALSE)","v":"https://github.com/h2y/Shadowrocket-ADBlock-Rules"}]
["pulumi/pulumi",{"$f":"VLOOKUP(A1581,汇总!D:E,2,FALSE)","v":"https://github.com/pulumi/pulumi"}]
["marcuswestin/store.js",{"$f":"VLOOKUP(A1582,汇总!D:E,2,FALSE)","v":"https://github.com/marcuswestin/store.js"}]
["Tencent/APIJSON",{"$f":"VLOOKUP(A1583,汇总!D:E,2,FALSE)","v":"https://github.com/Tencent/APIJSON"}]
["cube-js/cube.js",{"$f":"VLOOKUP(A1584,汇总!D:E,2,FALSE)","v":"https://github.com/cube-js/cube.js"}]
["thomaspark/bootswatch",{"$f":"VLOOKUP(A1585,汇总!D:E,2,FALSE)","v":"https://github.com/thomaspark/bootswatch"}]
["lewagon/setup",{"$f":"VLOOKUP(A1586,汇总!D:E,2,FALSE)","v":"https://github.com/lewagon/setup"}]
["chokcoco/iCSS",{"$f":"VLOOKUP(A1587,汇总!D:E,2,FALSE)","v":"https://github.com/chokcoco/iCSS"}]
["justauth/JustAuth",{"$f":"VLOOKUP(A1588,汇总!D:E,2,FALSE)","v":"https://github.com/justauth/JustAuth"}]
["xtermjs/xterm.js",{"$f":"VLOOKUP(A1589,汇总!D:E,2,FALSE)","v":"https://github.com/xtermjs/xterm.js"}]
["MarlinFirmware/Marlin",{"$f":"VLOOKUP(A1590,汇总!D:E,2,FALSE)","v":"https://github.com/MarlinFirmware/Marlin"}]
["Tencent/QMUI_Android",{"$f":"VLOOKUP(A1591,汇总!D:E,2,FALSE)","v":"https://github.com/Tencent/QMUI_Android"}]
["timescale/timescaledb",{"$f":"VLOOKUP(A1592,汇总!D:E,2,FALSE)","v":"https://github.com/timescale/timescaledb"}]
["emilwallner/Screenshot-to-code",{"$f":"VLOOKUP(A1593,汇总!D:E,2,FALSE)","v":"https://github.com/emilwallner/Screenshot-to-code"}]
["lettier/3d-game-shaders-for-beginners",{"$f":"VLOOKUP(A1594,汇总!D:E,2,FALSE)","v":"https://github.com/lettier/3d-game-shaders-for-beginners"}]
["HubSpot/youmightnotneedjquery",{"$f":"VLOOKUP(A1595,汇总!D:E,2,FALSE)","v":"https://github.com/HubSpot/youmightnotneedjquery"}]
["jupyter/jupyter",{"$f":"VLOOKUP(A1596,汇总!D:E,2,FALSE)","v":"https://github.com/jupyter/jupyter"}]
["valeriansaliou/sonic",{"$f":"VLOOKUP(A1597,汇总!D:E,2,FALSE)","v":"https://github.com/valeriansaliou/sonic"}]
["ochococo/Design-Patterns-In-Swift",{"$f":"VLOOKUP(A1598,汇总!D:E,2,FALSE)","v":"https://github.com/ochococo/Design-Patterns-In-Swift"}]
["chatwoot/chatwoot",{"$f":"VLOOKUP(A1599,汇总!D:E,2,FALSE)","v":"https://github.com/chatwoot/chatwoot"}]
["infinitered/reactotron",{"$f":"VLOOKUP(A1600,汇总!D:E,2,FALSE)","v":"https://github.com/infinitered/reactotron"}]
["liabru/matter-js",{"$f":"VLOOKUP(A1601,汇总!D:E,2,FALSE)","v":"https://github.com/liabru/matter-js"}]
["mnielsen/neural-networks-and-deep-learning",{"$f":"VLOOKUP(A1602,汇总!D:E,2,FALSE)","v":"https://github.com/mnielsen/neural-networks-and-deep-learning"}]
["calcom/cal.com",{"$f":"VLOOKUP(A1603,汇总!D:E,2,FALSE)","v":"https://github.com/calcom/cal.com"}]
["android-hacker/VirtualXposed",{"$f":"VLOOKUP(A1604,汇总!D:E,2,FALSE)","v":"https://github.com/android-hacker/VirtualXposed"}]
["keon/awesome-nlp",{"$f":"VLOOKUP(A1605,汇总!D:E,2,FALSE)","v":"https://github.com/keon/awesome-nlp"}]
["greyireland/algorithm-pattern",{"$f":"VLOOKUP(A1606,汇总!D:E,2,FALSE)","v":"https://github.com/greyireland/algorithm-pattern"}]
["keycloak/keycloak",{"$f":"VLOOKUP(A1607,汇总!D:E,2,FALSE)","v":"https://github.com/keycloak/keycloak"}]
["ccgus/fmdb",{"$f":"VLOOKUP(A1608,汇总!D:E,2,FALSE)","v":"https://github.com/ccgus/fmdb"}]
["apple/swift-evolution",{"$f":"VLOOKUP(A1609,汇总!D:E,2,FALSE)","v":"https://github.com/apple/swift-evolution"}]
["angular-ui/ui-router",{"$f":"VLOOKUP(A1610,汇总!D:E,2,FALSE)","v":"https://github.com/angular-ui/ui-router"}]
["Textualize/textual",{"$f":"VLOOKUP(A1611,汇总!D:E,2,FALSE)","v":"https://github.com/Textualize/textual"}]
["stephentian/33-js-concepts",{"$f":"VLOOKUP(A1612,汇总!D:E,2,FALSE)","v":"https://github.com/stephentian/33-js-concepts"}]
["fabric/fabric",{"$f":"VLOOKUP(A1613,汇总!D:E,2,FALSE)","v":"https://github.com/fabric/fabric"}]
["ToolJet/ToolJet",{"$f":"VLOOKUP(A1614,汇总!D:E,2,FALSE)","v":"https://github.com/ToolJet/ToolJet"}]
["CoderMJLee/MJRefresh",{"$f":"VLOOKUP(A1615,汇总!D:E,2,FALSE)","v":"https://github.com/CoderMJLee/MJRefresh"}]
["foreversd/forever",{"$f":"VLOOKUP(A1616,汇总!D:E,2,FALSE)","v":"https://github.com/foreversd/forever"}]
["microsoft/WSL",{"$f":"VLOOKUP(A1617,汇总!D:E,2,FALSE)","v":"https://github.com/microsoft/WSL"}]
["brendangregg/FlameGraph",{"$f":"VLOOKUP(A1618,汇总!D:E,2,FALSE)","v":"https://github.com/brendangregg/FlameGraph"}]
["tc39/ecma262",{"$f":"VLOOKUP(A1619,汇总!D:E,2,FALSE)","v":"https://github.com/tc39/ecma262"}]
["interagent/http-api-design",{"$f":"VLOOKUP(A1620,汇总!D:E,2,FALSE)","v":"https://github.com/interagent/http-api-design"}]
["nim-lang/Nim",{"$f":"VLOOKUP(A1621,汇总!D:E,2,FALSE)","v":"https://github.com/nim-lang/Nim"}]
["edent/SuperTinyIcons",{"$f":"VLOOKUP(A1622,汇总!D:E,2,FALSE)","v":"https://github.com/edent/SuperTinyIcons"}]
["chentsulin/awesome-graphql",{"$f":"VLOOKUP(A1623,汇总!D:E,2,FALSE)","v":"https://github.com/chentsulin/awesome-graphql"}]
["thunlp/GNNPapers",{"$f":"VLOOKUP(A1624,汇总!D:E,2,FALSE)","v":"https://github.com/thunlp/GNNPapers"}]
["OpenAPITools/openapi-generator",{"$f":"VLOOKUP(A1625,汇总!D:E,2,FALSE)","v":"https://github.com/OpenAPITools/openapi-generator"}]
["bradtraversy/vanillawebprojects",{"$f":"VLOOKUP(A1626,汇总!D:E,2,FALSE)","v":"https://github.com/bradtraversy/vanillawebprojects"}]
["trpc/trpc",{"$f":"VLOOKUP(A1627,汇总!D:E,2,FALSE)","v":"https://github.com/trpc/trpc"}]
["williamfiset/Algorithms",{"$f":"VLOOKUP(A1628,汇总!D:E,2,FALSE)","v":"https://github.com/williamfiset/Algorithms"}]
["adobe-webplatform/Snap.svg",{"$f":"VLOOKUP(A1629,汇总!D:E,2,FALSE)","v":"https://github.com/adobe-webplatform/Snap.svg"}]
["lgvalle/Material-Animations",{"$f":"VLOOKUP(A1630,汇总!D:E,2,FALSE)","v":"https://github.com/lgvalle/Material-Animations"}]
["RaRe-Technologies/gensim",{"$f":"VLOOKUP(A1631,汇总!D:E,2,FALSE)","v":"https://github.com/RaRe-Technologies/gensim"}]
["baomidou/mybatis-plus",{"$f":"VLOOKUP(A1632,汇总!D:E,2,FALSE)","v":"https://github.com/baomidou/mybatis-plus"}]
["trufflesuite/truffle",{"$f":"VLOOKUP(A1633,汇总!D:E,2,FALSE)","v":"https://github.com/trufflesuite/truffle"}]
["kubernetes/ingress-nginx",{"$f":"VLOOKUP(A1634,汇总!D:E,2,FALSE)","v":"https://github.com/kubernetes/ingress-nginx"}]
["flutter/samples",{"$f":"VLOOKUP(A1635,汇总!D:E,2,FALSE)","v":"https://github.com/flutter/samples"}]
["google/WebFundamentals",{"$f":"VLOOKUP(A1636,汇总!D:E,2,FALSE)","v":"https://github.com/google/WebFundamentals"}]
["microsoft/AirSim",{"$f":"VLOOKUP(A1637,汇总!D:E,2,FALSE)","v":"https://github.com/microsoft/AirSim"}]
["facebook/infer",{"$f":"VLOOKUP(A1638,汇总!D:E,2,FALSE)","v":"https://github.com/facebook/infer"}]
["selfteaching/the-craft-of-selfteaching",{"$f":"VLOOKUP(A1639,汇总!D:E,2,FALSE)","v":"https://github.com/selfteaching/the-craft-of-selfteaching"}]
["powerline/powerline",{"$f":"VLOOKUP(A1640,汇总!D:E,2,FALSE)","v":"https://github.com/powerline/powerline"}]
["wechaty/wechaty",{"$f":"VLOOKUP(A1641,汇总!D:E,2,FALSE)","v":"https://github.com/wechaty/wechaty"}]
["amazeui/amazeui",{"$f":"VLOOKUP(A1642,汇总!D:E,2,FALSE)","v":"https://github.com/amazeui/amazeui"}]
["react-native-maps/react-native-maps",{"$f":"VLOOKUP(A1643,汇总!D:E,2,FALSE)","v":"https://github.com/react-native-maps/react-native-maps"}]
["brix/crypto-js",{"$f":"VLOOKUP(A1644,汇总!D:E,2,FALSE)","v":"https://github.com/brix/crypto-js"}]
["shelljs/shelljs",{"$f":"VLOOKUP(A1645,汇总!D:E,2,FALSE)","v":"https://github.com/shelljs/shelljs"}]
["facebookarchive/AsyncDisplayKit",{"$f":"VLOOKUP(A1646,汇总!D:E,2,FALSE)","v":"https://github.com/facebookarchive/AsyncDisplayKit"}]
["CarGuo/gsy_github_app_flutter",{"$f":"VLOOKUP(A1647,汇总!D:E,2,FALSE)","v":"https://github.com/CarGuo/gsy_github_app_flutter"}]
["helix-editor/helix",{"$f":"VLOOKUP(A1648,汇总!D:E,2,FALSE)","v":"https://github.com/helix-editor/helix"}]
["vurtun/nuklear",{"$f":"VLOOKUP(A1649,汇总!D:E,2,FALSE)","v":"https://github.com/vurtun/nuklear"}]
["getgrav/grav",{"$f":"VLOOKUP(A1650,汇总!D:E,2,FALSE)","v":"https://github.com/getgrav/grav"}]
["pavlobu/deskreen",{"$f":"VLOOKUP(A1651,汇总!D:E,2,FALSE)","v":"https://github.com/pavlobu/deskreen"}]
["RobinLinus/snapdrop",{"$f":"VLOOKUP(A1652,汇总!D:E,2,FALSE)","v":"https://github.com/RobinLinus/snapdrop"}]
["MithrilJS/mithril.js",{"$f":"VLOOKUP(A1653,汇总!D:E,2,FALSE)","v":"https://github.com/MithrilJS/mithril.js"}]
["zalmoxisus/redux-devtools-extension",{"$f":"VLOOKUP(A1654,汇总!D:E,2,FALSE)","v":"https://github.com/zalmoxisus/redux-devtools-extension"}]
["philipwalton/flexbugs",{"$f":"VLOOKUP(A1655,汇总!D:E,2,FALSE)","v":"https://github.com/philipwalton/flexbugs"}]
["bcicen/ctop",{"$f":"VLOOKUP(A1656,汇总!D:E,2,FALSE)","v":"https://github.com/bcicen/ctop"}]
["Unity-Technologies/ml-agents",{"$f":"VLOOKUP(A1657,汇总!D:E,2,FALSE)","v":"https://github.com/Unity-Technologies/ml-agents"}]
["umijs/qiankun",{"$f":"VLOOKUP(A1658,汇总!D:E,2,FALSE)","v":"https://github.com/umijs/qiankun"}]
["eczarny/spectacle",{"$f":"VLOOKUP(A1659,汇总!D:E,2,FALSE)","v":"https://github.com/eczarny/spectacle"}]
["orhanobut/logger",{"$f":"VLOOKUP(A1660,汇总!D:E,2,FALSE)","v":"https://github.com/orhanobut/logger"}]
["bharathgs/Awesome-pytorch-list",{"$f":"VLOOKUP(A1661,汇总!D:E,2,FALSE)","v":"https://github.com/bharathgs/Awesome-pytorch-list"}]
["froala/design-blocks",{"$f":"VLOOKUP(A1662,汇总!D:E,2,FALSE)","v":"https://github.com/froala/design-blocks"}]
["qmk/qmk_firmware",{"$f":"VLOOKUP(A1663,汇总!D:E,2,FALSE)","v":"https://github.com/qmk/qmk_firmware"}]
["formatjs/formatjs",{"$f":"VLOOKUP(A1664,汇总!D:E,2,FALSE)","v":"https://github.com/formatjs/formatjs"}]
["Powerlevel9k/powerlevel9k",{"$f":"VLOOKUP(A1665,汇总!D:E,2,FALSE)","v":"https://github.com/Powerlevel9k/powerlevel9k"}]
["iCHAIT/awesome-macOS",{"$f":"VLOOKUP(A1666,汇总!D:E,2,FALSE)","v":"https://github.com/iCHAIT/awesome-macOS"}]
["kovidgoyal/calibre",{"$f":"VLOOKUP(A1667,汇总!D:E,2,FALSE)","v":"https://github.com/kovidgoyal/calibre"}]
["ether/etherpad-lite",{"$f":"VLOOKUP(A1668,汇总!D:E,2,FALSE)","v":"https://github.com/ether/etherpad-lite"}]
["dcloudio/mui",{"$f":"VLOOKUP(A1669,汇总!D:E,2,FALSE)","v":"https://github.com/dcloudio/mui"}]
["onnx/onnx",{"$f":"VLOOKUP(A1670,汇总!D:E,2,FALSE)","v":"https://github.com/onnx/onnx"}]
["youfou/wxpy",{"$f":"VLOOKUP(A1671,汇总!D:E,2,FALSE)","v":"https://github.com/youfou/wxpy"}]
["paperjs/paper.js",{"$f":"VLOOKUP(A1672,汇总!D:E,2,FALSE)","v":"https://github.com/paperjs/paper.js"}]
["flarum/flarum",{"$f":"VLOOKUP(A1673,汇总!D:E,2,FALSE)","v":"https://github.com/flarum/flarum"}]
["virgili0/Virgilio",{"$f":"VLOOKUP(A1674,汇总!D:E,2,FALSE)","v":"https://github.com/virgili0/Virgilio"}]
["dropbox/zxcvbn",{"$f":"VLOOKUP(A1675,汇总!D:E,2,FALSE)","v":"https://github.com/dropbox/zxcvbn"}]
["Rigellute/spotify-tui",{"$f":"VLOOKUP(A1676,汇总!D:E,2,FALSE)","v":"https://github.com/Rigellute/spotify-tui"}]
["mockito/mockito",{"$f":"VLOOKUP(A1677,汇总!D:E,2,FALSE)","v":"https://github.com/mockito/mockito"}]
["umami-software/umami",{"$f":"VLOOKUP(A1678,汇总!D:E,2,FALSE)","v":"https://github.com/umami-software/umami"}]
["GoogleContainerTools/skaffold",{"$f":"VLOOKUP(A1679,汇总!D:E,2,FALSE)","v":"https://github.com/GoogleContainerTools/skaffold"}]
["dutchcoders/transfer.sh",{"$f":"VLOOKUP(A1680,汇总!D:E,2,FALSE)","v":"https://github.com/dutchcoders/transfer.sh"}]
["DIYgod/DPlayer",{"$f":"VLOOKUP(A1681,汇总!D:E,2,FALSE)","v":"https://github.com/DIYgod/DPlayer"}]
["strongloop/loopback",{"$f":"VLOOKUP(A1682,汇总!D:E,2,FALSE)","v":"https://github.com/strongloop/loopback"}]
["Konloch/bytecode-viewer",{"$f":"VLOOKUP(A1683,汇总!D:E,2,FALSE)","v":"https://github.com/Konloch/bytecode-viewer"}]
["Foundry376/Mailspring",{"$f":"VLOOKUP(A1684,汇总!D:E,2,FALSE)","v":"https://github.com/Foundry376/Mailspring"}]
["trekhleb/learn-python",{"$f":"VLOOKUP(A1685,汇总!D:E,2,FALSE)","v":"https://github.com/trekhleb/learn-python"}]
["BrainJS/brain.js",{"$f":"VLOOKUP(A1686,汇总!D:E,2,FALSE)","v":"https://github.com/BrainJS/brain.js"}]
["chriskempson/tomorrow-theme",{"$f":"VLOOKUP(A1687,汇总!D:E,2,FALSE)","v":"https://github.com/chriskempson/tomorrow-theme"}]
["walter201230/Python",{"$f":"VLOOKUP(A1688,汇总!D:E,2,FALSE)","v":"https://github.com/walter201230/Python"}]
["prisma-archive/chromeless",{"$f":"VLOOKUP(A1689,汇总!D:E,2,FALSE)","v":"https://github.com/prisma-archive/chromeless"}]
["FLEXTool/FLEX",{"$f":"VLOOKUP(A1690,汇总!D:E,2,FALSE)","v":"https://github.com/FLEXTool/FLEX"}]
["jobbole/awesome-programming-books",{"$f":"VLOOKUP(A1691,汇总!D:E,2,FALSE)","v":"https://github.com/jobbole/awesome-programming-books"}]
["android/compose-samples",{"$f":"VLOOKUP(A1692,汇总!D:E,2,FALSE)","v":"https://github.com/android/compose-samples"}]
["arduino/Arduino",{"$f":"VLOOKUP(A1693,汇总!D:E,2,FALSE)","v":"https://github.com/arduino/Arduino"}]
["txthinking/brook",{"$f":"VLOOKUP(A1694,汇总!D:E,2,FALSE)","v":"https://github.com/txthinking/brook"}]
["Bigkoo/Android-PickerView",{"$f":"VLOOKUP(A1695,汇总!D:E,2,FALSE)","v":"https://github.com/Bigkoo/Android-PickerView"}]
["boltdb/bolt",{"$f":"VLOOKUP(A1696,汇总!D:E,2,FALSE)","v":"https://github.com/boltdb/bolt"}]
["louischatriot/nedb",{"$f":"VLOOKUP(A1697,汇总!D:E,2,FALSE)","v":"https://github.com/louischatriot/nedb"}]
["jsdoc/jsdoc",{"$f":"VLOOKUP(A1698,汇总!D:E,2,FALSE)","v":"https://github.com/jsdoc/jsdoc"}]
["mozilla/send",{"$f":"VLOOKUP(A1699,汇总!D:E,2,FALSE)","v":"https://github.com/mozilla/send"}]
["eclipse-vertx/vert.x",{"$f":"VLOOKUP(A1700,汇总!D:E,2,FALSE)","v":"https://github.com/eclipse-vertx/vert.x"}]
["Bash-it/bash-it",{"$f":"VLOOKUP(A1701,汇总!D:E,2,FALSE)","v":"https://github.com/Bash-it/bash-it"}]
["OpenGenus/cosmos",{"$f":"VLOOKUP(A1702,汇总!D:E,2,FALSE)","v":"https://github.com/OpenGenus/cosmos"}]
["cilium/cilium",{"$f":"VLOOKUP(A1703,汇总!D:E,2,FALSE)","v":"https://github.com/cilium/cilium"}]
["unbug/codelf",{"$f":"VLOOKUP(A1704,汇总!D:E,2,FALSE)","v":"https://github.com/unbug/codelf"}]
["ory/hydra",{"$f":"VLOOKUP(A1705,汇总!D:E,2,FALSE)","v":"https://github.com/ory/hydra"}]
["angular/angular-seed",{"$f":"VLOOKUP(A1706,汇总!D:E,2,FALSE)","v":"https://github.com/angular/angular-seed"}]
["TKkk-iOSer/WeChatPlugin-MacOS",{"$f":"VLOOKUP(A1707,汇总!D:E,2,FALSE)","v":"https://github.com/TKkk-iOSer/WeChatPlugin-MacOS"}]
["imthenachoman/How-To-Secure-A-Linux-Server",{"$f":"VLOOKUP(A1708,汇总!D:E,2,FALSE)","v":"https://github.com/imthenachoman/How-To-Secure-A-Linux-Server"}]
["diaspora/diaspora",{"$f":"VLOOKUP(A1709,汇总!D:E,2,FALSE)","v":"https://github.com/diaspora/diaspora"}]
["bvaughn/react-window",{"$f":"VLOOKUP(A1710,汇总!D:E,2,FALSE)","v":"https://github.com/bvaughn/react-window"}]
["chromium/chromium",{"$f":"VLOOKUP(A1711,汇总!D:E,2,FALSE)","v":"https://github.com/chromium/chromium"}]
["ramitsurana/awesome-kubernetes",{"$f":"VLOOKUP(A1712,汇总!D:E,2,FALSE)","v":"https://github.com/ramitsurana/awesome-kubernetes"}]
["umijs/umi",{"$f":"VLOOKUP(A1713,汇总!D:E,2,FALSE)","v":"https://github.com/umijs/umi"}]
["google/deepdream",{"$f":"VLOOKUP(A1714,汇总!D:E,2,FALSE)","v":"https://github.com/google/deepdream"}]
["wasmerio/wasmer",{"$f":"VLOOKUP(A1715,汇总!D:E,2,FALSE)","v":"https://github.com/wasmerio/wasmer"}]
["google/gvisor",{"$f":"VLOOKUP(A1716,汇总!D:E,2,FALSE)","v":"https://github.com/google/gvisor"}]
["labmlai/annotated_deep_learning_paper_implementations",{"$f":"VLOOKUP(A1717,汇总!D:E,2,FALSE)","v":"https://github.com/labmlai/annotated_deep_learning_paper_implementations"}]
["Curzibn/Luban",{"$f":"VLOOKUP(A1718,汇总!D:E,2,FALSE)","v":"https://github.com/Curzibn/Luban"}]
["elastic/logstash",{"$f":"VLOOKUP(A1719,汇总!D:E,2,FALSE)","v":"https://github.com/elastic/logstash"}]
["OptimalBits/bull",{"$f":"VLOOKUP(A1720,汇总!D:E,2,FALSE)","v":"https://github.com/OptimalBits/bull"}]
["moment/luxon",{"$f":"VLOOKUP(A1721,汇总!D:E,2,FALSE)","v":"https://github.com/moment/luxon"}]
["antlr/antlr4",{"$f":"VLOOKUP(A1722,汇总!D:E,2,FALSE)","v":"https://github.com/antlr/antlr4"}]
["reduxjs/redux-devtools",{"$f":"VLOOKUP(A1723,汇总!D:E,2,FALSE)","v":"https://github.com/reduxjs/redux-devtools"}]
["pomber/git-history",{"$f":"VLOOKUP(A1724,汇总!D:E,2,FALSE)","v":"https://github.com/pomber/git-history"}]
["dolthub/dolt",{"$f":"VLOOKUP(A1725,汇总!D:E,2,FALSE)","v":"https://github.com/dolthub/dolt"}]
["microsoft/dotnet",{"$f":"VLOOKUP(A1726,汇总!D:E,2,FALSE)","v":"https://github.com/microsoft/dotnet"}]
["unlock-music/unlock-music",{"$f":"VLOOKUP(A1727,汇总!D:E,2,FALSE)","v":"https://github.com/unlock-music/unlock-music"}]
["leandromoreira/digital_video_introduction",{"$f":"VLOOKUP(A1728,汇总!D:E,2,FALSE)","v":"https://github.com/leandromoreira/digital_video_introduction"}]
["Delgan/loguru",{"$f":"VLOOKUP(A1729,汇总!D:E,2,FALSE)","v":"https://github.com/Delgan/loguru"}]
["AdguardTeam/AdGuardHome",{"$f":"VLOOKUP(A1730,汇总!D:E,2,FALSE)","v":"https://github.com/AdguardTeam/AdGuardHome"}]
["expo/create-react-native-app",{"$f":"VLOOKUP(A1731,汇总!D:E,2,FALSE)","v":"https://github.com/expo/create-react-native-app"}]
["dariubs/GoBooks",{"$f":"VLOOKUP(A1732,汇总!D:E,2,FALSE)","v":"https://github.com/dariubs/GoBooks"}]
["adonisjs/core",{"$f":"VLOOKUP(A1733,汇总!D:E,2,FALSE)","v":"https://github.com/adonisjs/core"}]
["sorin-ionescu/prezto",{"$f":"VLOOKUP(A1734,汇总!D:E,2,FALSE)","v":"https://github.com/sorin-ionescu/prezto"}]
["Wilfred/difftastic",{"$f":"VLOOKUP(A1735,汇总!D:E,2,FALSE)","v":"https://github.com/Wilfred/difftastic"}]
["pallets/click",{"$f":"VLOOKUP(A1736,汇总!D:E,2,FALSE)","v":"https://github.com/pallets/click"}]
["xtaci/kcptun",{"$f":"VLOOKUP(A1737,汇总!D:E,2,FALSE)","v":"https://github.com/xtaci/kcptun"}]
["golang/dep",{"$f":"VLOOKUP(A1738,汇总!D:E,2,FALSE)","v":"https://github.com/golang/dep"}]
["koekeishiya/yabai",{"$f":"VLOOKUP(A1739,汇总!D:E,2,FALSE)","v":"https://github.com/koekeishiya/yabai"}]
["qax-os/excelize",{"$f":"VLOOKUP(A1740,汇总!D:E,2,FALSE)","v":"https://github.com/qax-os/excelize"}]
["arialdomartini/Back-End-Developer-Interview-Questions",{"$f":"VLOOKUP(A1741,汇总!D:E,2,FALSE)","v":"https://github.com/arialdomartini/Back-End-Developer-Interview-Questions"}]
["searx/searx",{"$f":"VLOOKUP(A1742,汇总!D:E,2,FALSE)","v":"https://github.com/searx/searx"}]
["rubocop/rubocop",{"$f":"VLOOKUP(A1743,汇总!D:E,2,FALSE)","v":"https://github.com/rubocop/rubocop"}]
["answershuto/learnVue",{"$f":"VLOOKUP(A1744,汇总!D:E,2,FALSE)","v":"https://github.com/answershuto/learnVue"}]
["kaldi-asr/kaldi",{"$f":"VLOOKUP(A1745,汇总!D:E,2,FALSE)","v":"https://github.com/kaldi-asr/kaldi"}]
["webpack-contrib/webpack-bundle-analyzer",{"$f":"VLOOKUP(A1746,汇总!D:E,2,FALSE)","v":"https://github.com/webpack-contrib/webpack-bundle-analyzer"}]
["video-dev/hls.js",{"$f":"VLOOKUP(A1747,汇总!D:E,2,FALSE)","v":"https://github.com/video-dev/hls.js"}]
["react-dates/react-dates",{"$f":"VLOOKUP(A1748,汇总!D:E,2,FALSE)","v":"https://github.com/react-dates/react-dates"}]
["frappe/erpnext",{"$f":"VLOOKUP(A1749,汇总!D:E,2,FALSE)","v":"https://github.com/frappe/erpnext"}]
["tinymce/tinymce",{"$f":"VLOOKUP(A1750,汇总!D:E,2,FALSE)","v":"https://github.com/tinymce/tinymce"}]
["spree/spree",{"$f":"VLOOKUP(A1751,汇总!D:E,2,FALSE)","v":"https://github.com/spree/spree"}]
["Tonejs/Tone.js",{"$f":"VLOOKUP(A1752,汇总!D:E,2,FALSE)","v":"https://github.com/Tonejs/Tone.js"}]
["LuckSiege/PictureSelector",{"$f":"VLOOKUP(A1753,汇总!D:E,2,FALSE)","v":"https://github.com/LuckSiege/PictureSelector"}]
["OI-wiki/OI-wiki",{"$f":"VLOOKUP(A1754,汇总!D:E,2,FALSE)","v":"https://github.com/OI-wiki/OI-wiki"}]
["hyb1996/Auto.js",{"$f":"VLOOKUP(A1755,汇总!D:E,2,FALSE)","v":"https://github.com/hyb1996/Auto.js"}]
["tgbot-collection/YYeTsBot",{"$f":"VLOOKUP(A1756,汇总!D:E,2,FALSE)","v":"https://github.com/tgbot-collection/YYeTsBot"}]
["tikv/tikv",{"$f":"VLOOKUP(A1757,汇总!D:E,2,FALSE)","v":"https://github.com/tikv/tikv"}]
["FaridSafi/react-native-gifted-chat",{"$f":"VLOOKUP(A1758,汇总!D:E,2,FALSE)","v":"https://github.com/FaridSafi/react-native-gifted-chat"}]
["nicklockwood/iCarousel",{"$f":"VLOOKUP(A1759,汇总!D:E,2,FALSE)","v":"https://github.com/nicklockwood/iCarousel"}]
["CosmicMind/Material",{"$f":"VLOOKUP(A1760,汇总!D:E,2,FALSE)","v":"https://github.com/CosmicMind/Material"}]
["tpope/vim-pathogen",{"$f":"VLOOKUP(A1761,汇总!D:E,2,FALSE)","v":"https://github.com/tpope/vim-pathogen"}]
["wailsapp/wails",{"$f":"VLOOKUP(A1762,汇总!D:E,2,FALSE)","v":"https://github.com/wailsapp/wails"}]
["codesandbox/codesandbox-client",{"$f":"VLOOKUP(A1763,汇总!D:E,2,FALSE)","v":"https://github.com/codesandbox/codesandbox-client"}]
["rjsf-team/react-jsonschema-form",{"$f":"VLOOKUP(A1764,汇总!D:E,2,FALSE)","v":"https://github.com/rjsf-team/react-jsonschema-form"}]
["sqshq/piggymetrics",{"$f":"VLOOKUP(A1765,汇总!D:E,2,FALSE)","v":"https://github.com/sqshq/piggymetrics"}]
["roots/sage",{"$f":"VLOOKUP(A1766,汇总!D:E,2,FALSE)","v":"https://github.com/roots/sage"}]
["PuerkitoBio/goquery",{"$f":"VLOOKUP(A1767,汇总!D:E,2,FALSE)","v":"https://github.com/PuerkitoBio/goquery"}]
["kubeflow/kubeflow",{"$f":"VLOOKUP(A1768,汇总!D:E,2,FALSE)","v":"https://github.com/kubeflow/kubeflow"}]
["upptime/upptime",{"$f":"VLOOKUP(A1769,汇总!D:E,2,FALSE)","v":"https://github.com/upptime/upptime"}]
["1995parham/github-do-not-ban-us",{"$f":"VLOOKUP(A1770,汇总!D:E,2,FALSE)","v":"https://github.com/1995parham/github-do-not-ban-us"}]
["Miserlou/Zappa",{"$f":"VLOOKUP(A1771,汇总!D:E,2,FALSE)","v":"https://github.com/Miserlou/Zappa"}]
["apexcharts/apexcharts.js",{"$f":"VLOOKUP(A1772,汇总!D:E,2,FALSE)","v":"https://github.com/apexcharts/apexcharts.js"}]
["bettercap/bettercap",{"$f":"VLOOKUP(A1773,汇总!D:E,2,FALSE)","v":"https://github.com/bettercap/bettercap"}]
["davidshimjs/qrcodejs",{"$f":"VLOOKUP(A1774,汇总!D:E,2,FALSE)","v":"https://github.com/davidshimjs/qrcodejs"}]
["ramsey/uuid",{"$f":"VLOOKUP(A1775,汇总!D:E,2,FALSE)","v":"https://github.com/ramsey/uuid"}]
["containrrr/watchtower",{"$f":"VLOOKUP(A1776,汇总!D:E,2,FALSE)","v":"https://github.com/containrrr/watchtower"}]
["OpenRA/OpenRA",{"$f":"VLOOKUP(A1777,汇总!D:E,2,FALSE)","v":"https://github.com/OpenRA/OpenRA"}]
["reactioncommerce/reaction",{"$f":"VLOOKUP(A1778,汇总!D:E,2,FALSE)","v":"https://github.com/reactioncommerce/reaction"}]
["phobal/ivideo",{"$f":"VLOOKUP(A1779,汇总!D:E,2,FALSE)","v":"https://github.com/phobal/ivideo"}]
["BrowserSync/browser-sync",{"$f":"VLOOKUP(A1780,汇总!D:E,2,FALSE)","v":"https://github.com/BrowserSync/browser-sync"}]
["Tamsiree/RxTool",{"$f":"VLOOKUP(A1781,汇总!D:E,2,FALSE)","v":"https://github.com/Tamsiree/RxTool"}]
["segmentio/evergreen",{"$f":"VLOOKUP(A1782,汇总!D:E,2,FALSE)","v":"https://github.com/segmentio/evergreen"}]
["denisidoro/navi",{"$f":"VLOOKUP(A1783,汇总!D:E,2,FALSE)","v":"https://github.com/denisidoro/navi"}]
["getlantern/lantern",{"$f":"VLOOKUP(A1784,汇总!D:E,2,FALSE)","v":"https://github.com/getlantern/lantern"}]
["nextauthjs/next-auth",{"$f":"VLOOKUP(A1785,汇总!D:E,2,FALSE)","v":"https://github.com/nextauthjs/next-auth"}]
["XiangLinPro/IT_book",{"$f":"VLOOKUP(A1786,汇总!D:E,2,FALSE)","v":"https://github.com/XiangLinPro/IT_book"}]
["scottbez1/smartknob",{"$f":"VLOOKUP(A1787,汇总!D:E,2,FALSE)","v":"https://github.com/scottbez1/smartknob"}]
["yujiangshui/A-Programmers-Guide-to-English",{"$f":"VLOOKUP(A1788,汇总!D:E,2,FALSE)","v":"https://github.com/yujiangshui/A-Programmers-Guide-to-English"}]
["argoproj/argo-workflows",{"$f":"VLOOKUP(A1789,汇总!D:E,2,FALSE)","v":"https://github.com/argoproj/argo-workflows"}]
["nusr/hacker-laws-zh",{"$f":"VLOOKUP(A1790,汇总!D:E,2,FALSE)","v":"https://github.com/nusr/hacker-laws-zh"}]
["ShangtongZhang/reinforcement-learning-an-introduction",{"$f":"VLOOKUP(A1791,汇总!D:E,2,FALSE)","v":"https://github.com/ShangtongZhang/reinforcement-learning-an-introduction"}]
["krasimir/react-in-patterns",{"$f":"VLOOKUP(A1792,汇总!D:E,2,FALSE)","v":"https://github.com/krasimir/react-in-patterns"}]
["tj/co",{"$f":"VLOOKUP(A1793,汇总!D:E,2,FALSE)","v":"https://github.com/tj/co"}]
["graphql/dataloader",{"$f":"VLOOKUP(A1794,汇总!D:E,2,FALSE)","v":"https://github.com/graphql/dataloader"}]
["dotnet/efcore",{"$f":"VLOOKUP(A1795,汇总!D:E,2,FALSE)","v":"https://github.com/dotnet/efcore"}]
["nexe/nexe",{"$f":"VLOOKUP(A1796,汇总!D:E,2,FALSE)","v":"https://github.com/nexe/nexe"}]
["apple/foundationdb",{"$f":"VLOOKUP(A1797,汇总!D:E,2,FALSE)","v":"https://github.com/apple/foundationdb"}]
["peterq/pan-light",{"$f":"VLOOKUP(A1798,汇总!D:E,2,FALSE)","v":"https://github.com/peterq/pan-light"}]
["jaredreich/pell",{"$f":"VLOOKUP(A1799,汇总!D:E,2,FALSE)","v":"https://github.com/jaredreich/pell"}]
["waditu/tushare",{"$f":"VLOOKUP(A1800,汇总!D:E,2,FALSE)","v":"https://github.com/waditu/tushare"}]
["karma-runner/karma",{"$f":"VLOOKUP(A1801,汇总!D:E,2,FALSE)","v":"https://github.com/karma-runner/karma"}]
["Hunlongyu/ZY-Player",{"$f":"VLOOKUP(A1802,汇总!D:E,2,FALSE)","v":"https://github.com/Hunlongyu/ZY-Player"}]
["skywind3000/kcp",{"$f":"VLOOKUP(A1803,汇总!D:E,2,FALSE)","v":"https://github.com/skywind3000/kcp"}]
["d2-projects/d2-admin",{"$f":"VLOOKUP(A1804,汇总!D:E,2,FALSE)","v":"https://github.com/d2-projects/d2-admin"}]
["WZMIAOMIAO/deep-learning-for-image-processing",{"$f":"VLOOKUP(A1805,汇总!D:E,2,FALSE)","v":"https://github.com/WZMIAOMIAO/deep-learning-for-image-processing"}]
["SwifterSwift/SwifterSwift",{"$f":"VLOOKUP(A1806,汇总!D:E,2,FALSE)","v":"https://github.com/SwifterSwift/SwifterSwift"}]
["s-matyukevich/raspberry-pi-os",{"$f":"VLOOKUP(A1807,汇总!D:E,2,FALSE)","v":"https://github.com/s-matyukevich/raspberry-pi-os"}]
["LightTable/LightTable",{"$f":"VLOOKUP(A1808,汇总!D:E,2,FALSE)","v":"https://github.com/LightTable/LightTable"}]
["marko-js/marko",{"$f":"VLOOKUP(A1809,汇总!D:E,2,FALSE)","v":"https://github.com/marko-js/marko"}]
["aurelia/framework",{"$f":"VLOOKUP(A1810,汇总!D:E,2,FALSE)","v":"https://github.com/aurelia/framework"}]
["RelaxedJS/ReLaXed",{"$f":"VLOOKUP(A1811,汇总!D:E,2,FALSE)","v":"https://github.com/RelaxedJS/ReLaXed"}]
["ent/ent",{"$f":"VLOOKUP(A1812,汇总!D:E,2,FALSE)","v":"https://github.com/ent/ent"}]
["nock/nock",{"$f":"VLOOKUP(A1813,汇总!D:E,2,FALSE)","v":"https://github.com/nock/nock"}]
["alex000kim/nsfw_data_scraper",{"$f":"VLOOKUP(A1814,汇总!D:E,2,FALSE)","v":"https://github.com/alex000kim/nsfw_data_scraper"}]
["golang/groupcache",{"$f":"VLOOKUP(A1815,汇总!D:E,2,FALSE)","v":"https://github.com/golang/groupcache"}]
["sinatra/sinatra",{"$f":"VLOOKUP(A1816,汇总!D:E,2,FALSE)","v":"https://github.com/sinatra/sinatra"}]
["pjialin/py12306",{"$f":"VLOOKUP(A1817,汇总!D:E,2,FALSE)","v":"https://github.com/pjialin/py12306"}]
["Homebrew/homebrew-core",{"$f":"VLOOKUP(A1818,汇总!D:E,2,FALSE)","v":"https://github.com/Homebrew/homebrew-core"}]
["FiloSottile/age",{"$f":"VLOOKUP(A1819,汇总!D:E,2,FALSE)","v":"https://github.com/FiloSottile/age"}]
["RPCS3/rpcs3",{"$f":"VLOOKUP(A1820,汇总!D:E,2,FALSE)","v":"https://github.com/RPCS3/rpcs3"}]
["single-spa/single-spa",{"$f":"VLOOKUP(A1821,汇总!D:E,2,FALSE)","v":"https://github.com/single-spa/single-spa"}]
["kubernetes/dashboard",{"$f":"VLOOKUP(A1822,汇总!D:E,2,FALSE)","v":"https://github.com/kubernetes/dashboard"}]
["java-decompiler/jd-gui",{"$f":"VLOOKUP(A1823,汇总!D:E,2,FALSE)","v":"https://github.com/java-decompiler/jd-gui"}]
["bailicangdu/node-elm",{"$f":"VLOOKUP(A1824,汇总!D:E,2,FALSE)","v":"https://github.com/bailicangdu/node-elm"}]
["compiler-explorer/compiler-explorer",{"$f":"VLOOKUP(A1825,汇总!D:E,2,FALSE)","v":"https://github.com/compiler-explorer/compiler-explorer"}]
["mli/paper-reading",{"$f":"VLOOKUP(A1826,汇总!D:E,2,FALSE)","v":"https://github.com/mli/paper-reading"}]
["rasbt/python-machine-learning-book",{"$f":"VLOOKUP(A1827,汇总!D:E,2,FALSE)","v":"https://github.com/rasbt/python-machine-learning-book"}]
["ajv-validator/ajv",{"$f":"VLOOKUP(A1828,汇总!D:E,2,FALSE)","v":"https://github.com/ajv-validator/ajv"}]
["jhuangtw/xg2xg",{"$f":"VLOOKUP(A1829,汇总!D:E,2,FALSE)","v":"https://github.com/jhuangtw/xg2xg"}]
["ianyh/Amethyst",{"$f":"VLOOKUP(A1830,汇总!D:E,2,FALSE)","v":"https://github.com/ianyh/Amethyst"}]
["ml-tooling/best-of-ml-python",{"$f":"VLOOKUP(A1831,汇总!D:E,2,FALSE)","v":"https://github.com/ml-tooling/best-of-ml-python"}]
["sindresorhus/pure",{"$f":"VLOOKUP(A1832,汇总!D:E,2,FALSE)","v":"https://github.com/sindresorhus/pure"}]
["apache/pulsar",{"$f":"VLOOKUP(A1833,汇总!D:E,2,FALSE)","v":"https://github.com/apache/pulsar"}]
["alibaba/tengine",{"$f":"VLOOKUP(A1834,汇总!D:E,2,FALSE)","v":"https://github.com/alibaba/tengine"}]
["tensorflow/tfjs-models",{"$f":"VLOOKUP(A1835,汇总!D:E,2,FALSE)","v":"https://github.com/tensorflow/tfjs-models"}]
["facebook/lexical",{"$f":"VLOOKUP(A1836,汇总!D:E,2,FALSE)","v":"https://github.com/facebook/lexical"}]
["pybind/pybind11",{"$f":"VLOOKUP(A1837,汇总!D:E,2,FALSE)","v":"https://github.com/pybind/pybind11"}]
["unixorn/awesome-zsh-plugins",{"$f":"VLOOKUP(A1838,汇总!D:E,2,FALSE)","v":"https://github.com/unixorn/awesome-zsh-plugins"}]
["networkx/networkx",{"$f":"VLOOKUP(A1839,汇总!D:E,2,FALSE)","v":"https://github.com/networkx/networkx"}]
["alexjc/neural-enhance",{"$f":"VLOOKUP(A1840,汇总!D:E,2,FALSE)","v":"https://github.com/alexjc/neural-enhance"}]
["nats-io/nats-server",{"$f":"VLOOKUP(A1841,汇总!D:E,2,FALSE)","v":"https://github.com/nats-io/nats-server"}]
["lucidrains/vit-pytorch",{"$f":"VLOOKUP(A1842,汇总!D:E,2,FALSE)","v":"https://github.com/lucidrains/vit-pytorch"}]
["Python-World/python-mini-projects",{"$f":"VLOOKUP(A1843,汇总!D:E,2,FALSE)","v":"https://github.com/Python-World/python-mini-projects"}]
["openai/gpt-3",{"$f":"VLOOKUP(A1844,汇总!D:E,2,FALSE)","v":"https://github.com/openai/gpt-3"}]
["tinygo-org/tinygo",{"$f":"VLOOKUP(A1845,汇总!D:E,2,FALSE)","v":"https://github.com/tinygo-org/tinygo"}]
["Tencent/VasSonic",{"$f":"VLOOKUP(A1846,汇总!D:E,2,FALSE)","v":"https://github.com/Tencent/VasSonic"}]
["beekeeper-studio/beekeeper-studio",{"$f":"VLOOKUP(A1847,汇总!D:E,2,FALSE)","v":"https://github.com/beekeeper-studio/beekeeper-studio"}]
["petehunt/react-howto",{"$f":"VLOOKUP(A1848,汇总!D:E,2,FALSE)","v":"https://github.com/petehunt/react-howto"}]
["tmuxinator/tmuxinator",{"$f":"VLOOKUP(A1849,汇总!D:E,2,FALSE)","v":"https://github.com/tmuxinator/tmuxinator"}]
["twitter/twemproxy",{"$f":"VLOOKUP(A1850,汇总!D:E,2,FALSE)","v":"https://github.com/twitter/twemproxy"}]
["leemunroe/responsive-html-email-template",{"$f":"VLOOKUP(A1851,汇总!D:E,2,FALSE)","v":"https://github.com/leemunroe/responsive-html-email-template"}]
["mikepenz/MaterialDrawer",{"$f":"VLOOKUP(A1852,汇总!D:E,2,FALSE)","v":"https://github.com/mikepenz/MaterialDrawer"}]
["veler/DevToys",{"$f":"VLOOKUP(A1853,汇总!D:E,2,FALSE)","v":"https://github.com/veler/DevToys"}]
["PHPOffice/PhpSpreadsheet",{"$f":"VLOOKUP(A1854,汇总!D:E,2,FALSE)","v":"https://github.com/PHPOffice/PhpSpreadsheet"}]
["NetEase/pomelo",{"$f":"VLOOKUP(A1855,汇总!D:E,2,FALSE)","v":"https://github.com/NetEase/pomelo"}]
["geektutu/7days-golang",{"$f":"VLOOKUP(A1856,汇总!D:E,2,FALSE)","v":"https://github.com/geektutu/7days-golang"}]
["hotwired/stimulus",{"$f":"VLOOKUP(A1857,汇总!D:E,2,FALSE)","v":"https://github.com/hotwired/stimulus"}]
["Rapptz/discord.py",{"$f":"VLOOKUP(A1858,汇总!D:E,2,FALSE)","v":"https://github.com/Rapptz/discord.py"}]
["shengcaishizhan/kkndme_tianya",{"$f":"VLOOKUP(A1859,汇总!D:E,2,FALSE)","v":"https://github.com/shengcaishizhan/kkndme_tianya"}]
["graphile/postgraphile",{"$f":"VLOOKUP(A1860,汇总!D:E,2,FALSE)","v":"https://github.com/graphile/postgraphile"}]
["TheAlgorithms/Rust",{"$f":"VLOOKUP(A1861,汇总!D:E,2,FALSE)","v":"https://github.com/TheAlgorithms/Rust"}]
["cloudwu/skynet",{"$f":"VLOOKUP(A1862,汇总!D:E,2,FALSE)","v":"https://github.com/cloudwu/skynet"}]
["halfrost/Halfrost-Field",{"$f":"VLOOKUP(A1863,汇总!D:E,2,FALSE)","v":"https://github.com/halfrost/Halfrost-Field"}]
["h4cc/awesome-elixir",{"$f":"VLOOKUP(A1864,汇总!D:E,2,FALSE)","v":"https://github.com/h4cc/awesome-elixir"}]
["go-martini/martini",{"$f":"VLOOKUP(A1865,汇总!D:E,2,FALSE)","v":"https://github.com/go-martini/martini"}]
["fluent/fluentd",{"$f":"VLOOKUP(A1866,汇总!D:E,2,FALSE)","v":"https://github.com/fluent/fluentd"}]
["meolu/walle-web",{"$f":"VLOOKUP(A1867,汇总!D:E,2,FALSE)","v":"https://github.com/meolu/walle-web"}]
["weilanwl/ColorUI",{"$f":"VLOOKUP(A1868,汇总!D:E,2,FALSE)","v":"https://github.com/weilanwl/ColorUI"}]
["laradock/laradock",{"$f":"VLOOKUP(A1869,汇总!D:E,2,FALSE)","v":"https://github.com/laradock/laradock"}]
["xmartlabs/Eureka",{"$f":"VLOOKUP(A1870,汇总!D:E,2,FALSE)","v":"https://github.com/xmartlabs/Eureka"}]
["graykode/nlp-tutorial",{"$f":"VLOOKUP(A1871,汇总!D:E,2,FALSE)","v":"https://github.com/graykode/nlp-tutorial"}]
["projectlombok/lombok",{"$f":"VLOOKUP(A1872,汇总!D:E,2,FALSE)","v":"https://github.com/projectlombok/lombok"}]
["gopherjs/gopherjs",{"$f":"VLOOKUP(A1873,汇总!D:E,2,FALSE)","v":"https://github.com/gopherjs/gopherjs"}]
["google/brotli",{"$f":"VLOOKUP(A1874,汇总!D:E,2,FALSE)","v":"https://github.com/google/brotli"}]
["go-playground/validator",{"$f":"VLOOKUP(A1875,汇总!D:E,2,FALSE)","v":"https://github.com/go-playground/validator"}]
["Netflix/eureka",{"$f":"VLOOKUP(A1876,汇总!D:E,2,FALSE)","v":"https://github.com/Netflix/eureka"}]
["reactos/reactos",{"$f":"VLOOKUP(A1877,汇总!D:E,2,FALSE)","v":"https://github.com/reactos/reactos"}]
["google/guice",{"$f":"VLOOKUP(A1878,汇总!D:E,2,FALSE)","v":"https://github.com/google/guice"}]
["tonybeltramelli/pix2code",{"$f":"VLOOKUP(A1879,汇总!D:E,2,FALSE)","v":"https://github.com/tonybeltramelli/pix2code"}]
["PHPOffice/PHPExcel",{"$f":"VLOOKUP(A1880,汇总!D:E,2,FALSE)","v":"https://github.com/PHPOffice/PHPExcel"}]
["Juanpe/SkeletonView",{"$f":"VLOOKUP(A1881,汇总!D:E,2,FALSE)","v":"https://github.com/Juanpe/SkeletonView"}]
["ManimCommunity/manim",{"$f":"VLOOKUP(A1882,汇总!D:E,2,FALSE)","v":"https://github.com/ManimCommunity/manim"}]
["adobe-fonts/source-han-sans",{"$f":"VLOOKUP(A1883,汇总!D:E,2,FALSE)","v":"https://github.com/adobe-fonts/source-han-sans"}]
["github/docs",{"$f":"VLOOKUP(A1884,汇总!D:E,2,FALSE)","v":"https://github.com/github/docs"}]
["shengqiangzhang/examples-of-web-crawlers",{"$f":"VLOOKUP(A1885,汇总!D:E,2,FALSE)","v":"https://github.com/shengqiangzhang/examples-of-web-crawlers"}]
["jessepollak/card",{"$f":"VLOOKUP(A1886,汇总!D:E,2,FALSE)","v":"https://github.com/jessepollak/card"}]
["Matt-Esch/virtual-dom",{"$f":"VLOOKUP(A1887,汇总!D:E,2,FALSE)","v":"https://github.com/Matt-Esch/virtual-dom"}]
["scottjehl/Respond",{"$f":"VLOOKUP(A1888,汇总!D:E,2,FALSE)","v":"https://github.com/scottjehl/Respond"}]
["onivim/oni",{"$f":"VLOOKUP(A1889,汇总!D:E,2,FALSE)","v":"https://github.com/onivim/oni"}]
["mfornos/awesome-microservices",{"$f":"VLOOKUP(A1890,汇总!D:E,2,FALSE)","v":"https://github.com/mfornos/awesome-microservices"}]
["davisking/dlib",{"$f":"VLOOKUP(A1891,汇总!D:E,2,FALSE)","v":"https://github.com/davisking/dlib"}]
["FriendsOfPHP/PHP-CS-Fixer",{"$f":"VLOOKUP(A1892,汇总!D:E,2,FALSE)","v":"https://github.com/FriendsOfPHP/PHP-CS-Fixer"}]
["polybar/polybar",{"$f":"VLOOKUP(A1893,汇总!D:E,2,FALSE)","v":"https://github.com/polybar/polybar"}]
["ddbourgin/numpy-ml",{"$f":"VLOOKUP(A1894,汇总!D:E,2,FALSE)","v":"https://github.com/ddbourgin/numpy-ml"}]
["ansible/awx",{"$f":"VLOOKUP(A1895,汇总!D:E,2,FALSE)","v":"https://github.com/ansible/awx"}]
["mail-in-a-box/mailinabox",{"$f":"VLOOKUP(A1896,汇总!D:E,2,FALSE)","v":"https://github.com/mail-in-a-box/mailinabox"}]
["koreader/koreader",{"$f":"VLOOKUP(A1897,汇总!D:E,2,FALSE)","v":"https://github.com/koreader/koreader"}]
["gabrielecirulli/2048",{"$f":"VLOOKUP(A1898,汇总!D:E,2,FALSE)","v":"https://github.com/gabrielecirulli/2048"}]
["macrozheng/mall-learning",{"$f":"VLOOKUP(A1899,汇总!D:E,2,FALSE)","v":"https://github.com/macrozheng/mall-learning"}]
["micro/micro",{"$f":"VLOOKUP(A1900,汇总!D:E,2,FALSE)","v":"https://github.com/micro/micro"}]
["coreui/coreui-free-bootstrap-admin-template",{"$f":"VLOOKUP(A1901,汇总!D:E,2,FALSE)","v":"https://github.com/coreui/coreui-free-bootstrap-admin-template"}]
["opendigg/awesome-github-vue",{"$f":"VLOOKUP(A1902,汇总!D:E,2,FALSE)","v":"https://github.com/opendigg/awesome-github-vue"}]
["CodeSeven/toastr",{"$f":"VLOOKUP(A1903,汇总!D:E,2,FALSE)","v":"https://github.com/CodeSeven/toastr"}]
["slimphp/Slim",{"$f":"VLOOKUP(A1904,汇总!D:E,2,FALSE)","v":"https://github.com/slimphp/Slim"}]
["primer/css",{"$f":"VLOOKUP(A1905,汇总!D:E,2,FALSE)","v":"https://github.com/primer/css"}]
["tomnomnom/gron",{"$f":"VLOOKUP(A1906,汇总!D:E,2,FALSE)","v":"https://github.com/tomnomnom/gron"}]
["antvis/G2",{"$f":"VLOOKUP(A1907,汇总!D:E,2,FALSE)","v":"https://github.com/antvis/G2"}]
["junyanz/CycleGAN",{"$f":"VLOOKUP(A1908,汇总!D:E,2,FALSE)","v":"https://github.com/junyanz/CycleGAN"}]
["wenzhixin/bootstrap-table",{"$f":"VLOOKUP(A1909,汇总!D:E,2,FALSE)","v":"https://github.com/wenzhixin/bootstrap-table"}]
["allenwong/30DaysofSwift",{"$f":"VLOOKUP(A1910,汇总!D:E,2,FALSE)","v":"https://github.com/allenwong/30DaysofSwift"}]
["json-iterator/go",{"$f":"VLOOKUP(A1911,汇总!D:E,2,FALSE)","v":"https://github.com/json-iterator/go"}]
["pagehelper/Mybatis-PageHelper",{"$f":"VLOOKUP(A1912,汇总!D:E,2,FALSE)","v":"https://github.com/pagehelper/Mybatis-PageHelper"}]
["luin/ioredis",{"$f":"VLOOKUP(A1913,汇总!D:E,2,FALSE)","v":"https://github.com/luin/ioredis"}]
["phpstan/phpstan",{"$f":"VLOOKUP(A1914,汇总!D:E,2,FALSE)","v":"https://github.com/phpstan/phpstan"}]
["markyun/My-blog",{"$f":"VLOOKUP(A1915,汇总!D:E,2,FALSE)","v":"https://github.com/markyun/My-blog"}]
["bang590/JSPatch",{"$f":"VLOOKUP(A1916,汇总!D:E,2,FALSE)","v":"https://github.com/bang590/JSPatch"}]
["vectordotdev/vector",{"$f":"VLOOKUP(A1917,汇总!D:E,2,FALSE)","v":"https://github.com/vectordotdev/vector"}]
["EOSIO/eos",{"$f":"VLOOKUP(A1918,汇总!D:E,2,FALSE)","v":"https://github.com/EOSIO/eos"}]
["morhetz/gruvbox",{"$f":"VLOOKUP(A1919,汇总!D:E,2,FALSE)","v":"https://github.com/morhetz/gruvbox"}]
["Yalantis/uCrop",{"$f":"VLOOKUP(A1920,汇总!D:E,2,FALSE)","v":"https://github.com/Yalantis/uCrop"}]
["vxunderground/MalwareSourceCode",{"$f":"VLOOKUP(A1921,汇总!D:E,2,FALSE)","v":"https://github.com/vxunderground/MalwareSourceCode"}]
["dgraph-io/badger",{"$f":"VLOOKUP(A1922,汇总!D:E,2,FALSE)","v":"https://github.com/dgraph-io/badger"}]
["ptmt/react-native-macos",{"$f":"VLOOKUP(A1923,汇总!D:E,2,FALSE)","v":"https://github.com/ptmt/react-native-macos"}]
["realm/realm-java",{"$f":"VLOOKUP(A1924,汇总!D:E,2,FALSE)","v":"https://github.com/realm/realm-java"}]
["tpope/vim-surround",{"$f":"VLOOKUP(A1925,汇总!D:E,2,FALSE)","v":"https://github.com/tpope/vim-surround"}]
["Mantle/Mantle",{"$f":"VLOOKUP(A1926,汇总!D:E,2,FALSE)","v":"https://github.com/Mantle/Mantle"}]
["cobiwave/simplefolio",{"$f":"VLOOKUP(A1927,汇总!D:E,2,FALSE)","v":"https://github.com/cobiwave/simplefolio"}]
["stascorp/rdpwrap",{"$f":"VLOOKUP(A1928,汇总!D:E,2,FALSE)","v":"https://github.com/stascorp/rdpwrap"}]
["octocat/Spoon-Knife",{"$f":"VLOOKUP(A1929,汇总!D:E,2,FALSE)","v":"https://github.com/octocat/Spoon-Knife"}]
["Kotlin/kotlinx.coroutines",{"$f":"VLOOKUP(A1930,汇总!D:E,2,FALSE)","v":"https://github.com/Kotlin/kotlinx.coroutines"}]
["octalmage/robotjs",{"$f":"VLOOKUP(A1931,汇总!D:E,2,FALSE)","v":"https://github.com/octalmage/robotjs"}]
["chiraggude/awesome-laravel",{"$f":"VLOOKUP(A1932,汇总!D:E,2,FALSE)","v":"https://github.com/chiraggude/awesome-laravel"}]
["elastic/beats",{"$f":"VLOOKUP(A1933,汇总!D:E,2,FALSE)","v":"https://github.com/elastic/beats"}]
["github/opensource.guide",{"$f":"VLOOKUP(A1934,汇总!D:E,2,FALSE)","v":"https://github.com/github/opensource.guide"}]
["dimsemenov/Magnific-Popup",{"$f":"VLOOKUP(A1935,汇总!D:E,2,FALSE)","v":"https://github.com/dimsemenov/Magnific-Popup"}]
["akveo/blur-admin",{"$f":"VLOOKUP(A1936,汇总!D:E,2,FALSE)","v":"https://github.com/akveo/blur-admin"}]
["255kb/stack-on-a-budget",{"$f":"VLOOKUP(A1937,汇总!D:E,2,FALSE)","v":"https://github.com/255kb/stack-on-a-budget"}]
["newTendermint/awesome-bigdata",{"$f":"VLOOKUP(A1938,汇总!D:E,2,FALSE)","v":"https://github.com/newTendermint/awesome-bigdata"}]
["jamiebuilds/babel-handbook",{"$f":"VLOOKUP(A1939,汇总!D:E,2,FALSE)","v":"https://github.com/jamiebuilds/babel-handbook"}]
["vim-syntastic/syntastic",{"$f":"VLOOKUP(A1940,汇总!D:E,2,FALSE)","v":"https://github.com/vim-syntastic/syntastic"}]
["SFTtech/openage",{"$f":"VLOOKUP(A1941,汇总!D:E,2,FALSE)","v":"https://github.com/SFTtech/openage"}]
["tachyons-css/tachyons",{"$f":"VLOOKUP(A1942,汇总!D:E,2,FALSE)","v":"https://github.com/tachyons-css/tachyons"}]
["golangci/golangci-lint",{"$f":"VLOOKUP(A1943,汇总!D:E,2,FALSE)","v":"https://github.com/golangci/golangci-lint"}]
["diegomura/react-pdf",{"$f":"VLOOKUP(A1944,汇总!D:E,2,FALSE)","v":"https://github.com/diegomura/react-pdf"}]
["squidfunk/mkdocs-material",{"$f":"VLOOKUP(A1945,汇总!D:E,2,FALSE)","v":"https://github.com/squidfunk/mkdocs-material"}]
["codecentric/spring-boot-admin",{"$f":"VLOOKUP(A1946,汇总!D:E,2,FALSE)","v":"https://github.com/codecentric/spring-boot-admin"}]
["firebase/functions-samples",{"$f":"VLOOKUP(A1947,汇总!D:E,2,FALSE)","v":"https://github.com/firebase/functions-samples"}]
["allenai/allennlp",{"$f":"VLOOKUP(A1948,汇总!D:E,2,FALSE)","v":"https://github.com/allenai/allennlp"}]
["ShiqiYu/libfacedetection",{"$f":"VLOOKUP(A1949,汇总!D:E,2,FALSE)","v":"https://github.com/ShiqiYu/libfacedetection"}]
["jonas/tig",{"$f":"VLOOKUP(A1950,汇总!D:E,2,FALSE)","v":"https://github.com/jonas/tig"}]
["browserslist/browserslist",{"$f":"VLOOKUP(A1951,汇总!D:E,2,FALSE)","v":"https://github.com/browserslist/browserslist"}]
["jessesquires/JSQMessagesViewController",{"$f":"VLOOKUP(A1952,汇总!D:E,2,FALSE)","v":"https://github.com/jessesquires/JSQMessagesViewController"}]
["pydantic/pydantic",{"$f":"VLOOKUP(A1953,汇总!D:E,2,FALSE)","v":"https://github.com/pydantic/pydantic"}]
["nightwatchjs/nightwatch",{"$f":"VLOOKUP(A1954,汇总!D:E,2,FALSE)","v":"https://github.com/nightwatchjs/nightwatch"}]
["netbox-community/netbox",{"$f":"VLOOKUP(A1955,汇总!D:E,2,FALSE)","v":"https://github.com/netbox-community/netbox"}]
["keeweb/keeweb",{"$f":"VLOOKUP(A1956,汇总!D:E,2,FALSE)","v":"https://github.com/keeweb/keeweb"}]
["ccampbell/mousetrap",{"$f":"VLOOKUP(A1957,汇总!D:E,2,FALSE)","v":"https://github.com/ccampbell/mousetrap"}]
["FavioVazquez/ds-cheatsheets",{"$f":"VLOOKUP(A1958,汇总!D:E,2,FALSE)","v":"https://github.com/FavioVazquez/ds-cheatsheets"}]
["leon-ai/leon",{"$f":"VLOOKUP(A1959,汇总!D:E,2,FALSE)","v":"https://github.com/leon-ai/leon"}]
["Tencent/secguide",{"$f":"VLOOKUP(A1960,汇总!D:E,2,FALSE)","v":"https://github.com/Tencent/secguide"}]
["typesense/typesense",{"$f":"VLOOKUP(A1961,汇总!D:E,2,FALSE)","v":"https://github.com/typesense/typesense"}]
["ardalis/CleanArchitecture",{"$f":"VLOOKUP(A1962,汇总!D:E,2,FALSE)","v":"https://github.com/ardalis/CleanArchitecture"}]
["postmanlabs/httpbin",{"$f":"VLOOKUP(A1963,汇总!D:E,2,FALSE)","v":"https://github.com/postmanlabs/httpbin"}]
["microsoft/ai-edu",{"$f":"VLOOKUP(A1964,汇总!D:E,2,FALSE)","v":"https://github.com/microsoft/ai-edu"}]
["beetbox/beets",{"$f":"VLOOKUP(A1965,汇总!D:E,2,FALSE)","v":"https://github.com/beetbox/beets"}]
["taye/interact.js",{"$f":"VLOOKUP(A1966,汇总!D:E,2,FALSE)","v":"https://github.com/taye/interact.js"}]
["swaywm/sway",{"$f":"VLOOKUP(A1967,汇总!D:E,2,FALSE)","v":"https://github.com/swaywm/sway"}]
["androidannotations/androidannotations",{"$f":"VLOOKUP(A1968,汇总!D:E,2,FALSE)","v":"https://github.com/androidannotations/androidannotations"}]
["facebook/watchman",{"$f":"VLOOKUP(A1969,汇总!D:E,2,FALSE)","v":"https://github.com/facebook/watchman"}]
["rqlite/rqlite",{"$f":"VLOOKUP(A1970,汇总!D:E,2,FALSE)","v":"https://github.com/rqlite/rqlite"}]
["the-control-group/voyager",{"$f":"VLOOKUP(A1971,汇总!D:E,2,FALSE)","v":"https://github.com/the-control-group/voyager"}]
["jfeinstein10/SlidingMenu",{"$f":"VLOOKUP(A1972,汇总!D:E,2,FALSE)","v":"https://github.com/jfeinstein10/SlidingMenu"}]
["getpelican/pelican",{"$f":"VLOOKUP(A1973,汇总!D:E,2,FALSE)","v":"https://github.com/getpelican/pelican"}]
["avwo/whistle",{"$f":"VLOOKUP(A1974,汇总!D:E,2,FALSE)","v":"https://github.com/avwo/whistle"}]
["tidwall/gjson",{"$f":"VLOOKUP(A1975,汇总!D:E,2,FALSE)","v":"https://github.com/tidwall/gjson"}]
["mobile-shell/mosh",{"$f":"VLOOKUP(A1976,汇总!D:E,2,FALSE)","v":"https://github.com/mobile-shell/mosh"}]
["fengyuanchen/cropperjs",{"$f":"VLOOKUP(A1977,汇总!D:E,2,FALSE)","v":"https://github.com/fengyuanchen/cropperjs"}]
["wasabeef/recyclerview-animators",{"$f":"VLOOKUP(A1978,汇总!D:E,2,FALSE)","v":"https://github.com/wasabeef/recyclerview-animators"}]
["wifiphisher/wifiphisher",{"$f":"VLOOKUP(A1979,汇总!D:E,2,FALSE)","v":"https://github.com/wifiphisher/wifiphisher"}]
["DmitryBaranovskiy/raphael",{"$f":"VLOOKUP(A1980,汇总!D:E,2,FALSE)","v":"https://github.com/DmitryBaranovskiy/raphael"}]
["jupeter/clean-code-php",{"$f":"VLOOKUP(A1981,汇总!D:E,2,FALSE)","v":"https://github.com/jupeter/clean-code-php"}]
["microsoft/IoT-For-Beginners",{"$f":"VLOOKUP(A1982,汇总!D:E,2,FALSE)","v":"https://github.com/microsoft/IoT-For-Beginners"}]
["App-vNext/Polly",{"$f":"VLOOKUP(A1983,汇总!D:E,2,FALSE)","v":"https://github.com/App-vNext/Polly"}]
["rShetty/awesome-podcasts",{"$f":"VLOOKUP(A1984,汇总!D:E,2,FALSE)","v":"https://github.com/rShetty/awesome-podcasts"}]
["idank/explainshell",{"$f":"VLOOKUP(A1985,汇总!D:E,2,FALSE)","v":"https://github.com/idank/explainshell"}]
["GoogleContainerTools/kaniko",{"$f":"VLOOKUP(A1986,汇总!D:E,2,FALSE)","v":"https://github.com/GoogleContainerTools/kaniko"}]
["Tim9Liu9/TimLiu-iOS",{"$f":"VLOOKUP(A1987,汇总!D:E,2,FALSE)","v":"https://github.com/Tim9Liu9/TimLiu-iOS"}]
["nltk/nltk",{"$f":"VLOOKUP(A1988,汇总!D:E,2,FALSE)","v":"https://github.com/nltk/nltk"}]
["jquery/jquery-ui",{"$f":"VLOOKUP(A1989,汇总!D:E,2,FALSE)","v":"https://github.com/jquery/jquery-ui"}]
["TheAlgorithms/Go",{"$f":"VLOOKUP(A1990,汇总!D:E,2,FALSE)","v":"https://github.com/TheAlgorithms/Go"}]
["ionic-team/stencil",{"$f":"VLOOKUP(A1991,汇总!D:E,2,FALSE)","v":"https://github.com/ionic-team/stencil"}]
["kubesphere/kubesphere",{"$f":"VLOOKUP(A1992,汇总!D:E,2,FALSE)","v":"https://github.com/kubesphere/kubesphere"}]
["picturepan2/spectre",{"$f":"VLOOKUP(A1993,汇总!D:E,2,FALSE)","v":"https://github.com/picturepan2/spectre"}]
["openai/whisper",{"$f":"VLOOKUP(A1994,汇总!D:E,2,FALSE)","v":"https://github.com/openai/whisper"}]
["SpartnerNL/Laravel-Excel",{"$f":"VLOOKUP(A1995,汇总!D:E,2,FALSE)","v":"https://github.com/SpartnerNL/Laravel-Excel"}]
["ceph/ceph",{"$f":"VLOOKUP(A1996,汇总!D:E,2,FALSE)","v":"https://github.com/ceph/ceph"}]
["dive-into-machine-learning/dive-into-machine-learning",{"$f":"VLOOKUP(A1997,汇总!D:E,2,FALSE)","v":"https://github.com/dive-into-machine-learning/dive-into-machine-learning"}]
["GoogleChrome/workbox",{"$f":"VLOOKUP(A1998,汇总!D:E,2,FALSE)","v":"https://github.com/GoogleChrome/workbox"}]
["Shopify/dashing",{"$f":"VLOOKUP(A1999,汇总!D:E,2,FALSE)","v":"https://github.com/Shopify/dashing"}]
["permissions-dispatcher/PermissionsDispatcher",{"$f":"VLOOKUP(A2000,汇总!D:E,2,FALSE)","v":"https://github.com/permissions-dispatcher/PermissionsDispatcher"}]
["postgres/postgres",{"$f":"VLOOKUP(A2001,汇总!D:E,2,FALSE)","v":"https://github.com/postgres/postgres"}]
["yahoo/CMAK",{"$f":"VLOOKUP(A2002,汇总!D:E,2,FALSE)","v":"https://github.com/yahoo/CMAK"}]
["luin/medis",{"$f":"VLOOKUP(A2003,汇总!D:E,2,FALSE)","v":"https://github.com/luin/medis"}]
["lokesh/color-thief",{"$f":"VLOOKUP(A2004,汇总!D:E,2,FALSE)","v":"https://github.com/lokesh/color-thief"}]
["equinusocio/material-theme",{"$f":"VLOOKUP(A2005,汇总!D:E,2,FALSE)","v":"https://github.com/equinusocio/material-theme"}]
["mozilla-mobile/firefox-ios",{"$f":"VLOOKUP(A2006,汇总!D:E,2,FALSE)","v":"https://github.com/mozilla-mobile/firefox-ios"}]
["woltapp/blurhash",{"$f":"VLOOKUP(A2007,汇总!D:E,2,FALSE)","v":"https://github.com/woltapp/blurhash"}]
["leanote/leanote",{"$f":"VLOOKUP(A2008,汇总!D:E,2,FALSE)","v":"https://github.com/leanote/leanote"}]
["flutterchina/dio",{"$f":"VLOOKUP(A2009,汇总!D:E,2,FALSE)","v":"https://github.com/flutterchina/dio"}]
["Chocobozzz/PeerTube",{"$f":"VLOOKUP(A2010,汇总!D:E,2,FALSE)","v":"https://github.com/Chocobozzz/PeerTube"}]
["facebook/react-devtools",{"$f":"VLOOKUP(A2011,汇总!D:E,2,FALSE)","v":"https://github.com/facebook/react-devtools"}]
["WebAssembly/design",{"$f":"VLOOKUP(A2012,汇总!D:E,2,FALSE)","v":"https://github.com/WebAssembly/design"}]
["Ramotion/animated-tab-bar",{"$f":"VLOOKUP(A2013,汇总!D:E,2,FALSE)","v":"https://github.com/Ramotion/animated-tab-bar"}]
["abseil/abseil-cpp",{"$f":"VLOOKUP(A2014,汇总!D:E,2,FALSE)","v":"https://github.com/abseil/abseil-cpp"}]
["VSCodeVim/Vim",{"$f":"VLOOKUP(A2015,汇总!D:E,2,FALSE)","v":"https://github.com/VSCodeVim/Vim"}]
["h5bp/Effeckt.css",{"$f":"VLOOKUP(A2016,汇总!D:E,2,FALSE)","v":"https://github.com/h5bp/Effeckt.css"}]
["thanos-io/thanos",{"$f":"VLOOKUP(A2017,汇总!D:E,2,FALSE)","v":"https://github.com/thanos-io/thanos"}]
["microsoft/TypeScript-React-Starter",{"$f":"VLOOKUP(A2018,汇总!D:E,2,FALSE)","v":"https://github.com/microsoft/TypeScript-React-Starter"}]
["keen/dashboards",{"$f":"VLOOKUP(A2019,汇总!D:E,2,FALSE)","v":"https://github.com/keen/dashboards"}]
["neutraltone/awesome-stock-resources",{"$f":"VLOOKUP(A2020,汇总!D:E,2,FALSE)","v":"https://github.com/neutraltone/awesome-stock-resources"}]
["dotnet/AspNetCore.Docs",{"$f":"VLOOKUP(A2021,汇总!D:E,2,FALSE)","v":"https://github.com/dotnet/AspNetCore.Docs"}]
["stylus/stylus",{"$f":"VLOOKUP(A2022,汇总!D:E,2,FALSE)","v":"https://github.com/stylus/stylus"}]
["vuejs/vue-hackernews-2.0",{"$f":"VLOOKUP(A2023,汇总!D:E,2,FALSE)","v":"https://github.com/vuejs/vue-hackernews-2.0"}]
["cjwirth/awesome-ios-ui",{"$f":"VLOOKUP(A2024,汇总!D:E,2,FALSE)","v":"https://github.com/cjwirth/awesome-ios-ui"}]
["okonet/lint-staged",{"$f":"VLOOKUP(A2025,汇总!D:E,2,FALSE)","v":"https://github.com/okonet/lint-staged"}]
["doocs/source-code-hunter",{"$f":"VLOOKUP(A2026,汇总!D:E,2,FALSE)","v":"https://github.com/doocs/source-code-hunter"}]
["karpathy/char-rnn",{"$f":"VLOOKUP(A2027,汇总!D:E,2,FALSE)","v":"https://github.com/karpathy/char-rnn"}]
["docker/labs",{"$f":"VLOOKUP(A2028,汇总!D:E,2,FALSE)","v":"https://github.com/docker/labs"}]
["Idnan/bash-guide",{"$f":"VLOOKUP(A2029,汇总!D:E,2,FALSE)","v":"https://github.com/Idnan/bash-guide"}]
["OpenRCT2/OpenRCT2",{"$f":"VLOOKUP(A2030,汇总!D:E,2,FALSE)","v":"https://github.com/OpenRCT2/OpenRCT2"}]
["casesandberg/react-color",{"$f":"VLOOKUP(A2031,汇总!D:E,2,FALSE)","v":"https://github.com/casesandberg/react-color"}]
["andkret/Cookbook",{"$f":"VLOOKUP(A2032,汇总!D:E,2,FALSE)","v":"https://github.com/andkret/Cookbook"}]
["Grasscutters/Grasscutter",{"$f":"VLOOKUP(A2033,汇总!D:E,2,FALSE)","v":"https://github.com/Grasscutters/Grasscutter"}]
["microsoft/Bringing-Old-Photos-Back-to-Life",{"$f":"VLOOKUP(A2034,汇总!D:E,2,FALSE)","v":"https://github.com/microsoft/Bringing-Old-Photos-Back-to-Life"}]
["albumentations-team/albumentations",{"$f":"VLOOKUP(A2035,汇总!D:E,2,FALSE)","v":"https://github.com/albumentations-team/albumentations"}]
["Chia-Network/chia-blockchain",{"$f":"VLOOKUP(A2036,汇总!D:E,2,FALSE)","v":"https://github.com/Chia-Network/chia-blockchain"}]
["TypeStrong/ts-node",{"$f":"VLOOKUP(A2037,汇总!D:E,2,FALSE)","v":"https://github.com/TypeStrong/ts-node"}]
["kusti8/proton-native",{"$f":"VLOOKUP(A2038,汇总!D:E,2,FALSE)","v":"https://github.com/kusti8/proton-native"}]
["NVIDIA/FastPhotoStyle",{"$f":"VLOOKUP(A2039,汇总!D:E,2,FALSE)","v":"https://github.com/NVIDIA/FastPhotoStyle"}]
["summernote/summernote",{"$f":"VLOOKUP(A2040,汇总!D:E,2,FALSE)","v":"https://github.com/summernote/summernote"}]
["humiaozuzu/awesome-flask",{"$f":"VLOOKUP(A2041,汇总!D:E,2,FALSE)","v":"https://github.com/humiaozuzu/awesome-flask"}]
["muaz-khan/WebRTC-Experiment",{"$f":"VLOOKUP(A2042,汇总!D:E,2,FALSE)","v":"https://github.com/muaz-khan/WebRTC-Experiment"}]
["jaredpalmer/razzle",{"$f":"VLOOKUP(A2043,汇总!D:E,2,FALSE)","v":"https://github.com/jaredpalmer/razzle"}]
["doctrine/inflector",{"$f":"VLOOKUP(A2044,汇总!D:E,2,FALSE)","v":"https://github.com/doctrine/inflector"}]
["openresty/openresty",{"$f":"VLOOKUP(A2045,汇总!D:E,2,FALSE)","v":"https://github.com/openresty/openresty"}]
["mozilla/sops",{"$f":"VLOOKUP(A2046,汇总!D:E,2,FALSE)","v":"https://github.com/mozilla/sops"}]
["mailhog/MailHog",{"$f":"VLOOKUP(A2047,汇总!D:E,2,FALSE)","v":"https://github.com/mailhog/MailHog"}]
["emilk/egui",{"$f":"VLOOKUP(A2048,汇总!D:E,2,FALSE)","v":"https://github.com/emilk/egui"}]
["WickyNilliams/headroom.js",{"$f":"VLOOKUP(A2049,汇总!D:E,2,FALSE)","v":"https://github.com/WickyNilliams/headroom.js"}]
["magicalpanda/MagicalRecord",{"$f":"VLOOKUP(A2050,汇总!D:E,2,FALSE)","v":"https://github.com/magicalpanda/MagicalRecord"}]
["zbezj/HEU_KMS_Activator",{"$f":"VLOOKUP(A2051,汇总!D:E,2,FALSE)","v":"https://github.com/zbezj/HEU_KMS_Activator"}]
["HandBrake/HandBrake",{"$f":"VLOOKUP(A2052,汇总!D:E,2,FALSE)","v":"https://github.com/HandBrake/HandBrake"}]
["deepmind/deepmind-research",{"$f":"VLOOKUP(A2053,汇总!D:E,2,FALSE)","v":"https://github.com/deepmind/deepmind-research"}]
["ppy/osu",{"$f":"VLOOKUP(A2054,汇总!D:E,2,FALSE)","v":"https://github.com/ppy/osu"}]
["zricethezav/gitleaks",{"$f":"VLOOKUP(A2055,汇总!D:E,2,FALSE)","v":"https://github.com/zricethezav/gitleaks"}]
["jxnblk/mdx-deck",{"$f":"VLOOKUP(A2056,汇总!D:E,2,FALSE)","v":"https://github.com/jxnblk/mdx-deck"}]
["howdyai/botkit",{"$f":"VLOOKUP(A2057,汇总!D:E,2,FALSE)","v":"https://github.com/howdyai/botkit"}]
["apache/zookeeper",{"$f":"VLOOKUP(A2058,汇总!D:E,2,FALSE)","v":"https://github.com/apache/zookeeper"}]
["programthink/zhao",{"$f":"VLOOKUP(A2059,汇总!D:E,2,FALSE)","v":"https://github.com/programthink/zhao"}]
["talkgo/night",{"$f":"VLOOKUP(A2060,汇总!D:E,2,FALSE)","v":"https://github.com/talkgo/night"}]
["alibaba/vlayout",{"$f":"VLOOKUP(A2061,汇总!D:E,2,FALSE)","v":"https://github.com/alibaba/vlayout"}]
["felipefialho/frontend-challenges",{"$f":"VLOOKUP(A2062,汇总!D:E,2,FALSE)","v":"https://github.com/felipefialho/frontend-challenges"}]
["javve/list.js",{"$f":"VLOOKUP(A2063,汇总!D:E,2,FALSE)","v":"https://github.com/javve/list.js"}]
["egulias/EmailValidator",{"$f":"VLOOKUP(A2064,汇总!D:E,2,FALSE)","v":"https://github.com/egulias/EmailValidator"}]
["apple/turicreate",{"$f":"VLOOKUP(A2065,汇总!D:E,2,FALSE)","v":"https://github.com/apple/turicreate"}]
["redis/redis-py",{"$f":"VLOOKUP(A2066,汇总!D:E,2,FALSE)","v":"https://github.com/redis/redis-py"}]
["asciinema/asciinema",{"$f":"VLOOKUP(A2067,汇总!D:E,2,FALSE)","v":"https://github.com/asciinema/asciinema"}]
["hoya012/deep_learning_object_detection",{"$f":"VLOOKUP(A2068,汇总!D:E,2,FALSE)","v":"https://github.com/hoya012/deep_learning_object_detection"}]
["gedoor/legado",{"$f":"VLOOKUP(A2069,汇总!D:E,2,FALSE)","v":"https://github.com/gedoor/legado"}]
["octobercms/october",{"$f":"VLOOKUP(A2070,汇总!D:E,2,FALSE)","v":"https://github.com/octobercms/october"}]
["downshift-js/downshift",{"$f":"VLOOKUP(A2071,汇总!D:E,2,FALSE)","v":"https://github.com/downshift-js/downshift"}]
["raysan5/raylib",{"$f":"VLOOKUP(A2072,汇总!D:E,2,FALSE)","v":"https://github.com/raysan5/raylib"}]
["k4m4/terminals-are-sexy",{"$f":"VLOOKUP(A2073,汇总!D:E,2,FALSE)","v":"https://github.com/k4m4/terminals-are-sexy"}]
["frank-lam/fullstack-tutorial",{"$f":"VLOOKUP(A2074,汇总!D:E,2,FALSE)","v":"https://github.com/frank-lam/fullstack-tutorial"}]
["ardanlabs/gotraining",{"$f":"VLOOKUP(A2075,汇总!D:E,2,FALSE)","v":"https://github.com/ardanlabs/gotraining"}]
["argoproj/argo-cd",{"$f":"VLOOKUP(A2076,汇总!D:E,2,FALSE)","v":"https://github.com/argoproj/argo-cd"}]
["jmcunningham/AngularJS-Learning",{"$f":"VLOOKUP(A2077,汇总!D:E,2,FALSE)","v":"https://github.com/jmcunningham/AngularJS-Learning"}]
["sqshq/sampler",{"$f":"VLOOKUP(A2078,汇总!D:E,2,FALSE)","v":"https://github.com/sqshq/sampler"}]
["browserstate/history.js",{"$f":"VLOOKUP(A2079,汇总!D:E,2,FALSE)","v":"https://github.com/browserstate/history.js"}]
["highcharts/highcharts",{"$f":"VLOOKUP(A2080,汇总!D:E,2,FALSE)","v":"https://github.com/highcharts/highcharts"}]
["soulmachine/leetcode",{"$f":"VLOOKUP(A2081,汇总!D:E,2,FALSE)","v":"https://github.com/soulmachine/leetcode"}]
["heartexlabs/label-studio",{"$f":"VLOOKUP(A2082,汇总!D:E,2,FALSE)","v":"https://github.com/heartexlabs/label-studio"}]
["microsoft/TypeScript-Node-Starter",{"$f":"VLOOKUP(A2083,汇总!D:E,2,FALSE)","v":"https://github.com/microsoft/TypeScript-Node-Starter"}]
["mholt/PapaParse",{"$f":"VLOOKUP(A2084,汇总!D:E,2,FALSE)","v":"https://github.com/mholt/PapaParse"}]
["s0md3v/XSStrike",{"$f":"VLOOKUP(A2085,汇总!D:E,2,FALSE)","v":"https://github.com/s0md3v/XSStrike"}]
["rust-lang/mdBook",{"$f":"VLOOKUP(A2086,汇总!D:E,2,FALSE)","v":"https://github.com/rust-lang/mdBook"}]
["jina-ai/clip-as-service",{"$f":"VLOOKUP(A2087,汇总!D:E,2,FALSE)","v":"https://github.com/jina-ai/clip-as-service"}]
["wistbean/learn_python3_spider",{"$f":"VLOOKUP(A2088,汇总!D:E,2,FALSE)","v":"https://github.com/wistbean/learn_python3_spider"}]
["GoogleChromeLabs/ndb",{"$f":"VLOOKUP(A2089,汇总!D:E,2,FALSE)","v":"https://github.com/GoogleChromeLabs/ndb"}]
["GoogleChrome/chrome-extensions-samples",{"$f":"VLOOKUP(A2090,汇总!D:E,2,FALSE)","v":"https://github.com/GoogleChrome/chrome-extensions-samples"}]
["quarkusio/quarkus",{"$f":"VLOOKUP(A2091,汇总!D:E,2,FALSE)","v":"https://github.com/quarkusio/quarkus"}]
["jbranchaud/til",{"$f":"VLOOKUP(A2092,汇总!D:E,2,FALSE)","v":"https://github.com/jbranchaud/til"}]
["Ciphey/Ciphey",{"$f":"VLOOKUP(A2093,汇总!D:E,2,FALSE)","v":"https://github.com/Ciphey/Ciphey"}]
["donnemartin/awesome-aws",{"$f":"VLOOKUP(A2094,汇总!D:E,2,FALSE)","v":"https://github.com/donnemartin/awesome-aws"}]
["doctrine/lexer",{"$f":"VLOOKUP(A2095,汇总!D:E,2,FALSE)","v":"https://github.com/doctrine/lexer"}]
["extrawurst/gitui",{"$f":"VLOOKUP(A2096,汇总!D:E,2,FALSE)","v":"https://github.com/extrawurst/gitui"}]
["ruffle-rs/ruffle",{"$f":"VLOOKUP(A2097,汇总!D:E,2,FALSE)","v":"https://github.com/ruffle-rs/ruffle"}]
["30-seconds/30-seconds-of-interviews",{"$f":"VLOOKUP(A2098,汇总!D:E,2,FALSE)","v":"https://github.com/30-seconds/30-seconds-of-interviews"}]
["H07000223/FlycoTabLayout",{"$f":"VLOOKUP(A2099,汇总!D:E,2,FALSE)","v":"https://github.com/H07000223/FlycoTabLayout"}]
["ctgk/PRML",{"$f":"VLOOKUP(A2100,汇总!D:E,2,FALSE)","v":"https://github.com/ctgk/PRML"}]
["spatie/laravel-permission",{"$f":"VLOOKUP(A2101,汇总!D:E,2,FALSE)","v":"https://github.com/spatie/laravel-permission"}]
["star7th/showdoc",{"$f":"VLOOKUP(A2102,汇总!D:E,2,FALSE)","v":"https://github.com/star7th/showdoc"}]
["git-lfs/git-lfs",{"$f":"VLOOKUP(A2103,汇总!D:E,2,FALSE)","v":"https://github.com/git-lfs/git-lfs"}]
["goreleaser/goreleaser",{"$f":"VLOOKUP(A2104,汇总!D:E,2,FALSE)","v":"https://github.com/goreleaser/goreleaser"}]
["metafizzy/isotope",{"$f":"VLOOKUP(A2105,汇总!D:E,2,FALSE)","v":"https://github.com/metafizzy/isotope"}]
["frida/frida",{"$f":"VLOOKUP(A2106,汇总!D:E,2,FALSE)","v":"https://github.com/frida/frida"}]
["redis/jedis",{"$f":"VLOOKUP(A2107,汇总!D:E,2,FALSE)","v":"https://github.com/redis/jedis"}]
["withspectrum/spectrum",{"$f":"VLOOKUP(A2108,汇总!D:E,2,FALSE)","v":"https://github.com/withspectrum/spectrum"}]
["brianc/node-postgres",{"$f":"VLOOKUP(A2109,汇总!D:E,2,FALSE)","v":"https://github.com/brianc/node-postgres"}]
["0voice/from_coder_to_expert",{"$f":"VLOOKUP(A2110,汇总!D:E,2,FALSE)","v":"https://github.com/0voice/from_coder_to_expert"}]
["kettanaito/naming-cheatsheet",{"$f":"VLOOKUP(A2111,汇总!D:E,2,FALSE)","v":"https://github.com/kettanaito/naming-cheatsheet"}]
["soumith/ganhacks",{"$f":"VLOOKUP(A2112,汇总!D:E,2,FALSE)","v":"https://github.com/soumith/ganhacks"}]
["phil-opp/blog_os",{"$f":"VLOOKUP(A2113,汇总!D:E,2,FALSE)","v":"https://github.com/phil-opp/blog_os"}]
["sunface/rust-course",{"$f":"VLOOKUP(A2114,汇总!D:E,2,FALSE)","v":"https://github.com/sunface/rust-course"}]
["bitwarden/server",{"$f":"VLOOKUP(A2115,汇总!D:E,2,FALSE)","v":"https://github.com/bitwarden/server"}]
["LunarVim/LunarVim",{"$f":"VLOOKUP(A2116,汇总!D:E,2,FALSE)","v":"https://github.com/LunarVim/LunarVim"}]
["doctrine/instantiator",{"$f":"VLOOKUP(A2117,汇总!D:E,2,FALSE)","v":"https://github.com/doctrine/instantiator"}]
["apachecn/apachecn-algo-zh",{"$f":"VLOOKUP(A2118,汇总!D:E,2,FALSE)","v":"https://github.com/apachecn/apachecn-algo-zh"}]
["dbcli/pgcli",{"$f":"VLOOKUP(A2119,汇总!D:E,2,FALSE)","v":"https://github.com/dbcli/pgcli"}]
["aspnetboilerplate/aspnetboilerplate",{"$f":"VLOOKUP(A2120,汇总!D:E,2,FALSE)","v":"https://github.com/aspnetboilerplate/aspnetboilerplate"}]
["google/blockly",{"$f":"VLOOKUP(A2121,汇总!D:E,2,FALSE)","v":"https://github.com/google/blockly"}]
["zhaoolee/ChineseBQB",{"$f":"VLOOKUP(A2122,汇总!D:E,2,FALSE)","v":"https://github.com/zhaoolee/ChineseBQB"}]
["PrismJS/prism",{"$f":"VLOOKUP(A2123,汇总!D:E,2,FALSE)","v":"https://github.com/PrismJS/prism"}]
["peers/peerjs",{"$f":"VLOOKUP(A2124,汇总!D:E,2,FALSE)","v":"https://github.com/peers/peerjs"}]
["PySimpleGUI/PySimpleGUI",{"$f":"VLOOKUP(A2125,汇总!D:E,2,FALSE)","v":"https://github.com/PySimpleGUI/PySimpleGUI"}]
["android-async-http/android-async-http",{"$f":"VLOOKUP(A2126,汇总!D:E,2,FALSE)","v":"https://github.com/android-async-http/android-async-http"}]
["tymondesigns/jwt-auth",{"$f":"VLOOKUP(A2127,汇总!D:E,2,FALSE)","v":"https://github.com/tymondesigns/jwt-auth"}]
["chjj/blessed",{"$f":"VLOOKUP(A2128,汇总!D:E,2,FALSE)","v":"https://github.com/chjj/blessed"}]
["lingochamp/FileDownloader",{"$f":"VLOOKUP(A2129,汇总!D:E,2,FALSE)","v":"https://github.com/lingochamp/FileDownloader"}]
["phalcon/cphalcon",{"$f":"VLOOKUP(A2130,汇总!D:E,2,FALSE)","v":"https://github.com/phalcon/cphalcon"}]
["microsoft/frontend-bootcamp",{"$f":"VLOOKUP(A2131,汇总!D:E,2,FALSE)","v":"https://github.com/microsoft/frontend-bootcamp"}]
["futurice/ios-good-practices",{"$f":"VLOOKUP(A2132,汇总!D:E,2,FALSE)","v":"https://github.com/futurice/ios-good-practices"}]
["sveltejs/kit",{"$f":"VLOOKUP(A2133,汇总!D:E,2,FALSE)","v":"https://github.com/sveltejs/kit"}]
["akiran/react-slick",{"$f":"VLOOKUP(A2134,汇总!D:E,2,FALSE)","v":"https://github.com/akiran/react-slick"}]
["rust-lang/rust-analyzer",{"$f":"VLOOKUP(A2135,汇总!D:E,2,FALSE)","v":"https://github.com/rust-lang/rust-analyzer"}]
["Automattic/_s",{"$f":"VLOOKUP(A2136,汇总!D:E,2,FALSE)","v":"https://github.com/Automattic/_s"}]
["dbcli/mycli",{"$f":"VLOOKUP(A2137,汇总!D:E,2,FALSE)","v":"https://github.com/dbcli/mycli"}]
["z-song/laravel-admin",{"$f":"VLOOKUP(A2138,汇总!D:E,2,FALSE)","v":"https://github.com/z-song/laravel-admin"}]
["nodesource/distributions",{"$f":"VLOOKUP(A2139,汇总!D:E,2,FALSE)","v":"https://github.com/nodesource/distributions"}]
["kmario23/deep-learning-drizzle",{"$f":"VLOOKUP(A2140,汇总!D:E,2,FALSE)","v":"https://github.com/kmario23/deep-learning-drizzle"}]
["sql-js/sql.js",{"$f":"VLOOKUP(A2141,汇总!D:E,2,FALSE)","v":"https://github.com/sql-js/sql.js"}]
["shipshapecode/shepherd",{"$f":"VLOOKUP(A2142,汇总!D:E,2,FALSE)","v":"https://github.com/shipshapecode/shepherd"}]
["slackhq/nebula",{"$f":"VLOOKUP(A2143,汇总!D:E,2,FALSE)","v":"https://github.com/slackhq/nebula"}]
["thx/RAP",{"$f":"VLOOKUP(A2144,汇总!D:E,2,FALSE)","v":"https://github.com/thx/RAP"}]
["wilsonfreitas/awesome-quant",{"$f":"VLOOKUP(A2145,汇总!D:E,2,FALSE)","v":"https://github.com/wilsonfreitas/awesome-quant"}]
["tensorflow/playground",{"$f":"VLOOKUP(A2146,汇总!D:E,2,FALSE)","v":"https://github.com/tensorflow/playground"}]
["janishar/mit-deep-learning-book-pdf",{"$f":"VLOOKUP(A2147,汇总!D:E,2,FALSE)","v":"https://github.com/janishar/mit-deep-learning-book-pdf"}]
["mamoe/mirai",{"$f":"VLOOKUP(A2148,汇总!D:E,2,FALSE)","v":"https://github.com/mamoe/mirai"}]
["kesenhoo/android-training-course-in-chinese",{"$f":"VLOOKUP(A2149,汇总!D:E,2,FALSE)","v":"https://github.com/kesenhoo/android-training-course-in-chinese"}]
["jordansissel/fpm",{"$f":"VLOOKUP(A2150,汇总!D:E,2,FALSE)","v":"https://github.com/jordansissel/fpm"}]
["lengstrom/fast-style-transfer",{"$f":"VLOOKUP(A2151,汇总!D:E,2,FALSE)","v":"https://github.com/lengstrom/fast-style-transfer"}]
["ant-design/ant-design-mobile",{"$f":"VLOOKUP(A2152,汇总!D:E,2,FALSE)","v":"https://github.com/ant-design/ant-design-mobile"}]
["kubernetes-sigs/kind",{"$f":"VLOOKUP(A2153,汇总!D:E,2,FALSE)","v":"https://github.com/kubernetes-sigs/kind"}]
["code4craft/webmagic",{"$f":"VLOOKUP(A2154,汇总!D:E,2,FALSE)","v":"https://github.com/code4craft/webmagic"}]
["mission-peace/interview",{"$f":"VLOOKUP(A2155,汇总!D:E,2,FALSE)","v":"https://github.com/mission-peace/interview"}]
["SpacehuhnTech/esp8266_deauther",{"$f":"VLOOKUP(A2156,汇总!D:E,2,FALSE)","v":"https://github.com/SpacehuhnTech/esp8266_deauther"}]
["snabbdom/snabbdom",{"$f":"VLOOKUP(A2157,汇总!D:E,2,FALSE)","v":"https://github.com/snabbdom/snabbdom"}]
["charmbracelet/gum",{"$f":"VLOOKUP(A2158,汇总!D:E,2,FALSE)","v":"https://github.com/charmbracelet/gum"}]
["blaCCkHatHacEEkr/PENTESTING-BIBLE",{"$f":"VLOOKUP(A2159,汇总!D:E,2,FALSE)","v":"https://github.com/blaCCkHatHacEEkr/PENTESTING-BIBLE"}]
["nasa/openmct",{"$f":"VLOOKUP(A2160,汇总!D:E,2,FALSE)","v":"https://github.com/nasa/openmct"}]
["google/grumpy",{"$f":"VLOOKUP(A2161,汇总!D:E,2,FALSE)","v":"https://github.com/google/grumpy"}]
["mswjs/msw",{"$f":"VLOOKUP(A2162,汇总!D:E,2,FALSE)","v":"https://github.com/mswjs/msw"}]
["alibaba/hooks",{"$f":"VLOOKUP(A2163,汇总!D:E,2,FALSE)","v":"https://github.com/alibaba/hooks"}]
["gyf-dev/ImmersionBar",{"$f":"VLOOKUP(A2164,汇总!D:E,2,FALSE)","v":"https://github.com/gyf-dev/ImmersionBar"}]
["threat9/routersploit",{"$f":"VLOOKUP(A2165,汇总!D:E,2,FALSE)","v":"https://github.com/threat9/routersploit"}]
["ethereum/EIPs",{"$f":"VLOOKUP(A2166,汇总!D:E,2,FALSE)","v":"https://github.com/ethereum/EIPs"}]
["openalpr/openalpr",{"$f":"VLOOKUP(A2167,汇总!D:E,2,FALSE)","v":"https://github.com/openalpr/openalpr"}]
["plouc/nivo",{"$f":"VLOOKUP(A2168,汇总!D:E,2,FALSE)","v":"https://github.com/plouc/nivo"}]
["kitao/pyxel",{"$f":"VLOOKUP(A2169,汇总!D:E,2,FALSE)","v":"https://github.com/kitao/pyxel"}]
["webview/webview",{"$f":"VLOOKUP(A2170,汇总!D:E,2,FALSE)","v":"https://github.com/webview/webview"}]
["git-up/GitUp",{"$f":"VLOOKUP(A2171,汇总!D:E,2,FALSE)","v":"https://github.com/git-up/GitUp"}]
["restify/node-restify",{"$f":"VLOOKUP(A2172,汇总!D:E,2,FALSE)","v":"https://github.com/restify/node-restify"}]
["jonasschmedtmann/complete-javascript-course",{"$f":"VLOOKUP(A2173,汇总!D:E,2,FALSE)","v":"https://github.com/jonasschmedtmann/complete-javascript-course"}]
["styleguidist/react-styleguidist",{"$f":"VLOOKUP(A2174,汇总!D:E,2,FALSE)","v":"https://github.com/styleguidist/react-styleguidist"}]
["dangrossman/daterangepicker",{"$f":"VLOOKUP(A2175,汇总!D:E,2,FALSE)","v":"https://github.com/dangrossman/daterangepicker"}]
["jedisct1/libsodium",{"$f":"VLOOKUP(A2176,汇总!D:E,2,FALSE)","v":"https://github.com/jedisct1/libsodium"}]
["NixOS/nixpkgs",{"$f":"VLOOKUP(A2177,汇总!D:E,2,FALSE)","v":"https://github.com/NixOS/nixpkgs"}]
["jivoi/awesome-osint",{"$f":"VLOOKUP(A2178,汇总!D:E,2,FALSE)","v":"https://github.com/jivoi/awesome-osint"}]
["awslabs/git-secrets",{"$f":"VLOOKUP(A2179,汇总!D:E,2,FALSE)","v":"https://github.com/awslabs/git-secrets"}]
["datastacktv/data-engineer-roadmap",{"$f":"VLOOKUP(A2180,汇总!D:E,2,FALSE)","v":"https://github.com/datastacktv/data-engineer-roadmap"}]
["neo4j/neo4j",{"$f":"VLOOKUP(A2181,汇总!D:E,2,FALSE)","v":"https://github.com/neo4j/neo4j"}]
["reactide/reactide",{"$f":"VLOOKUP(A2182,汇总!D:E,2,FALSE)","v":"https://github.com/reactide/reactide"}]
["thibmaek/awesome-raspberry-pi",{"$f":"VLOOKUP(A2183,汇总!D:E,2,FALSE)","v":"https://github.com/thibmaek/awesome-raspberry-pi"}]
["tusen-ai/naive-ui",{"$f":"VLOOKUP(A2184,汇总!D:E,2,FALSE)","v":"https://github.com/tusen-ai/naive-ui"}]
["jeasonlzy/okhttp-OkGo",{"$f":"VLOOKUP(A2185,汇总!D:E,2,FALSE)","v":"https://github.com/jeasonlzy/okhttp-OkGo"}]
["github/gh-ost",{"$f":"VLOOKUP(A2186,汇总!D:E,2,FALSE)","v":"https://github.com/github/gh-ost"}]
["mindsdb/mindsdb",{"$f":"VLOOKUP(A2187,汇总!D:E,2,FALSE)","v":"https://github.com/mindsdb/mindsdb"}]
["dgrijalva/jwt-go",{"$f":"VLOOKUP(A2188,汇总!D:E,2,FALSE)","v":"https://github.com/dgrijalva/jwt-go"}]
["hyperium/hyper",{"$f":"VLOOKUP(A2189,汇总!D:E,2,FALSE)","v":"https://github.com/hyperium/hyper"}]
["lvgl/lvgl",{"$f":"VLOOKUP(A2190,汇总!D:E,2,FALSE)","v":"https://github.com/lvgl/lvgl"}]
["emqx/emqx",{"$f":"VLOOKUP(A2191,汇总!D:E,2,FALSE)","v":"https://github.com/emqx/emqx"}]
["serverless/examples",{"$f":"VLOOKUP(A2192,汇总!D:E,2,FALSE)","v":"https://github.com/serverless/examples"}]
["iterative/dvc",{"$f":"VLOOKUP(A2193,汇总!D:E,2,FALSE)","v":"https://github.com/iterative/dvc"}]
["dmlc/dgl",{"$f":"VLOOKUP(A2194,汇总!D:E,2,FALSE)","v":"https://github.com/dmlc/dgl"}]
["lipangit/JiaoZiVideoPlayer",{"$f":"VLOOKUP(A2195,汇总!D:E,2,FALSE)","v":"https://github.com/lipangit/JiaoZiVideoPlayer"}]
["docmirror/dev-sidecar",{"$f":"VLOOKUP(A2196,汇总!D:E,2,FALSE)","v":"https://github.com/docmirror/dev-sidecar"}]
["bpampuch/pdfmake",{"$f":"VLOOKUP(A2197,汇总!D:E,2,FALSE)","v":"https://github.com/bpampuch/pdfmake"}]
["dromara/Sa-Token",{"$f":"VLOOKUP(A2198,汇总!D:E,2,FALSE)","v":"https://github.com/dromara/Sa-Token"}]
["faker-ruby/faker",{"$f":"VLOOKUP(A2199,汇总!D:E,2,FALSE)","v":"https://github.com/faker-ruby/faker"}]
["debug-js/debug",{"$f":"VLOOKUP(A2200,汇总!D:E,2,FALSE)","v":"https://github.com/debug-js/debug"}]
["yidao620c/python3-cookbook",{"$f":"VLOOKUP(A2201,汇总!D:E,2,FALSE)","v":"https://github.com/yidao620c/python3-cookbook"}]
["apache/arrow",{"$f":"VLOOKUP(A2202,汇总!D:E,2,FALSE)","v":"https://github.com/apache/arrow"}]
["karpathy/convnetjs",{"$f":"VLOOKUP(A2203,汇总!D:E,2,FALSE)","v":"https://github.com/karpathy/convnetjs"}]
["rook/rook",{"$f":"VLOOKUP(A2204,汇总!D:E,2,FALSE)","v":"https://github.com/rook/rook"}]
["PatrickJS/angular-starter",{"$f":"VLOOKUP(A2205,汇总!D:E,2,FALSE)","v":"https://github.com/PatrickJS/angular-starter"}]
["reactstrap/reactstrap",{"$f":"VLOOKUP(A2206,汇总!D:E,2,FALSE)","v":"https://github.com/reactstrap/reactstrap"}]
["tbruyelle/RxPermissions",{"$f":"VLOOKUP(A2207,汇总!D:E,2,FALSE)","v":"https://github.com/tbruyelle/RxPermissions"}]
["ansible/ansible-examples",{"$f":"VLOOKUP(A2208,汇总!D:E,2,FALSE)","v":"https://github.com/ansible/ansible-examples"}]
["spencermountain/compromise",{"$f":"VLOOKUP(A2209,汇总!D:E,2,FALSE)","v":"https://github.com/spencermountain/compromise"}]
["DuGuQiuBai/Java",{"$f":"VLOOKUP(A2210,汇总!D:E,2,FALSE)","v":"https://github.com/DuGuQiuBai/Java"}]
["dask/dask",{"$f":"VLOOKUP(A2211,汇总!D:E,2,FALSE)","v":"https://github.com/dask/dask"}]
["hehonghui/android-tech-frontier",{"$f":"VLOOKUP(A2212,汇总!D:E,2,FALSE)","v":"https://github.com/hehonghui/android-tech-frontier"}]
["imakewebthings/waypoints",{"$f":"VLOOKUP(A2213,汇总!D:E,2,FALSE)","v":"https://github.com/imakewebthings/waypoints"}]
["ktorio/ktor",{"$f":"VLOOKUP(A2214,汇总!D:E,2,FALSE)","v":"https://github.com/ktorio/ktor"}]
["chenyuntc/pytorch-book",{"$f":"VLOOKUP(A2215,汇总!D:E,2,FALSE)","v":"https://github.com/chenyuntc/pytorch-book"}]
["invertase/react-native-firebase",{"$f":"VLOOKUP(A2216,汇总!D:E,2,FALSE)","v":"https://github.com/invertase/react-native-firebase"}]
["mml-book/mml-book.github.io",{"$f":"VLOOKUP(A2217,汇总!D:E,2,FALSE)","v":"https://github.com/mml-book/mml-book.github.io"}]
["davezuko/react-redux-starter-kit",{"$f":"VLOOKUP(A2218,汇总!D:E,2,FALSE)","v":"https://github.com/davezuko/react-redux-starter-kit"}]
["apache/apisix",{"$f":"VLOOKUP(A2219,汇总!D:E,2,FALSE)","v":"https://github.com/apache/apisix"}]
["spotify/annoy",{"$f":"VLOOKUP(A2220,汇总!D:E,2,FALSE)","v":"https://github.com/spotify/annoy"}]
["andlabs/libui",{"$f":"VLOOKUP(A2221,汇总!D:E,2,FALSE)","v":"https://github.com/andlabs/libui"}]
["atomiks/tippyjs",{"$f":"VLOOKUP(A2222,汇总!D:E,2,FALSE)","v":"https://github.com/atomiks/tippyjs"}]
["robfig/cron",{"$f":"VLOOKUP(A2223,汇总!D:E,2,FALSE)","v":"https://github.com/robfig/cron"}]
["overleaf/overleaf",{"$f":"VLOOKUP(A2224,汇总!D:E,2,FALSE)","v":"https://github.com/overleaf/overleaf"}]
["ellisonleao/magictools",{"$f":"VLOOKUP(A2225,汇总!D:E,2,FALSE)","v":"https://github.com/ellisonleao/magictools"}]
["analysis-tools-dev/static-analysis",{"$f":"VLOOKUP(A2226,汇总!D:E,2,FALSE)","v":"https://github.com/analysis-tools-dev/static-analysis"}]
["Templarian/MaterialDesign",{"$f":"VLOOKUP(A2227,汇总!D:E,2,FALSE)","v":"https://github.com/Templarian/MaterialDesign"}]
["rootsongjc/kubernetes-handbook",{"$f":"VLOOKUP(A2228,汇总!D:E,2,FALSE)","v":"https://github.com/rootsongjc/kubernetes-handbook"}]
["OpenDiablo2/OpenDiablo2",{"$f":"VLOOKUP(A2229,汇总!D:E,2,FALSE)","v":"https://github.com/OpenDiablo2/OpenDiablo2"}]
["creativetimofficial/material-dashboard",{"$f":"VLOOKUP(A2230,汇总!D:E,2,FALSE)","v":"https://github.com/creativetimofficial/material-dashboard"}]
["lnishan/awesome-competitive-programming",{"$f":"VLOOKUP(A2231,汇总!D:E,2,FALSE)","v":"https://github.com/lnishan/awesome-competitive-programming"}]
["tuhdo/os01",{"$f":"VLOOKUP(A2232,汇总!D:E,2,FALSE)","v":"https://github.com/tuhdo/os01"}]
["scipy/scipy",{"$f":"VLOOKUP(A2233,汇总!D:E,2,FALSE)","v":"https://github.com/scipy/scipy"}]
["Tencent/matrix",{"$f":"VLOOKUP(A2234,汇总!D:E,2,FALSE)","v":"https://github.com/Tencent/matrix"}]
["zalandoresearch/fashion-mnist",{"$f":"VLOOKUP(A2235,汇总!D:E,2,FALSE)","v":"https://github.com/zalandoresearch/fashion-mnist"}]
["carlospolop/PEASS-ng",{"$f":"VLOOKUP(A2236,汇总!D:E,2,FALSE)","v":"https://github.com/carlospolop/PEASS-ng"}]
["ElemeFE/node-interview",{"$f":"VLOOKUP(A2237,汇总!D:E,2,FALSE)","v":"https://github.com/ElemeFE/node-interview"}]
["apple/darwin-xnu",{"$f":"VLOOKUP(A2238,汇总!D:E,2,FALSE)","v":"https://github.com/apple/darwin-xnu"}]
["Embedding/Chinese-Word-Vectors",{"$f":"VLOOKUP(A2239,汇总!D:E,2,FALSE)","v":"https://github.com/Embedding/Chinese-Word-Vectors"}]
["BeyondDimension/SteamTools",{"$f":"VLOOKUP(A2240,汇总!D:E,2,FALSE)","v":"https://github.com/BeyondDimension/SteamTools"}]
["github/linguist",{"$f":"VLOOKUP(A2241,汇总!D:E,2,FALSE)","v":"https://github.com/github/linguist"}]
["openresty/lua-nginx-module",{"$f":"VLOOKUP(A2242,汇总!D:E,2,FALSE)","v":"https://github.com/openresty/lua-nginx-module"}]
["jantimon/html-webpack-plugin",{"$f":"VLOOKUP(A2243,汇总!D:E,2,FALSE)","v":"https://github.com/jantimon/html-webpack-plugin"}]
["magento/magento2",{"$f":"VLOOKUP(A2244,汇总!D:E,2,FALSE)","v":"https://github.com/magento/magento2"}]
["mockery/mockery",{"$f":"VLOOKUP(A2245,汇总!D:E,2,FALSE)","v":"https://github.com/mockery/mockery"}]
["careercup/CtCI-6th-Edition",{"$f":"VLOOKUP(A2246,汇总!D:E,2,FALSE)","v":"https://github.com/careercup/CtCI-6th-Edition"}]
["sovereign/sovereign",{"$f":"VLOOKUP(A2247,汇总!D:E,2,FALSE)","v":"https://github.com/sovereign/sovereign"}]
["rust-lang/book",{"$f":"VLOOKUP(A2248,汇总!D:E,2,FALSE)","v":"https://github.com/rust-lang/book"}]
["MorvanZhou/tutorials",{"$f":"VLOOKUP(A2249,汇总!D:E,2,FALSE)","v":"https://github.com/MorvanZhou/tutorials"}]
["jquery-validation/jquery-validation",{"$f":"VLOOKUP(A2250,汇总!D:E,2,FALSE)","v":"https://github.com/jquery-validation/jquery-validation"}]
["RestKit/RestKit",{"$f":"VLOOKUP(A2251,汇总!D:E,2,FALSE)","v":"https://github.com/RestKit/RestKit"}]
["knockout/knockout",{"$f":"VLOOKUP(A2252,汇总!D:E,2,FALSE)","v":"https://github.com/knockout/knockout"}]
["majodev/google-webfonts-helper",{"$f":"VLOOKUP(A2253,汇总!D:E,2,FALSE)","v":"https://github.com/majodev/google-webfonts-helper"}]
["pmndrs/jotai",{"$f":"VLOOKUP(A2254,汇总!D:E,2,FALSE)","v":"https://github.com/pmndrs/jotai"}]
["pxb1988/dex2jar",{"$f":"VLOOKUP(A2255,汇总!D:E,2,FALSE)","v":"https://github.com/pxb1988/dex2jar"}]
["visgl/deck.gl",{"$f":"VLOOKUP(A2256,汇总!D:E,2,FALSE)","v":"https://github.com/visgl/deck.gl"}]
["BuilderIO/qwik",{"$f":"VLOOKUP(A2257,汇总!D:E,2,FALSE)","v":"https://github.com/BuilderIO/qwik"}]
["daniulive/SmarterStreaming",{"$f":"VLOOKUP(A2258,汇总!D:E,2,FALSE)","v":"https://github.com/daniulive/SmarterStreaming"}]
["iamshuaidi/CS-Book",{"$f":"VLOOKUP(A2259,汇总!D:E,2,FALSE)","v":"https://github.com/iamshuaidi/CS-Book"}]
["ninjaprox/NVActivityIndicatorView",{"$f":"VLOOKUP(A2260,汇总!D:E,2,FALSE)","v":"https://github.com/ninjaprox/NVActivityIndicatorView"}]
["charmbracelet/glow",{"$f":"VLOOKUP(A2261,汇总!D:E,2,FALSE)","v":"https://github.com/charmbracelet/glow"}]
["clauderic/react-sortable-hoc",{"$f":"VLOOKUP(A2262,汇总!D:E,2,FALSE)","v":"https://github.com/clauderic/react-sortable-hoc"}]
["dotnet/runtime",{"$f":"VLOOKUP(A2263,汇总!D:E,2,FALSE)","v":"https://github.com/dotnet/runtime"}]
["toeverything/AFFiNE",{"$f":"VLOOKUP(A2264,汇总!D:E,2,FALSE)","v":"https://github.com/toeverything/AFFiNE"}]
["vercel/micro",{"$f":"VLOOKUP(A2265,汇总!D:E,2,FALSE)","v":"https://github.com/vercel/micro"}]
["JakeWharton/ViewPagerIndicator",{"$f":"VLOOKUP(A2266,汇总!D:E,2,FALSE)","v":"https://github.com/JakeWharton/ViewPagerIndicator"}]
["Netflix/falcor",{"$f":"VLOOKUP(A2267,汇总!D:E,2,FALSE)","v":"https://github.com/Netflix/falcor"}]
["AppIntro/AppIntro",{"$f":"VLOOKUP(A2268,汇总!D:E,2,FALSE)","v":"https://github.com/AppIntro/AppIntro"}]
["nhn/tui.calendar",{"$f":"VLOOKUP(A2269,汇总!D:E,2,FALSE)","v":"https://github.com/nhn/tui.calendar"}]
["kubernetes/community",{"$f":"VLOOKUP(A2270,汇总!D:E,2,FALSE)","v":"https://github.com/kubernetes/community"}]
["googleapis/google-api-nodejs-client",{"$f":"VLOOKUP(A2271,汇总!D:E,2,FALSE)","v":"https://github.com/googleapis/google-api-nodejs-client"}]
["vuestorefront/vue-storefront",{"$f":"VLOOKUP(A2272,汇总!D:E,2,FALSE)","v":"https://github.com/vuestorefront/vue-storefront"}]
["petehunt/webpack-howto",{"$f":"VLOOKUP(A2273,汇总!D:E,2,FALSE)","v":"https://github.com/petehunt/webpack-howto"}]
["JessYanCoding/MVPArms",{"$f":"VLOOKUP(A2274,汇总!D:E,2,FALSE)","v":"https://github.com/JessYanCoding/MVPArms"}]
["chiphuyen/stanford-tensorflow-tutorials",{"$f":"VLOOKUP(A2275,汇总!D:E,2,FALSE)","v":"https://github.com/chiphuyen/stanford-tensorflow-tutorials"}]
["python-pillow/Pillow",{"$f":"VLOOKUP(A2276,汇总!D:E,2,FALSE)","v":"https://github.com/python-pillow/Pillow"}]
["jaredpalmer/tsdx",{"$f":"VLOOKUP(A2277,汇总!D:E,2,FALSE)","v":"https://github.com/jaredpalmer/tsdx"}]
["acidanthera/OpenCorePkg",{"$f":"VLOOKUP(A2278,汇总!D:E,2,FALSE)","v":"https://github.com/acidanthera/OpenCorePkg"}]
["ruanyf/document-style-guide",{"$f":"VLOOKUP(A2279,汇总!D:E,2,FALSE)","v":"https://github.com/ruanyf/document-style-guide"}]
["timqian/chinese-independent-blogs",{"$f":"VLOOKUP(A2280,汇总!D:E,2,FALSE)","v":"https://github.com/timqian/chinese-independent-blogs"}]
["exceljs/exceljs",{"$f":"VLOOKUP(A2281,汇总!D:E,2,FALSE)","v":"https://github.com/exceljs/exceljs"}]
["WenchaoD/FSCalendar",{"$f":"VLOOKUP(A2282,汇总!D:E,2,FALSE)","v":"https://github.com/WenchaoD/FSCalendar"}]
["mmistakes/minimal-mistakes",{"$f":"VLOOKUP(A2283,汇总!D:E,2,FALSE)","v":"https://github.com/mmistakes/minimal-mistakes"}]
["KurtBestor/Hitomi-Downloader",{"$f":"VLOOKUP(A2284,汇总!D:E,2,FALSE)","v":"https://github.com/KurtBestor/Hitomi-Downloader"}]
["ConnorAtherton/loaders.css",{"$f":"VLOOKUP(A2285,汇总!D:E,2,FALSE)","v":"https://github.com/ConnorAtherton/loaders.css"}]
["chefyuan/algorithm-base",{"$f":"VLOOKUP(A2286,汇总!D:E,2,FALSE)","v":"https://github.com/chefyuan/algorithm-base"}]
["jacomyal/sigma.js",{"$f":"VLOOKUP(A2287,汇总!D:E,2,FALSE)","v":"https://github.com/jacomyal/sigma.js"}]
["cyclejs/cyclejs",{"$f":"VLOOKUP(A2288,汇总!D:E,2,FALSE)","v":"https://github.com/cyclejs/cyclejs"}]
["expressjs/multer",{"$f":"VLOOKUP(A2289,汇总!D:E,2,FALSE)","v":"https://github.com/expressjs/multer"}]
["react-static/react-static",{"$f":"VLOOKUP(A2290,汇总!D:E,2,FALSE)","v":"https://github.com/react-static/react-static"}]
["systemd/systemd",{"$f":"VLOOKUP(A2291,汇总!D:E,2,FALSE)","v":"https://github.com/systemd/systemd"}]
["jindongwang/transferlearning",{"$f":"VLOOKUP(A2292,汇总!D:E,2,FALSE)","v":"https://github.com/jindongwang/transferlearning"}]
["PrefectHQ/prefect",{"$f":"VLOOKUP(A2293,汇总!D:E,2,FALSE)","v":"https://github.com/PrefectHQ/prefect"}]
["novuhq/novu",{"$f":"VLOOKUP(A2294,汇总!D:E,2,FALSE)","v":"https://github.com/novuhq/novu"}]
["h2o/h2o",{"$f":"VLOOKUP(A2295,汇总!D:E,2,FALSE)","v":"https://github.com/h2o/h2o"}]
["pagekit/vue-resource",{"$f":"VLOOKUP(A2296,汇总!D:E,2,FALSE)","v":"https://github.com/pagekit/vue-resource"}]
["agarrharr/awesome-cli-apps",{"$f":"VLOOKUP(A2297,汇总!D:E,2,FALSE)","v":"https://github.com/agarrharr/awesome-cli-apps"}]
["pinojs/pino",{"$f":"VLOOKUP(A2298,汇总!D:E,2,FALSE)","v":"https://github.com/pinojs/pino"}]
["KotlinBy/awesome-kotlin",{"$f":"VLOOKUP(A2299,汇总!D:E,2,FALSE)","v":"https://github.com/KotlinBy/awesome-kotlin"}]
["Anarios/return-youtube-dislike",{"$f":"VLOOKUP(A2300,汇总!D:E,2,FALSE)","v":"https://github.com/Anarios/return-youtube-dislike"}]
["asciimoo/wuzz",{"$f":"VLOOKUP(A2301,汇总!D:E,2,FALSE)","v":"https://github.com/asciimoo/wuzz"}]
["aosp-mirror/platform_frameworks_base",{"$f":"VLOOKUP(A2302,汇总!D:E,2,FALSE)","v":"https://github.com/aosp-mirror/platform_frameworks_base"}]
["electron/electron-api-demos",{"$f":"VLOOKUP(A2303,汇总!D:E,2,FALSE)","v":"https://github.com/electron/electron-api-demos"}]
["Ramotion/folding-cell",{"$f":"VLOOKUP(A2304,汇总!D:E,2,FALSE)","v":"https://github.com/Ramotion/folding-cell"}]
["marcotcr/lime",{"$f":"VLOOKUP(A2305,汇总!D:E,2,FALSE)","v":"https://github.com/marcotcr/lime"}]
["BookStackApp/BookStack",{"$f":"VLOOKUP(A2306,汇总!D:E,2,FALSE)","v":"https://github.com/BookStackApp/BookStack"}]
["serbanghita/Mobile-Detect",{"$f":"VLOOKUP(A2307,汇总!D:E,2,FALSE)","v":"https://github.com/serbanghita/Mobile-Detect"}]
["CISOfy/lynis",{"$f":"VLOOKUP(A2308,汇总!D:E,2,FALSE)","v":"https://github.com/CISOfy/lynis"}]
["mono/mono",{"$f":"VLOOKUP(A2309,汇总!D:E,2,FALSE)","v":"https://github.com/mono/mono"}]
["hq450/fancyss",{"$f":"VLOOKUP(A2310,汇总!D:E,2,FALSE)","v":"https://github.com/hq450/fancyss"}]
["vasanthk/how-web-works",{"$f":"VLOOKUP(A2311,汇总!D:E,2,FALSE)","v":"https://github.com/vasanthk/how-web-works"}]
["haltu/muuri",{"$f":"VLOOKUP(A2312,汇总!D:E,2,FALSE)","v":"https://github.com/haltu/muuri"}]
["adambard/learnxinyminutes-docs",{"$f":"VLOOKUP(A2313,汇总!D:E,2,FALSE)","v":"https://github.com/adambard/learnxinyminutes-docs"}]
["walkor/workerman",{"$f":"VLOOKUP(A2314,汇总!D:E,2,FALSE)","v":"https://github.com/walkor/workerman"}]
["projectdiscovery/nuclei",{"$f":"VLOOKUP(A2315,汇总!D:E,2,FALSE)","v":"https://github.com/projectdiscovery/nuclei"}]
["terkelg/awesome-creative-coding",{"$f":"VLOOKUP(A2316,汇总!D:E,2,FALSE)","v":"https://github.com/terkelg/awesome-creative-coding"}]
["macrozheng/mall-admin-web",{"$f":"VLOOKUP(A2317,汇总!D:E,2,FALSE)","v":"https://github.com/macrozheng/mall-admin-web"}]
["grpc/grpc-java",{"$f":"VLOOKUP(A2318,汇总!D:E,2,FALSE)","v":"https://github.com/grpc/grpc-java"}]
["haiwen/seafile",{"$f":"VLOOKUP(A2319,汇总!D:E,2,FALSE)","v":"https://github.com/haiwen/seafile"}]
["FredrikNoren/ungit",{"$f":"VLOOKUP(A2320,汇总!D:E,2,FALSE)","v":"https://github.com/FredrikNoren/ungit"}]
["bnb/awesome-hyper",{"$f":"VLOOKUP(A2321,汇总!D:E,2,FALSE)","v":"https://github.com/bnb/awesome-hyper"}]
["dgryski/go-perfbook",{"$f":"VLOOKUP(A2322,汇总!D:E,2,FALSE)","v":"https://github.com/dgryski/go-perfbook"}]
["pion/webrtc",{"$f":"VLOOKUP(A2323,汇总!D:E,2,FALSE)","v":"https://github.com/pion/webrtc"}]
["esimov/caire",{"$f":"VLOOKUP(A2324,汇总!D:E,2,FALSE)","v":"https://github.com/esimov/caire"}]
["MSWorkers/support.996.ICU",{"$f":"VLOOKUP(A2325,汇总!D:E,2,FALSE)","v":"https://github.com/MSWorkers/support.996.ICU"}]
["yargs/yargs",{"$f":"VLOOKUP(A2326,汇总!D:E,2,FALSE)","v":"https://github.com/yargs/yargs"}]
["cmiscm/leonsans",{"$f":"VLOOKUP(A2327,汇总!D:E,2,FALSE)","v":"https://github.com/cmiscm/leonsans"}]
["yygmind/blog",{"$f":"VLOOKUP(A2328,汇总!D:E,2,FALSE)","v":"https://github.com/yygmind/blog"}]
["electron/electron-quick-start",{"$f":"VLOOKUP(A2329,汇总!D:E,2,FALSE)","v":"https://github.com/electron/electron-quick-start"}]
["kjw0612/awesome-deep-vision",{"$f":"VLOOKUP(A2330,汇总!D:E,2,FALSE)","v":"https://github.com/kjw0612/awesome-deep-vision"}]
["tldraw/tldraw",{"$f":"VLOOKUP(A2331,汇总!D:E,2,FALSE)","v":"https://github.com/tldraw/tldraw"}]
["hackstoic/golang-open-source-projects",{"$f":"VLOOKUP(A2332,汇总!D:E,2,FALSE)","v":"https://github.com/hackstoic/golang-open-source-projects"}]
["h5bp/server-configs-nginx",{"$f":"VLOOKUP(A2333,汇总!D:E,2,FALSE)","v":"https://github.com/h5bp/server-configs-nginx"}]
["erlang/otp",{"$f":"VLOOKUP(A2334,汇总!D:E,2,FALSE)","v":"https://github.com/erlang/otp"}]
["scottjehl/picturefill",{"$f":"VLOOKUP(A2335,汇总!D:E,2,FALSE)","v":"https://github.com/scottjehl/picturefill"}]
["upx/upx",{"$f":"VLOOKUP(A2336,汇总!D:E,2,FALSE)","v":"https://github.com/upx/upx"}]
["brannondorsey/wifi-cracking",{"$f":"VLOOKUP(A2337,汇总!D:E,2,FALSE)","v":"https://github.com/brannondorsey/wifi-cracking"}]
["skyline-emu/skyline",{"$f":"VLOOKUP(A2338,汇总!D:E,2,FALSE)","v":"https://github.com/skyline-emu/skyline"}]
["php-fig/log",{"$f":"VLOOKUP(A2339,汇总!D:E,2,FALSE)","v":"https://github.com/php-fig/log"}]
["leecade/react-native-swiper",{"$f":"VLOOKUP(A2340,汇总!D:E,2,FALSE)","v":"https://github.com/leecade/react-native-swiper"}]
["rabbitmq/rabbitmq-server",{"$f":"VLOOKUP(A2341,汇总!D:E,2,FALSE)","v":"https://github.com/rabbitmq/rabbitmq-server"}]
["openai/CLIP",{"$f":"VLOOKUP(A2342,汇总!D:E,2,FALSE)","v":"https://github.com/openai/CLIP"}]
["tariqbuilds/linux-dash",{"$f":"VLOOKUP(A2343,汇总!D:E,2,FALSE)","v":"https://github.com/tariqbuilds/linux-dash"}]
["cheat/cheat",{"$f":"VLOOKUP(A2344,汇总!D:E,2,FALSE)","v":"https://github.com/cheat/cheat"}]
["extreme-assistant/CVPR2022-Paper-Code-Interpretation",{"$f":"VLOOKUP(A2345,汇总!D:E,2,FALSE)","v":"https://github.com/extreme-assistant/CVPR2022-Paper-Code-Interpretation"}]
["vega/vega",{"$f":"VLOOKUP(A2346,汇总!D:E,2,FALSE)","v":"https://github.com/vega/vega"}]
["qrohlf/trianglify",{"$f":"VLOOKUP(A2347,汇总!D:E,2,FALSE)","v":"https://github.com/qrohlf/trianglify"}]
["matrix-org/synapse",{"$f":"VLOOKUP(A2348,汇总!D:E,2,FALSE)","v":"https://github.com/matrix-org/synapse"}]
["alcatraz/Alcatraz",{"$f":"VLOOKUP(A2349,汇总!D:E,2,FALSE)","v":"https://github.com/alcatraz/Alcatraz"}]
["tiangolo/full-stack-fastapi-postgresql",{"$f":"VLOOKUP(A2350,汇总!D:E,2,FALSE)","v":"https://github.com/tiangolo/full-stack-fastapi-postgresql"}]
["bytecodealliance/wasmtime",{"$f":"VLOOKUP(A2351,汇总!D:E,2,FALSE)","v":"https://github.com/bytecodealliance/wasmtime"}]
["barbajs/barba",{"$f":"VLOOKUP(A2352,汇总!D:E,2,FALSE)","v":"https://github.com/barbajs/barba"}]
["learnbyexample/Command-line-text-processing",{"$f":"VLOOKUP(A2353,汇总!D:E,2,FALSE)","v":"https://github.com/learnbyexample/Command-line-text-processing"}]
["forkingdog/UITableView-FDTemplateLayoutCell",{"$f":"VLOOKUP(A2354,汇总!D:E,2,FALSE)","v":"https://github.com/forkingdog/UITableView-FDTemplateLayoutCell"}]
["TranslucentTB/TranslucentTB",{"$f":"VLOOKUP(A2355,汇总!D:E,2,FALSE)","v":"https://github.com/TranslucentTB/TranslucentTB"}]
["socketio/socket.io-client",{"$f":"VLOOKUP(A2356,汇总!D:E,2,FALSE)","v":"https://github.com/socketio/socket.io-client"}]
["xdissent/ievms",{"$f":"VLOOKUP(A2357,汇总!D:E,2,FALSE)","v":"https://github.com/xdissent/ievms"}]
["taowen/awesome-lowcode",{"$f":"VLOOKUP(A2358,汇总!D:E,2,FALSE)","v":"https://github.com/taowen/awesome-lowcode"}]
["davatorium/rofi",{"$f":"VLOOKUP(A2359,汇总!D:E,2,FALSE)","v":"https://github.com/davatorium/rofi"}]
["dbader/schedule",{"$f":"VLOOKUP(A2360,汇总!D:E,2,FALSE)","v":"https://github.com/dbader/schedule"}]
["luanfujun/deep-photo-styletransfer",{"$f":"VLOOKUP(A2361,汇总!D:E,2,FALSE)","v":"https://github.com/luanfujun/deep-photo-styletransfer"}]
["FormidableLabs/victory",{"$f":"VLOOKUP(A2362,汇总!D:E,2,FALSE)","v":"https://github.com/FormidableLabs/victory"}]
["muesli/duf",{"$f":"VLOOKUP(A2363,汇总!D:E,2,FALSE)","v":"https://github.com/muesli/duf"}]
["ksky521/nodeppt",{"$f":"VLOOKUP(A2364,汇总!D:E,2,FALSE)","v":"https://github.com/ksky521/nodeppt"}]
["PowerShellMafia/PowerSploit",{"$f":"VLOOKUP(A2365,汇总!D:E,2,FALSE)","v":"https://github.com/PowerShellMafia/PowerSploit"}]
["stylelint/stylelint",{"$f":"VLOOKUP(A2366,汇总!D:E,2,FALSE)","v":"https://github.com/stylelint/stylelint"}]
["josdejong/jsoneditor",{"$f":"VLOOKUP(A2367,汇总!D:E,2,FALSE)","v":"https://github.com/josdejong/jsoneditor"}]
["google/dopamine",{"$f":"VLOOKUP(A2368,汇总!D:E,2,FALSE)","v":"https://github.com/google/dopamine"}]
["wix/Detox",{"$f":"VLOOKUP(A2369,汇总!D:E,2,FALSE)","v":"https://github.com/wix/Detox"}]
["NaturalNode/natural",{"$f":"VLOOKUP(A2370,汇总!D:E,2,FALSE)","v":"https://github.com/NaturalNode/natural"}]
["w7corp/easywechat",{"$f":"VLOOKUP(A2371,汇总!D:E,2,FALSE)","v":"https://github.com/w7corp/easywechat"}]
["NVlabs/stylegan2",{"$f":"VLOOKUP(A2372,汇总!D:E,2,FALSE)","v":"https://github.com/NVlabs/stylegan2"}]
["svgdotjs/svg.js",{"$f":"VLOOKUP(A2373,汇总!D:E,2,FALSE)","v":"https://github.com/svgdotjs/svg.js"}]
["ashishpatel26/500-AI-Machine-learning-Deep-learning-Computer-vision-NLP-Projects-with-code",{"$f":"VLOOKUP(A2374,汇总!D:E,2,FALSE)","v":"https://github.com/ashishpatel26/500-AI-Machine-learning-Deep-learning-Computer-vision-NLP-Projects-with-code"}]
["zaproxy/zaproxy",{"$f":"VLOOKUP(A2375,汇总!D:E,2,FALSE)","v":"https://github.com/zaproxy/zaproxy"}]
["askmike/gekko",{"$f":"VLOOKUP(A2376,汇总!D:E,2,FALSE)","v":"https://github.com/askmike/gekko"}]
["girliemac/a-picture-is-worth-a-1000-words",{"$f":"VLOOKUP(A2377,汇总!D:E,2,FALSE)","v":"https://github.com/girliemac/a-picture-is-worth-a-1000-words"}]
["botpress/botpress",{"$f":"VLOOKUP(A2378,汇总!D:E,2,FALSE)","v":"https://github.com/botpress/botpress"}]
["google/auto",{"$f":"VLOOKUP(A2379,汇总!D:E,2,FALSE)","v":"https://github.com/google/auto"}]
["yeoman/yeoman",{"$f":"VLOOKUP(A2380,汇总!D:E,2,FALSE)","v":"https://github.com/yeoman/yeoman"}]
["aFarkas/html5shiv",{"$f":"VLOOKUP(A2381,汇总!D:E,2,FALSE)","v":"https://github.com/aFarkas/html5shiv"}]
["zealdocs/zeal",{"$f":"VLOOKUP(A2382,汇总!D:E,2,FALSE)","v":"https://github.com/zealdocs/zeal"}]
["connors/photon",{"$f":"VLOOKUP(A2383,汇总!D:E,2,FALSE)","v":"https://github.com/connors/photon"}]
["purifycss/purifycss",{"$f":"VLOOKUP(A2384,汇总!D:E,2,FALSE)","v":"https://github.com/purifycss/purifycss"}]
["mwaskom/seaborn",{"$f":"VLOOKUP(A2385,汇总!D:E,2,FALSE)","v":"https://github.com/mwaskom/seaborn"}]
["DeathKing/Learning-SICP",{"$f":"VLOOKUP(A2386,汇总!D:E,2,FALSE)","v":"https://github.com/DeathKing/Learning-SICP"}]
["aristocratos/bashtop",{"$f":"VLOOKUP(A2387,汇总!D:E,2,FALSE)","v":"https://github.com/aristocratos/bashtop"}]
["square/javapoet",{"$f":"VLOOKUP(A2388,汇总!D:E,2,FALSE)","v":"https://github.com/square/javapoet"}]
["bailicangdu/vue2-happyfri",{"$f":"VLOOKUP(A2389,汇总!D:E,2,FALSE)","v":"https://github.com/bailicangdu/vue2-happyfri"}]
["pock/pock",{"$f":"VLOOKUP(A2390,汇总!D:E,2,FALSE)","v":"https://github.com/pock/pock"}]
["Shopify/liquid",{"$f":"VLOOKUP(A2391,汇总!D:E,2,FALSE)","v":"https://github.com/Shopify/liquid"}]
["kefranabg/readme-md-generator",{"$f":"VLOOKUP(A2392,汇总!D:E,2,FALSE)","v":"https://github.com/kefranabg/readme-md-generator"}]
["golang-migrate/migrate",{"$f":"VLOOKUP(A2393,汇总!D:E,2,FALSE)","v":"https://github.com/golang-migrate/migrate"}]
["typicode/hotel",{"$f":"VLOOKUP(A2394,汇总!D:E,2,FALSE)","v":"https://github.com/typicode/hotel"}]
["jasontaylordev/CleanArchitecture",{"$f":"VLOOKUP(A2395,汇总!D:E,2,FALSE)","v":"https://github.com/jasontaylordev/CleanArchitecture"}]
["bulletphysics/bullet3",{"$f":"VLOOKUP(A2396,汇总!D:E,2,FALSE)","v":"https://github.com/bulletphysics/bullet3"}]
["alexjc/neural-doodle",{"$f":"VLOOKUP(A2397,汇总!D:E,2,FALSE)","v":"https://github.com/alexjc/neural-doodle"}]
["XTLS/Xray-core",{"$f":"VLOOKUP(A2398,汇总!D:E,2,FALSE)","v":"https://github.com/XTLS/Xray-core"}]
["callstack/react-native-paper",{"$f":"VLOOKUP(A2399,汇总!D:E,2,FALSE)","v":"https://github.com/callstack/react-native-paper"}]
["coredns/coredns",{"$f":"VLOOKUP(A2400,汇总!D:E,2,FALSE)","v":"https://github.com/coredns/coredns"}]
["facebookresearch/detr",{"$f":"VLOOKUP(A2401,汇总!D:E,2,FALSE)","v":"https://github.com/facebookresearch/detr"}]
["milligram/milligram",{"$f":"VLOOKUP(A2402,汇总!D:E,2,FALSE)","v":"https://github.com/milligram/milligram"}]
["fkhadra/react-toastify",{"$f":"VLOOKUP(A2403,汇总!D:E,2,FALSE)","v":"https://github.com/fkhadra/react-toastify"}]
["javascript-obfuscator/javascript-obfuscator",{"$f":"VLOOKUP(A2404,汇总!D:E,2,FALSE)","v":"https://github.com/javascript-obfuscator/javascript-obfuscator"}]
["coryhouse/react-slingshot",{"$f":"VLOOKUP(A2405,汇总!D:E,2,FALSE)","v":"https://github.com/coryhouse/react-slingshot"}]
["spotDL/spotify-downloader",{"$f":"VLOOKUP(A2406,汇总!D:E,2,FALSE)","v":"https://github.com/spotDL/spotify-downloader"}]
["jquery-archive/jquery-mobile",{"$f":"VLOOKUP(A2407,汇总!D:E,2,FALSE)","v":"https://github.com/jquery-archive/jquery-mobile"}]
["cookiecutter/cookiecutter-django",{"$f":"VLOOKUP(A2408,汇总!D:E,2,FALSE)","v":"https://github.com/cookiecutter/cookiecutter-django"}]
["Netflix/pollyjs",{"$f":"VLOOKUP(A2409,汇总!D:E,2,FALSE)","v":"https://github.com/Netflix/pollyjs"}]
["audreyfeldroy/favicon-cheat-sheet",{"$f":"VLOOKUP(A2410,汇总!D:E,2,FALSE)","v":"https://github.com/audreyfeldroy/favicon-cheat-sheet"}]
["danluu/post-mortems",{"$f":"VLOOKUP(A2411,汇总!D:E,2,FALSE)","v":"https://github.com/danluu/post-mortems"}]
["JakeWharton/timber",{"$f":"VLOOKUP(A2412,汇总!D:E,2,FALSE)","v":"https://github.com/JakeWharton/timber"}]
["vipstone/faceai",{"$f":"VLOOKUP(A2413,汇总!D:E,2,FALSE)","v":"https://github.com/vipstone/faceai"}]
["frontendbr/vagas",{"$f":"VLOOKUP(A2414,汇总!D:E,2,FALSE)","v":"https://github.com/frontendbr/vagas"}]
["jhy/jsoup",{"$f":"VLOOKUP(A2415,汇总!D:E,2,FALSE)","v":"https://github.com/jhy/jsoup"}]
["alyssaxuu/flowy",{"$f":"VLOOKUP(A2416,汇总!D:E,2,FALSE)","v":"https://github.com/alyssaxuu/flowy"}]
["kevinzhow/PNChart",{"$f":"VLOOKUP(A2417,汇总!D:E,2,FALSE)","v":"https://github.com/kevinzhow/PNChart"}]
["alist-org/alist",{"$f":"VLOOKUP(A2418,汇总!D:E,2,FALSE)","v":"https://github.com/alist-org/alist"}]
["vuejs-templates/webpack",{"$f":"VLOOKUP(A2419,汇总!D:E,2,FALSE)","v":"https://github.com/vuejs-templates/webpack"}]
["apereo/cas",{"$f":"VLOOKUP(A2420,汇总!D:E,2,FALSE)","v":"https://github.com/apereo/cas"}]
["YoKeyword/Fragmentation",{"$f":"VLOOKUP(A2421,汇总!D:E,2,FALSE)","v":"https://github.com/YoKeyword/Fragmentation"}]
["reasonml/reason",{"$f":"VLOOKUP(A2422,汇总!D:E,2,FALSE)","v":"https://github.com/reasonml/reason"}]
["rocky-linux/rocky",{"$f":"VLOOKUP(A2423,汇总!D:E,2,FALSE)","v":"https://github.com/rocky-linux/rocky"}]
["sundowndev/hacker-roadmap",{"$f":"VLOOKUP(A2424,汇总!D:E,2,FALSE)","v":"https://github.com/sundowndev/hacker-roadmap"}]
["vueComponent/ant-design-vue-pro",{"$f":"VLOOKUP(A2425,汇总!D:E,2,FALSE)","v":"https://github.com/vueComponent/ant-design-vue-pro"}]
["squizlabs/PHP_CodeSniffer",{"$f":"VLOOKUP(A2426,汇总!D:E,2,FALSE)","v":"https://github.com/squizlabs/PHP_CodeSniffer"}]
["SecureAuthCorp/impacket",{"$f":"VLOOKUP(A2427,汇总!D:E,2,FALSE)","v":"https://github.com/SecureAuthCorp/impacket"}]
["cure53/DOMPurify",{"$f":"VLOOKUP(A2428,汇总!D:E,2,FALSE)","v":"https://github.com/cure53/DOMPurify"}]
["JakeWharton/RxBinding",{"$f":"VLOOKUP(A2429,汇总!D:E,2,FALSE)","v":"https://github.com/JakeWharton/RxBinding"}]
["Atmosphere-NX/Atmosphere",{"$f":"VLOOKUP(A2430,汇总!D:E,2,FALSE)","v":"https://github.com/Atmosphere-NX/Atmosphere"}]
["crimx/ext-saladict",{"$f":"VLOOKUP(A2431,汇总!D:E,2,FALSE)","v":"https://github.com/crimx/ext-saladict"}]
["tree-sitter/tree-sitter",{"$f":"VLOOKUP(A2432,汇总!D:E,2,FALSE)","v":"https://github.com/tree-sitter/tree-sitter"}]
["matthieua/WOW",{"$f":"VLOOKUP(A2433,汇总!D:E,2,FALSE)","v":"https://github.com/matthieua/WOW"}]
["wasabeef/glide-transformations",{"$f":"VLOOKUP(A2434,汇总!D:E,2,FALSE)","v":"https://github.com/wasabeef/glide-transformations"}]
["ginuerzh/gost",{"$f":"VLOOKUP(A2435,汇总!D:E,2,FALSE)","v":"https://github.com/ginuerzh/gost"}]
["tylertreat/comcast",{"$f":"VLOOKUP(A2436,汇总!D:E,2,FALSE)","v":"https://github.com/tylertreat/comcast"}]
["vercel/turborepo",{"$f":"VLOOKUP(A2437,汇总!D:E,2,FALSE)","v":"https://github.com/vercel/turborepo"}]
["docker-mailserver/docker-mailserver",{"$f":"VLOOKUP(A2438,汇总!D:E,2,FALSE)","v":"https://github.com/docker-mailserver/docker-mailserver"}]
["aui/art-template",{"$f":"VLOOKUP(A2439,汇总!D:E,2,FALSE)","v":"https://github.com/aui/art-template"}]
["hmemcpy/milewski-ctfp-pdf",{"$f":"VLOOKUP(A2440,汇总!D:E,2,FALSE)","v":"https://github.com/hmemcpy/milewski-ctfp-pdf"}]
["vnotex/vnote",{"$f":"VLOOKUP(A2441,汇总!D:E,2,FALSE)","v":"https://github.com/vnotex/vnote"}]
["gleitz/howdoi",{"$f":"VLOOKUP(A2442,汇总!D:E,2,FALSE)","v":"https://github.com/gleitz/howdoi"}]
["clojure/clojure",{"$f":"VLOOKUP(A2443,汇总!D:E,2,FALSE)","v":"https://github.com/clojure/clojure"}]
["acdlite/react-fiber-architecture",{"$f":"VLOOKUP(A2444,汇总!D:E,2,FALSE)","v":"https://github.com/acdlite/react-fiber-architecture"}]
["teamcapybara/capybara",{"$f":"VLOOKUP(A2445,汇总!D:E,2,FALSE)","v":"https://github.com/teamcapybara/capybara"}]
["meliorence/react-native-snap-carousel",{"$f":"VLOOKUP(A2446,汇总!D:E,2,FALSE)","v":"https://github.com/meliorence/react-native-snap-carousel"}]
["mdbootstrap/Tailwind-Elements",{"$f":"VLOOKUP(A2447,汇总!D:E,2,FALSE)","v":"https://github.com/mdbootstrap/Tailwind-Elements"}]
["theonedev/onedev",{"$f":"VLOOKUP(A2448,汇总!D:E,2,FALSE)","v":"https://github.com/theonedev/onedev"}]
["Caldis/Mos",{"$f":"VLOOKUP(A2449,汇总!D:E,2,FALSE)","v":"https://github.com/Caldis/Mos"}]
["nilaoda/N_m3u8DL-CLI",{"$f":"VLOOKUP(A2450,汇总!D:E,2,FALSE)","v":"https://github.com/nilaoda/N_m3u8DL-CLI"}]
["ydataai/pandas-profiling",{"$f":"VLOOKUP(A2451,汇总!D:E,2,FALSE)","v":"https://github.com/ydataai/pandas-profiling"}]
["clap-rs/clap",{"$f":"VLOOKUP(A2452,汇总!D:E,2,FALSE)","v":"https://github.com/clap-rs/clap"}]
["vuematerial/vue-material",{"$f":"VLOOKUP(A2453,汇总!D:E,2,FALSE)","v":"https://github.com/vuematerial/vue-material"}]
["pwxcoo/chinese-xinhua",{"$f":"VLOOKUP(A2454,汇总!D:E,2,FALSE)","v":"https://github.com/pwxcoo/chinese-xinhua"}]
["cdnjs/cdnjs",{"$f":"VLOOKUP(A2455,汇总!D:E,2,FALSE)","v":"https://github.com/cdnjs/cdnjs"}]
["HarlonWang/AVLoadingIndicatorView",{"$f":"VLOOKUP(A2456,汇总!D:E,2,FALSE)","v":"https://github.com/HarlonWang/AVLoadingIndicatorView"}]
["Zulko/moviepy",{"$f":"VLOOKUP(A2457,汇总!D:E,2,FALSE)","v":"https://github.com/Zulko/moviepy"}]
["sympy/sympy",{"$f":"VLOOKUP(A2458,汇总!D:E,2,FALSE)","v":"https://github.com/sympy/sympy"}]
["Hammerspoon/hammerspoon",{"$f":"VLOOKUP(A2459,汇总!D:E,2,FALSE)","v":"https://github.com/Hammerspoon/hammerspoon"}]
["PaddlePaddle/PaddleHub",{"$f":"VLOOKUP(A2460,汇总!D:E,2,FALSE)","v":"https://github.com/PaddlePaddle/PaddleHub"}]
["liaohuqiu/android-Ultra-Pull-To-Refresh",{"$f":"VLOOKUP(A2461,汇总!D:E,2,FALSE)","v":"https://github.com/liaohuqiu/android-Ultra-Pull-To-Refresh"}]
["microsoft/qlib",{"$f":"VLOOKUP(A2462,汇总!D:E,2,FALSE)","v":"https://github.com/microsoft/qlib"}]
["glfw/glfw",{"$f":"VLOOKUP(A2463,汇总!D:E,2,FALSE)","v":"https://github.com/glfw/glfw"}]
["snapappointments/bootstrap-select",{"$f":"VLOOKUP(A2464,汇总!D:E,2,FALSE)","v":"https://github.com/snapappointments/bootstrap-select"}]
["felangel/bloc",{"$f":"VLOOKUP(A2465,汇总!D:E,2,FALSE)","v":"https://github.com/felangel/bloc"}]
["opencontainers/runc",{"$f":"VLOOKUP(A2466,汇总!D:E,2,FALSE)","v":"https://github.com/opencontainers/runc"}]
["Theano/Theano",{"$f":"VLOOKUP(A2467,汇总!D:E,2,FALSE)","v":"https://github.com/Theano/Theano"}]
["videolan/vlc",{"$f":"VLOOKUP(A2468,汇总!D:E,2,FALSE)","v":"https://github.com/videolan/vlc"}]
["ksoichiro/Android-ObservableScrollView",{"$f":"VLOOKUP(A2469,汇总!D:E,2,FALSE)","v":"https://github.com/ksoichiro/Android-ObservableScrollView"}]
["harelba/q",{"$f":"VLOOKUP(A2470,汇总!D:E,2,FALSE)","v":"https://github.com/harelba/q"}]
["renovatebot/renovate",{"$f":"VLOOKUP(A2471,汇总!D:E,2,FALSE)","v":"https://github.com/renovatebot/renovate"}]
["JamesNK/Newtonsoft.Json",{"$f":"VLOOKUP(A2472,汇总!D:E,2,FALSE)","v":"https://github.com/JamesNK/Newtonsoft.Json"}]
["sdelements/lets-chat",{"$f":"VLOOKUP(A2473,汇总!D:E,2,FALSE)","v":"https://github.com/sdelements/lets-chat"}]
["DayBreak-u/chineseocr_lite",{"$f":"VLOOKUP(A2474,汇总!D:E,2,FALSE)","v":"https://github.com/DayBreak-u/chineseocr_lite"}]
["direnv/direnv",{"$f":"VLOOKUP(A2475,汇总!D:E,2,FALSE)","v":"https://github.com/direnv/direnv"}]
["lyhue1991/eat_tensorflow2_in_30_days",{"$f":"VLOOKUP(A2476,汇总!D:E,2,FALSE)","v":"https://github.com/lyhue1991/eat_tensorflow2_in_30_days"}]
["coolwanglu/pdf2htmlEX",{"$f":"VLOOKUP(A2477,汇总!D:E,2,FALSE)","v":"https://github.com/coolwanglu/pdf2htmlEX"}]
["ruby-grape/grape",{"$f":"VLOOKUP(A2478,汇总!D:E,2,FALSE)","v":"https://github.com/ruby-grape/grape"}]
["Unity-Technologies/UnityCsReference",{"$f":"VLOOKUP(A2479,汇总!D:E,2,FALSE)","v":"https://github.com/Unity-Technologies/UnityCsReference"}]
["addyosmani/critical",{"$f":"VLOOKUP(A2480,汇总!D:E,2,FALSE)","v":"https://github.com/addyosmani/critical"}]
["BuilderIO/partytown",{"$f":"VLOOKUP(A2481,汇总!D:E,2,FALSE)","v":"https://github.com/BuilderIO/partytown"}]
["jhen0409/react-native-debugger",{"$f":"VLOOKUP(A2482,汇总!D:E,2,FALSE)","v":"https://github.com/jhen0409/react-native-debugger"}]
["aniftyco/awesome-tailwindcss",{"$f":"VLOOKUP(A2483,汇总!D:E,2,FALSE)","v":"https://github.com/aniftyco/awesome-tailwindcss"}]
["hackjutsu/Lepton",{"$f":"VLOOKUP(A2484,汇总!D:E,2,FALSE)","v":"https://github.com/hackjutsu/Lepton"}]
["react-native-camera/react-native-camera",{"$f":"VLOOKUP(A2485,汇总!D:E,2,FALSE)","v":"https://github.com/react-native-camera/react-native-camera"}]
["tflearn/tflearn",{"$f":"VLOOKUP(A2486,汇总!D:E,2,FALSE)","v":"https://github.com/tflearn/tflearn"}]
["rigtorp/awesome-modern-cpp",{"$f":"VLOOKUP(A2487,汇总!D:E,2,FALSE)","v":"https://github.com/rigtorp/awesome-modern-cpp"}]
["pyinstaller/pyinstaller",{"$f":"VLOOKUP(A2488,汇总!D:E,2,FALSE)","v":"https://github.com/pyinstaller/pyinstaller"}]
["php-fig/container",{"$f":"VLOOKUP(A2489,汇总!D:E,2,FALSE)","v":"https://github.com/php-fig/container"}]
["callstack/linaria",{"$f":"VLOOKUP(A2490,汇总!D:E,2,FALSE)","v":"https://github.com/callstack/linaria"}]
["labring/sealos",{"$f":"VLOOKUP(A2491,汇总!D:E,2,FALSE)","v":"https://github.com/labring/sealos"}]
["Aircoookie/WLED",{"$f":"VLOOKUP(A2492,汇总!D:E,2,FALSE)","v":"https://github.com/Aircoookie/WLED"}]
["googlesamples/easypermissions",{"$f":"VLOOKUP(A2493,汇总!D:E,2,FALSE)","v":"https://github.com/googlesamples/easypermissions"}]
["swiftmailer/swiftmailer",{"$f":"VLOOKUP(A2494,汇总!D:E,2,FALSE)","v":"https://github.com/swiftmailer/swiftmailer"}]
["fantasyland/fantasy-land",{"$f":"VLOOKUP(A2495,汇总!D:E,2,FALSE)","v":"https://github.com/fantasyland/fantasy-land"}]
["zerotier/ZeroTierOne",{"$f":"VLOOKUP(A2496,汇总!D:E,2,FALSE)","v":"https://github.com/zerotier/ZeroTierOne"}]
["RetroPie/RetroPie-Setup",{"$f":"VLOOKUP(A2497,汇总!D:E,2,FALSE)","v":"https://github.com/RetroPie/RetroPie-Setup"}]
["r-spacex/SpaceX-API",{"$f":"VLOOKUP(A2498,汇总!D:E,2,FALSE)","v":"https://github.com/r-spacex/SpaceX-API"}]
["acaudwell/Gource",{"$f":"VLOOKUP(A2499,汇总!D:E,2,FALSE)","v":"https://github.com/acaudwell/Gource"}]
["peachananr/onepage-scroll",{"$f":"VLOOKUP(A2500,汇总!D:E,2,FALSE)","v":"https://github.com/peachananr/onepage-scroll"}]
["kautukkundan/Awesome-Profile-README-templates",{"$f":"VLOOKUP(A2501,汇总!D:E,2,FALSE)","v":"https://github.com/kautukkundan/Awesome-Profile-README-templates"}]
["mongodb/node-mongodb-native",{"$f":"VLOOKUP(A2502,汇总!D:E,2,FALSE)","v":"https://github.com/mongodb/node-mongodb-native"}]
["ruanyf/webpack-demos",{"$f":"VLOOKUP(A2503,汇总!D:E,2,FALSE)","v":"https://github.com/ruanyf/webpack-demos"}]
["deployphp/deployer",{"$f":"VLOOKUP(A2504,汇总!D:E,2,FALSE)","v":"https://github.com/deployphp/deployer"}]
["senchalabs/connect",{"$f":"VLOOKUP(A2505,汇总!D:E,2,FALSE)","v":"https://github.com/senchalabs/connect"}]
["vue-bulma/vue-admin",{"$f":"VLOOKUP(A2506,汇总!D:E,2,FALSE)","v":"https://github.com/vue-bulma/vue-admin"}]
["future-architect/vuls",{"$f":"VLOOKUP(A2507,汇总!D:E,2,FALSE)","v":"https://github.com/future-architect/vuls"}]
["Quick/Quick",{"$f":"VLOOKUP(A2508,汇总!D:E,2,FALSE)","v":"https://github.com/Quick/Quick"}]
["ExistentialAudio/BlackHole",{"$f":"VLOOKUP(A2509,汇总!D:E,2,FALSE)","v":"https://github.com/ExistentialAudio/BlackHole"}]
["mrgloom/awesome-semantic-segmentation",{"$f":"VLOOKUP(A2510,汇总!D:E,2,FALSE)","v":"https://github.com/mrgloom/awesome-semantic-segmentation"}]
["TarsCloud/Tars",{"$f":"VLOOKUP(A2511,汇总!D:E,2,FALSE)","v":"https://github.com/TarsCloud/Tars"}]
["nbedos/termtosvg",{"$f":"VLOOKUP(A2512,汇总!D:E,2,FALSE)","v":"https://github.com/nbedos/termtosvg"}]
["NginxProxyManager/nginx-proxy-manager",{"$f":"VLOOKUP(A2513,汇总!D:E,2,FALSE)","v":"https://github.com/NginxProxyManager/nginx-proxy-manager"}]
["fullstackio/FlappySwift",{"$f":"VLOOKUP(A2514,汇总!D:E,2,FALSE)","v":"https://github.com/fullstackio/FlappySwift"}]
["JetBrains/compose-jb",{"$f":"VLOOKUP(A2515,汇总!D:E,2,FALSE)","v":"https://github.com/JetBrains/compose-jb"}]
["Tencent/wcdb",{"$f":"VLOOKUP(A2516,汇总!D:E,2,FALSE)","v":"https://github.com/Tencent/wcdb"}]
["erikras/ducks-modular-redux",{"$f":"VLOOKUP(A2517,汇总!D:E,2,FALSE)","v":"https://github.com/erikras/ducks-modular-redux"}]
["codota/TabNine",{"$f":"VLOOKUP(A2518,汇总!D:E,2,FALSE)","v":"https://github.com/codota/TabNine"}]
["StylishThemes/GitHub-Dark",{"$f":"VLOOKUP(A2519,汇总!D:E,2,FALSE)","v":"https://github.com/StylishThemes/GitHub-Dark"}]
["coleifer/peewee",{"$f":"VLOOKUP(A2520,汇总!D:E,2,FALSE)","v":"https://github.com/coleifer/peewee"}]
["getzola/zola",{"$f":"VLOOKUP(A2521,汇总!D:E,2,FALSE)","v":"https://github.com/getzola/zola"}]
["solana-labs/solana",{"$f":"VLOOKUP(A2522,汇总!D:E,2,FALSE)","v":"https://github.com/solana-labs/solana"}]
["GoogleChromeLabs/quicklink",{"$f":"VLOOKUP(A2523,汇总!D:E,2,FALSE)","v":"https://github.com/GoogleChromeLabs/quicklink"}]
["maxogden/art-of-node",{"$f":"VLOOKUP(A2524,汇总!D:E,2,FALSE)","v":"https://github.com/maxogden/art-of-node"}]
["darknessomi/musicbox",{"$f":"VLOOKUP(A2525,汇总!D:E,2,FALSE)","v":"https://github.com/darknessomi/musicbox"}]
["gradio-app/gradio",{"$f":"VLOOKUP(A2526,汇总!D:E,2,FALSE)","v":"https://github.com/gradio-app/gradio"}]
["Gallopsled/pwntools",{"$f":"VLOOKUP(A2527,汇总!D:E,2,FALSE)","v":"https://github.com/Gallopsled/pwntools"}]
["sindresorhus/pageres",{"$f":"VLOOKUP(A2528,汇总!D:E,2,FALSE)","v":"https://github.com/sindresorhus/pageres"}]
["reactjs/react-transition-group",{"$f":"VLOOKUP(A2529,汇总!D:E,2,FALSE)","v":"https://github.com/reactjs/react-transition-group"}]
["signalapp/Signal-iOS",{"$f":"VLOOKUP(A2530,汇总!D:E,2,FALSE)","v":"https://github.com/signalapp/Signal-iOS"}]
["sonic-pi-net/sonic-pi",{"$f":"VLOOKUP(A2531,汇总!D:E,2,FALSE)","v":"https://github.com/sonic-pi-net/sonic-pi"}]
["phpredis/phpredis",{"$f":"VLOOKUP(A2532,汇总!D:E,2,FALSE)","v":"https://github.com/phpredis/phpredis"}]
["therecipe/qt",{"$f":"VLOOKUP(A2533,汇总!D:E,2,FALSE)","v":"https://github.com/therecipe/qt"}]
["OWASP/owasp-mastg",{"$f":"VLOOKUP(A2534,汇总!D:E,2,FALSE)","v":"https://github.com/OWASP/owasp-mastg"}]
["paascloud/paascloud-master",{"$f":"VLOOKUP(A2535,汇总!D:E,2,FALSE)","v":"https://github.com/paascloud/paascloud-master"}]
["facebookresearch/ParlAI",{"$f":"VLOOKUP(A2536,汇总!D:E,2,FALSE)","v":"https://github.com/facebookresearch/ParlAI"}]
["PostHog/posthog",{"$f":"VLOOKUP(A2537,汇总!D:E,2,FALSE)","v":"https://github.com/PostHog/posthog"}]
["mdbootstrap/material-design-for-bootstrap",{"$f":"VLOOKUP(A2538,汇总!D:E,2,FALSE)","v":"https://github.com/mdbootstrap/material-design-for-bootstrap"}]
["encode/httpx",{"$f":"VLOOKUP(A2539,汇总!D:E,2,FALSE)","v":"https://github.com/encode/httpx"}]
["AlloyTeam/Mars",{"$f":"VLOOKUP(A2540,汇总!D:E,2,FALSE)","v":"https://github.com/AlloyTeam/Mars"}]
["fogleman/Craft",{"$f":"VLOOKUP(A2541,汇总!D:E,2,FALSE)","v":"https://github.com/fogleman/Craft"}]
["apidoc/apidoc",{"$f":"VLOOKUP(A2542,汇总!D:E,2,FALSE)","v":"https://github.com/apidoc/apidoc"}]
["umano/AndroidSlidingUpPanel",{"$f":"VLOOKUP(A2543,汇总!D:E,2,FALSE)","v":"https://github.com/umano/AndroidSlidingUpPanel"}]
["stackblitz/core",{"$f":"VLOOKUP(A2544,汇总!D:E,2,FALSE)","v":"https://github.com/stackblitz/core"}]
["DevExpress/testcafe",{"$f":"VLOOKUP(A2545,汇总!D:E,2,FALSE)","v":"https://github.com/DevExpress/testcafe"}]
["mzlogin/awesome-adb",{"$f":"VLOOKUP(A2546,汇总!D:E,2,FALSE)","v":"https://github.com/mzlogin/awesome-adb"}]
["openlayers/openlayers",{"$f":"VLOOKUP(A2547,汇总!D:E,2,FALSE)","v":"https://github.com/openlayers/openlayers"}]
["JStumpp/awesome-android",{"$f":"VLOOKUP(A2548,汇总!D:E,2,FALSE)","v":"https://github.com/JStumpp/awesome-android"}]
["jupyter/notebook",{"$f":"VLOOKUP(A2549,汇总!D:E,2,FALSE)","v":"https://github.com/jupyter/notebook"}]
["amusi/CVPR2022-Papers-with-Code",{"$f":"VLOOKUP(A2550,汇总!D:E,2,FALSE)","v":"https://github.com/amusi/CVPR2022-Papers-with-Code"}]
["chimurai/http-proxy-middleware",{"$f":"VLOOKUP(A2551,汇总!D:E,2,FALSE)","v":"https://github.com/chimurai/http-proxy-middleware"}]
["pockethub/PocketHub",{"$f":"VLOOKUP(A2552,汇总!D:E,2,FALSE)","v":"https://github.com/pockethub/PocketHub"}]
["mementum/backtrader",{"$f":"VLOOKUP(A2553,汇总!D:E,2,FALSE)","v":"https://github.com/mementum/backtrader"}]
["cert-manager/cert-manager",{"$f":"VLOOKUP(A2554,汇总!D:E,2,FALSE)","v":"https://github.com/cert-manager/cert-manager"}]
["macrozheng/mall-swarm",{"$f":"VLOOKUP(A2555,汇总!D:E,2,FALSE)","v":"https://github.com/macrozheng/mall-swarm"}]
["espressif/arduino-esp32",{"$f":"VLOOKUP(A2556,汇总!D:E,2,FALSE)","v":"https://github.com/espressif/arduino-esp32"}]
["veeral-patel/how-to-secure-anything",{"$f":"VLOOKUP(A2557,汇总!D:E,2,FALSE)","v":"https://github.com/veeral-patel/how-to-secure-anything"}]
["metafizzy/zdog",{"$f":"VLOOKUP(A2558,汇总!D:E,2,FALSE)","v":"https://github.com/metafizzy/zdog"}]
["HackerNews/API",{"$f":"VLOOKUP(A2559,汇总!D:E,2,FALSE)","v":"https://github.com/HackerNews/API"}]
["facebookarchive/Shimmer",{"$f":"VLOOKUP(A2560,汇总!D:E,2,FALSE)","v":"https://github.com/facebookarchive/Shimmer"}]
["gabrielbull/react-desktop",{"$f":"VLOOKUP(A2561,汇总!D:E,2,FALSE)","v":"https://github.com/gabrielbull/react-desktop"}]
["deepmind/sonnet",{"$f":"VLOOKUP(A2562,汇总!D:E,2,FALSE)","v":"https://github.com/deepmind/sonnet"}]
["bobthecow/psysh",{"$f":"VLOOKUP(A2563,汇总!D:E,2,FALSE)","v":"https://github.com/bobthecow/psysh"}]
["paulmillr/chokidar",{"$f":"VLOOKUP(A2564,汇总!D:E,2,FALSE)","v":"https://github.com/paulmillr/chokidar"}]
["perwendel/spark",{"$f":"VLOOKUP(A2565,汇总!D:E,2,FALSE)","v":"https://github.com/perwendel/spark"}]
["Automattic/kue",{"$f":"VLOOKUP(A2566,汇总!D:E,2,FALSE)","v":"https://github.com/Automattic/kue"}]
["facebookincubator/SocketRocket",{"$f":"VLOOKUP(A2567,汇总!D:E,2,FALSE)","v":"https://github.com/facebookincubator/SocketRocket"}]
["jayphelps/git-blame-someone-else",{"$f":"VLOOKUP(A2568,汇总!D:E,2,FALSE)","v":"https://github.com/jayphelps/git-blame-someone-else"}]
["OpenIMSDK/Open-IM-Server",{"$f":"VLOOKUP(A2569,汇总!D:E,2,FALSE)","v":"https://github.com/OpenIMSDK/Open-IM-Server"}]
["doctrine/orm",{"$f":"VLOOKUP(A2570,汇总!D:E,2,FALSE)","v":"https://github.com/doctrine/orm"}]
["VickScarlet/lifeRestart",{"$f":"VLOOKUP(A2571,汇总!D:E,2,FALSE)","v":"https://github.com/VickScarlet/lifeRestart"}]
["apache/thrift",{"$f":"VLOOKUP(A2572,汇总!D:E,2,FALSE)","v":"https://github.com/apache/thrift"}]
["kleampa/not-paid",{"$f":"VLOOKUP(A2573,汇总!D:E,2,FALSE)","v":"https://github.com/kleampa/not-paid"}]
["typecho/typecho",{"$f":"VLOOKUP(A2574,汇总!D:E,2,FALSE)","v":"https://github.com/typecho/typecho"}]
["nukeop/nuclear",{"$f":"VLOOKUP(A2575,汇总!D:E,2,FALSE)","v":"https://github.com/nukeop/nuclear"}]
["imathis/octopress",{"$f":"VLOOKUP(A2576,汇总!D:E,2,FALSE)","v":"https://github.com/imathis/octopress"}]
["AudioKit/AudioKit",{"$f":"VLOOKUP(A2577,汇总!D:E,2,FALSE)","v":"https://github.com/AudioKit/AudioKit"}]
["dotnet/blazor",{"$f":"VLOOKUP(A2578,汇总!D:E,2,FALSE)","v":"https://github.com/dotnet/blazor"}]
["mayswind/AriaNg",{"$f":"VLOOKUP(A2579,汇总!D:E,2,FALSE)","v":"https://github.com/mayswind/AriaNg"}]
["bilibili/DanmakuFlameMaster",{"$f":"VLOOKUP(A2580,汇总!D:E,2,FALSE)","v":"https://github.com/bilibili/DanmakuFlameMaster"}]
["edgedb/edgedb",{"$f":"VLOOKUP(A2581,汇总!D:E,2,FALSE)","v":"https://github.com/edgedb/edgedb"}]
["vercel/vercel",{"$f":"VLOOKUP(A2582,汇总!D:E,2,FALSE)","v":"https://github.com/vercel/vercel"}]
["bbfamily/abu",{"$f":"VLOOKUP(A2583,汇总!D:E,2,FALSE)","v":"https://github.com/bbfamily/abu"}]
["HabitRPG/habitica",{"$f":"VLOOKUP(A2584,汇总!D:E,2,FALSE)","v":"https://github.com/HabitRPG/habitica"}]
["TooTallNate/Java-WebSocket",{"$f":"VLOOKUP(A2585,汇总!D:E,2,FALSE)","v":"https://github.com/TooTallNate/Java-WebSocket"}]
["jart/cosmopolitan",{"$f":"VLOOKUP(A2586,汇总!D:E,2,FALSE)","v":"https://github.com/jart/cosmopolitan"}]
["nuxt/framework",{"$f":"VLOOKUP(A2587,汇总!D:E,2,FALSE)","v":"https://github.com/nuxt/framework"}]
["fgnass/spin.js",{"$f":"VLOOKUP(A2588,汇总!D:E,2,FALSE)","v":"https://github.com/fgnass/spin.js"}]
["FormidableLabs/spectacle",{"$f":"VLOOKUP(A2589,汇总!D:E,2,FALSE)","v":"https://github.com/FormidableLabs/spectacle"}]
["addyosmani/backbone-fundamentals",{"$f":"VLOOKUP(A2590,汇总!D:E,2,FALSE)","v":"https://github.com/addyosmani/backbone-fundamentals"}]
["kristoferjoseph/flexboxgrid",{"$f":"VLOOKUP(A2591,汇总!D:E,2,FALSE)","v":"https://github.com/kristoferjoseph/flexboxgrid"}]
["oblador/react-native-animatable",{"$f":"VLOOKUP(A2592,汇总!D:E,2,FALSE)","v":"https://github.com/oblador/react-native-animatable"}]
["aws/aws-cdk",{"$f":"VLOOKUP(A2593,汇总!D:E,2,FALSE)","v":"https://github.com/aws/aws-cdk"}]
["NVIDIA/DeepLearningExamples",{"$f":"VLOOKUP(A2594,汇总!D:E,2,FALSE)","v":"https://github.com/NVIDIA/DeepLearningExamples"}]
["MyCATApache/Mycat-Server",{"$f":"VLOOKUP(A2595,汇总!D:E,2,FALSE)","v":"https://github.com/MyCATApache/Mycat-Server"}]
["daylerees/colour-schemes",{"$f":"VLOOKUP(A2596,汇总!D:E,2,FALSE)","v":"https://github.com/daylerees/colour-schemes"}]
["fossasia/visdom",{"$f":"VLOOKUP(A2597,汇总!D:E,2,FALSE)","v":"https://github.com/fossasia/visdom"}]
["qeeqbox/social-analyzer",{"$f":"VLOOKUP(A2598,汇总!D:E,2,FALSE)","v":"https://github.com/qeeqbox/social-analyzer"}]
["skywind3000/awesome-cheatsheets",{"$f":"VLOOKUP(A2599,汇总!D:E,2,FALSE)","v":"https://github.com/skywind3000/awesome-cheatsheets"}]
["yangyangwithgnu/hardseed",{"$f":"VLOOKUP(A2600,汇总!D:E,2,FALSE)","v":"https://github.com/yangyangwithgnu/hardseed"}]
["remarkjs/react-markdown",{"$f":"VLOOKUP(A2601,汇总!D:E,2,FALSE)","v":"https://github.com/remarkjs/react-markdown"}]
["Perfare/AssetStudio",{"$f":"VLOOKUP(A2602,汇总!D:E,2,FALSE)","v":"https://github.com/Perfare/AssetStudio"}]
["x-hw/amazing-qr",{"$f":"VLOOKUP(A2603,汇总!D:E,2,FALSE)","v":"https://github.com/x-hw/amazing-qr"}]
["CesiumGS/cesium",{"$f":"VLOOKUP(A2604,汇总!D:E,2,FALSE)","v":"https://github.com/CesiumGS/cesium"}]
["buefy/buefy",{"$f":"VLOOKUP(A2605,汇总!D:E,2,FALSE)","v":"https://github.com/buefy/buefy"}]
["lima-vm/lima",{"$f":"VLOOKUP(A2606,汇总!D:E,2,FALSE)","v":"https://github.com/lima-vm/lima"}]
["caprover/caprover",{"$f":"VLOOKUP(A2607,汇总!D:E,2,FALSE)","v":"https://github.com/caprover/caprover"}]
["MindorksOpenSource/android-interview-questions",{"$f":"VLOOKUP(A2608,汇总!D:E,2,FALSE)","v":"https://github.com/MindorksOpenSource/android-interview-questions"}]
["logaretm/vee-validate",{"$f":"VLOOKUP(A2609,汇总!D:E,2,FALSE)","v":"https://github.com/logaretm/vee-validate"}]
["DNSCrypt/dnscrypt-proxy",{"$f":"VLOOKUP(A2610,汇总!D:E,2,FALSE)","v":"https://github.com/DNSCrypt/dnscrypt-proxy"}]
["timarney/react-app-rewired",{"$f":"VLOOKUP(A2611,汇总!D:E,2,FALSE)","v":"https://github.com/timarney/react-app-rewired"}]
["akveo/react-native-ui-kitten",{"$f":"VLOOKUP(A2612,汇总!D:E,2,FALSE)","v":"https://github.com/akveo/react-native-ui-kitten"}]
["GoogleChromeLabs/carlo",{"$f":"VLOOKUP(A2613,汇总!D:E,2,FALSE)","v":"https://github.com/GoogleChromeLabs/carlo"}]
["newbee-ltd/newbee-mall",{"$f":"VLOOKUP(A2614,汇总!D:E,2,FALSE)","v":"https://github.com/newbee-ltd/newbee-mall"}]
["adamwdraper/Numeral-js",{"$f":"VLOOKUP(A2615,汇总!D:E,2,FALSE)","v":"https://github.com/adamwdraper/Numeral-js"}]
["bloomberg/memray",{"$f":"VLOOKUP(A2616,汇总!D:E,2,FALSE)","v":"https://github.com/bloomberg/memray"}]
["gomodule/redigo",{"$f":"VLOOKUP(A2617,汇总!D:E,2,FALSE)","v":"https://github.com/gomodule/redigo"}]
["capnproto/capnproto",{"$f":"VLOOKUP(A2618,汇总!D:E,2,FALSE)","v":"https://github.com/capnproto/capnproto"}]
["trufflesecurity/trufflehog",{"$f":"VLOOKUP(A2619,汇总!D:E,2,FALSE)","v":"https://github.com/trufflesecurity/trufflehog"}]
["pytest-dev/pytest",{"$f":"VLOOKUP(A2620,汇总!D:E,2,FALSE)","v":"https://github.com/pytest-dev/pytest"}]
["wsdjeg/vim-galore-zh_cn",{"$f":"VLOOKUP(A2621,汇总!D:E,2,FALSE)","v":"https://github.com/wsdjeg/vim-galore-zh_cn"}]
["inversify/InversifyJS",{"$f":"VLOOKUP(A2622,汇总!D:E,2,FALSE)","v":"https://github.com/inversify/InversifyJS"}]
["dotansimha/graphql-code-generator",{"$f":"VLOOKUP(A2623,汇总!D:E,2,FALSE)","v":"https://github.com/dotansimha/graphql-code-generator"}]
["StartBootstrap/startbootstrap-sb-admin-2",{"$f":"VLOOKUP(A2624,汇总!D:E,2,FALSE)","v":"https://github.com/StartBootstrap/startbootstrap-sb-admin-2"}]
["SoftEtherVPN/SoftEtherVPN",{"$f":"VLOOKUP(A2625,汇总!D:E,2,FALSE)","v":"https://github.com/SoftEtherVPN/SoftEtherVPN"}]
["dingo/api",{"$f":"VLOOKUP(A2626,汇总!D:E,2,FALSE)","v":"https://github.com/dingo/api"}]
["lexfridman/mit-deep-learning",{"$f":"VLOOKUP(A2627,汇总!D:E,2,FALSE)","v":"https://github.com/lexfridman/mit-deep-learning"}]
["raspberrypi/linux",{"$f":"VLOOKUP(A2628,汇总!D:E,2,FALSE)","v":"https://github.com/raspberrypi/linux"}]
["xcatliu/typescript-tutorial",{"$f":"VLOOKUP(A2629,汇总!D:E,2,FALSE)","v":"https://github.com/xcatliu/typescript-tutorial"}]
["questdb/questdb",{"$f":"VLOOKUP(A2630,汇总!D:E,2,FALSE)","v":"https://github.com/questdb/questdb"}]
["rougier/numpy-100",{"$f":"VLOOKUP(A2631,汇总!D:E,2,FALSE)","v":"https://github.com/rougier/numpy-100"}]
["sogou/workflow",{"$f":"VLOOKUP(A2632,汇总!D:E,2,FALSE)","v":"https://github.com/sogou/workflow"}]
["symfony/console",{"$f":"VLOOKUP(A2633,汇总!D:E,2,FALSE)","v":"https://github.com/symfony/console"}]
["dunovank/jupyter-themes",{"$f":"VLOOKUP(A2634,汇总!D:E,2,FALSE)","v":"https://github.com/dunovank/jupyter-themes"}]
["uncss/uncss",{"$f":"VLOOKUP(A2635,汇总!D:E,2,FALSE)","v":"https://github.com/uncss/uncss"}]
["hackware1993/MagicIndicator",{"$f":"VLOOKUP(A2636,汇总!D:E,2,FALSE)","v":"https://github.com/hackware1993/MagicIndicator"}]
["alexfoxy/lax.js",{"$f":"VLOOKUP(A2637,汇总!D:E,2,FALSE)","v":"https://github.com/alexfoxy/lax.js"}]
["microsoft/Swin-Transformer",{"$f":"VLOOKUP(A2638,汇总!D:E,2,FALSE)","v":"https://github.com/microsoft/Swin-Transformer"}]
["boardgameio/boardgame.io",{"$f":"VLOOKUP(A2639,汇总!D:E,2,FALSE)","v":"https://github.com/boardgameio/boardgame.io"}]
["krzyzanowskim/CryptoSwift",{"$f":"VLOOKUP(A2640,汇总!D:E,2,FALSE)","v":"https://github.com/krzyzanowskim/CryptoSwift"}]
["shichuan/javascript-patterns",{"$f":"VLOOKUP(A2641,汇总!D:E,2,FALSE)","v":"https://github.com/shichuan/javascript-patterns"}]
["cnodejs/nodeclub",{"$f":"VLOOKUP(A2642,汇总!D:E,2,FALSE)","v":"https://github.com/cnodejs/nodeclub"}]
["gildas-lormeau/SingleFile",{"$f":"VLOOKUP(A2643,汇总!D:E,2,FALSE)","v":"https://github.com/gildas-lormeau/SingleFile"}]
["activeadmin/activeadmin",{"$f":"VLOOKUP(A2644,汇总!D:E,2,FALSE)","v":"https://github.com/activeadmin/activeadmin"}]
["diesel-rs/diesel",{"$f":"VLOOKUP(A2645,汇总!D:E,2,FALSE)","v":"https://github.com/diesel-rs/diesel"}]
["darlinghq/darling",{"$f":"VLOOKUP(A2646,汇总!D:E,2,FALSE)","v":"https://github.com/darlinghq/darling"}]
["phw/peek",{"$f":"VLOOKUP(A2647,汇总!D:E,2,FALSE)","v":"https://github.com/phw/peek"}]
["tinode/chat",{"$f":"VLOOKUP(A2648,汇总!D:E,2,FALSE)","v":"https://github.com/tinode/chat"}]
["Shopify/sarama",{"$f":"VLOOKUP(A2649,汇总!D:E,2,FALSE)","v":"https://github.com/Shopify/sarama"}]
["Dod-o/Statistical-Learning-Method_Code",{"$f":"VLOOKUP(A2650,汇总!D:E,2,FALSE)","v":"https://github.com/Dod-o/Statistical-Learning-Method_Code"}]
["aksakalli/gtop",{"$f":"VLOOKUP(A2651,汇总!D:E,2,FALSE)","v":"https://github.com/aksakalli/gtop"}]
["welldone-software/why-did-you-render",{"$f":"VLOOKUP(A2652,汇总!D:E,2,FALSE)","v":"https://github.com/welldone-software/why-did-you-render"}]
["k4m4/movies-for-hackers",{"$f":"VLOOKUP(A2653,汇总!D:E,2,FALSE)","v":"https://github.com/k4m4/movies-for-hackers"}]
["react-dropzone/react-dropzone",{"$f":"VLOOKUP(A2654,汇总!D:E,2,FALSE)","v":"https://github.com/react-dropzone/react-dropzone"}]
["mas-cli/mas",{"$f":"VLOOKUP(A2655,汇总!D:E,2,FALSE)","v":"https://github.com/mas-cli/mas"}]
["aws/chalice",{"$f":"VLOOKUP(A2656,汇总!D:E,2,FALSE)","v":"https://github.com/aws/chalice"}]
["google/wire",{"$f":"VLOOKUP(A2657,汇总!D:E,2,FALSE)","v":"https://github.com/google/wire"}]
["dotnet/csharplang",{"$f":"VLOOKUP(A2658,汇总!D:E,2,FALSE)","v":"https://github.com/dotnet/csharplang"}]
["hackerkid/Mind-Expanding-Books",{"$f":"VLOOKUP(A2659,汇总!D:E,2,FALSE)","v":"https://github.com/hackerkid/Mind-Expanding-Books"}]
["kingToolbox/WindTerm",{"$f":"VLOOKUP(A2660,汇总!D:E,2,FALSE)","v":"https://github.com/kingToolbox/WindTerm"}]
["libevent/libevent",{"$f":"VLOOKUP(A2661,汇总!D:E,2,FALSE)","v":"https://github.com/libevent/libevent"}]
["Lissy93/personal-security-checklist",{"$f":"VLOOKUP(A2662,汇总!D:E,2,FALSE)","v":"https://github.com/Lissy93/personal-security-checklist"}]
["c3js/c3",{"$f":"VLOOKUP(A2663,汇总!D:E,2,FALSE)","v":"https://github.com/c3js/c3"}]
["eduardolundgren/tracking.js",{"$f":"VLOOKUP(A2664,汇总!D:E,2,FALSE)","v":"https://github.com/eduardolundgren/tracking.js"}]
["tmux-plugins/tmux-resurrect",{"$f":"VLOOKUP(A2665,汇总!D:E,2,FALSE)","v":"https://github.com/tmux-plugins/tmux-resurrect"}]
["antvis/G6",{"$f":"VLOOKUP(A2666,汇总!D:E,2,FALSE)","v":"https://github.com/antvis/G6"}]
["deepmind/alphafold",{"$f":"VLOOKUP(A2667,汇总!D:E,2,FALSE)","v":"https://github.com/deepmind/alphafold"}]
["espressif/esp-idf",{"$f":"VLOOKUP(A2668,汇总!D:E,2,FALSE)","v":"https://github.com/espressif/esp-idf"}]
["Droogans/unmaintainable-code",{"$f":"VLOOKUP(A2669,汇总!D:E,2,FALSE)","v":"https://github.com/Droogans/unmaintainable-code"}]
["panjf2000/ants",{"$f":"VLOOKUP(A2670,汇总!D:E,2,FALSE)","v":"https://github.com/panjf2000/ants"}]
["gitpod-io/gitpod",{"$f":"VLOOKUP(A2671,汇总!D:E,2,FALSE)","v":"https://github.com/gitpod-io/gitpod"}]
["sfyc23/EverydayWechat",{"$f":"VLOOKUP(A2672,汇总!D:E,2,FALSE)","v":"https://github.com/sfyc23/EverydayWechat"}]
["koral--/android-gif-drawable",{"$f":"VLOOKUP(A2673,汇总!D:E,2,FALSE)","v":"https://github.com/koral--/android-gif-drawable"}]
["wkentaro/labelme",{"$f":"VLOOKUP(A2674,汇总!D:E,2,FALSE)","v":"https://github.com/wkentaro/labelme"}]
["ttroy50/cmake-examples",{"$f":"VLOOKUP(A2675,汇总!D:E,2,FALSE)","v":"https://github.com/ttroy50/cmake-examples"}]
["yangyangwithgnu/use_vim_as_ide",{"$f":"VLOOKUP(A2676,汇总!D:E,2,FALSE)","v":"https://github.com/yangyangwithgnu/use_vim_as_ide"}]
["tailscale/tailscale",{"$f":"VLOOKUP(A2677,汇总!D:E,2,FALSE)","v":"https://github.com/tailscale/tailscale"}]
["resque/resque",{"$f":"VLOOKUP(A2678,汇总!D:E,2,FALSE)","v":"https://github.com/resque/resque"}]
["helmetjs/helmet",{"$f":"VLOOKUP(A2679,汇总!D:E,2,FALSE)","v":"https://github.com/helmetjs/helmet"}]
["ag-grid/ag-grid",{"$f":"VLOOKUP(A2680,汇总!D:E,2,FALSE)","v":"https://github.com/ag-grid/ag-grid"}]
["lihengming/spring-boot-api-project-seed",{"$f":"VLOOKUP(A2681,汇总!D:E,2,FALSE)","v":"https://github.com/lihengming/spring-boot-api-project-seed"}]
["sparksuite/simplemde-markdown-editor",{"$f":"VLOOKUP(A2682,汇总!D:E,2,FALSE)","v":"https://github.com/sparksuite/simplemde-markdown-editor"}]
["arasatasaygin/is.js",{"$f":"VLOOKUP(A2683,汇总!D:E,2,FALSE)","v":"https://github.com/arasatasaygin/is.js"}]
["streamaserver/streama",{"$f":"VLOOKUP(A2684,汇总!D:E,2,FALSE)","v":"https://github.com/streamaserver/streama"}]
["NVlabs/instant-ngp",{"$f":"VLOOKUP(A2685,汇总!D:E,2,FALSE)","v":"https://github.com/NVlabs/instant-ngp"}]
["heynickc/awesome-ddd",{"$f":"VLOOKUP(A2686,汇总!D:E,2,FALSE)","v":"https://github.com/heynickc/awesome-ddd"}]
["benawad/dogehouse",{"$f":"VLOOKUP(A2687,汇总!D:E,2,FALSE)","v":"https://github.com/benawad/dogehouse"}]
["pyodide/pyodide",{"$f":"VLOOKUP(A2688,汇总!D:E,2,FALSE)","v":"https://github.com/pyodide/pyodide"}]
["keycastr/keycastr",{"$f":"VLOOKUP(A2689,汇总!D:E,2,FALSE)","v":"https://github.com/keycastr/keycastr"}]
["thoughtbot/guides",{"$f":"VLOOKUP(A2690,汇总!D:E,2,FALSE)","v":"https://github.com/thoughtbot/guides"}]
["BoyceLig/Clash_Chinese_Patch",{"$f":"VLOOKUP(A2691,汇总!D:E,2,FALSE)","v":"https://github.com/BoyceLig/Clash_Chinese_Patch"}]
["ritchieng/the-incredible-pytorch",{"$f":"VLOOKUP(A2692,汇总!D:E,2,FALSE)","v":"https://github.com/ritchieng/the-incredible-pytorch"}]
["CoreyMSchafer/code_snippets",{"$f":"VLOOKUP(A2693,汇总!D:E,2,FALSE)","v":"https://github.com/CoreyMSchafer/code_snippets"}]
["thumbor/thumbor",{"$f":"VLOOKUP(A2694,汇总!D:E,2,FALSE)","v":"https://github.com/thumbor/thumbor"}]
["mrmrs/colors",{"$f":"VLOOKUP(A2695,汇总!D:E,2,FALSE)","v":"https://github.com/mrmrs/colors"}]
["SigNoz/signoz",{"$f":"VLOOKUP(A2696,汇总!D:E,2,FALSE)","v":"https://github.com/SigNoz/signoz"}]
["tweepy/tweepy",{"$f":"VLOOKUP(A2697,汇总!D:E,2,FALSE)","v":"https://github.com/tweepy/tweepy"}]
["crawlab-team/crawlab",{"$f":"VLOOKUP(A2698,汇总!D:E,2,FALSE)","v":"https://github.com/crawlab-team/crawlab"}]
["phillipi/pix2pix",{"$f":"VLOOKUP(A2699,汇总!D:E,2,FALSE)","v":"https://github.com/phillipi/pix2pix"}]
["eeeeeeeeeeeeeeeeeeeeeeeeeeeeeeee/eeeeeeeeeeeeeeeeeeeeeeeeeeeeeeeeeeeeeeeeeeeeeeeeeeeeeeeeeeeeeeeeeeeeeeeeeeeeeeeeeeeeeeeeeeeeeeeeeeee",{"$f":"VLOOKUP(A2700,汇总!D:E,2,FALSE)","v":"https://github.com/eeeeeeeeeeeeeeeeeeeeeeeeeeeeeeee/eeeeeeeeeeeeeeeeeeeeeeeeeeeeeeeeeeeeeeeeeeeeeeeeeeeeeeeeeeeeeeeeeeeeeeeeeeeeeeeeeeeeeeeeeeeeeeeeeeee"}]
["rough-stuff/wired-elements",{"$f":"VLOOKUP(A2701,汇总!D:E,2,FALSE)","v":"https://github.com/rough-stuff/wired-elements"}]
["trimstray/test-your-sysadmin-skills",{"$f":"VLOOKUP(A2702,汇总!D:E,2,FALSE)","v":"https://github.com/trimstray/test-your-sysadmin-skills"}]
["dompdf/dompdf",{"$f":"VLOOKUP(A2703,汇总!D:E,2,FALSE)","v":"https://github.com/dompdf/dompdf"}]
["rgcr/m-cli",{"$f":"VLOOKUP(A2704,汇总!D:E,2,FALSE)","v":"https://github.com/rgcr/m-cli"}]
["phpDocumentor/ReflectionDocBlock",{"$f":"VLOOKUP(A2705,汇总!D:E,2,FALSE)","v":"https://github.com/phpDocumentor/ReflectionDocBlock"}]
["sinonjs/sinon",{"$f":"VLOOKUP(A2706,汇总!D:E,2,FALSE)","v":"https://github.com/sinonjs/sinon"}]
["benfred/py-spy",{"$f":"VLOOKUP(A2707,汇总!D:E,2,FALSE)","v":"https://github.com/benfred/py-spy"}]
["kunal-kushwaha/DSA-Bootcamp-Java",{"$f":"VLOOKUP(A2708,汇总!D:E,2,FALSE)","v":"https://github.com/kunal-kushwaha/DSA-Bootcamp-Java"}]
["symless/synergy-core",{"$f":"VLOOKUP(A2709,汇总!D:E,2,FALSE)","v":"https://github.com/symless/synergy-core"}]
["hacksalot/HackMyResume",{"$f":"VLOOKUP(A2710,汇总!D:E,2,FALSE)","v":"https://github.com/hacksalot/HackMyResume"}]
["MacDownApp/macdown",{"$f":"VLOOKUP(A2711,汇总!D:E,2,FALSE)","v":"https://github.com/MacDownApp/macdown"}]
["londonappbrewery/Flutter-Course-Resources",{"$f":"VLOOKUP(A2712,汇总!D:E,2,FALSE)","v":"https://github.com/londonappbrewery/Flutter-Course-Resources"}]
["mapeditor/tiled",{"$f":"VLOOKUP(A2713,汇总!D:E,2,FALSE)","v":"https://github.com/mapeditor/tiled"}]
["thoughtbot/bourbon",{"$f":"VLOOKUP(A2714,汇总!D:E,2,FALSE)","v":"https://github.com/thoughtbot/bourbon"}]
["android/ndk-samples",{"$f":"VLOOKUP(A2715,汇总!D:E,2,FALSE)","v":"https://github.com/android/ndk-samples"}]
["novnc/noVNC",{"$f":"VLOOKUP(A2716,汇总!D:E,2,FALSE)","v":"https://github.com/novnc/noVNC"}]
["lzyzsd/JsBridge",{"$f":"VLOOKUP(A2717,汇总!D:E,2,FALSE)","v":"https://github.com/lzyzsd/JsBridge"}]
["huangz1990/redis-3.0-annotated",{"$f":"VLOOKUP(A2718,汇总!D:E,2,FALSE)","v":"https://github.com/huangz1990/redis-3.0-annotated"}]
["dolphin-emu/dolphin",{"$f":"VLOOKUP(A2719,汇总!D:E,2,FALSE)","v":"https://github.com/dolphin-emu/dolphin"}]
["cs231n/cs231n.github.io",{"$f":"VLOOKUP(A2720,汇总!D:E,2,FALSE)","v":"https://github.com/cs231n/cs231n.github.io"}]
["oldboyxx/jira_clone",{"$f":"VLOOKUP(A2721,汇总!D:E,2,FALSE)","v":"https://github.com/oldboyxx/jira_clone"}]
["openframeworks/openFrameworks",{"$f":"VLOOKUP(A2722,汇总!D:E,2,FALSE)","v":"https://github.com/openframeworks/openFrameworks"}]
["denoland/fresh",{"$f":"VLOOKUP(A2723,汇总!D:E,2,FALSE)","v":"https://github.com/denoland/fresh"}]
["navasmdc/MaterialDesignLibrary",{"$f":"VLOOKUP(A2724,汇总!D:E,2,FALSE)","v":"https://github.com/navasmdc/MaterialDesignLibrary"}]
["Hvass-Labs/TensorFlow-Tutorials",{"$f":"VLOOKUP(A2725,汇总!D:E,2,FALSE)","v":"https://github.com/Hvass-Labs/TensorFlow-Tutorials"}]
["id-Software/DOOM",{"$f":"VLOOKUP(A2726,汇总!D:E,2,FALSE)","v":"https://github.com/id-Software/DOOM"}]
["pcqpcq/open-source-android-apps",{"$f":"VLOOKUP(A2727,汇总!D:E,2,FALSE)","v":"https://github.com/pcqpcq/open-source-android-apps"}]
["gka/chroma.js",{"$f":"VLOOKUP(A2728,汇总!D:E,2,FALSE)","v":"https://github.com/gka/chroma.js"}]
["gregberge/svgr",{"$f":"VLOOKUP(A2729,汇总!D:E,2,FALSE)","v":"https://github.com/gregberge/svgr"}]
["zuiidea/antd-admin",{"$f":"VLOOKUP(A2730,汇总!D:E,2,FALSE)","v":"https://github.com/zuiidea/antd-admin"}]
["rshipp/awesome-malware-analysis",{"$f":"VLOOKUP(A2731,汇总!D:E,2,FALSE)","v":"https://github.com/rshipp/awesome-malware-analysis"}]
["thoughtbot/paperclip",{"$f":"VLOOKUP(A2732,汇总!D:E,2,FALSE)","v":"https://github.com/thoughtbot/paperclip"}]
["FriendsOfPHP/Goutte",{"$f":"VLOOKUP(A2733,汇总!D:E,2,FALSE)","v":"https://github.com/FriendsOfPHP/Goutte"}]
["yjs/yjs",{"$f":"VLOOKUP(A2734,汇总!D:E,2,FALSE)","v":"https://github.com/yjs/yjs"}]
["rust-embedded/rust-raspberrypi-OS-tutorials",{"$f":"VLOOKUP(A2735,汇总!D:E,2,FALSE)","v":"https://github.com/rust-embedded/rust-raspberrypi-OS-tutorials"}]
["quay/clair",{"$f":"VLOOKUP(A2736,汇总!D:E,2,FALSE)","v":"https://github.com/quay/clair"}]
["EZLippi/Tinyhttpd",{"$f":"VLOOKUP(A2737,汇总!D:E,2,FALSE)","v":"https://github.com/EZLippi/Tinyhttpd"}]
["serverless-stack/sst",{"$f":"VLOOKUP(A2738,汇总!D:E,2,FALSE)","v":"https://github.com/serverless-stack/sst"}]
["ultralytics/yolov3",{"$f":"VLOOKUP(A2739,汇总!D:E,2,FALSE)","v":"https://github.com/ultralytics/yolov3"}]
["coding-horror/basic-computer-games",{"$f":"VLOOKUP(A2740,汇总!D:E,2,FALSE)","v":"https://github.com/coding-horror/basic-computer-games"}]
["hq450/fancyss_history_package",{"$f":"VLOOKUP(A2741,汇总!D:E,2,FALSE)","v":"https://github.com/hq450/fancyss_history_package"}]
["OpenRefine/OpenRefine",{"$f":"VLOOKUP(A2742,汇总!D:E,2,FALSE)","v":"https://github.com/OpenRefine/OpenRefine"}]
["VGraupera/1on1-questions",{"$f":"VLOOKUP(A2743,汇总!D:E,2,FALSE)","v":"https://github.com/VGraupera/1on1-questions"}]
["guillaumepotier/Parsley.js",{"$f":"VLOOKUP(A2744,汇总!D:E,2,FALSE)","v":"https://github.com/guillaumepotier/Parsley.js"}]
["toutiaoio/awesome-architecture",{"$f":"VLOOKUP(A2745,汇总!D:E,2,FALSE)","v":"https://github.com/toutiaoio/awesome-architecture"}]
["piskelapp/piskel",{"$f":"VLOOKUP(A2746,汇总!D:E,2,FALSE)","v":"https://github.com/piskelapp/piskel"}]
["nasa/fprime",{"$f":"VLOOKUP(A2747,汇总!D:E,2,FALSE)","v":"https://github.com/nasa/fprime"}]
["mathjax/MathJax",{"$f":"VLOOKUP(A2748,汇总!D:E,2,FALSE)","v":"https://github.com/mathjax/MathJax"}]
["GoogleChromeLabs/comlink",{"$f":"VLOOKUP(A2749,汇总!D:E,2,FALSE)","v":"https://github.com/GoogleChromeLabs/comlink"}]
["rushter/MLAlgorithms",{"$f":"VLOOKUP(A2750,汇总!D:E,2,FALSE)","v":"https://github.com/rushter/MLAlgorithms"}]
["ChenYilong/iOSInterviewQuestions",{"$f":"VLOOKUP(A2751,汇总!D:E,2,FALSE)","v":"https://github.com/ChenYilong/iOSInterviewQuestions"}]
["cheat-engine/cheat-engine",{"$f":"VLOOKUP(A2752,汇总!D:E,2,FALSE)","v":"https://github.com/cheat-engine/cheat-engine"}]
["YiiGuxing/TranslationPlugin",{"$f":"VLOOKUP(A2753,汇总!D:E,2,FALSE)","v":"https://github.com/YiiGuxing/TranslationPlugin"}]
["mapbox/mapbox-gl-js",{"$f":"VLOOKUP(A2754,汇总!D:E,2,FALSE)","v":"https://github.com/mapbox/mapbox-gl-js"}]
["Studio3T/robomongo",{"$f":"VLOOKUP(A2755,汇总!D:E,2,FALSE)","v":"https://github.com/Studio3T/robomongo"}]
["dastergon/awesome-sre",{"$f":"VLOOKUP(A2756,汇总!D:E,2,FALSE)","v":"https://github.com/dastergon/awesome-sre"}]
["trimstray/the-practical-linux-hardening-guide",{"$f":"VLOOKUP(A2757,汇总!D:E,2,FALSE)","v":"https://github.com/trimstray/the-practical-linux-hardening-guide"}]
["amueller/word_cloud",{"$f":"VLOOKUP(A2758,汇总!D:E,2,FALSE)","v":"https://github.com/amueller/word_cloud"}]
["aksonov/react-native-router-flux",{"$f":"VLOOKUP(A2759,汇总!D:E,2,FALSE)","v":"https://github.com/aksonov/react-native-router-flux"}]
["typekit/webfontloader",{"$f":"VLOOKUP(A2760,汇总!D:E,2,FALSE)","v":"https://github.com/typekit/webfontloader"}]
["s0md3v/Photon",{"$f":"VLOOKUP(A2761,汇总!D:E,2,FALSE)","v":"https://github.com/s0md3v/Photon"}]
["RedditSota/state-of-the-art-result-for-machine-learning-problems",{"$f":"VLOOKUP(A2762,汇总!D:E,2,FALSE)","v":"https://github.com/RedditSota/state-of-the-art-result-for-machine-learning-problems"}]
["react-page/react-page",{"$f":"VLOOKUP(A2763,汇总!D:E,2,FALSE)","v":"https://github.com/react-page/react-page"}]
["didi/cube-ui",{"$f":"VLOOKUP(A2764,汇总!D:E,2,FALSE)","v":"https://github.com/didi/cube-ui"}]
["AutoMapper/AutoMapper",{"$f":"VLOOKUP(A2765,汇总!D:E,2,FALSE)","v":"https://github.com/AutoMapper/AutoMapper"}]
["tristanhimmelman/ObjectMapper",{"$f":"VLOOKUP(A2766,汇总!D:E,2,FALSE)","v":"https://github.com/tristanhimmelman/ObjectMapper"}]
["firefly-iii/firefly-iii",{"$f":"VLOOKUP(A2767,汇总!D:E,2,FALSE)","v":"https://github.com/firefly-iii/firefly-iii"}]
["rust-lang/cargo",{"$f":"VLOOKUP(A2768,汇总!D:E,2,FALSE)","v":"https://github.com/rust-lang/cargo"}]
["Activiti/Activiti",{"$f":"VLOOKUP(A2769,汇总!D:E,2,FALSE)","v":"https://github.com/Activiti/Activiti"}]
["smartcontractkit/full-blockchain-solidity-course-py",{"$f":"VLOOKUP(A2770,汇总!D:E,2,FALSE)","v":"https://github.com/smartcontractkit/full-blockchain-solidity-course-py"}]
["aristocratos/btop",{"$f":"VLOOKUP(A2771,汇总!D:E,2,FALSE)","v":"https://github.com/aristocratos/btop"}]
["stanzhai/be-a-professional-programmer",{"$f":"VLOOKUP(A2772,汇总!D:E,2,FALSE)","v":"https://github.com/stanzhai/be-a-professional-programmer"}]
["webtorrent/webtorrent-desktop",{"$f":"VLOOKUP(A2773,汇总!D:E,2,FALSE)","v":"https://github.com/webtorrent/webtorrent-desktop"}]
["jojoldu/junior-recruit-scheduler",{"$f":"VLOOKUP(A2774,汇总!D:E,2,FALSE)","v":"https://github.com/jojoldu/junior-recruit-scheduler"}]
["listen1/listen1_chrome_extension",{"$f":"VLOOKUP(A2775,汇总!D:E,2,FALSE)","v":"https://github.com/listen1/listen1_chrome_extension"}]
["ytisf/theZoo",{"$f":"VLOOKUP(A2776,汇总!D:E,2,FALSE)","v":"https://github.com/ytisf/theZoo"}]
["carpedm20/awesome-hacking",{"$f":"VLOOKUP(A2777,汇总!D:E,2,FALSE)","v":"https://github.com/carpedm20/awesome-hacking"}]
["doocs/jvm",{"$f":"VLOOKUP(A2778,汇总!D:E,2,FALSE)","v":"https://github.com/doocs/jvm"}]
["microsoft/napajs",{"$f":"VLOOKUP(A2779,汇总!D:E,2,FALSE)","v":"https://github.com/microsoft/napajs"}]
["rtyley/bfg-repo-cleaner",{"$f":"VLOOKUP(A2780,汇总!D:E,2,FALSE)","v":"https://github.com/rtyley/bfg-repo-cleaner"}]
["facebookresearch/maskrcnn-benchmark",{"$f":"VLOOKUP(A2781,汇总!D:E,2,FALSE)","v":"https://github.com/facebookresearch/maskrcnn-benchmark"}]
["cefsharp/CefSharp",{"$f":"VLOOKUP(A2782,汇总!D:E,2,FALSE)","v":"https://github.com/cefsharp/CefSharp"}]
["clojure/clojurescript",{"$f":"VLOOKUP(A2783,汇总!D:E,2,FALSE)","v":"https://github.com/clojure/clojurescript"}]
["Laverna/laverna",{"$f":"VLOOKUP(A2784,汇总!D:E,2,FALSE)","v":"https://github.com/Laverna/laverna"}]
["Loyalsoldier/v2ray-rules-dat",{"$f":"VLOOKUP(A2785,汇总!D:E,2,FALSE)","v":"https://github.com/Loyalsoldier/v2ray-rules-dat"}]
["mozilla/BrowserQuest",{"$f":"VLOOKUP(A2786,汇总!D:E,2,FALSE)","v":"https://github.com/mozilla/BrowserQuest"}]
["sindresorhus/type-fest",{"$f":"VLOOKUP(A2787,汇总!D:E,2,FALSE)","v":"https://github.com/sindresorhus/type-fest"}]
["apenwarr/sshuttle",{"$f":"VLOOKUP(A2788,汇总!D:E,2,FALSE)","v":"https://github.com/apenwarr/sshuttle"}]
["asLody/VirtualApp",{"$f":"VLOOKUP(A2789,汇总!D:E,2,FALSE)","v":"https://github.com/asLody/VirtualApp"}]
["didi/chameleon",{"$f":"VLOOKUP(A2790,汇总!D:E,2,FALSE)","v":"https://github.com/didi/chameleon"}]
["aws-amplify/amplify-js",{"$f":"VLOOKUP(A2791,汇总!D:E,2,FALSE)","v":"https://github.com/aws-amplify/amplify-js"}]
["sumatrapdfreader/sumatrapdf",{"$f":"VLOOKUP(A2792,汇总!D:E,2,FALSE)","v":"https://github.com/sumatrapdfreader/sumatrapdf"}]
["apple/swift-package-manager",{"$f":"VLOOKUP(A2793,汇总!D:E,2,FALSE)","v":"https://github.com/apple/swift-package-manager"}]
["ziahamza/webui-aria2",{"$f":"VLOOKUP(A2794,汇总!D:E,2,FALSE)","v":"https://github.com/ziahamza/webui-aria2"}]
["pre-commit/pre-commit",{"$f":"VLOOKUP(A2795,汇总!D:E,2,FALSE)","v":"https://github.com/pre-commit/pre-commit"}]
["kanaka/mal",{"$f":"VLOOKUP(A2796,汇总!D:E,2,FALSE)","v":"https://github.com/kanaka/mal"}]
["phpDocumentor/TypeResolver",{"$f":"VLOOKUP(A2797,汇总!D:E,2,FALSE)","v":"https://github.com/phpDocumentor/TypeResolver"}]
["lipis/flag-icons",{"$f":"VLOOKUP(A2798,汇总!D:E,2,FALSE)","v":"https://github.com/lipis/flag-icons"}]
["jlevy/og-equity-compensation",{"$f":"VLOOKUP(A2799,汇总!D:E,2,FALSE)","v":"https://github.com/jlevy/og-equity-compensation"}]
["epicmaxco/vuestic-admin",{"$f":"VLOOKUP(A2800,汇总!D:E,2,FALSE)","v":"https://github.com/epicmaxco/vuestic-admin"}]
["MagicStack/uvloop",{"$f":"VLOOKUP(A2801,汇总!D:E,2,FALSE)","v":"https://github.com/MagicStack/uvloop"}]
["django-cms/django-cms",{"$f":"VLOOKUP(A2802,汇总!D:E,2,FALSE)","v":"https://github.com/django-cms/django-cms"}]
["keplergl/kepler.gl",{"$f":"VLOOKUP(A2803,汇总!D:E,2,FALSE)","v":"https://github.com/keplergl/kepler.gl"}]
["tiangolo/typer",{"$f":"VLOOKUP(A2804,汇总!D:E,2,FALSE)","v":"https://github.com/tiangolo/typer"}]
["linkerd/linkerd2",{"$f":"VLOOKUP(A2805,汇总!D:E,2,FALSE)","v":"https://github.com/linkerd/linkerd2"}]
["nathanmarz/storm",{"$f":"VLOOKUP(A2806,汇总!D:E,2,FALSE)","v":"https://github.com/nathanmarz/storm"}]
["marmelab/gremlins.js",{"$f":"VLOOKUP(A2807,汇总!D:E,2,FALSE)","v":"https://github.com/marmelab/gremlins.js"}]
["kubernetes-sigs/kustomize",{"$f":"VLOOKUP(A2808,汇总!D:E,2,FALSE)","v":"https://github.com/kubernetes-sigs/kustomize"}]
["mobz/elasticsearch-head",{"$f":"VLOOKUP(A2809,汇总!D:E,2,FALSE)","v":"https://github.com/mobz/elasticsearch-head"}]
["termux/termux-packages",{"$f":"VLOOKUP(A2810,汇总!D:E,2,FALSE)","v":"https://github.com/termux/termux-packages"}]
["coursera-dl/coursera-dl",{"$f":"VLOOKUP(A2811,汇总!D:E,2,FALSE)","v":"https://github.com/coursera-dl/coursera-dl"}]
["falconry/falcon",{"$f":"VLOOKUP(A2812,汇总!D:E,2,FALSE)","v":"https://github.com/falconry/falcon"}]
["nextapps-de/flexsearch",{"$f":"VLOOKUP(A2813,汇总!D:E,2,FALSE)","v":"https://github.com/nextapps-de/flexsearch"}]
["alexanderepstein/Bash-Snippets",{"$f":"VLOOKUP(A2814,汇总!D:E,2,FALSE)","v":"https://github.com/alexanderepstein/Bash-Snippets"}]
["polaris1119/The-Golang-Standard-Library-by-Example",{"$f":"VLOOKUP(A2815,汇总!D:E,2,FALSE)","v":"https://github.com/polaris1119/The-Golang-Standard-Library-by-Example"}]
["cyrus-and/gdb-dashboard",{"$f":"VLOOKUP(A2816,汇总!D:E,2,FALSE)","v":"https://github.com/cyrus-and/gdb-dashboard"}]
["facebook/chisel",{"$f":"VLOOKUP(A2817,汇总!D:E,2,FALSE)","v":"https://github.com/facebook/chisel"}]
["vuejs/pinia",{"$f":"VLOOKUP(A2818,汇总!D:E,2,FALSE)","v":"https://github.com/vuejs/pinia"}]
["openai/DALL-E",{"$f":"VLOOKUP(A2819,汇总!D:E,2,FALSE)","v":"https://github.com/openai/DALL-E"}]
["microsoft/vscode-tips-and-tricks",{"$f":"VLOOKUP(A2820,汇总!D:E,2,FALSE)","v":"https://github.com/microsoft/vscode-tips-and-tricks"}]
["rui314/mold",{"$f":"VLOOKUP(A2821,汇总!D:E,2,FALSE)","v":"https://github.com/rui314/mold"}]
["rkt/rkt",{"$f":"VLOOKUP(A2822,汇总!D:E,2,FALSE)","v":"https://github.com/rkt/rkt"}]
["sbilly/awesome-security",{"$f":"VLOOKUP(A2823,汇总!D:E,2,FALSE)","v":"https://github.com/sbilly/awesome-security"}]
["dinedal/textql",{"$f":"VLOOKUP(A2824,汇总!D:E,2,FALSE)","v":"https://github.com/dinedal/textql"}]
["tsayen/dom-to-image",{"$f":"VLOOKUP(A2825,汇总!D:E,2,FALSE)","v":"https://github.com/tsayen/dom-to-image"}]
["IdentityServer/IdentityServer4",{"$f":"VLOOKUP(A2826,汇总!D:E,2,FALSE)","v":"https://github.com/IdentityServer/IdentityServer4"}]
["tweenjs/tween.js",{"$f":"VLOOKUP(A2827,汇总!D:E,2,FALSE)","v":"https://github.com/tweenjs/tween.js"}]
["sshuttle/sshuttle",{"$f":"VLOOKUP(A2828,汇总!D:E,2,FALSE)","v":"https://github.com/sshuttle/sshuttle"}]
["vector-im/element-web",{"$f":"VLOOKUP(A2829,汇总!D:E,2,FALSE)","v":"https://github.com/vector-im/element-web"}]
["Schniz/fnm",{"$f":"VLOOKUP(A2830,汇总!D:E,2,FALSE)","v":"https://github.com/Schniz/fnm"}]
["microsoft/Windows-universal-samples",{"$f":"VLOOKUP(A2831,汇总!D:E,2,FALSE)","v":"https://github.com/microsoft/Windows-universal-samples"}]
["cs01/gdbgui",{"$f":"VLOOKUP(A2832,汇总!D:E,2,FALSE)","v":"https://github.com/cs01/gdbgui"}]
["google/go-github",{"$f":"VLOOKUP(A2833,汇总!D:E,2,FALSE)","v":"https://github.com/google/go-github"}]
["Automattic/node-canvas",{"$f":"VLOOKUP(A2834,汇总!D:E,2,FALSE)","v":"https://github.com/Automattic/node-canvas"}]
["p8952/bocker",{"$f":"VLOOKUP(A2835,汇总!D:E,2,FALSE)","v":"https://github.com/p8952/bocker"}]
["mac-cain13/R.swift",{"$f":"VLOOKUP(A2836,汇总!D:E,2,FALSE)","v":"https://github.com/mac-cain13/R.swift"}]
["dotnet/orleans",{"$f":"VLOOKUP(A2837,汇总!D:E,2,FALSE)","v":"https://github.com/dotnet/orleans"}]
["phpDocumentor/ReflectionCommon",{"$f":"VLOOKUP(A2838,汇总!D:E,2,FALSE)","v":"https://github.com/phpDocumentor/ReflectionCommon"}]
["oh-my-fish/oh-my-fish",{"$f":"VLOOKUP(A2839,汇总!D:E,2,FALSE)","v":"https://github.com/oh-my-fish/oh-my-fish"}]
["doctrine/dbal",{"$f":"VLOOKUP(A2840,汇总!D:E,2,FALSE)","v":"https://github.com/doctrine/dbal"}]
["NUKnightLab/TimelineJS",{"$f":"VLOOKUP(A2841,汇总!D:E,2,FALSE)","v":"https://github.com/NUKnightLab/TimelineJS"}]
["EtherDream/jsproxy",{"$f":"VLOOKUP(A2842,汇总!D:E,2,FALSE)","v":"https://github.com/EtherDream/jsproxy"}]
["MonoGame/MonoGame",{"$f":"VLOOKUP(A2843,汇总!D:E,2,FALSE)","v":"https://github.com/MonoGame/MonoGame"}]
["easy-mock/easy-mock",{"$f":"VLOOKUP(A2844,汇总!D:E,2,FALSE)","v":"https://github.com/easy-mock/easy-mock"}]
["apache/dolphinscheduler",{"$f":"VLOOKUP(A2845,汇总!D:E,2,FALSE)","v":"https://github.com/apache/dolphinscheduler"}]
["getgridea/gridea",{"$f":"VLOOKUP(A2846,汇总!D:E,2,FALSE)","v":"https://github.com/getgridea/gridea"}]
["ricklamers/gridstudio",{"$f":"VLOOKUP(A2847,汇总!D:E,2,FALSE)","v":"https://github.com/ricklamers/gridstudio"}]
["olistic/warriorjs",{"$f":"VLOOKUP(A2848,汇总!D:E,2,FALSE)","v":"https://github.com/olistic/warriorjs"}]
["marceloprates/prettymaps",{"$f":"VLOOKUP(A2849,汇总!D:E,2,FALSE)","v":"https://github.com/marceloprates/prettymaps"}]
["angular/protractor",{"$f":"VLOOKUP(A2850,汇总!D:E,2,FALSE)","v":"https://github.com/angular/protractor"}]
["graphql-go/graphql",{"$f":"VLOOKUP(A2851,汇总!D:E,2,FALSE)","v":"https://github.com/graphql-go/graphql"}]
["jshint/jshint",{"$f":"VLOOKUP(A2852,汇总!D:E,2,FALSE)","v":"https://github.com/jshint/jshint"}]
["pallets/jinja",{"$f":"VLOOKUP(A2853,汇总!D:E,2,FALSE)","v":"https://github.com/pallets/jinja"}]
["captbaritone/webamp",{"$f":"VLOOKUP(A2854,汇总!D:E,2,FALSE)","v":"https://github.com/captbaritone/webamp"}]
["claudiodangelis/qrcp",{"$f":"VLOOKUP(A2855,汇总!D:E,2,FALSE)","v":"https://github.com/claudiodangelis/qrcp"}]
["jaakkopasanen/AutoEq",{"$f":"VLOOKUP(A2856,汇总!D:E,2,FALSE)","v":"https://github.com/jaakkopasanen/AutoEq"}]
["laobie/StatusBarUtil",{"$f":"VLOOKUP(A2857,汇总!D:E,2,FALSE)","v":"https://github.com/laobie/StatusBarUtil"}]
["hoffstadt/DearPyGui",{"$f":"VLOOKUP(A2858,汇总!D:E,2,FALSE)","v":"https://github.com/hoffstadt/DearPyGui"}]
["cesanta/mongoose",{"$f":"VLOOKUP(A2859,汇总!D:E,2,FALSE)","v":"https://github.com/cesanta/mongoose"}]
["eriklindernoren/Keras-GAN",{"$f":"VLOOKUP(A2860,汇总!D:E,2,FALSE)","v":"https://github.com/eriklindernoren/Keras-GAN"}]
["google/sanitizers",{"$f":"VLOOKUP(A2861,汇总!D:E,2,FALSE)","v":"https://github.com/google/sanitizers"}]
["acornjs/acorn",{"$f":"VLOOKUP(A2862,汇总!D:E,2,FALSE)","v":"https://github.com/acornjs/acorn"}]
["microsoft/language-server-protocol",{"$f":"VLOOKUP(A2863,汇总!D:E,2,FALSE)","v":"https://github.com/microsoft/language-server-protocol"}]
["MetaMask/metamask-extension",{"$f":"VLOOKUP(A2864,汇总!D:E,2,FALSE)","v":"https://github.com/MetaMask/metamask-extension"}]
["mwaterfall/MWPhotoBrowser",{"$f":"VLOOKUP(A2865,汇总!D:E,2,FALSE)","v":"https://github.com/mwaterfall/MWPhotoBrowser"}]
["1c7/Crash-Course-Computer-Science-Chinese",{"$f":"VLOOKUP(A2866,汇总!D:E,2,FALSE)","v":"https://github.com/1c7/Crash-Course-Computer-Science-Chinese"}]
["aristocratos/bpytop",{"$f":"VLOOKUP(A2867,汇总!D:E,2,FALSE)","v":"https://github.com/aristocratos/bpytop"}]
["seatgeek/fuzzywuzzy",{"$f":"VLOOKUP(A2868,汇总!D:E,2,FALSE)","v":"https://github.com/seatgeek/fuzzywuzzy"}]
["EpistasisLab/tpot",{"$f":"VLOOKUP(A2869,汇总!D:E,2,FALSE)","v":"https://github.com/EpistasisLab/tpot"}]
["James-Yu/LaTeX-Workshop",{"$f":"VLOOKUP(A2870,汇总!D:E,2,FALSE)","v":"https://github.com/James-Yu/LaTeX-Workshop"}]
["ibireme/YYText",{"$f":"VLOOKUP(A2871,汇总!D:E,2,FALSE)","v":"https://github.com/ibireme/YYText"}]
["gitbucket/gitbucket",{"$f":"VLOOKUP(A2872,汇总!D:E,2,FALSE)","v":"https://github.com/gitbucket/gitbucket"}]
["aws/serverless-application-model",{"$f":"VLOOKUP(A2873,汇总!D:E,2,FALSE)","v":"https://github.com/aws/serverless-application-model"}]
["chrisbanes/Android-PullToRefresh",{"$f":"VLOOKUP(A2874,汇总!D:E,2,FALSE)","v":"https://github.com/chrisbanes/Android-PullToRefresh"}]
["desandro/imagesloaded",{"$f":"VLOOKUP(A2875,汇总!D:E,2,FALSE)","v":"https://github.com/desandro/imagesloaded"}]
["didi/VirtualAPK",{"$f":"VLOOKUP(A2876,汇总!D:E,2,FALSE)","v":"https://github.com/didi/VirtualAPK"}]
["angristan/openvpn-install",{"$f":"VLOOKUP(A2877,汇总!D:E,2,FALSE)","v":"https://github.com/angristan/openvpn-install"}]
["leachim6/hello-world",{"$f":"VLOOKUP(A2878,汇总!D:E,2,FALSE)","v":"https://github.com/leachim6/hello-world"}]
["SignalR/SignalR",{"$f":"VLOOKUP(A2879,汇总!D:E,2,FALSE)","v":"https://github.com/SignalR/SignalR"}]
["giampaolo/psutil",{"$f":"VLOOKUP(A2880,汇总!D:E,2,FALSE)","v":"https://github.com/giampaolo/psutil"}]
["torch/torch7",{"$f":"VLOOKUP(A2881,汇总!D:E,2,FALSE)","v":"https://github.com/torch/torch7"}]
["TTTAttributedLabel/TTTAttributedLabel",{"$f":"VLOOKUP(A2882,汇总!D:E,2,FALSE)","v":"https://github.com/TTTAttributedLabel/TTTAttributedLabel"}]
["sequelpro/sequelpro",{"$f":"VLOOKUP(A2883,汇总!D:E,2,FALSE)","v":"https://github.com/sequelpro/sequelpro"}]
["chakra-core/ChakraCore",{"$f":"VLOOKUP(A2884,汇总!D:E,2,FALSE)","v":"https://github.com/chakra-core/ChakraCore"}]
["qazbnm456/awesome-web-security",{"$f":"VLOOKUP(A2885,汇总!D:E,2,FALSE)","v":"https://github.com/qazbnm456/awesome-web-security"}]
["ejci/favico.js",{"$f":"VLOOKUP(A2886,汇总!D:E,2,FALSE)","v":"https://github.com/ejci/favico.js"}]
["GcsSloop/AndroidNote",{"$f":"VLOOKUP(A2887,汇总!D:E,2,FALSE)","v":"https://github.com/GcsSloop/AndroidNote"}]
["carrierwaveuploader/carrierwave",{"$f":"VLOOKUP(A2888,汇总!D:E,2,FALSE)","v":"https://github.com/carrierwaveuploader/carrierwave"}]
["GoogleCloudPlatform/terraformer",{"$f":"VLOOKUP(A2889,汇总!D:E,2,FALSE)","v":"https://github.com/GoogleCloudPlatform/terraformer"}]
["golang/protobuf",{"$f":"VLOOKUP(A2890,汇总!D:E,2,FALSE)","v":"https://github.com/golang/protobuf"}]
["fastai/numerical-linear-algebra",{"$f":"VLOOKUP(A2891,汇总!D:E,2,FALSE)","v":"https://github.com/fastai/numerical-linear-algebra"}]
["BurntSushi/xsv",{"$f":"VLOOKUP(A2892,汇总!D:E,2,FALSE)","v":"https://github.com/BurntSushi/xsv"}]
["libgit2/libgit2",{"$f":"VLOOKUP(A2893,汇总!D:E,2,FALSE)","v":"https://github.com/libgit2/libgit2"}]
["klaussinani/signale",{"$f":"VLOOKUP(A2894,汇总!D:E,2,FALSE)","v":"https://github.com/klaussinani/signale"}]
["amplication/amplication",{"$f":"VLOOKUP(A2895,汇总!D:E,2,FALSE)","v":"https://github.com/amplication/amplication"}]
["jprichardson/node-fs-extra",{"$f":"VLOOKUP(A2896,汇总!D:E,2,FALSE)","v":"https://github.com/jprichardson/node-fs-extra"}]
["tuupola/lazyload",{"$f":"VLOOKUP(A2897,汇总!D:E,2,FALSE)","v":"https://github.com/tuupola/lazyload"}]
["cytoscape/cytoscape.js",{"$f":"VLOOKUP(A2898,汇总!D:E,2,FALSE)","v":"https://github.com/cytoscape/cytoscape.js"}]
["gskinner/regexr",{"$f":"VLOOKUP(A2899,汇总!D:E,2,FALSE)","v":"https://github.com/gskinner/regexr"}]
["astrit/css.gg",{"$f":"VLOOKUP(A2900,汇总!D:E,2,FALSE)","v":"https://github.com/astrit/css.gg"}]
["Hackl0us/SS-Rule-Snippet",{"$f":"VLOOKUP(A2901,汇总!D:E,2,FALSE)","v":"https://github.com/Hackl0us/SS-Rule-Snippet"}]
["react-toolbox/react-toolbox",{"$f":"VLOOKUP(A2902,汇总!D:E,2,FALSE)","v":"https://github.com/react-toolbox/react-toolbox"}]
["flutterchina/flutter-in-action",{"$f":"VLOOKUP(A2903,汇总!D:E,2,FALSE)","v":"https://github.com/flutterchina/flutter-in-action"}]
["tiangolo/sqlmodel",{"$f":"VLOOKUP(A2904,汇总!D:E,2,FALSE)","v":"https://github.com/tiangolo/sqlmodel"}]
["borgbackup/borg",{"$f":"VLOOKUP(A2905,汇总!D:E,2,FALSE)","v":"https://github.com/borgbackup/borg"}]
["babun/babun",{"$f":"VLOOKUP(A2906,汇总!D:E,2,FALSE)","v":"https://github.com/babun/babun"}]
["irungentoo/toxcore",{"$f":"VLOOKUP(A2907,汇总!D:E,2,FALSE)","v":"https://github.com/irungentoo/toxcore"}]
["rzashakeri/beautify-github-profile",{"$f":"VLOOKUP(A2908,汇总!D:E,2,FALSE)","v":"https://github.com/rzashakeri/beautify-github-profile"}]
["jopohl/urh",{"$f":"VLOOKUP(A2909,汇总!D:E,2,FALSE)","v":"https://github.com/jopohl/urh"}]
["HubSpot/offline",{"$f":"VLOOKUP(A2910,汇总!D:E,2,FALSE)","v":"https://github.com/HubSpot/offline"}]
["dotnetcore/FastGithub",{"$f":"VLOOKUP(A2911,汇总!D:E,2,FALSE)","v":"https://github.com/dotnetcore/FastGithub"}]
["microsoft/computervision-recipes",{"$f":"VLOOKUP(A2912,汇总!D:E,2,FALSE)","v":"https://github.com/microsoft/computervision-recipes"}]
["vahidk/EffectiveTensorflow",{"$f":"VLOOKUP(A2913,汇总!D:E,2,FALSE)","v":"https://github.com/vahidk/EffectiveTensorflow"}]
["abpframework/abp",{"$f":"VLOOKUP(A2914,汇总!D:E,2,FALSE)","v":"https://github.com/abpframework/abp"}]
["gzc/CLRS",{"$f":"VLOOKUP(A2915,汇总!D:E,2,FALSE)","v":"https://github.com/gzc/CLRS"}]
["quicktype/quicktype",{"$f":"VLOOKUP(A2916,汇总!D:E,2,FALSE)","v":"https://github.com/quicktype/quicktype"}]
["facebookarchive/react-360",{"$f":"VLOOKUP(A2917,汇总!D:E,2,FALSE)","v":"https://github.com/facebookarchive/react-360"}]
["rocksdanister/lively",{"$f":"VLOOKUP(A2918,汇总!D:E,2,FALSE)","v":"https://github.com/rocksdanister/lively"}]
["GetStream/Winds",{"$f":"VLOOKUP(A2919,汇总!D:E,2,FALSE)","v":"https://github.com/GetStream/Winds"}]
["Justson/AgentWeb",{"$f":"VLOOKUP(A2920,汇总!D:E,2,FALSE)","v":"https://github.com/Justson/AgentWeb"}]
["stanfordnlp/CoreNLP",{"$f":"VLOOKUP(A2921,汇总!D:E,2,FALSE)","v":"https://github.com/stanfordnlp/CoreNLP"}]
["fdehau/tui-rs",{"$f":"VLOOKUP(A2922,汇总!D:E,2,FALSE)","v":"https://github.com/fdehau/tui-rs"}]
["knadh/listmonk",{"$f":"VLOOKUP(A2923,汇总!D:E,2,FALSE)","v":"https://github.com/knadh/listmonk"}]
["mailpile/Mailpile",{"$f":"VLOOKUP(A2924,汇总!D:E,2,FALSE)","v":"https://github.com/mailpile/Mailpile"}]
["carhartl/jquery-cookie",{"$f":"VLOOKUP(A2925,汇总!D:E,2,FALSE)","v":"https://github.com/carhartl/jquery-cookie"}]
["spinnaker/spinnaker",{"$f":"VLOOKUP(A2926,汇总!D:E,2,FALSE)","v":"https://github.com/spinnaker/spinnaker"}]
["blevesearch/bleve",{"$f":"VLOOKUP(A2927,汇总!D:E,2,FALSE)","v":"https://github.com/blevesearch/bleve"}]
["android/testing-samples",{"$f":"VLOOKUP(A2928,汇总!D:E,2,FALSE)","v":"https://github.com/android/testing-samples"}]
["brendangregg/perf-tools",{"$f":"VLOOKUP(A2929,汇总!D:E,2,FALSE)","v":"https://github.com/brendangregg/perf-tools"}]
["iggredible/Learn-Vim",{"$f":"VLOOKUP(A2930,汇总!D:E,2,FALSE)","v":"https://github.com/iggredible/Learn-Vim"}]
["OnsenUI/OnsenUI",{"$f":"VLOOKUP(A2931,汇总!D:E,2,FALSE)","v":"https://github.com/OnsenUI/OnsenUI"}]
["javan/whenever",{"$f":"VLOOKUP(A2932,汇总!D:E,2,FALSE)","v":"https://github.com/javan/whenever"}]
["IBAnimatable/IBAnimatable",{"$f":"VLOOKUP(A2933,汇总!D:E,2,FALSE)","v":"https://github.com/IBAnimatable/IBAnimatable"}]
["nodejs/node-gyp",{"$f":"VLOOKUP(A2934,汇总!D:E,2,FALSE)","v":"https://github.com/nodejs/node-gyp"}]
["restsharp/RestSharp",{"$f":"VLOOKUP(A2935,汇总!D:E,2,FALSE)","v":"https://github.com/restsharp/RestSharp"}]
["OpenEthan/SMSBoom",{"$f":"VLOOKUP(A2936,汇总!D:E,2,FALSE)","v":"https://github.com/OpenEthan/SMSBoom"}]
["Cadene/pretrained-models.pytorch",{"$f":"VLOOKUP(A2937,汇总!D:E,2,FALSE)","v":"https://github.com/Cadene/pretrained-models.pytorch"}]
["apache/tvm",{"$f":"VLOOKUP(A2938,汇总!D:E,2,FALSE)","v":"https://github.com/apache/tvm"}]
["bloomrpc/bloomrpc",{"$f":"VLOOKUP(A2939,汇总!D:E,2,FALSE)","v":"https://github.com/bloomrpc/bloomrpc"}]
["trazyn/ieaseMusic",{"$f":"VLOOKUP(A2940,汇总!D:E,2,FALSE)","v":"https://github.com/trazyn/ieaseMusic"}]
["scrapinghub/portia",{"$f":"VLOOKUP(A2941,汇总!D:E,2,FALSE)","v":"https://github.com/scrapinghub/portia"}]
["google/or-tools",{"$f":"VLOOKUP(A2942,汇总!D:E,2,FALSE)","v":"https://github.com/google/or-tools"}]
["keras-team/autokeras",{"$f":"VLOOKUP(A2943,汇总!D:E,2,FALSE)","v":"https://github.com/keras-team/autokeras"}]
["apex/up",{"$f":"VLOOKUP(A2944,汇总!D:E,2,FALSE)","v":"https://github.com/apex/up"}]
["chrisjenx/Calligraphy",{"$f":"VLOOKUP(A2945,汇总!D:E,2,FALSE)","v":"https://github.com/chrisjenx/Calligraphy"}]
["maurosoria/dirsearch",{"$f":"VLOOKUP(A2946,汇总!D:E,2,FALSE)","v":"https://github.com/maurosoria/dirsearch"}]
["Nozbe/WatermelonDB",{"$f":"VLOOKUP(A2947,汇总!D:E,2,FALSE)","v":"https://github.com/Nozbe/WatermelonDB"}]
["codeguy/php-the-right-way",{"$f":"VLOOKUP(A2948,汇总!D:E,2,FALSE)","v":"https://github.com/codeguy/php-the-right-way"}]
["PanDownloadServer/Server",{"$f":"VLOOKUP(A2949,汇总!D:E,2,FALSE)","v":"https://github.com/PanDownloadServer/Server"}]
["InterviewReady/system-design-resources",{"$f":"VLOOKUP(A2950,汇总!D:E,2,FALSE)","v":"https://github.com/InterviewReady/system-design-resources"}]
["lk-geimfari/awesomo",{"$f":"VLOOKUP(A2951,汇总!D:E,2,FALSE)","v":"https://github.com/lk-geimfari/awesomo"}]
["neovide/neovide",{"$f":"VLOOKUP(A2952,汇总!D:E,2,FALSE)","v":"https://github.com/neovide/neovide"}]
["visenger/awesome-mlops",{"$f":"VLOOKUP(A2953,汇总!D:E,2,FALSE)","v":"https://github.com/visenger/awesome-mlops"}]
["liupan1890/aliyunpan",{"$f":"VLOOKUP(A2954,汇总!D:E,2,FALSE)","v":"https://github.com/liupan1890/aliyunpan"}]
["ffmpegwasm/ffmpeg.wasm",{"$f":"VLOOKUP(A2955,汇总!D:E,2,FALSE)","v":"https://github.com/ffmpegwasm/ffmpeg.wasm"}]
["humanwhocodes/computer-science-in-javascript",{"$f":"VLOOKUP(A2956,汇总!D:E,2,FALSE)","v":"https://github.com/humanwhocodes/computer-science-in-javascript"}]
["Nickersoft/push.js",{"$f":"VLOOKUP(A2957,汇总!D:E,2,FALSE)","v":"https://github.com/Nickersoft/push.js"}]
["squeaky-pl/japronto",{"$f":"VLOOKUP(A2958,汇总!D:E,2,FALSE)","v":"https://github.com/squeaky-pl/japronto"}]
["google/go-cloud",{"$f":"VLOOKUP(A2959,汇总!D:E,2,FALSE)","v":"https://github.com/google/go-cloud"}]
["jwtk/jjwt",{"$f":"VLOOKUP(A2960,汇总!D:E,2,FALSE)","v":"https://github.com/jwtk/jjwt"}]
["alexeymezenin/laravel-best-practices",{"$f":"VLOOKUP(A2961,汇总!D:E,2,FALSE)","v":"https://github.com/alexeymezenin/laravel-best-practices"}]
["CodeTips/BaiduNetdiskPlugin-macOS",{"$f":"VLOOKUP(A2962,汇总!D:E,2,FALSE)","v":"https://github.com/CodeTips/BaiduNetdiskPlugin-macOS"}]
["dair-ai/ML-YouTube-Courses",{"$f":"VLOOKUP(A2963,汇总!D:E,2,FALSE)","v":"https://github.com/dair-ai/ML-YouTube-Courses"}]
["ctjhoa/rust-learning",{"$f":"VLOOKUP(A2964,汇总!D:E,2,FALSE)","v":"https://github.com/ctjhoa/rust-learning"}]
["fuzhengwei/CodeGuide",{"$f":"VLOOKUP(A2965,汇总!D:E,2,FALSE)","v":"https://github.com/fuzhengwei/CodeGuide"}]
["chocolatey/choco",{"$f":"VLOOKUP(A2966,汇总!D:E,2,FALSE)","v":"https://github.com/chocolatey/choco"}]
["coil-kt/coil",{"$f":"VLOOKUP(A2967,汇总!D:E,2,FALSE)","v":"https://github.com/coil-kt/coil"}]
["Koenkk/zigbee2mqtt",{"$f":"VLOOKUP(A2968,汇总!D:E,2,FALSE)","v":"https://github.com/Koenkk/zigbee2mqtt"}]
["httpie/http-prompt",{"$f":"VLOOKUP(A2969,汇总!D:E,2,FALSE)","v":"https://github.com/httpie/http-prompt"}]
["JustArchiNET/ArchiSteamFarm",{"$f":"VLOOKUP(A2970,汇总!D:E,2,FALSE)","v":"https://github.com/JustArchiNET/ArchiSteamFarm"}]
["ninja-build/ninja",{"$f":"VLOOKUP(A2971,汇总!D:E,2,FALSE)","v":"https://github.com/ninja-build/ninja"}]
["ReFirmLabs/binwalk",{"$f":"VLOOKUP(A2972,汇总!D:E,2,FALSE)","v":"https://github.com/ReFirmLabs/binwalk"}]
["gotwarlost/istanbul",{"$f":"VLOOKUP(A2973,汇总!D:E,2,FALSE)","v":"https://github.com/gotwarlost/istanbul"}]
["rehooks/awesome-react-hooks",{"$f":"VLOOKUP(A2974,汇总!D:E,2,FALSE)","v":"https://github.com/rehooks/awesome-react-hooks"}]
["Shopify/toxiproxy",{"$f":"VLOOKUP(A2975,汇总!D:E,2,FALSE)","v":"https://github.com/Shopify/toxiproxy"}]
["alibaba/formily",{"$f":"VLOOKUP(A2976,汇总!D:E,2,FALSE)","v":"https://github.com/alibaba/formily"}]
["protobufjs/protobuf.js",{"$f":"VLOOKUP(A2977,汇总!D:E,2,FALSE)","v":"https://github.com/protobufjs/protobuf.js"}]
["atom-archive/xray",{"$f":"VLOOKUP(A2978,汇总!D:E,2,FALSE)","v":"https://github.com/atom-archive/xray"}]
["crossoverJie/cim",{"$f":"VLOOKUP(A2979,汇总!D:E,2,FALSE)","v":"https://github.com/crossoverJie/cim"}]
["jbogard/MediatR",{"$f":"VLOOKUP(A2980,汇总!D:E,2,FALSE)","v":"https://github.com/jbogard/MediatR"}]
["benoitc/gunicorn",{"$f":"VLOOKUP(A2981,汇总!D:E,2,FALSE)","v":"https://github.com/benoitc/gunicorn"}]
["klaussinani/taskbook",{"$f":"VLOOKUP(A2982,汇总!D:E,2,FALSE)","v":"https://github.com/klaussinani/taskbook"}]
["guyueyingmu/avbook",{"$f":"VLOOKUP(A2983,汇总!D:E,2,FALSE)","v":"https://github.com/guyueyingmu/avbook"}]
["dailydotdev/daily",{"$f":"VLOOKUP(A2984,汇总!D:E,2,FALSE)","v":"https://github.com/dailydotdev/daily"}]
["PaddlePaddle/PaddleDetection",{"$f":"VLOOKUP(A2985,汇总!D:E,2,FALSE)","v":"https://github.com/PaddlePaddle/PaddleDetection"}]
["reduxjs/redux-toolkit",{"$f":"VLOOKUP(A2986,汇总!D:E,2,FALSE)","v":"https://github.com/reduxjs/redux-toolkit"}]
["Freelander/Android_Data",{"$f":"VLOOKUP(A2987,汇总!D:E,2,FALSE)","v":"https://github.com/Freelander/Android_Data"}]
["phusion/baseimage-docker",{"$f":"VLOOKUP(A2988,汇总!D:E,2,FALSE)","v":"https://github.com/phusion/baseimage-docker"}]
["cakephp/cakephp",{"$f":"VLOOKUP(A2989,汇总!D:E,2,FALSE)","v":"https://github.com/cakephp/cakephp"}]
["TGSAN/CMWTAT_Digital_Edition",{"$f":"VLOOKUP(A2990,汇总!D:E,2,FALSE)","v":"https://github.com/TGSAN/CMWTAT_Digital_Edition"}]
["prasmussen/gdrive",{"$f":"VLOOKUP(A2991,汇总!D:E,2,FALSE)","v":"https://github.com/prasmussen/gdrive"}]
["UKPLab/sentence-transformers",{"$f":"VLOOKUP(A2992,汇总!D:E,2,FALSE)","v":"https://github.com/UKPLab/sentence-transformers"}]
["sjwhitworth/golearn",{"$f":"VLOOKUP(A2993,汇总!D:E,2,FALSE)","v":"https://github.com/sjwhitworth/golearn"}]
["easzlab/kubeasz",{"$f":"VLOOKUP(A2994,汇总!D:E,2,FALSE)","v":"https://github.com/easzlab/kubeasz"}]
["lauris/awesome-scala",{"$f":"VLOOKUP(A2995,汇总!D:E,2,FALSE)","v":"https://github.com/lauris/awesome-scala"}]
["smicallef/spiderfoot",{"$f":"VLOOKUP(A2996,汇总!D:E,2,FALSE)","v":"https://github.com/smicallef/spiderfoot"}]
["rq/rq",{"$f":"VLOOKUP(A2997,汇总!D:E,2,FALSE)","v":"https://github.com/rq/rq"}]
["ludwig-ai/ludwig",{"$f":"VLOOKUP(A2998,汇总!D:E,2,FALSE)","v":"https://github.com/ludwig-ai/ludwig"}]
["square/moshi",{"$f":"VLOOKUP(A2999,汇总!D:E,2,FALSE)","v":"https://github.com/square/moshi"}]
["jroimartin/gocui",{"$f":"VLOOKUP(A3000,汇总!D:E,2,FALSE)","v":"https://github.com/jroimartin/gocui"}]
["douglascrockford/JSON-js",{"$f":"VLOOKUP(A3001,汇总!D:E,2,FALSE)","v":"https://github.com/douglascrockford/JSON-js"}]
["qarmin/czkawka",{"$f":"VLOOKUP(A3002,汇总!D:E,2,FALSE)","v":"https://github.com/qarmin/czkawka"}]
["react-icons/react-icons",{"$f":"VLOOKUP(A3003,汇总!D:E,2,FALSE)","v":"https://github.com/react-icons/react-icons"}]
["cats-oss/android-gpuimage",{"$f":"VLOOKUP(A3004,汇总!D:E,2,FALSE)","v":"https://github.com/cats-oss/android-gpuimage"}]
["node-schedule/node-schedule",{"$f":"VLOOKUP(A3005,汇总!D:E,2,FALSE)","v":"https://github.com/node-schedule/node-schedule"}]
["PatrickJS/awesome-angular",{"$f":"VLOOKUP(A3006,汇总!D:E,2,FALSE)","v":"https://github.com/PatrickJS/awesome-angular"}]
["forthespada/CS-Books",{"$f":"VLOOKUP(A3007,汇总!D:E,2,FALSE)","v":"https://github.com/forthespada/CS-Books"}]
["github/semantic",{"$f":"VLOOKUP(A3008,汇总!D:E,2,FALSE)","v":"https://github.com/github/semantic"}]
["stephencelis/SQLite.swift",{"$f":"VLOOKUP(A3009,汇总!D:E,2,FALSE)","v":"https://github.com/stephencelis/SQLite.swift"}]
["MrS0m30n3/youtube-dl-gui",{"$f":"VLOOKUP(A3010,汇总!D:E,2,FALSE)","v":"https://github.com/MrS0m30n3/youtube-dl-gui"}]
["moklick/frontend-stuff",{"$f":"VLOOKUP(A3011,汇总!D:E,2,FALSE)","v":"https://github.com/moklick/frontend-stuff"}]
["tensorflow/tfjs-core",{"$f":"VLOOKUP(A3012,汇总!D:E,2,FALSE)","v":"https://github.com/tensorflow/tfjs-core"}]
["dart-lang/sdk",{"$f":"VLOOKUP(A3013,汇总!D:E,2,FALSE)","v":"https://github.com/dart-lang/sdk"}]
["szimek/signature_pad",{"$f":"VLOOKUP(A3014,汇总!D:E,2,FALSE)","v":"https://github.com/szimek/signature_pad"}]
["yemount/pose-animator",{"$f":"VLOOKUP(A3015,汇总!D:E,2,FALSE)","v":"https://github.com/yemount/pose-animator"}]
["phpspec/prophecy",{"$f":"VLOOKUP(A3016,汇总!D:E,2,FALSE)","v":"https://github.com/phpspec/prophecy"}]
["cncf/landscape",{"$f":"VLOOKUP(A3017,汇总!D:E,2,FALSE)","v":"https://github.com/cncf/landscape"}]
["doitsujin/dxvk",{"$f":"VLOOKUP(A3018,汇总!D:E,2,FALSE)","v":"https://github.com/doitsujin/dxvk"}]
["drduh/YubiKey-Guide",{"$f":"VLOOKUP(A3019,汇总!D:E,2,FALSE)","v":"https://github.com/drduh/YubiKey-Guide"}]
["30-seconds/30-seconds-of-python",{"$f":"VLOOKUP(A3020,汇总!D:E,2,FALSE)","v":"https://github.com/30-seconds/30-seconds-of-python"}]
["shipshapecode/tether",{"$f":"VLOOKUP(A3021,汇总!D:E,2,FALSE)","v":"https://github.com/shipshapecode/tether"}]
["CoderMJLee/MJExtension",{"$f":"VLOOKUP(A3022,汇总!D:E,2,FALSE)","v":"https://github.com/CoderMJLee/MJExtension"}]
["alibaba/COLA",{"$f":"VLOOKUP(A3023,汇总!D:E,2,FALSE)","v":"https://github.com/alibaba/COLA"}]
["tmux-plugins/tpm",{"$f":"VLOOKUP(A3024,汇总!D:E,2,FALSE)","v":"https://github.com/tmux-plugins/tpm"}]
["microsoft/pyright",{"$f":"VLOOKUP(A3025,汇总!D:E,2,FALSE)","v":"https://github.com/microsoft/pyright"}]
["ikatyang/emoji-cheat-sheet",{"$f":"VLOOKUP(A3026,汇总!D:E,2,FALSE)","v":"https://github.com/ikatyang/emoji-cheat-sheet"}]
["GoesToEleven/GolangTraining",{"$f":"VLOOKUP(A3027,汇总!D:E,2,FALSE)","v":"https://github.com/GoesToEleven/GolangTraining"}]
["unknwon/go-fundamental-programming",{"$f":"VLOOKUP(A3028,汇总!D:E,2,FALSE)","v":"https://github.com/unknwon/go-fundamental-programming"}]
["lowlighter/metrics",{"$f":"VLOOKUP(A3029,汇总!D:E,2,FALSE)","v":"https://github.com/lowlighter/metrics"}]
["Mikoto10032/DeepLearning",{"$f":"VLOOKUP(A3030,汇总!D:E,2,FALSE)","v":"https://github.com/Mikoto10032/DeepLearning"}]
["agenda/agenda",{"$f":"VLOOKUP(A3031,汇总!D:E,2,FALSE)","v":"https://github.com/agenda/agenda"}]
["dexie/Dexie.js",{"$f":"VLOOKUP(A3032,汇总!D:E,2,FALSE)","v":"https://github.com/dexie/Dexie.js"}]
["evolus/pencil",{"$f":"VLOOKUP(A3033,汇总!D:E,2,FALSE)","v":"https://github.com/evolus/pencil"}]
["Peltoche/lsd",{"$f":"VLOOKUP(A3034,汇总!D:E,2,FALSE)","v":"https://github.com/Peltoche/lsd"}]
["braziljs/js-the-right-way",{"$f":"VLOOKUP(A3035,汇总!D:E,2,FALSE)","v":"https://github.com/braziljs/js-the-right-way"}]
["scylladb/scylladb",{"$f":"VLOOKUP(A3036,汇总!D:E,2,FALSE)","v":"https://github.com/scylladb/scylladb"}]
["YOURLS/YOURLS",{"$f":"VLOOKUP(A3037,汇总!D:E,2,FALSE)","v":"https://github.com/YOURLS/YOURLS"}]
["devhubapp/devhub",{"$f":"VLOOKUP(A3038,汇总!D:E,2,FALSE)","v":"https://github.com/devhubapp/devhub"}]
["MahApps/MahApps.Metro",{"$f":"VLOOKUP(A3039,汇总!D:E,2,FALSE)","v":"https://github.com/MahApps/MahApps.Metro"}]
["iv-org/invidious",{"$f":"VLOOKUP(A3040,汇总!D:E,2,FALSE)","v":"https://github.com/iv-org/invidious"}]
["apiaryio/api-blueprint",{"$f":"VLOOKUP(A3041,汇总!D:E,2,FALSE)","v":"https://github.com/apiaryio/api-blueprint"}]
["Blankj/awesome-java-leetcode",{"$f":"VLOOKUP(A3042,汇总!D:E,2,FALSE)","v":"https://github.com/Blankj/awesome-java-leetcode"}]
["felixse/FluentTerminal",{"$f":"VLOOKUP(A3043,汇总!D:E,2,FALSE)","v":"https://github.com/felixse/FluentTerminal"}]
["gcanti/fp-ts",{"$f":"VLOOKUP(A3044,汇总!D:E,2,FALSE)","v":"https://github.com/gcanti/fp-ts"}]
["roughike/BottomBar",{"$f":"VLOOKUP(A3045,汇总!D:E,2,FALSE)","v":"https://github.com/roughike/BottomBar"}]
["huanghaibin-dev/CalendarView",{"$f":"VLOOKUP(A3046,汇总!D:E,2,FALSE)","v":"https://github.com/huanghaibin-dev/CalendarView"}]
["peng-zhihui/Dummy-Robot",{"$f":"VLOOKUP(A3047,汇总!D:E,2,FALSE)","v":"https://github.com/peng-zhihui/Dummy-Robot"}]
["tennc/webshell",{"$f":"VLOOKUP(A3048,汇总!D:E,2,FALSE)","v":"https://github.com/tennc/webshell"}]
["jnv/lists",{"$f":"VLOOKUP(A3049,汇总!D:E,2,FALSE)","v":"https://github.com/jnv/lists"}]
["jhu-ep-coursera/fullstack-course4",{"$f":"VLOOKUP(A3050,汇总!D:E,2,FALSE)","v":"https://github.com/jhu-ep-coursera/fullstack-course4"}]
["valinet/ExplorerPatcher",{"$f":"VLOOKUP(A3051,汇总!D:E,2,FALSE)","v":"https://github.com/valinet/ExplorerPatcher"}]
["librespeed/speedtest",{"$f":"VLOOKUP(A3052,汇总!D:E,2,FALSE)","v":"https://github.com/librespeed/speedtest"}]
["diasurgical/devilution",{"$f":"VLOOKUP(A3053,汇总!D:E,2,FALSE)","v":"https://github.com/diasurgical/devilution"}]
["reactphp/reactphp",{"$f":"VLOOKUP(A3054,汇总!D:E,2,FALSE)","v":"https://github.com/reactphp/reactphp"}]
["alicevision/Meshroom",{"$f":"VLOOKUP(A3055,汇总!D:E,2,FALSE)","v":"https://github.com/alicevision/Meshroom"}]
["facebookarchive/caffe2",{"$f":"VLOOKUP(A3056,汇总!D:E,2,FALSE)","v":"https://github.com/facebookarchive/caffe2"}]
["rougier/scientific-visualization-book",{"$f":"VLOOKUP(A3057,汇总!D:E,2,FALSE)","v":"https://github.com/rougier/scientific-visualization-book"}]
["jamiebuilds/itsy-bitsy-data-structures",{"$f":"VLOOKUP(A3058,汇总!D:E,2,FALSE)","v":"https://github.com/jamiebuilds/itsy-bitsy-data-structures"}]
["Yorko/mlcourse.ai",{"$f":"VLOOKUP(A3059,汇总!D:E,2,FALSE)","v":"https://github.com/Yorko/mlcourse.ai"}]
["facebook/buck",{"$f":"VLOOKUP(A3060,汇总!D:E,2,FALSE)","v":"https://github.com/facebook/buck"}]
["TheCherno/Hazel",{"$f":"VLOOKUP(A3061,汇总!D:E,2,FALSE)","v":"https://github.com/TheCherno/Hazel"}]
["MarshallOfSound/Google-Play-Music-Desktop-Player-UNOFFICIAL-",{"$f":"VLOOKUP(A3062,汇总!D:E,2,FALSE)","v":"https://github.com/MarshallOfSound/Google-Play-Music-Desktop-Player-UNOFFICIAL-"}]
["boot2docker/boot2docker",{"$f":"VLOOKUP(A3063,汇总!D:E,2,FALSE)","v":"https://github.com/boot2docker/boot2docker"}]
["zellij-org/zellij",{"$f":"VLOOKUP(A3064,汇总!D:E,2,FALSE)","v":"https://github.com/zellij-org/zellij"}]
["sebastianbergmann/php-code-coverage",{"$f":"VLOOKUP(A3065,汇总!D:E,2,FALSE)","v":"https://github.com/sebastianbergmann/php-code-coverage"}]
["mawww/kakoune",{"$f":"VLOOKUP(A3066,汇总!D:E,2,FALSE)","v":"https://github.com/mawww/kakoune"}]
["slackhq/SlackTextViewController",{"$f":"VLOOKUP(A3067,汇总!D:E,2,FALSE)","v":"https://github.com/slackhq/SlackTextViewController"}]
["helloqingfeng/Awsome-Front-End-learning-resource",{"$f":"VLOOKUP(A3068,汇总!D:E,2,FALSE)","v":"https://github.com/helloqingfeng/Awsome-Front-End-learning-resource"}]
["hediet/vscode-drawio",{"$f":"VLOOKUP(A3069,汇总!D:E,2,FALSE)","v":"https://github.com/hediet/vscode-drawio"}]
["theanalyst/awesome-distributed-systems",{"$f":"VLOOKUP(A3070,汇总!D:E,2,FALSE)","v":"https://github.com/theanalyst/awesome-distributed-systems"}]
["timzhang642/3D-Machine-Learning",{"$f":"VLOOKUP(A3071,汇总!D:E,2,FALSE)","v":"https://github.com/timzhang642/3D-Machine-Learning"}]
["junit-team/junit4",{"$f":"VLOOKUP(A3072,汇总!D:E,2,FALSE)","v":"https://github.com/junit-team/junit4"}]
["gyoogle/tech-interview-for-developer",{"$f":"VLOOKUP(A3073,汇总!D:E,2,FALSE)","v":"https://github.com/gyoogle/tech-interview-for-developer"}]
["onevcat/VVDocumenter-Xcode",{"$f":"VLOOKUP(A3074,汇总!D:E,2,FALSE)","v":"https://github.com/onevcat/VVDocumenter-Xcode"}]
["akveo/eva-icons",{"$f":"VLOOKUP(A3075,汇总!D:E,2,FALSE)","v":"https://github.com/akveo/eva-icons"}]
["typestack/class-validator",{"$f":"VLOOKUP(A3076,汇总!D:E,2,FALSE)","v":"https://github.com/typestack/class-validator"}]
["Jguer/yay",{"$f":"VLOOKUP(A3077,汇总!D:E,2,FALSE)","v":"https://github.com/Jguer/yay"}]
["GeekyAnts/vue-native-core",{"$f":"VLOOKUP(A3078,汇总!D:E,2,FALSE)","v":"https://github.com/GeekyAnts/vue-native-core"}]
["foliojs/pdfkit",{"$f":"VLOOKUP(A3079,汇总!D:E,2,FALSE)","v":"https://github.com/foliojs/pdfkit"}]
["howtographql/howtographql",{"$f":"VLOOKUP(A3080,汇总!D:E,2,FALSE)","v":"https://github.com/howtographql/howtographql"}]
["junegunn/fzf.vim",{"$f":"VLOOKUP(A3081,汇总!D:E,2,FALSE)","v":"https://github.com/junegunn/fzf.vim"}]
["horst3180/arc-theme",{"$f":"VLOOKUP(A3082,汇总!D:E,2,FALSE)","v":"https://github.com/horst3180/arc-theme"}]
["OpenFeign/feign",{"$f":"VLOOKUP(A3083,汇总!D:E,2,FALSE)","v":"https://github.com/OpenFeign/feign"}]
["jakesgordon/javascript-state-machine",{"$f":"VLOOKUP(A3084,汇总!D:E,2,FALSE)","v":"https://github.com/jakesgordon/javascript-state-machine"}]
["twitter/finagle",{"$f":"VLOOKUP(A3085,汇总!D:E,2,FALSE)","v":"https://github.com/twitter/finagle"}]
["OpenMined/PySyft",{"$f":"VLOOKUP(A3086,汇总!D:E,2,FALSE)","v":"https://github.com/OpenMined/PySyft"}]
["metersphere/metersphere",{"$f":"VLOOKUP(A3087,汇总!D:E,2,FALSE)","v":"https://github.com/metersphere/metersphere"}]
["uber/react-vis",{"$f":"VLOOKUP(A3088,汇总!D:E,2,FALSE)","v":"https://github.com/uber/react-vis"}]
["microsoft/reactxp",{"$f":"VLOOKUP(A3089,汇总!D:E,2,FALSE)","v":"https://github.com/microsoft/reactxp"}]
["myclabs/DeepCopy",{"$f":"VLOOKUP(A3090,汇总!D:E,2,FALSE)","v":"https://github.com/myclabs/DeepCopy"}]
["karpathy/minGPT",{"$f":"VLOOKUP(A3091,汇总!D:E,2,FALSE)","v":"https://github.com/karpathy/minGPT"}]
["mysql/mysql-server",{"$f":"VLOOKUP(A3092,汇总!D:E,2,FALSE)","v":"https://github.com/mysql/mysql-server"}]
["gridsome/gridsome",{"$f":"VLOOKUP(A3093,汇总!D:E,2,FALSE)","v":"https://github.com/gridsome/gridsome"}]
["Stuk/jszip",{"$f":"VLOOKUP(A3094,汇总!D:E,2,FALSE)","v":"https://github.com/Stuk/jszip"}]
["cyfdecyf/cow",{"$f":"VLOOKUP(A3095,汇总!D:E,2,FALSE)","v":"https://github.com/cyfdecyf/cow"}]
["steipete/Aspects",{"$f":"VLOOKUP(A3096,汇总!D:E,2,FALSE)","v":"https://github.com/steipete/Aspects"}]
["museui/muse-ui",{"$f":"VLOOKUP(A3097,汇总!D:E,2,FALSE)","v":"https://github.com/museui/muse-ui"}]
["carla-simulator/carla",{"$f":"VLOOKUP(A3098,汇总!D:E,2,FALSE)","v":"https://github.com/carla-simulator/carla"}]
["clips/pattern",{"$f":"VLOOKUP(A3099,汇总!D:E,2,FALSE)","v":"https://github.com/clips/pattern"}]
["ACL4SSR/ACL4SSR",{"$f":"VLOOKUP(A3100,汇总!D:E,2,FALSE)","v":"https://github.com/ACL4SSR/ACL4SSR"}]
["chokcoco/CSS-Inspiration",{"$f":"VLOOKUP(A3101,汇总!D:E,2,FALSE)","v":"https://github.com/chokcoco/CSS-Inspiration"}]
["resilience4j/resilience4j",{"$f":"VLOOKUP(A3102,汇总!D:E,2,FALSE)","v":"https://github.com/resilience4j/resilience4j"}]
["mdo/code-guide",{"$f":"VLOOKUP(A3103,汇总!D:E,2,FALSE)","v":"https://github.com/mdo/code-guide"}]
["litten/hexo-theme-yilia",{"$f":"VLOOKUP(A3104,汇总!D:E,2,FALSE)","v":"https://github.com/litten/hexo-theme-yilia"}]
["ybq/Android-SpinKit",{"$f":"VLOOKUP(A3105,汇总!D:E,2,FALSE)","v":"https://github.com/ybq/Android-SpinKit"}]
["dropwizard/dropwizard",{"$f":"VLOOKUP(A3106,汇总!D:E,2,FALSE)","v":"https://github.com/dropwizard/dropwizard"}]
["guarinogabriel/Mac-CLI",{"$f":"VLOOKUP(A3107,汇总!D:E,2,FALSE)","v":"https://github.com/guarinogabriel/Mac-CLI"}]
["travis-ci/travis-ci",{"$f":"VLOOKUP(A3108,汇总!D:E,2,FALSE)","v":"https://github.com/travis-ci/travis-ci"}]
["sloria/TextBlob",{"$f":"VLOOKUP(A3109,汇总!D:E,2,FALSE)","v":"https://github.com/sloria/TextBlob"}]
["kaminari/kaminari",{"$f":"VLOOKUP(A3110,汇总!D:E,2,FALSE)","v":"https://github.com/kaminari/kaminari"}]
["tidwall/tile38",{"$f":"VLOOKUP(A3111,汇总!D:E,2,FALSE)","v":"https://github.com/tidwall/tile38"}]
["googleapis/google-api-php-client",{"$f":"VLOOKUP(A3112,汇总!D:E,2,FALSE)","v":"https://github.com/googleapis/google-api-php-client"}]
["goplus/gop",{"$f":"VLOOKUP(A3113,汇总!D:E,2,FALSE)","v":"https://github.com/goplus/gop"}]
["gwuhaolin/livego",{"$f":"VLOOKUP(A3114,汇总!D:E,2,FALSE)","v":"https://github.com/gwuhaolin/livego"}]
["thoughtbot/laptop",{"$f":"VLOOKUP(A3115,汇总!D:E,2,FALSE)","v":"https://github.com/thoughtbot/laptop"}]
["assimp/assimp",{"$f":"VLOOKUP(A3116,汇总!D:E,2,FALSE)","v":"https://github.com/assimp/assimp"}]
["pypa/pip",{"$f":"VLOOKUP(A3117,汇总!D:E,2,FALSE)","v":"https://github.com/pypa/pip"}]
["cryptomator/cryptomator",{"$f":"VLOOKUP(A3118,汇总!D:E,2,FALSE)","v":"https://github.com/cryptomator/cryptomator"}]
["symfony/http-foundation",{"$f":"VLOOKUP(A3119,汇总!D:E,2,FALSE)","v":"https://github.com/symfony/http-foundation"}]
["coturn/coturn",{"$f":"VLOOKUP(A3120,汇总!D:E,2,FALSE)","v":"https://github.com/coturn/coturn"}]
["NG-ZORRO/ng-zorro-antd",{"$f":"VLOOKUP(A3121,汇总!D:E,2,FALSE)","v":"https://github.com/NG-ZORRO/ng-zorro-antd"}]
["chinchang/hint.css",{"$f":"VLOOKUP(A3122,汇总!D:E,2,FALSE)","v":"https://github.com/chinchang/hint.css"}]
["layui/layer",{"$f":"VLOOKUP(A3123,汇总!D:E,2,FALSE)","v":"https://github.com/layui/layer"}]
["github/super-linter",{"$f":"VLOOKUP(A3124,汇总!D:E,2,FALSE)","v":"https://github.com/github/super-linter"}]
["relax/relax",{"$f":"VLOOKUP(A3125,汇总!D:E,2,FALSE)","v":"https://github.com/relax/relax"}]
["seajs/seajs",{"$f":"VLOOKUP(A3126,汇总!D:E,2,FALSE)","v":"https://github.com/seajs/seajs"}]
["qinguoyi/TinyWebServer",{"$f":"VLOOKUP(A3127,汇总!D:E,2,FALSE)","v":"https://github.com/qinguoyi/TinyWebServer"}]
["shirou/gopsutil",{"$f":"VLOOKUP(A3128,汇总!D:E,2,FALSE)","v":"https://github.com/shirou/gopsutil"}]
["adnanh/webhook",{"$f":"VLOOKUP(A3129,汇总!D:E,2,FALSE)","v":"https://github.com/adnanh/webhook"}]
["rust-lang/rust-clippy",{"$f":"VLOOKUP(A3130,汇总!D:E,2,FALSE)","v":"https://github.com/rust-lang/rust-clippy"}]
["AkashSingh3031/The-Complete-FAANG-Preparation",{"$f":"VLOOKUP(A3131,汇总!D:E,2,FALSE)","v":"https://github.com/AkashSingh3031/The-Complete-FAANG-Preparation"}]
["insidegui/WWDC",{"$f":"VLOOKUP(A3132,汇总!D:E,2,FALSE)","v":"https://github.com/insidegui/WWDC"}]
["firebase/quickstart-android",{"$f":"VLOOKUP(A3133,汇总!D:E,2,FALSE)","v":"https://github.com/firebase/quickstart-android"}]
["keybase/client",{"$f":"VLOOKUP(A3134,汇总!D:E,2,FALSE)","v":"https://github.com/keybase/client"}]
["sass/node-sass",{"$f":"VLOOKUP(A3135,汇总!D:E,2,FALSE)","v":"https://github.com/sass/node-sass"}]
["rawgraphs/rawgraphs-app",{"$f":"VLOOKUP(A3136,汇总!D:E,2,FALSE)","v":"https://github.com/rawgraphs/rawgraphs-app"}]
["rematch/rematch",{"$f":"VLOOKUP(A3137,汇总!D:E,2,FALSE)","v":"https://github.com/rematch/rematch"}]
["happyfish100/fastdfs",{"$f":"VLOOKUP(A3138,汇总!D:E,2,FALSE)","v":"https://github.com/happyfish100/fastdfs"}]
["dat-ecosystem-archive/dat",{"$f":"VLOOKUP(A3139,汇总!D:E,2,FALSE)","v":"https://github.com/dat-ecosystem-archive/dat"}]
["gogf/gf",{"$f":"VLOOKUP(A3140,汇总!D:E,2,FALSE)","v":"https://github.com/gogf/gf"}]
["microsoft/react-native-code-push",{"$f":"VLOOKUP(A3141,汇总!D:E,2,FALSE)","v":"https://github.com/microsoft/react-native-code-push"}]
["SwiftGen/SwiftGen",{"$f":"VLOOKUP(A3142,汇总!D:E,2,FALSE)","v":"https://github.com/SwiftGen/SwiftGen"}]
["florent37/MaterialViewPager",{"$f":"VLOOKUP(A3143,汇总!D:E,2,FALSE)","v":"https://github.com/florent37/MaterialViewPager"}]
["chromedp/chromedp",{"$f":"VLOOKUP(A3144,汇总!D:E,2,FALSE)","v":"https://github.com/chromedp/chromedp"}]
["juanfont/headscale",{"$f":"VLOOKUP(A3145,汇总!D:E,2,FALSE)","v":"https://github.com/juanfont/headscale"}]
["olivernn/lunr.js",{"$f":"VLOOKUP(A3146,汇总!D:E,2,FALSE)","v":"https://github.com/olivernn/lunr.js"}]
["graphql/graphql-playground",{"$f":"VLOOKUP(A3147,汇总!D:E,2,FALSE)","v":"https://github.com/graphql/graphql-playground"}]
["openshift/origin",{"$f":"VLOOKUP(A3148,汇总!D:E,2,FALSE)","v":"https://github.com/openshift/origin"}]
["rofl0r/proxychains-ng",{"$f":"VLOOKUP(A3149,汇总!D:E,2,FALSE)","v":"https://github.com/rofl0r/proxychains-ng"}]
["cosmtrek/air",{"$f":"VLOOKUP(A3150,汇总!D:E,2,FALSE)","v":"https://github.com/cosmtrek/air"}]
["guipsamora/pandas_exercises",{"$f":"VLOOKUP(A3151,汇总!D:E,2,FALSE)","v":"https://github.com/guipsamora/pandas_exercises"}]
["FineUploader/fine-uploader",{"$f":"VLOOKUP(A3152,汇总!D:E,2,FALSE)","v":"https://github.com/FineUploader/fine-uploader"}]
["DeviaVir/zenbot",{"$f":"VLOOKUP(A3153,汇总!D:E,2,FALSE)","v":"https://github.com/DeviaVir/zenbot"}]
["dnschneid/crouton",{"$f":"VLOOKUP(A3154,汇总!D:E,2,FALSE)","v":"https://github.com/dnschneid/crouton"}]
["woocommerce/woocommerce",{"$f":"VLOOKUP(A3155,汇总!D:E,2,FALSE)","v":"https://github.com/woocommerce/woocommerce"}]
["aphyr/distsys-class",{"$f":"VLOOKUP(A3156,汇总!D:E,2,FALSE)","v":"https://github.com/aphyr/distsys-class"}]
["andlabs/ui",{"$f":"VLOOKUP(A3157,汇总!D:E,2,FALSE)","v":"https://github.com/andlabs/ui"}]
["WordPress/gutenberg",{"$f":"VLOOKUP(A3158,汇总!D:E,2,FALSE)","v":"https://github.com/WordPress/gutenberg"}]
["shadowsocks/shadowsocks-iOS",{"$f":"VLOOKUP(A3159,汇总!D:E,2,FALSE)","v":"https://github.com/shadowsocks/shadowsocks-iOS"}]
["google/traceur-compiler",{"$f":"VLOOKUP(A3160,汇总!D:E,2,FALSE)","v":"https://github.com/google/traceur-compiler"}]
["audacity/audacity",{"$f":"VLOOKUP(A3161,汇总!D:E,2,FALSE)","v":"https://github.com/audacity/audacity"}]
["Masterminds/glide",{"$f":"VLOOKUP(A3162,汇总!D:E,2,FALSE)","v":"https://github.com/Masterminds/glide"}]
["lxgw/LxgwWenKai",{"$f":"VLOOKUP(A3163,汇总!D:E,2,FALSE)","v":"https://github.com/lxgw/LxgwWenKai"}]
["vercel/serve",{"$f":"VLOOKUP(A3164,汇总!D:E,2,FALSE)","v":"https://github.com/vercel/serve"}]
["microsoft/STL",{"$f":"VLOOKUP(A3165,汇总!D:E,2,FALSE)","v":"https://github.com/microsoft/STL"}]
["luruke/browser-2020",{"$f":"VLOOKUP(A3166,汇总!D:E,2,FALSE)","v":"https://github.com/luruke/browser-2020"}]
["path/FastImageCache",{"$f":"VLOOKUP(A3167,汇总!D:E,2,FALSE)","v":"https://github.com/path/FastImageCache"}]
["99designs/gqlgen",{"$f":"VLOOKUP(A3168,汇总!D:E,2,FALSE)","v":"https://github.com/99designs/gqlgen"}]
["qutebrowser/qutebrowser",{"$f":"VLOOKUP(A3169,汇总!D:E,2,FALSE)","v":"https://github.com/qutebrowser/qutebrowser"}]
["konvajs/konva",{"$f":"VLOOKUP(A3170,汇总!D:E,2,FALSE)","v":"https://github.com/konvajs/konva"}]
["dotnet/BenchmarkDotNet",{"$f":"VLOOKUP(A3171,汇总!D:E,2,FALSE)","v":"https://github.com/dotnet/BenchmarkDotNet"}]
["sandboxie-plus/Sandboxie",{"$f":"VLOOKUP(A3172,汇总!D:E,2,FALSE)","v":"https://github.com/sandboxie-plus/Sandboxie"}]
["leandromoreira/ffmpeg-libav-tutorial",{"$f":"VLOOKUP(A3173,汇总!D:E,2,FALSE)","v":"https://github.com/leandromoreira/ffmpeg-libav-tutorial"}]
["facebookresearch/pifuhd",{"$f":"VLOOKUP(A3174,汇总!D:E,2,FALSE)","v":"https://github.com/facebookresearch/pifuhd"}]
["text-mask/text-mask",{"$f":"VLOOKUP(A3175,汇总!D:E,2,FALSE)","v":"https://github.com/text-mask/text-mask"}]
["dwyl/english-words",{"$f":"VLOOKUP(A3176,汇总!D:E,2,FALSE)","v":"https://github.com/dwyl/english-words"}]
["openzfs/zfs",{"$f":"VLOOKUP(A3177,汇总!D:E,2,FALSE)","v":"https://github.com/openzfs/zfs"}]
["airbytehq/airbyte",{"$f":"VLOOKUP(A3178,汇总!D:E,2,FALSE)","v":"https://github.com/airbytehq/airbyte"}]
["symfony/event-dispatcher",{"$f":"VLOOKUP(A3179,汇总!D:E,2,FALSE)","v":"https://github.com/symfony/event-dispatcher"}]
["pola-rs/polars",{"$f":"VLOOKUP(A3180,汇总!D:E,2,FALSE)","v":"https://github.com/pola-rs/polars"}]
["fuck-xuexiqiangguo/Fuck-XueXiQiangGuo",{"$f":"VLOOKUP(A3181,汇总!D:E,2,FALSE)","v":"https://github.com/fuck-xuexiqiangguo/Fuck-XueXiQiangGuo"}]
["solid/solid",{"$f":"VLOOKUP(A3182,汇总!D:E,2,FALSE)","v":"https://github.com/solid/solid"}]
["yandexdataschool/nlp_course",{"$f":"VLOOKUP(A3183,汇总!D:E,2,FALSE)","v":"https://github.com/yandexdataschool/nlp_course"}]
["gophish/gophish",{"$f":"VLOOKUP(A3184,汇总!D:E,2,FALSE)","v":"https://github.com/gophish/gophish"}]
["dotnet/machinelearning",{"$f":"VLOOKUP(A3185,汇总!D:E,2,FALSE)","v":"https://github.com/dotnet/machinelearning"}]
["brianegan/flutter_architecture_samples",{"$f":"VLOOKUP(A3186,汇总!D:E,2,FALSE)","v":"https://github.com/brianegan/flutter_architecture_samples"}]
["wolverinn/Waking-Up",{"$f":"VLOOKUP(A3187,汇总!D:E,2,FALSE)","v":"https://github.com/wolverinn/Waking-Up"}]
["square/okio",{"$f":"VLOOKUP(A3188,汇总!D:E,2,FALSE)","v":"https://github.com/square/okio"}]
["hardikvasa/google-images-download",{"$f":"VLOOKUP(A3189,汇总!D:E,2,FALSE)","v":"https://github.com/hardikvasa/google-images-download"}]
["opendigg/awesome-github-wechat-weapp",{"$f":"VLOOKUP(A3190,汇总!D:E,2,FALSE)","v":"https://github.com/opendigg/awesome-github-wechat-weapp"}]
["hackmdio/codimd",{"$f":"VLOOKUP(A3191,汇总!D:E,2,FALSE)","v":"https://github.com/hackmdio/codimd"}]
["sitaramc/gitolite",{"$f":"VLOOKUP(A3192,汇总!D:E,2,FALSE)","v":"https://github.com/sitaramc/gitolite"}]
["leiurayer/downkyi",{"$f":"VLOOKUP(A3193,汇总!D:E,2,FALSE)","v":"https://github.com/leiurayer/downkyi"}]
["arthurspk/guiadevbrasil",{"$f":"VLOOKUP(A3194,汇总!D:E,2,FALSE)","v":"https://github.com/arthurspk/guiadevbrasil"}]
["shwenzhang/AndResGuard",{"$f":"VLOOKUP(A3195,汇总!D:E,2,FALSE)","v":"https://github.com/shwenzhang/AndResGuard"}]
["mvt-project/mvt",{"$f":"VLOOKUP(A3196,汇总!D:E,2,FALSE)","v":"https://github.com/mvt-project/mvt"}]
["bendc/frontend-guidelines",{"$f":"VLOOKUP(A3197,汇总!D:E,2,FALSE)","v":"https://github.com/bendc/frontend-guidelines"}]
["developit/mitt",{"$f":"VLOOKUP(A3198,汇总!D:E,2,FALSE)","v":"https://github.com/developit/mitt"}]
["IBM/plex",{"$f":"VLOOKUP(A3199,汇总!D:E,2,FALSE)","v":"https://github.com/IBM/plex"}]
["uBlock-LLC/uBlock",{"$f":"VLOOKUP(A3200,汇总!D:E,2,FALSE)","v":"https://github.com/uBlock-LLC/uBlock"}]
["dhamaniasad/awesome-postgres",{"$f":"VLOOKUP(A3201,汇总!D:E,2,FALSE)","v":"https://github.com/dhamaniasad/awesome-postgres"}]
["electron/electron-packager",{"$f":"VLOOKUP(A3202,汇总!D:E,2,FALSE)","v":"https://github.com/electron/electron-packager"}]
["nahamsec/Resources-for-Beginner-Bug-Bounty-Hunters",{"$f":"VLOOKUP(A3203,汇总!D:E,2,FALSE)","v":"https://github.com/nahamsec/Resources-for-Beginner-Bug-Bounty-Hunters"}]
["alibaba/atlas",{"$f":"VLOOKUP(A3204,汇总!D:E,2,FALSE)","v":"https://github.com/alibaba/atlas"}]
["vishnubob/wait-for-it",{"$f":"VLOOKUP(A3205,汇总!D:E,2,FALSE)","v":"https://github.com/vishnubob/wait-for-it"}]
["arrow-py/arrow",{"$f":"VLOOKUP(A3206,汇总!D:E,2,FALSE)","v":"https://github.com/arrow-py/arrow"}]
["XiaoMi/soar",{"$f":"VLOOKUP(A3207,汇总!D:E,2,FALSE)","v":"https://github.com/XiaoMi/soar"}]
["Kristories/awesome-guidelines",{"$f":"VLOOKUP(A3208,汇总!D:E,2,FALSE)","v":"https://github.com/Kristories/awesome-guidelines"}]
["greatghoul/remote-working",{"$f":"VLOOKUP(A3209,汇总!D:E,2,FALSE)","v":"https://github.com/greatghoul/remote-working"}]
["NVIDIA/vid2vid",{"$f":"VLOOKUP(A3210,汇总!D:E,2,FALSE)","v":"https://github.com/NVIDIA/vid2vid"}]
["amitshekhariitbhu/Android-Debug-Database",{"$f":"VLOOKUP(A3211,汇总!D:E,2,FALSE)","v":"https://github.com/amitshekhariitbhu/Android-Debug-Database"}]
["jsx-eslint/eslint-plugin-react",{"$f":"VLOOKUP(A3212,汇总!D:E,2,FALSE)","v":"https://github.com/jsx-eslint/eslint-plugin-react"}]
["VowpalWabbit/vowpal_wabbit",{"$f":"VLOOKUP(A3213,汇总!D:E,2,FALSE)","v":"https://github.com/VowpalWabbit/vowpal_wabbit"}]
["symfony/finder",{"$f":"VLOOKUP(A3214,汇总!D:E,2,FALSE)","v":"https://github.com/symfony/finder"}]
["SFML/SFML",{"$f":"VLOOKUP(A3215,汇总!D:E,2,FALSE)","v":"https://github.com/SFML/SFML"}]
["Z3Prover/z3",{"$f":"VLOOKUP(A3216,汇总!D:E,2,FALSE)","v":"https://github.com/Z3Prover/z3"}]
["pingcap/talent-plan",{"$f":"VLOOKUP(A3217,汇总!D:E,2,FALSE)","v":"https://github.com/pingcap/talent-plan"}]
["minetest/minetest",{"$f":"VLOOKUP(A3218,汇总!D:E,2,FALSE)","v":"https://github.com/minetest/minetest"}]
["Sunnyyoung/WeChatTweak-macOS",{"$f":"VLOOKUP(A3219,汇总!D:E,2,FALSE)","v":"https://github.com/Sunnyyoung/WeChatTweak-macOS"}]
["alibaba/lowcode-engine",{"$f":"VLOOKUP(A3220,汇总!D:E,2,FALSE)","v":"https://github.com/alibaba/lowcode-engine"}]
["zeromq/libzmq",{"$f":"VLOOKUP(A3221,汇总!D:E,2,FALSE)","v":"https://github.com/zeromq/libzmq"}]
["grommet/grommet",{"$f":"VLOOKUP(A3222,汇总!D:E,2,FALSE)","v":"https://github.com/grommet/grommet"}]
["antlr/grammars-v4",{"$f":"VLOOKUP(A3223,汇总!D:E,2,FALSE)","v":"https://github.com/antlr/grammars-v4"}]
["ionic-team/capacitor",{"$f":"VLOOKUP(A3224,汇总!D:E,2,FALSE)","v":"https://github.com/ionic-team/capacitor"}]
["TonnyL/Awesome_APIs",{"$f":"VLOOKUP(A3225,汇总!D:E,2,FALSE)","v":"https://github.com/TonnyL/Awesome_APIs"}]
["drogonframework/drogon",{"$f":"VLOOKUP(A3226,汇总!D:E,2,FALSE)","v":"https://github.com/drogonframework/drogon"}]
["wix/react-native-calendars",{"$f":"VLOOKUP(A3227,汇总!D:E,2,FALSE)","v":"https://github.com/wix/react-native-calendars"}]
["phodal/github",{"$f":"VLOOKUP(A3228,汇总!D:E,2,FALSE)","v":"https://github.com/phodal/github"}]
["cuixiaorui/mini-vue",{"$f":"VLOOKUP(A3229,汇总!D:E,2,FALSE)","v":"https://github.com/cuixiaorui/mini-vue"}]
["monkeytypegame/monkeytype",{"$f":"VLOOKUP(A3230,汇总!D:E,2,FALSE)","v":"https://github.com/monkeytypegame/monkeytype"}]
["JetBrains/JetBrainsMono",{"$f":"VLOOKUP(A3231,汇总!D:E,2,FALSE)","v":"https://github.com/JetBrains/JetBrainsMono"}]
["sockjs/sockjs-client",{"$f":"VLOOKUP(A3232,汇总!D:E,2,FALSE)","v":"https://github.com/sockjs/sockjs-client"}]
["trustedsec/social-engineer-toolkit",{"$f":"VLOOKUP(A3233,汇总!D:E,2,FALSE)","v":"https://github.com/trustedsec/social-engineer-toolkit"}]
["airbnb/epoxy",{"$f":"VLOOKUP(A3234,汇总!D:E,2,FALSE)","v":"https://github.com/airbnb/epoxy"}]
["adrai/flowchart.js",{"$f":"VLOOKUP(A3235,汇总!D:E,2,FALSE)","v":"https://github.com/adrai/flowchart.js"}]
["paragonie/random_compat",{"$f":"VLOOKUP(A3236,汇总!D:E,2,FALSE)","v":"https://github.com/paragonie/random_compat"}]
["VulcanJS/Vulcan",{"$f":"VLOOKUP(A3237,汇总!D:E,2,FALSE)","v":"https://github.com/VulcanJS/Vulcan"}]
["dotnet-architecture/eShopOnWeb",{"$f":"VLOOKUP(A3238,汇总!D:E,2,FALSE)","v":"https://github.com/dotnet-architecture/eShopOnWeb"}]
["JanDeDobbeleer/oh-my-posh",{"$f":"VLOOKUP(A3239,汇总!D:E,2,FALSE)","v":"https://github.com/JanDeDobbeleer/oh-my-posh"}]
["Jackett/Jackett",{"$f":"VLOOKUP(A3240,汇总!D:E,2,FALSE)","v":"https://github.com/Jackett/Jackett"}]
["go-swagger/go-swagger",{"$f":"VLOOKUP(A3241,汇总!D:E,2,FALSE)","v":"https://github.com/go-swagger/go-swagger"}]
["heartcombo/simple_form",{"$f":"VLOOKUP(A3242,汇总!D:E,2,FALSE)","v":"https://github.com/heartcombo/simple_form"}]
["earthly/earthly",{"$f":"VLOOKUP(A3243,汇总!D:E,2,FALSE)","v":"https://github.com/earthly/earthly"}]
["draveness/analyze",{"$f":"VLOOKUP(A3244,汇总!D:E,2,FALSE)","v":"https://github.com/draveness/analyze"}]
["harthur/brain",{"$f":"VLOOKUP(A3245,汇总!D:E,2,FALSE)","v":"https://github.com/harthur/brain"}]
["gao-sun/eul",{"$f":"VLOOKUP(A3246,汇总!D:E,2,FALSE)","v":"https://github.com/gao-sun/eul"}]
["brave/browser-laptop",{"$f":"VLOOKUP(A3247,汇总!D:E,2,FALSE)","v":"https://github.com/brave/browser-laptop"}]
["secdev/scapy",{"$f":"VLOOKUP(A3248,汇总!D:E,2,FALSE)","v":"https://github.com/secdev/scapy"}]
["vesoft-inc/nebula",{"$f":"VLOOKUP(A3249,汇总!D:E,2,FALSE)","v":"https://github.com/vesoft-inc/nebula"}]
["golang/mock",{"$f":"VLOOKUP(A3250,汇总!D:E,2,FALSE)","v":"https://github.com/golang/mock"}]
["sindresorhus/ky",{"$f":"VLOOKUP(A3251,汇总!D:E,2,FALSE)","v":"https://github.com/sindresorhus/ky"}]
["uber/baseweb",{"$f":"VLOOKUP(A3252,汇总!D:E,2,FALSE)","v":"https://github.com/uber/baseweb"}]
["kubernetes/kompose",{"$f":"VLOOKUP(A3253,汇总!D:E,2,FALSE)","v":"https://github.com/kubernetes/kompose"}]
["kickstarter/ios-oss",{"$f":"VLOOKUP(A3254,汇总!D:E,2,FALSE)","v":"https://github.com/kickstarter/ios-oss"}]
["ng-bootstrap/ng-bootstrap",{"$f":"VLOOKUP(A3255,汇总!D:E,2,FALSE)","v":"https://github.com/ng-bootstrap/ng-bootstrap"}]
["gustavoguanabara/html-css",{"$f":"VLOOKUP(A3256,汇总!D:E,2,FALSE)","v":"https://github.com/gustavoguanabara/html-css"}]
["winsiderss/systeminformer",{"$f":"VLOOKUP(A3257,汇总!D:E,2,FALSE)","v":"https://github.com/winsiderss/systeminformer"}]
["nextui-org/nextui",{"$f":"VLOOKUP(A3258,汇总!D:E,2,FALSE)","v":"https://github.com/nextui-org/nextui"}]
["anbox/anbox",{"$f":"VLOOKUP(A3259,汇总!D:E,2,FALSE)","v":"https://github.com/anbox/anbox"}]
["openspug/spug",{"$f":"VLOOKUP(A3260,汇总!D:E,2,FALSE)","v":"https://github.com/openspug/spug"}]
["infracost/infracost",{"$f":"VLOOKUP(A3261,汇总!D:E,2,FALSE)","v":"https://github.com/infracost/infracost"}]
["Mango/slideout",{"$f":"VLOOKUP(A3262,汇总!D:E,2,FALSE)","v":"https://github.com/Mango/slideout"}]
["oguzhaninan/Stacer",{"$f":"VLOOKUP(A3263,汇总!D:E,2,FALSE)","v":"https://github.com/oguzhaninan/Stacer"}]
["mishoo/UglifyJS-old",{"$f":"VLOOKUP(A3264,汇总!D:E,2,FALSE)","v":"https://github.com/mishoo/UglifyJS-old"}]
["DaveGamble/cJSON",{"$f":"VLOOKUP(A3265,汇总!D:E,2,FALSE)","v":"https://github.com/DaveGamble/cJSON"}]
["ImageOptim/ImageOptim",{"$f":"VLOOKUP(A3266,汇总!D:E,2,FALSE)","v":"https://github.com/ImageOptim/ImageOptim"}]
["hoochanlon/w3-goto-world",{"$f":"VLOOKUP(A3267,汇总!D:E,2,FALSE)","v":"https://github.com/hoochanlon/w3-goto-world"}]
["Manisso/fsociety",{"$f":"VLOOKUP(A3268,汇总!D:E,2,FALSE)","v":"https://github.com/Manisso/fsociety"}]
["dabeaz-course/practical-python",{"$f":"VLOOKUP(A3269,汇总!D:E,2,FALSE)","v":"https://github.com/dabeaz-course/practical-python"}]
["docker/docker-bench-security",{"$f":"VLOOKUP(A3270,汇总!D:E,2,FALSE)","v":"https://github.com/docker/docker-bench-security"}]
["bigskysoftware/htmx",{"$f":"VLOOKUP(A3271,汇总!D:E,2,FALSE)","v":"https://github.com/bigskysoftware/htmx"}]
["opencv/cvat",{"$f":"VLOOKUP(A3272,汇总!D:E,2,FALSE)","v":"https://github.com/opencv/cvat"}]
["theatre-js/theatre",{"$f":"VLOOKUP(A3273,汇总!D:E,2,FALSE)","v":"https://github.com/theatre-js/theatre"}]
["evil-huawei/evil-huawei",{"$f":"VLOOKUP(A3274,汇总!D:E,2,FALSE)","v":"https://github.com/evil-huawei/evil-huawei"}]
["samber/lo",{"$f":"VLOOKUP(A3275,汇总!D:E,2,FALSE)","v":"https://github.com/samber/lo"}]
["probot/probot",{"$f":"VLOOKUP(A3276,汇总!D:E,2,FALSE)","v":"https://github.com/probot/probot"}]
["revery-ui/revery",{"$f":"VLOOKUP(A3277,汇总!D:E,2,FALSE)","v":"https://github.com/revery-ui/revery"}]
["Tencent/xLua",{"$f":"VLOOKUP(A3278,汇总!D:E,2,FALSE)","v":"https://github.com/Tencent/xLua"}]
["mgonto/restangular",{"$f":"VLOOKUP(A3279,汇总!D:E,2,FALSE)","v":"https://github.com/mgonto/restangular"}]
["yiminghe/async-validator",{"$f":"VLOOKUP(A3280,汇总!D:E,2,FALSE)","v":"https://github.com/yiminghe/async-validator"}]
["sindresorhus/ora",{"$f":"VLOOKUP(A3281,汇总!D:E,2,FALSE)","v":"https://github.com/sindresorhus/ora"}]
["CreateJS/EaselJS",{"$f":"VLOOKUP(A3282,汇总!D:E,2,FALSE)","v":"https://github.com/CreateJS/EaselJS"}]
["nodegui/nodegui",{"$f":"VLOOKUP(A3283,汇总!D:E,2,FALSE)","v":"https://github.com/nodegui/nodegui"}]
["prometheus/node_exporter",{"$f":"VLOOKUP(A3284,汇总!D:E,2,FALSE)","v":"https://github.com/prometheus/node_exporter"}]
["mezod/awesome-indie",{"$f":"VLOOKUP(A3285,汇总!D:E,2,FALSE)","v":"https://github.com/mezod/awesome-indie"}]
["prompt-toolkit/python-prompt-toolkit",{"$f":"VLOOKUP(A3286,汇总!D:E,2,FALSE)","v":"https://github.com/prompt-toolkit/python-prompt-toolkit"}]
["yhatt/marp",{"$f":"VLOOKUP(A3287,汇总!D:E,2,FALSE)","v":"https://github.com/yhatt/marp"}]
["ideawu/ssdb",{"$f":"VLOOKUP(A3288,汇总!D:E,2,FALSE)","v":"https://github.com/ideawu/ssdb"}]
["microsoft/wslg",{"$f":"VLOOKUP(A3289,汇总!D:E,2,FALSE)","v":"https://github.com/microsoft/wslg"}]
["reactjs/reactjs.org",{"$f":"VLOOKUP(A3290,汇总!D:E,2,FALSE)","v":"https://github.com/reactjs/reactjs.org"}]
["danialfarid/ng-file-upload",{"$f":"VLOOKUP(A3291,汇总!D:E,2,FALSE)","v":"https://github.com/danialfarid/ng-file-upload"}]
["othneildrew/Best-README-Template",{"$f":"VLOOKUP(A3292,汇总!D:E,2,FALSE)","v":"https://github.com/othneildrew/Best-README-Template"}]
["remix-run/history",{"$f":"VLOOKUP(A3293,汇总!D:E,2,FALSE)","v":"https://github.com/remix-run/history"}]
["NickYang29/aria2gui",{"$f":"VLOOKUP(A3294,汇总!D:E,2,FALSE)","v":"https://github.com/NickYang29/aria2gui"}]
["streamlink/streamlink",{"$f":"VLOOKUP(A3295,汇总!D:E,2,FALSE)","v":"https://github.com/streamlink/streamlink"}]
["hybridgroup/gobot",{"$f":"VLOOKUP(A3296,汇总!D:E,2,FALSE)","v":"https://github.com/hybridgroup/gobot"}]
["xupefei/Locale-Emulator",{"$f":"VLOOKUP(A3297,汇总!D:E,2,FALSE)","v":"https://github.com/xupefei/Locale-Emulator"}]
["judasn/Linux-Tutorial",{"$f":"VLOOKUP(A3298,汇总!D:E,2,FALSE)","v":"https://github.com/judasn/Linux-Tutorial"}]
["php-fig/simple-cache",{"$f":"VLOOKUP(A3299,汇总!D:E,2,FALSE)","v":"https://github.com/php-fig/simple-cache"}]
["mediaelement/mediaelement",{"$f":"VLOOKUP(A3300,汇总!D:E,2,FALSE)","v":"https://github.com/mediaelement/mediaelement"}]
["wangshub/Douyin-Bot",{"$f":"VLOOKUP(A3301,汇总!D:E,2,FALSE)","v":"https://github.com/wangshub/Douyin-Bot"}]
["sahat/satellizer",{"$f":"VLOOKUP(A3302,汇总!D:E,2,FALSE)","v":"https://github.com/sahat/satellizer"}]
["warpdotdev/Warp",{"$f":"VLOOKUP(A3303,汇总!D:E,2,FALSE)","v":"https://github.com/warpdotdev/Warp"}]
["unicodeveloper/awesome-nextjs",{"$f":"VLOOKUP(A3304,汇总!D:E,2,FALSE)","v":"https://github.com/unicodeveloper/awesome-nextjs"}]
["appbaseio/dejavu",{"$f":"VLOOKUP(A3305,汇总!D:E,2,FALSE)","v":"https://github.com/appbaseio/dejavu"}]
["mailcheck/mailcheck",{"$f":"VLOOKUP(A3306,汇总!D:E,2,FALSE)","v":"https://github.com/mailcheck/mailcheck"}]
["malwaredllc/byob",{"$f":"VLOOKUP(A3307,汇总!D:E,2,FALSE)","v":"https://github.com/malwaredllc/byob"}]
["jawil/blog",{"$f":"VLOOKUP(A3308,汇总!D:E,2,FALSE)","v":"https://github.com/jawil/blog"}]
["wulabing/Xray_onekey",{"$f":"VLOOKUP(A3309,汇总!D:E,2,FALSE)","v":"https://github.com/wulabing/Xray_onekey"}]
["paramiko/paramiko",{"$f":"VLOOKUP(A3310,汇总!D:E,2,FALSE)","v":"https://github.com/paramiko/paramiko"}]
["duplicati/duplicati",{"$f":"VLOOKUP(A3311,汇总!D:E,2,FALSE)","v":"https://github.com/duplicati/duplicati"}]
["hs-web/hsweb-framework",{"$f":"VLOOKUP(A3312,汇总!D:E,2,FALSE)","v":"https://github.com/hs-web/hsweb-framework"}]
["tinacms/tinacms",{"$f":"VLOOKUP(A3313,汇总!D:E,2,FALSE)","v":"https://github.com/tinacms/tinacms"}]
["kelseyhightower/confd",{"$f":"VLOOKUP(A3314,汇总!D:E,2,FALSE)","v":"https://github.com/kelseyhightower/confd"}]
["ChrisRM/material-theme-jetbrains",{"$f":"VLOOKUP(A3315,汇总!D:E,2,FALSE)","v":"https://github.com/ChrisRM/material-theme-jetbrains"}]
["developit/htm",{"$f":"VLOOKUP(A3316,汇总!D:E,2,FALSE)","v":"https://github.com/developit/htm"}]
["winsw/winsw",{"$f":"VLOOKUP(A3317,汇总!D:E,2,FALSE)","v":"https://github.com/winsw/winsw"}]
["pkg/errors",{"$f":"VLOOKUP(A3318,汇总!D:E,2,FALSE)","v":"https://github.com/pkg/errors"}]
["jpillora/chisel",{"$f":"VLOOKUP(A3319,汇总!D:E,2,FALSE)","v":"https://github.com/jpillora/chisel"}]
["KunMinX/Jetpack-MVVM-Best-Practice",{"$f":"VLOOKUP(A3320,汇总!D:E,2,FALSE)","v":"https://github.com/KunMinX/Jetpack-MVVM-Best-Practice"}]
["aws/aws-sdk-go",{"$f":"VLOOKUP(A3321,汇总!D:E,2,FALSE)","v":"https://github.com/aws/aws-sdk-go"}]
["shadowsocks/shadowsocks-qt5",{"$f":"VLOOKUP(A3322,汇总!D:E,2,FALSE)","v":"https://github.com/shadowsocks/shadowsocks-qt5"}]
["almende/vis",{"$f":"VLOOKUP(A3323,汇总!D:E,2,FALSE)","v":"https://github.com/almende/vis"}]
["scaffold-eth/scaffold-eth",{"$f":"VLOOKUP(A3324,汇总!D:E,2,FALSE)","v":"https://github.com/scaffold-eth/scaffold-eth"}]
["google/oss-fuzz",{"$f":"VLOOKUP(A3325,汇总!D:E,2,FALSE)","v":"https://github.com/google/oss-fuzz"}]
["egonSchiele/grokking_algorithms",{"$f":"VLOOKUP(A3326,汇总!D:E,2,FALSE)","v":"https://github.com/egonSchiele/grokking_algorithms"}]
["carlhuda/janus",{"$f":"VLOOKUP(A3327,汇总!D:E,2,FALSE)","v":"https://github.com/carlhuda/janus"}]
["Netflix/SimianArmy",{"$f":"VLOOKUP(A3328,汇总!D:E,2,FALSE)","v":"https://github.com/Netflix/SimianArmy"}]
["reactjs/react-router-redux",{"$f":"VLOOKUP(A3329,汇总!D:E,2,FALSE)","v":"https://github.com/reactjs/react-router-redux"}]
["shashank88/system_design",{"$f":"VLOOKUP(A3330,汇总!D:E,2,FALSE)","v":"https://github.com/shashank88/system_design"}]
["guolindev/LitePal",{"$f":"VLOOKUP(A3331,汇总!D:E,2,FALSE)","v":"https://github.com/guolindev/LitePal"}]
["mrdoob/stats.js",{"$f":"VLOOKUP(A3332,汇总!D:E,2,FALSE)","v":"https://github.com/mrdoob/stats.js"}]
["miguelgrinberg/flasky",{"$f":"VLOOKUP(A3333,汇总!D:E,2,FALSE)","v":"https://github.com/miguelgrinberg/flasky"}]
["JackyAndroid/AndroidInterview-Q-A",{"$f":"VLOOKUP(A3334,汇总!D:E,2,FALSE)","v":"https://github.com/JackyAndroid/AndroidInterview-Q-A"}]
["HannahMitt/HomeMirror",{"$f":"VLOOKUP(A3335,汇总!D:E,2,FALSE)","v":"https://github.com/HannahMitt/HomeMirror"}]
["antirez/disque",{"$f":"VLOOKUP(A3336,汇总!D:E,2,FALSE)","v":"https://github.com/antirez/disque"}]
["modin-project/modin",{"$f":"VLOOKUP(A3337,汇总!D:E,2,FALSE)","v":"https://github.com/modin-project/modin"}]
["microsoft/DeepSpeed",{"$f":"VLOOKUP(A3338,汇总!D:E,2,FALSE)","v":"https://github.com/microsoft/DeepSpeed"}]
["react-grid-layout/react-draggable",{"$f":"VLOOKUP(A3339,汇总!D:E,2,FALSE)","v":"https://github.com/react-grid-layout/react-draggable"}]
["node-fetch/node-fetch",{"$f":"VLOOKUP(A3340,汇总!D:E,2,FALSE)","v":"https://github.com/node-fetch/node-fetch"}]
["injetlee/Python",{"$f":"VLOOKUP(A3341,汇总!D:E,2,FALSE)","v":"https://github.com/injetlee/Python"}]
["hakimel/Ladda",{"$f":"VLOOKUP(A3342,汇总!D:E,2,FALSE)","v":"https://github.com/hakimel/Ladda"}]
["rswier/c4",{"$f":"VLOOKUP(A3343,汇总!D:E,2,FALSE)","v":"https://github.com/rswier/c4"}]
["atlas-engineer/nyxt",{"$f":"VLOOKUP(A3344,汇总!D:E,2,FALSE)","v":"https://github.com/atlas-engineer/nyxt"}]
["go-vgo/robotgo",{"$f":"VLOOKUP(A3345,汇总!D:E,2,FALSE)","v":"https://github.com/go-vgo/robotgo"}]
["mozilla/nunjucks",{"$f":"VLOOKUP(A3346,汇总!D:E,2,FALSE)","v":"https://github.com/mozilla/nunjucks"}]
["Pikaday/Pikaday",{"$f":"VLOOKUP(A3347,汇总!D:E,2,FALSE)","v":"https://github.com/Pikaday/Pikaday"}]
["JoeyDeVries/LearnOpenGL",{"$f":"VLOOKUP(A3348,汇总!D:E,2,FALSE)","v":"https://github.com/JoeyDeVries/LearnOpenGL"}]
["codenotary/immudb",{"$f":"VLOOKUP(A3349,汇总!D:E,2,FALSE)","v":"https://github.com/codenotary/immudb"}]
["aikorea/awesome-rl",{"$f":"VLOOKUP(A3350,汇总!D:E,2,FALSE)","v":"https://github.com/aikorea/awesome-rl"}]
["flynn/flynn",{"$f":"VLOOKUP(A3351,汇总!D:E,2,FALSE)","v":"https://github.com/flynn/flynn"}]
["numba/numba",{"$f":"VLOOKUP(A3352,汇总!D:E,2,FALSE)","v":"https://github.com/numba/numba"}]
["ryanburgess/engineer-manager",{"$f":"VLOOKUP(A3353,汇总!D:E,2,FALSE)","v":"https://github.com/ryanburgess/engineer-manager"}]
["banchichen/TZImagePickerController",{"$f":"VLOOKUP(A3354,汇总!D:E,2,FALSE)","v":"https://github.com/banchichen/TZImagePickerController"}]
["microsoft/sql-server-samples",{"$f":"VLOOKUP(A3355,汇总!D:E,2,FALSE)","v":"https://github.com/microsoft/sql-server-samples"}]
["facebookarchive/nuclide",{"$f":"VLOOKUP(A3356,汇总!D:E,2,FALSE)","v":"https://github.com/facebookarchive/nuclide"}]
["yhirose/cpp-httplib",{"$f":"VLOOKUP(A3357,汇总!D:E,2,FALSE)","v":"https://github.com/yhirose/cpp-httplib"}]
["paperwork/paperwork",{"$f":"VLOOKUP(A3358,汇总!D:E,2,FALSE)","v":"https://github.com/paperwork/paperwork"}]
["OWASP/Amass",{"$f":"VLOOKUP(A3359,汇总!D:E,2,FALSE)","v":"https://github.com/OWASP/Amass"}]
["beautify-web/js-beautify",{"$f":"VLOOKUP(A3360,汇总!D:E,2,FALSE)","v":"https://github.com/beautify-web/js-beautify"}]
["ffuf/ffuf",{"$f":"VLOOKUP(A3361,汇总!D:E,2,FALSE)","v":"https://github.com/ffuf/ffuf"}]
["Aufree/trip-to-iOS",{"$f":"VLOOKUP(A3362,汇总!D:E,2,FALSE)","v":"https://github.com/Aufree/trip-to-iOS"}]
["Grouper/FlatUIKit",{"$f":"VLOOKUP(A3363,汇总!D:E,2,FALSE)","v":"https://github.com/Grouper/FlatUIKit"}]
["lucidrains/DALLE2-pytorch",{"$f":"VLOOKUP(A3364,汇总!D:E,2,FALSE)","v":"https://github.com/lucidrains/DALLE2-pytorch"}]
["purescript/purescript",{"$f":"VLOOKUP(A3365,汇总!D:E,2,FALSE)","v":"https://github.com/purescript/purescript"}]
["owncloud/core",{"$f":"VLOOKUP(A3366,汇总!D:E,2,FALSE)","v":"https://github.com/owncloud/core"}]
["amethyst/amethyst",{"$f":"VLOOKUP(A3367,汇总!D:E,2,FALSE)","v":"https://github.com/amethyst/amethyst"}]
["qiao/PathFinding.js",{"$f":"VLOOKUP(A3368,汇总!D:E,2,FALSE)","v":"https://github.com/qiao/PathFinding.js"}]
["nst/iOS-Runtime-Headers",{"$f":"VLOOKUP(A3369,汇总!D:E,2,FALSE)","v":"https://github.com/nst/iOS-Runtime-Headers"}]
["felixrieseberg/macintosh.js",{"$f":"VLOOKUP(A3370,汇总!D:E,2,FALSE)","v":"https://github.com/felixrieseberg/macintosh.js"}]
["lexrus/LTMorphingLabel",{"$f":"VLOOKUP(A3371,汇总!D:E,2,FALSE)","v":"https://github.com/lexrus/LTMorphingLabel"}]
["signalapp/Signal-Server",{"$f":"VLOOKUP(A3372,汇总!D:E,2,FALSE)","v":"https://github.com/signalapp/Signal-Server"}]
["Maximus5/ConEmu",{"$f":"VLOOKUP(A3373,汇总!D:E,2,FALSE)","v":"https://github.com/Maximus5/ConEmu"}]
["JakeWharton/hugo",{"$f":"VLOOKUP(A3374,汇总!D:E,2,FALSE)","v":"https://github.com/JakeWharton/hugo"}]
["gurugio/lowlevelprogramming-university",{"$f":"VLOOKUP(A3375,汇总!D:E,2,FALSE)","v":"https://github.com/gurugio/lowlevelprogramming-university"}]
["barryclark/jekyll-now",{"$f":"VLOOKUP(A3376,汇总!D:E,2,FALSE)","v":"https://github.com/barryclark/jekyll-now"}]
["matheusfelipeog/beautiful-docs",{"$f":"VLOOKUP(A3377,汇总!D:E,2,FALSE)","v":"https://github.com/matheusfelipeog/beautiful-docs"}]
["Yelp/elastalert",{"$f":"VLOOKUP(A3378,汇总!D:E,2,FALSE)","v":"https://github.com/Yelp/elastalert"}]
["thinkgem/jeesite",{"$f":"VLOOKUP(A3379,汇总!D:E,2,FALSE)","v":"https://github.com/thinkgem/jeesite"}]
["jonobr1/two.js",{"$f":"VLOOKUP(A3380,汇总!D:E,2,FALSE)","v":"https://github.com/jonobr1/two.js"}]
["hrydgard/ppsspp",{"$f":"VLOOKUP(A3381,汇总!D:E,2,FALSE)","v":"https://github.com/hrydgard/ppsspp"}]
["gotify/server",{"$f":"VLOOKUP(A3382,汇总!D:E,2,FALSE)","v":"https://github.com/gotify/server"}]
["redux-observable/redux-observable",{"$f":"VLOOKUP(A3383,汇总!D:E,2,FALSE)","v":"https://github.com/redux-observable/redux-observable"}]
["airblade/vim-gitgutter",{"$f":"VLOOKUP(A3384,汇总!D:E,2,FALSE)","v":"https://github.com/airblade/vim-gitgutter"}]
["SaschaWillems/Vulkan",{"$f":"VLOOKUP(A3385,汇总!D:E,2,FALSE)","v":"https://github.com/SaschaWillems/Vulkan"}]
["facebook/jscodeshift",{"$f":"VLOOKUP(A3386,汇总!D:E,2,FALSE)","v":"https://github.com/facebook/jscodeshift"}]
["moovweb/gvm",{"$f":"VLOOKUP(A3387,汇总!D:E,2,FALSE)","v":"https://github.com/moovweb/gvm"}]
["swagger-api/swagger-editor",{"$f":"VLOOKUP(A3388,汇总!D:E,2,FALSE)","v":"https://github.com/swagger-api/swagger-editor"}]
["cortexlabs/cortex",{"$f":"VLOOKUP(A3389,汇总!D:E,2,FALSE)","v":"https://github.com/cortexlabs/cortex"}]
["evilsocket/opensnitch",{"$f":"VLOOKUP(A3390,汇总!D:E,2,FALSE)","v":"https://github.com/evilsocket/opensnitch"}]
["krallin/tini",{"$f":"VLOOKUP(A3391,汇总!D:E,2,FALSE)","v":"https://github.com/krallin/tini"}]
["jamiebuilds/unstated",{"$f":"VLOOKUP(A3392,汇总!D:E,2,FALSE)","v":"https://github.com/jamiebuilds/unstated"}]
["rebassjs/rebass",{"$f":"VLOOKUP(A3393,汇总!D:E,2,FALSE)","v":"https://github.com/rebassjs/rebass"}]
["tuteng/Best-websites-a-programmer-should-visit-zh",{"$f":"VLOOKUP(A3394,汇总!D:E,2,FALSE)","v":"https://github.com/tuteng/Best-websites-a-programmer-should-visit-zh"}]
["fengyuanchen/cropper",{"$f":"VLOOKUP(A3395,汇总!D:E,2,FALSE)","v":"https://github.com/fengyuanchen/cropper"}]
["AaronFeng753/Waifu2x-Extension-GUI",{"$f":"VLOOKUP(A3396,汇总!D:E,2,FALSE)","v":"https://github.com/AaronFeng753/Waifu2x-Extension-GUI"}]
["ajeetdsouza/zoxide",{"$f":"VLOOKUP(A3397,汇总!D:E,2,FALSE)","v":"https://github.com/ajeetdsouza/zoxide"}]
["alibaba/rax",{"$f":"VLOOKUP(A3398,汇总!D:E,2,FALSE)","v":"https://github.com/alibaba/rax"}]
["terryma/vim-multiple-cursors",{"$f":"VLOOKUP(A3399,汇总!D:E,2,FALSE)","v":"https://github.com/terryma/vim-multiple-cursors"}]
["chrisbanes/cheesesquare",{"$f":"VLOOKUP(A3400,汇总!D:E,2,FALSE)","v":"https://github.com/chrisbanes/cheesesquare"}]
["Flipboard/FLAnimatedImage",{"$f":"VLOOKUP(A3401,汇总!D:E,2,FALSE)","v":"https://github.com/Flipboard/FLAnimatedImage"}]
["HangfireIO/Hangfire",{"$f":"VLOOKUP(A3402,汇总!D:E,2,FALSE)","v":"https://github.com/HangfireIO/Hangfire"}]
["MicrosoftDocs/azure-docs",{"$f":"VLOOKUP(A3403,汇总!D:E,2,FALSE)","v":"https://github.com/MicrosoftDocs/azure-docs"}]
["statsmodels/statsmodels",{"$f":"VLOOKUP(A3404,汇总!D:E,2,FALSE)","v":"https://github.com/statsmodels/statsmodels"}]
["openebs/openebs",{"$f":"VLOOKUP(A3405,汇总!D:E,2,FALSE)","v":"https://github.com/openebs/openebs"}]
["retejs/rete",{"$f":"VLOOKUP(A3406,汇总!D:E,2,FALSE)","v":"https://github.com/retejs/rete"}]
["dthree/cash",{"$f":"VLOOKUP(A3407,汇总!D:E,2,FALSE)","v":"https://github.com/dthree/cash"}]
["akavel/up",{"$f":"VLOOKUP(A3408,汇总!D:E,2,FALSE)","v":"https://github.com/akavel/up"}]
["miniMAC/magic",{"$f":"VLOOKUP(A3409,汇总!D:E,2,FALSE)","v":"https://github.com/miniMAC/magic"}]
["whyour/qinglong",{"$f":"VLOOKUP(A3410,汇总!D:E,2,FALSE)","v":"https://github.com/whyour/qinglong"}]
["playcanvas/engine",{"$f":"VLOOKUP(A3411,汇总!D:E,2,FALSE)","v":"https://github.com/playcanvas/engine"}]
["TykTechnologies/tyk",{"$f":"VLOOKUP(A3412,汇总!D:E,2,FALSE)","v":"https://github.com/TykTechnologies/tyk"}]
["ImageMagick/ImageMagick",{"$f":"VLOOKUP(A3413,汇总!D:E,2,FALSE)","v":"https://github.com/ImageMagick/ImageMagick"}]
["opencv/opencv_contrib",{"$f":"VLOOKUP(A3414,汇总!D:E,2,FALSE)","v":"https://github.com/opencv/opencv_contrib"}]
["Sonarr/Sonarr",{"$f":"VLOOKUP(A3415,汇总!D:E,2,FALSE)","v":"https://github.com/Sonarr/Sonarr"}]
["joelparkerhenderson/architecture-decision-record",{"$f":"VLOOKUP(A3416,汇总!D:E,2,FALSE)","v":"https://github.com/joelparkerhenderson/architecture-decision-record"}]
["altair-viz/altair",{"$f":"VLOOKUP(A3417,汇总!D:E,2,FALSE)","v":"https://github.com/altair-viz/altair"}]
["hashicorp/terraform-provider-aws",{"$f":"VLOOKUP(A3418,汇总!D:E,2,FALSE)","v":"https://github.com/hashicorp/terraform-provider-aws"}]
["PointCloudLibrary/pcl",{"$f":"VLOOKUP(A3419,汇总!D:E,2,FALSE)","v":"https://github.com/PointCloudLibrary/pcl"}]
["rileytestut/AltStore",{"$f":"VLOOKUP(A3420,汇总!D:E,2,FALSE)","v":"https://github.com/rileytestut/AltStore"}]
["bottlepy/bottle",{"$f":"VLOOKUP(A3421,汇总!D:E,2,FALSE)","v":"https://github.com/bottlepy/bottle"}]
["pedroslopez/whatsapp-web.js",{"$f":"VLOOKUP(A3422,汇总!D:E,2,FALSE)","v":"https://github.com/pedroslopez/whatsapp-web.js"}]
["rbgirshick/py-faster-rcnn",{"$f":"VLOOKUP(A3423,汇总!D:E,2,FALSE)","v":"https://github.com/rbgirshick/py-faster-rcnn"}]
["varvet/pundit",{"$f":"VLOOKUP(A3424,汇总!D:E,2,FALSE)","v":"https://github.com/varvet/pundit"}]
["metalsmith/metalsmith",{"$f":"VLOOKUP(A3425,汇总!D:E,2,FALSE)","v":"https://github.com/metalsmith/metalsmith"}]
["barry-ran/QtScrcpy",{"$f":"VLOOKUP(A3426,汇总!D:E,2,FALSE)","v":"https://github.com/barry-ran/QtScrcpy"}]
["antvis/F2",{"$f":"VLOOKUP(A3427,汇总!D:E,2,FALSE)","v":"https://github.com/antvis/F2"}]
["wappalyzer/wappalyzer",{"$f":"VLOOKUP(A3428,汇总!D:E,2,FALSE)","v":"https://github.com/wappalyzer/wappalyzer"}]
["kylemanna/docker-openvpn",{"$f":"VLOOKUP(A3429,汇总!D:E,2,FALSE)","v":"https://github.com/kylemanna/docker-openvpn"}]
["AmruthPillai/Reactive-Resume",{"$f":"VLOOKUP(A3430,汇总!D:E,2,FALSE)","v":"https://github.com/AmruthPillai/Reactive-Resume"}]
["react-native-image-picker/react-native-image-picker",{"$f":"VLOOKUP(A3431,汇总!D:E,2,FALSE)","v":"https://github.com/react-native-image-picker/react-native-image-picker"}]
["oclif/oclif",{"$f":"VLOOKUP(A3432,汇总!D:E,2,FALSE)","v":"https://github.com/oclif/oclif"}]
["symfony/thanks",{"$f":"VLOOKUP(A3433,汇总!D:E,2,FALSE)","v":"https://github.com/symfony/thanks"}]
["theme-next/hexo-theme-next",{"$f":"VLOOKUP(A3434,汇总!D:E,2,FALSE)","v":"https://github.com/theme-next/hexo-theme-next"}]
["the-paperless-project/paperless",{"$f":"VLOOKUP(A3435,汇总!D:E,2,FALSE)","v":"https://github.com/the-paperless-project/paperless"}]
["symfony/http-kernel",{"$f":"VLOOKUP(A3436,汇总!D:E,2,FALSE)","v":"https://github.com/symfony/http-kernel"}]
["amsul/pickadate.js",{"$f":"VLOOKUP(A3437,汇总!D:E,2,FALSE)","v":"https://github.com/amsul/pickadate.js"}]
["major/MySQLTuner-perl",{"$f":"VLOOKUP(A3438,汇总!D:E,2,FALSE)","v":"https://github.com/major/MySQLTuner-perl"}]
["jigish/slate",{"$f":"VLOOKUP(A3439,汇总!D:E,2,FALSE)","v":"https://github.com/jigish/slate"}]
["citra-emu/citra",{"$f":"VLOOKUP(A3440,汇总!D:E,2,FALSE)","v":"https://github.com/citra-emu/citra"}]
["webdriverio/webdriverio",{"$f":"VLOOKUP(A3441,汇总!D:E,2,FALSE)","v":"https://github.com/webdriverio/webdriverio"}]
["iperov/DeepFaceLive",{"$f":"VLOOKUP(A3442,汇总!D:E,2,FALSE)","v":"https://github.com/iperov/DeepFaceLive"}]
["ZLMediaKit/ZLMediaKit",{"$f":"VLOOKUP(A3443,汇总!D:E,2,FALSE)","v":"https://github.com/ZLMediaKit/ZLMediaKit"}]
["zhukov/webogram",{"$f":"VLOOKUP(A3444,汇总!D:E,2,FALSE)","v":"https://github.com/zhukov/webogram"}]
["apachecn/Interview",{"$f":"VLOOKUP(A3445,汇总!D:E,2,FALSE)","v":"https://github.com/apachecn/Interview"}]
["top-think/think",{"$f":"VLOOKUP(A3446,汇总!D:E,2,FALSE)","v":"https://github.com/top-think/think"}]
["FasterXML/jackson",{"$f":"VLOOKUP(A3447,汇总!D:E,2,FALSE)","v":"https://github.com/FasterXML/jackson"}]
["OwlCarousel2/OwlCarousel2",{"$f":"VLOOKUP(A3448,汇总!D:E,2,FALSE)","v":"https://github.com/OwlCarousel2/OwlCarousel2"}]
["i18next/react-i18next",{"$f":"VLOOKUP(A3449,汇总!D:E,2,FALSE)","v":"https://github.com/i18next/react-i18next"}]
["ranaroussi/yfinance",{"$f":"VLOOKUP(A3450,汇总!D:E,2,FALSE)","v":"https://github.com/ranaroussi/yfinance"}]
["hilongjw/vue-lazyload",{"$f":"VLOOKUP(A3451,汇总!D:E,2,FALSE)","v":"https://github.com/hilongjw/vue-lazyload"}]
["chaijs/chai",{"$f":"VLOOKUP(A3452,汇总!D:E,2,FALSE)","v":"https://github.com/chaijs/chai"}]
["isaacs/node-glob",{"$f":"VLOOKUP(A3453,汇总!D:E,2,FALSE)","v":"https://github.com/isaacs/node-glob"}]
["trello/RxLifecycle",{"$f":"VLOOKUP(A3454,汇总!D:E,2,FALSE)","v":"https://github.com/trello/RxLifecycle"}]
["primefaces/primeng",{"$f":"VLOOKUP(A3455,汇总!D:E,2,FALSE)","v":"https://github.com/primefaces/primeng"}]
["Wechat-ggGitHub/Awesome-GitHub-Repo",{"$f":"VLOOKUP(A3456,汇总!D:E,2,FALSE)","v":"https://github.com/Wechat-ggGitHub/Awesome-GitHub-Repo"}]
["beefproject/beef",{"$f":"VLOOKUP(A3457,汇总!D:E,2,FALSE)","v":"https://github.com/beefproject/beef"}]
["apache/shardingsphere-elasticjob",{"$f":"VLOOKUP(A3458,汇总!D:E,2,FALSE)","v":"https://github.com/apache/shardingsphere-elasticjob"}]
["cyanharlow/purecss-francine",{"$f":"VLOOKUP(A3459,汇总!D:E,2,FALSE)","v":"https://github.com/cyanharlow/purecss-francine"}]
["berzerk0/Probable-Wordlists",{"$f":"VLOOKUP(A3460,汇总!D:E,2,FALSE)","v":"https://github.com/berzerk0/Probable-Wordlists"}]
["snowie2000/mactype",{"$f":"VLOOKUP(A3461,汇总!D:E,2,FALSE)","v":"https://github.com/snowie2000/mactype"}]
["upgundecha/howtheysre",{"$f":"VLOOKUP(A3462,汇总!D:E,2,FALSE)","v":"https://github.com/upgundecha/howtheysre"}]
["zhoutaoo/SpringCloud",{"$f":"VLOOKUP(A3463,汇总!D:E,2,FALSE)","v":"https://github.com/zhoutaoo/SpringCloud"}]
["kamens/jQuery-menu-aim",{"$f":"VLOOKUP(A3464,汇总!D:E,2,FALSE)","v":"https://github.com/kamens/jQuery-menu-aim"}]
["ArduPilot/ardupilot",{"$f":"VLOOKUP(A3465,汇总!D:E,2,FALSE)","v":"https://github.com/ArduPilot/ardupilot"}]
["docopt/docopt",{"$f":"VLOOKUP(A3466,汇总!D:E,2,FALSE)","v":"https://github.com/docopt/docopt"}]
["bigbluebutton/bigbluebutton",{"$f":"VLOOKUP(A3467,汇总!D:E,2,FALSE)","v":"https://github.com/bigbluebutton/bigbluebutton"}]
["microsoft/fast",{"$f":"VLOOKUP(A3468,汇总!D:E,2,FALSE)","v":"https://github.com/microsoft/fast"}]
["railsadminteam/rails_admin",{"$f":"VLOOKUP(A3469,汇总!D:E,2,FALSE)","v":"https://github.com/railsadminteam/rails_admin"}]
["thejsway/thejsway",{"$f":"VLOOKUP(A3470,汇总!D:E,2,FALSE)","v":"https://github.com/thejsway/thejsway"}]
["bitemyapp/learnhaskell",{"$f":"VLOOKUP(A3471,汇总!D:E,2,FALSE)","v":"https://github.com/bitemyapp/learnhaskell"}]
["icindy/wxParse",{"$f":"VLOOKUP(A3472,汇总!D:E,2,FALSE)","v":"https://github.com/icindy/wxParse"}]
["Canop/broot",{"$f":"VLOOKUP(A3473,汇总!D:E,2,FALSE)","v":"https://github.com/Canop/broot"}]
["ashleymills/Reachability.swift",{"$f":"VLOOKUP(A3474,汇总!D:E,2,FALSE)","v":"https://github.com/ashleymills/Reachability.swift"}]
["google/tsunami-security-scanner",{"$f":"VLOOKUP(A3475,汇总!D:E,2,FALSE)","v":"https://github.com/google/tsunami-security-scanner"}]
["osxfuse/osxfuse",{"$f":"VLOOKUP(A3476,汇总!D:E,2,FALSE)","v":"https://github.com/osxfuse/osxfuse"}]
["kedro-org/kedro",{"$f":"VLOOKUP(A3477,汇总!D:E,2,FALSE)","v":"https://github.com/kedro-org/kedro"}]
["justinamiller/SoftwareArchitect",{"$f":"VLOOKUP(A3478,汇总!D:E,2,FALSE)","v":"https://github.com/justinamiller/SoftwareArchitect"}]
["foundation/foundation-emails",{"$f":"VLOOKUP(A3479,汇总!D:E,2,FALSE)","v":"https://github.com/foundation/foundation-emails"}]
["bingoogolapple/BGAQRCode-Android",{"$f":"VLOOKUP(A3480,汇总!D:E,2,FALSE)","v":"https://github.com/bingoogolapple/BGAQRCode-Android"}]
["Lissy93/dashy",{"$f":"VLOOKUP(A3481,汇总!D:E,2,FALSE)","v":"https://github.com/Lissy93/dashy"}]
["InsertKoinIO/koin",{"$f":"VLOOKUP(A3482,汇总!D:E,2,FALSE)","v":"https://github.com/InsertKoinIO/koin"}]
["fex-team/webuploader",{"$f":"VLOOKUP(A3483,汇总!D:E,2,FALSE)","v":"https://github.com/fex-team/webuploader"}]
["MathewSachin/Captura",{"$f":"VLOOKUP(A3484,汇总!D:E,2,FALSE)","v":"https://github.com/MathewSachin/Captura"}]
["codecombat/codecombat",{"$f":"VLOOKUP(A3485,汇总!D:E,2,FALSE)","v":"https://github.com/codecombat/codecombat"}]
["TextureGroup/Texture",{"$f":"VLOOKUP(A3486,汇总!D:E,2,FALSE)","v":"https://github.com/TextureGroup/Texture"}]
["evilstreak/markdown-js",{"$f":"VLOOKUP(A3487,汇总!D:E,2,FALSE)","v":"https://github.com/evilstreak/markdown-js"}]
["akveo/nebular",{"$f":"VLOOKUP(A3488,汇总!D:E,2,FALSE)","v":"https://github.com/akveo/nebular"}]
["dropwizard/metrics",{"$f":"VLOOKUP(A3489,汇总!D:E,2,FALSE)","v":"https://github.com/dropwizard/metrics"}]
["davidsonfellipe/awesome-wpo",{"$f":"VLOOKUP(A3490,汇总!D:E,2,FALSE)","v":"https://github.com/davidsonfellipe/awesome-wpo"}]
["facebook/proxygen",{"$f":"VLOOKUP(A3491,汇总!D:E,2,FALSE)","v":"https://github.com/facebook/proxygen"}]
["bramp/js-sequence-diagrams",{"$f":"VLOOKUP(A3492,汇总!D:E,2,FALSE)","v":"https://github.com/bramp/js-sequence-diagrams"}]
["pyro-ppl/pyro",{"$f":"VLOOKUP(A3493,汇总!D:E,2,FALSE)","v":"https://github.com/pyro-ppl/pyro"}]
["CodingDocs/awesome-java",{"$f":"VLOOKUP(A3494,汇总!D:E,2,FALSE)","v":"https://github.com/CodingDocs/awesome-java"}]
["lib/pq",{"$f":"VLOOKUP(A3495,汇总!D:E,2,FALSE)","v":"https://github.com/lib/pq"}]
["TeamVanced/VancedManager",{"$f":"VLOOKUP(A3496,汇总!D:E,2,FALSE)","v":"https://github.com/TeamVanced/VancedManager"}]
["react-cosmos/react-cosmos",{"$f":"VLOOKUP(A3497,汇总!D:E,2,FALSE)","v":"https://github.com/react-cosmos/react-cosmos"}]
["FluentValidation/FluentValidation",{"$f":"VLOOKUP(A3498,汇总!D:E,2,FALSE)","v":"https://github.com/FluentValidation/FluentValidation"}]
["thoughtbot/factory_bot",{"$f":"VLOOKUP(A3499,汇总!D:E,2,FALSE)","v":"https://github.com/thoughtbot/factory_bot"}]
["ory/kratos",{"$f":"VLOOKUP(A3500,汇总!D:E,2,FALSE)","v":"https://github.com/ory/kratos"}]
["alyssaxuu/screenity",{"$f":"VLOOKUP(A3501,汇总!D:E,2,FALSE)","v":"https://github.com/alyssaxuu/screenity"}]
["vimwiki/vimwiki",{"$f":"VLOOKUP(A3502,汇总!D:E,2,FALSE)","v":"https://github.com/vimwiki/vimwiki"}]
["pytube/pytube",{"$f":"VLOOKUP(A3503,汇总!D:E,2,FALSE)","v":"https://github.com/pytube/pytube"}]
["linebender/druid",{"$f":"VLOOKUP(A3504,汇总!D:E,2,FALSE)","v":"https://github.com/linebender/druid"}]
["twpayne/chezmoi",{"$f":"VLOOKUP(A3505,汇总!D:E,2,FALSE)","v":"https://github.com/twpayne/chezmoi"}]
["jeffgerickson/algorithms",{"$f":"VLOOKUP(A3506,汇总!D:E,2,FALSE)","v":"https://github.com/jeffgerickson/algorithms"}]
["dtm-labs/dtm",{"$f":"VLOOKUP(A3507,汇总!D:E,2,FALSE)","v":"https://github.com/dtm-labs/dtm"}]
["twigphp/Twig",{"$f":"VLOOKUP(A3508,汇总!D:E,2,FALSE)","v":"https://github.com/twigphp/Twig"}]
["lz4/lz4",{"$f":"VLOOKUP(A3509,汇总!D:E,2,FALSE)","v":"https://github.com/lz4/lz4"}]
["be5invis/Sarasa-Gothic",{"$f":"VLOOKUP(A3510,汇总!D:E,2,FALSE)","v":"https://github.com/be5invis/Sarasa-Gothic"}]
["amfe/article",{"$f":"VLOOKUP(A3511,汇总!D:E,2,FALSE)","v":"https://github.com/amfe/article"}]
["kimmobrunfeldt/progressbar.js",{"$f":"VLOOKUP(A3512,汇总!D:E,2,FALSE)","v":"https://github.com/kimmobrunfeldt/progressbar.js"}]
["fullstorydev/grpcurl",{"$f":"VLOOKUP(A3513,汇总!D:E,2,FALSE)","v":"https://github.com/fullstorydev/grpcurl"}]
["sundowndev/phoneinfoga",{"$f":"VLOOKUP(A3514,汇总!D:E,2,FALSE)","v":"https://github.com/sundowndev/phoneinfoga"}]
["ValdikSS/GoodbyeDPI",{"$f":"VLOOKUP(A3515,汇总!D:E,2,FALSE)","v":"https://github.com/ValdikSS/GoodbyeDPI"}]
["languagetool-org/languagetool",{"$f":"VLOOKUP(A3516,汇总!D:E,2,FALSE)","v":"https://github.com/languagetool-org/languagetool"}]
["Zettlr/Zettlr",{"$f":"VLOOKUP(A3517,汇总!D:E,2,FALSE)","v":"https://github.com/Zettlr/Zettlr"}]
["deepmind/pysc2",{"$f":"VLOOKUP(A3518,汇总!D:E,2,FALSE)","v":"https://github.com/deepmind/pysc2"}]
["sikaozhe1997/Xin-Yue",{"$f":"VLOOKUP(A3519,汇总!D:E,2,FALSE)","v":"https://github.com/sikaozhe1997/Xin-Yue"}]
["xo/usql",{"$f":"VLOOKUP(A3520,汇总!D:E,2,FALSE)","v":"https://github.com/xo/usql"}]
["CleverRaven/Cataclysm-DDA",{"$f":"VLOOKUP(A3521,汇总!D:E,2,FALSE)","v":"https://github.com/CleverRaven/Cataclysm-DDA"}]
["omniauth/omniauth",{"$f":"VLOOKUP(A3522,汇总!D:E,2,FALSE)","v":"https://github.com/omniauth/omniauth"}]
["PureLayout/PureLayout",{"$f":"VLOOKUP(A3523,汇总!D:E,2,FALSE)","v":"https://github.com/PureLayout/PureLayout"}]
["boto/boto3",{"$f":"VLOOKUP(A3524,汇总!D:E,2,FALSE)","v":"https://github.com/boto/boto3"}]
["aboul3la/Sublist3r",{"$f":"VLOOKUP(A3525,汇总!D:E,2,FALSE)","v":"https://github.com/aboul3la/Sublist3r"}]
["api-platform/api-platform",{"$f":"VLOOKUP(A3526,汇总!D:E,2,FALSE)","v":"https://github.com/api-platform/api-platform"}]
["ds300/patch-package",{"$f":"VLOOKUP(A3527,汇总!D:E,2,FALSE)","v":"https://github.com/ds300/patch-package"}]
["dataease/dataease",{"$f":"VLOOKUP(A3528,汇总!D:E,2,FALSE)","v":"https://github.com/dataease/dataease"}]
["AHAAAAAAA/PokemonGo-Map",{"$f":"VLOOKUP(A3529,汇总!D:E,2,FALSE)","v":"https://github.com/AHAAAAAAA/PokemonGo-Map"}]
["bencodezen/vue-enterprise-boilerplate",{"$f":"VLOOKUP(A3530,汇总!D:E,2,FALSE)","v":"https://github.com/bencodezen/vue-enterprise-boilerplate"}]
["OpenVPN/openvpn",{"$f":"VLOOKUP(A3531,汇总!D:E,2,FALSE)","v":"https://github.com/OpenVPN/openvpn"}]
["debezium/debezium",{"$f":"VLOOKUP(A3532,汇总!D:E,2,FALSE)","v":"https://github.com/debezium/debezium"}]
["raulmur/ORB_SLAM2",{"$f":"VLOOKUP(A3533,汇总!D:E,2,FALSE)","v":"https://github.com/raulmur/ORB_SLAM2"}]
["aritraroy/UltimateAndroidReference",{"$f":"VLOOKUP(A3534,汇总!D:E,2,FALSE)","v":"https://github.com/aritraroy/UltimateAndroidReference"}]
["teddysun/shadowsocks_install",{"$f":"VLOOKUP(A3535,汇总!D:E,2,FALSE)","v":"https://github.com/teddysun/shadowsocks_install"}]
["raineorshine/npm-check-updates",{"$f":"VLOOKUP(A3536,汇总!D:E,2,FALSE)","v":"https://github.com/raineorshine/npm-check-updates"}]
["baowenbo/DAIN",{"$f":"VLOOKUP(A3537,汇总!D:E,2,FALSE)","v":"https://github.com/baowenbo/DAIN"}]
["noisetorch/NoiseTorch",{"$f":"VLOOKUP(A3538,汇总!D:E,2,FALSE)","v":"https://github.com/noisetorch/NoiseTorch"}]
["payloadcms/payload",{"$f":"VLOOKUP(A3539,汇总!D:E,2,FALSE)","v":"https://github.com/payloadcms/payload"}]
["janeczku/calibre-web",{"$f":"VLOOKUP(A3540,汇总!D:E,2,FALSE)","v":"https://github.com/janeczku/calibre-web"}]
["nopSolutions/nopCommerce",{"$f":"VLOOKUP(A3541,汇总!D:E,2,FALSE)","v":"https://github.com/nopSolutions/nopCommerce"}]
["faker-js/faker",{"$f":"VLOOKUP(A3542,汇总!D:E,2,FALSE)","v":"https://github.com/faker-js/faker"}]
["laravel/lumen",{"$f":"VLOOKUP(A3543,汇总!D:E,2,FALSE)","v":"https://github.com/laravel/lumen"}]
["apache/cassandra",{"$f":"VLOOKUP(A3544,汇总!D:E,2,FALSE)","v":"https://github.com/apache/cassandra"}]
["MorvanZhou/Reinforcement-learning-with-tensorflow",{"$f":"VLOOKUP(A3545,汇总!D:E,2,FALSE)","v":"https://github.com/MorvanZhou/Reinforcement-learning-with-tensorflow"}]
["kelektiv/node-cron",{"$f":"VLOOKUP(A3546,汇总!D:E,2,FALSE)","v":"https://github.com/kelektiv/node-cron"}]
["nothings/single_file_libs",{"$f":"VLOOKUP(A3547,汇总!D:E,2,FALSE)","v":"https://github.com/nothings/single_file_libs"}]
["AlessandroZ/LaZagne",{"$f":"VLOOKUP(A3548,汇总!D:E,2,FALSE)","v":"https://github.com/AlessandroZ/LaZagne"}]
["llSourcell/Learn_Machine_Learning_in_3_Months",{"$f":"VLOOKUP(A3549,汇总!D:E,2,FALSE)","v":"https://github.com/llSourcell/Learn_Machine_Learning_in_3_Months"}]
["ecomfe/vue-echarts",{"$f":"VLOOKUP(A3550,汇总!D:E,2,FALSE)","v":"https://github.com/ecomfe/vue-echarts"}]
["guzzle/psr7",{"$f":"VLOOKUP(A3551,汇总!D:E,2,FALSE)","v":"https://github.com/guzzle/psr7"}]
["t3-oss/create-t3-app",{"$f":"VLOOKUP(A3552,汇总!D:E,2,FALSE)","v":"https://github.com/t3-oss/create-t3-app"}]
["TrinityCore/TrinityCore",{"$f":"VLOOKUP(A3553,汇总!D:E,2,FALSE)","v":"https://github.com/TrinityCore/TrinityCore"}]
["kaushikgopal/RxJava-Android-Samples",{"$f":"VLOOKUP(A3554,汇总!D:E,2,FALSE)","v":"https://github.com/kaushikgopal/RxJava-Android-Samples"}]
["Kitura/Kitura",{"$f":"VLOOKUP(A3555,汇总!D:E,2,FALSE)","v":"https://github.com/Kitura/Kitura"}]
["microsoft/onnxruntime",{"$f":"VLOOKUP(A3556,汇总!D:E,2,FALSE)","v":"https://github.com/microsoft/onnxruntime"}]
["Nuitka/Nuitka",{"$f":"VLOOKUP(A3557,汇总!D:E,2,FALSE)","v":"https://github.com/Nuitka/Nuitka"}]
["android/android-ktx",{"$f":"VLOOKUP(A3558,汇总!D:E,2,FALSE)","v":"https://github.com/android/android-ktx"}]
["i3/i3",{"$f":"VLOOKUP(A3559,汇总!D:E,2,FALSE)","v":"https://github.com/i3/i3"}]
["phodal/growth-ebook",{"$f":"VLOOKUP(A3560,汇总!D:E,2,FALSE)","v":"https://github.com/phodal/growth-ebook"}]
["vladikoff/chromeos-apk",{"$f":"VLOOKUP(A3561,汇总!D:E,2,FALSE)","v":"https://github.com/vladikoff/chromeos-apk"}]
["terkelg/prompts",{"$f":"VLOOKUP(A3562,汇总!D:E,2,FALSE)","v":"https://github.com/terkelg/prompts"}]
["visionmedia/page.js",{"$f":"VLOOKUP(A3563,汇总!D:E,2,FALSE)","v":"https://github.com/visionmedia/page.js"}]
["JeffreySu/WeiXinMPSDK",{"$f":"VLOOKUP(A3564,汇总!D:E,2,FALSE)","v":"https://github.com/JeffreySu/WeiXinMPSDK"}]
["czy36mengfei/tensorflow2_tutorials_chinese",{"$f":"VLOOKUP(A3565,汇总!D:E,2,FALSE)","v":"https://github.com/czy36mengfei/tensorflow2_tutorials_chinese"}]
["linuxkit/linuxkit",{"$f":"VLOOKUP(A3566,汇总!D:E,2,FALSE)","v":"https://github.com/linuxkit/linuxkit"}]
["mgechev/javascript-algorithms",{"$f":"VLOOKUP(A3567,汇总!D:E,2,FALSE)","v":"https://github.com/mgechev/javascript-algorithms"}]
["hadolint/hadolint",{"$f":"VLOOKUP(A3568,汇总!D:E,2,FALSE)","v":"https://github.com/hadolint/hadolint"}]
["LeetCode-OpenSource/vscode-leetcode",{"$f":"VLOOKUP(A3569,汇总!D:E,2,FALSE)","v":"https://github.com/LeetCode-OpenSource/vscode-leetcode"}]
["skyline75489/what-happens-when-zh_CN",{"$f":"VLOOKUP(A3570,汇总!D:E,2,FALSE)","v":"https://github.com/skyline75489/what-happens-when-zh_CN"}]
["flannel-io/flannel",{"$f":"VLOOKUP(A3571,汇总!D:E,2,FALSE)","v":"https://github.com/flannel-io/flannel"}]
["larsenwork/monoid",{"$f":"VLOOKUP(A3572,汇总!D:E,2,FALSE)","v":"https://github.com/larsenwork/monoid"}]
["symfony/polyfill-mbstring",{"$f":"VLOOKUP(A3573,汇总!D:E,2,FALSE)","v":"https://github.com/symfony/polyfill-mbstring"}]
["popcorn-official/popcorn-desktop",{"$f":"VLOOKUP(A3574,汇总!D:E,2,FALSE)","v":"https://github.com/popcorn-official/popcorn-desktop"}]
["doctrine/cache",{"$f":"VLOOKUP(A3575,汇总!D:E,2,FALSE)","v":"https://github.com/doctrine/cache"}]
["musescore/MuseScore",{"$f":"VLOOKUP(A3576,汇总!D:E,2,FALSE)","v":"https://github.com/musescore/MuseScore"}]
["jgamblin/Mirai-Source-Code",{"$f":"VLOOKUP(A3577,汇总!D:E,2,FALSE)","v":"https://github.com/jgamblin/Mirai-Source-Code"}]
["sosedoff/pgweb",{"$f":"VLOOKUP(A3578,汇总!D:E,2,FALSE)","v":"https://github.com/sosedoff/pgweb"}]
["kekingcn/kkFileView",{"$f":"VLOOKUP(A3579,汇总!D:E,2,FALSE)","v":"https://github.com/kekingcn/kkFileView"}]
["cerebroapp/cerebro",{"$f":"VLOOKUP(A3580,汇总!D:E,2,FALSE)","v":"https://github.com/cerebroapp/cerebro"}]
["FormidableLabs/urql",{"$f":"VLOOKUP(A3581,汇总!D:E,2,FALSE)","v":"https://github.com/FormidableLabs/urql"}]
["gcla/termshark",{"$f":"VLOOKUP(A3582,汇总!D:E,2,FALSE)","v":"https://github.com/gcla/termshark"}]
["jonataslaw/getx",{"$f":"VLOOKUP(A3583,汇总!D:E,2,FALSE)","v":"https://github.com/jonataslaw/getx"}]
["facebook/hermes",{"$f":"VLOOKUP(A3584,汇总!D:E,2,FALSE)","v":"https://github.com/facebook/hermes"}]
["sw-yx/spark-joy",{"$f":"VLOOKUP(A3585,汇总!D:E,2,FALSE)","v":"https://github.com/sw-yx/spark-joy"}]
["samshadwell/TrumpScript",{"$f":"VLOOKUP(A3586,汇总!D:E,2,FALSE)","v":"https://github.com/samshadwell/TrumpScript"}]
["Lona/Lona",{"$f":"VLOOKUP(A3587,汇总!D:E,2,FALSE)","v":"https://github.com/Lona/Lona"}]
["michaelvillar/dynamics.js",{"$f":"VLOOKUP(A3588,汇总!D:E,2,FALSE)","v":"https://github.com/michaelvillar/dynamics.js"}]
["mopidy/mopidy",{"$f":"VLOOKUP(A3589,汇总!D:E,2,FALSE)","v":"https://github.com/mopidy/mopidy"}]
["alibaba/anyproxy",{"$f":"VLOOKUP(A3590,汇总!D:E,2,FALSE)","v":"https://github.com/alibaba/anyproxy"}]
["Supervisor/supervisor",{"$f":"VLOOKUP(A3591,汇总!D:E,2,FALSE)","v":"https://github.com/Supervisor/supervisor"}]
["pennersr/django-allauth",{"$f":"VLOOKUP(A3592,汇总!D:E,2,FALSE)","v":"https://github.com/pennersr/django-allauth"}]
["fail2ban/fail2ban",{"$f":"VLOOKUP(A3593,汇总!D:E,2,FALSE)","v":"https://github.com/fail2ban/fail2ban"}]
["mertJF/tailblocks",{"$f":"VLOOKUP(A3594,汇总!D:E,2,FALSE)","v":"https://github.com/mertJF/tailblocks"}]
["Sairyss/domain-driven-hexagon",{"$f":"VLOOKUP(A3595,汇总!D:E,2,FALSE)","v":"https://github.com/Sairyss/domain-driven-hexagon"}]
["joemccann/dillinger",{"$f":"VLOOKUP(A3596,汇总!D:E,2,FALSE)","v":"https://github.com/joemccann/dillinger"}]
["attic-labs/noms",{"$f":"VLOOKUP(A3597,汇总!D:E,2,FALSE)","v":"https://github.com/attic-labs/noms"}]
["zserge/lorca",{"$f":"VLOOKUP(A3598,汇总!D:E,2,FALSE)","v":"https://github.com/zserge/lorca"}]
["benbjohnson/litestream",{"$f":"VLOOKUP(A3599,汇总!D:E,2,FALSE)","v":"https://github.com/benbjohnson/litestream"}]
["offensive-security/exploitdb",{"$f":"VLOOKUP(A3600,汇总!D:E,2,FALSE)","v":"https://github.com/offensive-security/exploitdb"}]
["metricsgraphics/metrics-graphics",{"$f":"VLOOKUP(A3601,汇总!D:E,2,FALSE)","v":"https://github.com/metricsgraphics/metrics-graphics"}]
["isl-org/Open3D",{"$f":"VLOOKUP(A3602,汇总!D:E,2,FALSE)","v":"https://github.com/isl-org/Open3D"}]
["daltoniam/Starscream",{"$f":"VLOOKUP(A3603,汇总!D:E,2,FALSE)","v":"https://github.com/daltoniam/Starscream"}]
["toniblyx/my-arsenal-of-aws-security-tools",{"$f":"VLOOKUP(A3604,汇总!D:E,2,FALSE)","v":"https://github.com/toniblyx/my-arsenal-of-aws-security-tools"}]
["microsoft/c9-python-getting-started",{"$f":"VLOOKUP(A3605,汇总!D:E,2,FALSE)","v":"https://github.com/microsoft/c9-python-getting-started"}]
["paritytech/substrate",{"$f":"VLOOKUP(A3606,汇总!D:E,2,FALSE)","v":"https://github.com/paritytech/substrate"}]
["webpack/webpack-dev-server",{"$f":"VLOOKUP(A3607,汇总!D:E,2,FALSE)","v":"https://github.com/webpack/webpack-dev-server"}]
["rivo/tview",{"$f":"VLOOKUP(A3608,汇总!D:E,2,FALSE)","v":"https://github.com/rivo/tview"}]
["RT-Thread/rt-thread",{"$f":"VLOOKUP(A3609,汇总!D:E,2,FALSE)","v":"https://github.com/RT-Thread/rt-thread"}]
["AppImage/AppImageKit",{"$f":"VLOOKUP(A3610,汇总!D:E,2,FALSE)","v":"https://github.com/AppImage/AppImageKit"}]
["primer/octicons",{"$f":"VLOOKUP(A3611,汇总!D:E,2,FALSE)","v":"https://github.com/primer/octicons"}]
["yandex/gixy",{"$f":"VLOOKUP(A3612,汇总!D:E,2,FALSE)","v":"https://github.com/yandex/gixy"}]
["styled-system/styled-system",{"$f":"VLOOKUP(A3613,汇总!D:E,2,FALSE)","v":"https://github.com/styled-system/styled-system"}]
["smartystreets/goconvey",{"$f":"VLOOKUP(A3614,汇总!D:E,2,FALSE)","v":"https://github.com/smartystreets/goconvey"}]
["dargullin/icheck",{"$f":"VLOOKUP(A3615,汇总!D:E,2,FALSE)","v":"https://github.com/dargullin/icheck"}]
["IBAX-io/go-ibax",{"$f":"VLOOKUP(A3616,汇总!D:E,2,FALSE)","v":"https://github.com/IBAX-io/go-ibax"}]
["lanpa/tensorboardX",{"$f":"VLOOKUP(A3617,汇总!D:E,2,FALSE)","v":"https://github.com/lanpa/tensorboardX"}]
["vitejs/awesome-vite",{"$f":"VLOOKUP(A3618,汇总!D:E,2,FALSE)","v":"https://github.com/vitejs/awesome-vite"}]
["FormidableLabs/radium",{"$f":"VLOOKUP(A3619,汇总!D:E,2,FALSE)","v":"https://github.com/FormidableLabs/radium"}]
["jemalloc/jemalloc",{"$f":"VLOOKUP(A3620,汇总!D:E,2,FALSE)","v":"https://github.com/jemalloc/jemalloc"}]
["MichalLytek/type-graphql",{"$f":"VLOOKUP(A3621,汇总!D:E,2,FALSE)","v":"https://github.com/MichalLytek/type-graphql"}]
["facebook/litho",{"$f":"VLOOKUP(A3622,汇总!D:E,2,FALSE)","v":"https://github.com/facebook/litho"}]
["wallabag/wallabag",{"$f":"VLOOKUP(A3623,汇总!D:E,2,FALSE)","v":"https://github.com/wallabag/wallabag"}]
["encode/starlette",{"$f":"VLOOKUP(A3624,汇总!D:E,2,FALSE)","v":"https://github.com/encode/starlette"}]
["inferjay/AndroidDevTools",{"$f":"VLOOKUP(A3625,汇总!D:E,2,FALSE)","v":"https://github.com/inferjay/AndroidDevTools"}]
["java-native-access/jna",{"$f":"VLOOKUP(A3626,汇总!D:E,2,FALSE)","v":"https://github.com/java-native-access/jna"}]
["olucurious/Awesome-ARKit",{"$f":"VLOOKUP(A3627,汇总!D:E,2,FALSE)","v":"https://github.com/olucurious/Awesome-ARKit"}]
["dxcweb/high-speed-downloader",{"$f":"VLOOKUP(A3628,汇总!D:E,2,FALSE)","v":"https://github.com/dxcweb/high-speed-downloader"}]
["sameersbn/docker-gitlab",{"$f":"VLOOKUP(A3629,汇总!D:E,2,FALSE)","v":"https://github.com/sameersbn/docker-gitlab"}]
["ymcui/Chinese-BERT-wwm",{"$f":"VLOOKUP(A3630,汇总!D:E,2,FALSE)","v":"https://github.com/ymcui/Chinese-BERT-wwm"}]
["dexidp/dex",{"$f":"VLOOKUP(A3631,汇总!D:E,2,FALSE)","v":"https://github.com/dexidp/dex"}]
["kxxwz/SJTU-Courses",{"$f":"VLOOKUP(A3632,汇总!D:E,2,FALSE)","v":"https://github.com/kxxwz/SJTU-Courses"}]
["prometheus-operator/prometheus-operator",{"$f":"VLOOKUP(A3633,汇总!D:E,2,FALSE)","v":"https://github.com/prometheus-operator/prometheus-operator"}]
["brightmart/text_classification",{"$f":"VLOOKUP(A3634,汇总!D:E,2,FALSE)","v":"https://github.com/brightmart/text_classification"}]
["kgrzybek/modular-monolith-with-ddd",{"$f":"VLOOKUP(A3635,汇总!D:E,2,FALSE)","v":"https://github.com/kgrzybek/modular-monolith-with-ddd"}]
["FreeRDP/FreeRDP",{"$f":"VLOOKUP(A3636,汇总!D:E,2,FALSE)","v":"https://github.com/FreeRDP/FreeRDP"}]
["wangzhiwubigdata/God-Of-BigData",{"$f":"VLOOKUP(A3637,汇总!D:E,2,FALSE)","v":"https://github.com/wangzhiwubigdata/God-Of-BigData"}]
["ethereum/mist",{"$f":"VLOOKUP(A3638,汇总!D:E,2,FALSE)","v":"https://github.com/ethereum/mist"}]
["dair-ai/ml-visuals",{"$f":"VLOOKUP(A3639,汇总!D:E,2,FALSE)","v":"https://github.com/dair-ai/ml-visuals"}]
["laramies/theHarvester",{"$f":"VLOOKUP(A3640,汇总!D:E,2,FALSE)","v":"https://github.com/laramies/theHarvester"}]
["thoughtbot/dotfiles",{"$f":"VLOOKUP(A3641,汇总!D:E,2,FALSE)","v":"https://github.com/thoughtbot/dotfiles"}]
["android/nowinandroid",{"$f":"VLOOKUP(A3642,汇总!D:E,2,FALSE)","v":"https://github.com/android/nowinandroid"}]
["BloodHoundAD/BloodHound",{"$f":"VLOOKUP(A3643,汇总!D:E,2,FALSE)","v":"https://github.com/BloodHoundAD/BloodHound"}]
["graphql-python/graphene",{"$f":"VLOOKUP(A3644,汇总!D:E,2,FALSE)","v":"https://github.com/graphql-python/graphene"}]
["enocom/gopher-reading-list",{"$f":"VLOOKUP(A3645,汇总!D:E,2,FALSE)","v":"https://github.com/enocom/gopher-reading-list"}]
["terser/terser",{"$f":"VLOOKUP(A3646,汇总!D:E,2,FALSE)","v":"https://github.com/terser/terser"}]
["ColorfulCat/AndroidLibs",{"$f":"VLOOKUP(A3647,汇总!D:E,2,FALSE)","v":"https://github.com/ColorfulCat/AndroidLibs"}]
["Turfjs/turf",{"$f":"VLOOKUP(A3648,汇总!D:E,2,FALSE)","v":"https://github.com/Turfjs/turf"}]
["Megvii-BaseDetection/YOLOX",{"$f":"VLOOKUP(A3649,汇总!D:E,2,FALSE)","v":"https://github.com/Megvii-BaseDetection/YOLOX"}]
["bailicangdu/react-pxq",{"$f":"VLOOKUP(A3650,汇总!D:E,2,FALSE)","v":"https://github.com/bailicangdu/react-pxq"}]
["Raathigesh/majestic",{"$f":"VLOOKUP(A3651,汇总!D:E,2,FALSE)","v":"https://github.com/Raathigesh/majestic"}]
["rr-debugger/rr",{"$f":"VLOOKUP(A3652,汇总!D:E,2,FALSE)","v":"https://github.com/rr-debugger/rr"}]
["actix/actix",{"$f":"VLOOKUP(A3653,汇总!D:E,2,FALSE)","v":"https://github.com/actix/actix"}]
["open-source-flash/open-source-flash",{"$f":"VLOOKUP(A3654,汇总!D:E,2,FALSE)","v":"https://github.com/open-source-flash/open-source-flash"}]
["chiphuyen/machine-learning-systems-design",{"$f":"VLOOKUP(A3655,汇总!D:E,2,FALSE)","v":"https://github.com/chiphuyen/machine-learning-systems-design"}]
["aws/amazon-sagemaker-examples",{"$f":"VLOOKUP(A3656,汇总!D:E,2,FALSE)","v":"https://github.com/aws/amazon-sagemaker-examples"}]
["davemorrissey/subsampling-scale-image-view",{"$f":"VLOOKUP(A3657,汇总!D:E,2,FALSE)","v":"https://github.com/davemorrissey/subsampling-scale-image-view"}]
["pastelsky/bundlephobia",{"$f":"VLOOKUP(A3658,汇总!D:E,2,FALSE)","v":"https://github.com/pastelsky/bundlephobia"}]
["hediet/vscode-debug-visualizer",{"$f":"VLOOKUP(A3659,汇总!D:E,2,FALSE)","v":"https://github.com/hediet/vscode-debug-visualizer"}]
["cstack/db_tutorial",{"$f":"VLOOKUP(A3660,汇总!D:E,2,FALSE)","v":"https://github.com/cstack/db_tutorial"}]
["nodejs/docker-node",{"$f":"VLOOKUP(A3661,汇总!D:E,2,FALSE)","v":"https://github.com/nodejs/docker-node"}]
["alibaba/otter",{"$f":"VLOOKUP(A3662,汇总!D:E,2,FALSE)","v":"https://github.com/alibaba/otter"}]
["crazyguitar/pysheeet",{"$f":"VLOOKUP(A3663,汇总!D:E,2,FALSE)","v":"https://github.com/crazyguitar/pysheeet"}]
["thx/rap2-delos",{"$f":"VLOOKUP(A3664,汇总!D:E,2,FALSE)","v":"https://github.com/thx/rap2-delos"}]
["fsnotify/fsnotify",{"$f":"VLOOKUP(A3665,汇总!D:E,2,FALSE)","v":"https://github.com/fsnotify/fsnotify"}]
["j-delaney/easy-application",{"$f":"VLOOKUP(A3666,汇总!D:E,2,FALSE)","v":"https://github.com/j-delaney/easy-application"}]
["mytechnotalent/Reverse-Engineering",{"$f":"VLOOKUP(A3667,汇总!D:E,2,FALSE)","v":"https://github.com/mytechnotalent/Reverse-Engineering"}]
["soapyigu/Swift-30-Projects",{"$f":"VLOOKUP(A3668,汇总!D:E,2,FALSE)","v":"https://github.com/soapyigu/Swift-30-Projects"}]
["ocrmypdf/OCRmyPDF",{"$f":"VLOOKUP(A3669,汇总!D:E,2,FALSE)","v":"https://github.com/ocrmypdf/OCRmyPDF"}]
["GTFOBins/GTFOBins.github.io",{"$f":"VLOOKUP(A3670,汇总!D:E,2,FALSE)","v":"https://github.com/GTFOBins/GTFOBins.github.io"}]
["citusdata/citus",{"$f":"VLOOKUP(A3671,汇总!D:E,2,FALSE)","v":"https://github.com/citusdata/citus"}]
["kaina404/FlutterDouBan",{"$f":"VLOOKUP(A3672,汇总!D:E,2,FALSE)","v":"https://github.com/kaina404/FlutterDouBan"}]
["chaitin/xray",{"$f":"VLOOKUP(A3673,汇总!D:E,2,FALSE)","v":"https://github.com/chaitin/xray"}]
["barteksc/AndroidPdfViewer",{"$f":"VLOOKUP(A3674,汇总!D:E,2,FALSE)","v":"https://github.com/barteksc/AndroidPdfViewer"}]
["cython/cython",{"$f":"VLOOKUP(A3675,汇总!D:E,2,FALSE)","v":"https://github.com/cython/cython"}]
["rstacruz/jquery.transit",{"$f":"VLOOKUP(A3676,汇总!D:E,2,FALSE)","v":"https://github.com/rstacruz/jquery.transit"}]
["json-path/JsonPath",{"$f":"VLOOKUP(A3677,汇总!D:E,2,FALSE)","v":"https://github.com/json-path/JsonPath"}]
["styled-components/polished",{"$f":"VLOOKUP(A3678,汇总!D:E,2,FALSE)","v":"https://github.com/styled-components/polished"}]
["tektoncd/pipeline",{"$f":"VLOOKUP(A3679,汇总!D:E,2,FALSE)","v":"https://github.com/tektoncd/pipeline"}]
["facebookarchive/KVOController",{"$f":"VLOOKUP(A3680,汇总!D:E,2,FALSE)","v":"https://github.com/facebookarchive/KVOController"}]
["dc-js/dc.js",{"$f":"VLOOKUP(A3681,汇总!D:E,2,FALSE)","v":"https://github.com/dc-js/dc.js"}]
["nvim-telescope/telescope.nvim",{"$f":"VLOOKUP(A3682,汇总!D:E,2,FALSE)","v":"https://github.com/nvim-telescope/telescope.nvim"}]
["apsdehal/awesome-ctf",{"$f":"VLOOKUP(A3683,汇总!D:E,2,FALSE)","v":"https://github.com/apsdehal/awesome-ctf"}]
["ljharb/qs",{"$f":"VLOOKUP(A3684,汇总!D:E,2,FALSE)","v":"https://github.com/ljharb/qs"}]
["monero-project/monero",{"$f":"VLOOKUP(A3685,汇总!D:E,2,FALSE)","v":"https://github.com/monero-project/monero"}]
["lecho/hellocharts-android",{"$f":"VLOOKUP(A3686,汇总!D:E,2,FALSE)","v":"https://github.com/lecho/hellocharts-android"}]
["leeoniya/uPlot",{"$f":"VLOOKUP(A3687,汇总!D:E,2,FALSE)","v":"https://github.com/leeoniya/uPlot"}]
["gitkraken/vscode-gitlens",{"$f":"VLOOKUP(A3688,汇总!D:E,2,FALSE)","v":"https://github.com/gitkraken/vscode-gitlens"}]
["jobbole/awesome-javascript-cn",{"$f":"VLOOKUP(A3689,汇总!D:E,2,FALSE)","v":"https://github.com/jobbole/awesome-javascript-cn"}]
["inorganik/countUp.js",{"$f":"VLOOKUP(A3690,汇总!D:E,2,FALSE)","v":"https://github.com/inorganik/countUp.js"}]
["robotframework/robotframework",{"$f":"VLOOKUP(A3691,汇总!D:E,2,FALSE)","v":"https://github.com/robotframework/robotframework"}]
["lucas-clemente/quic-go",{"$f":"VLOOKUP(A3692,汇总!D:E,2,FALSE)","v":"https://github.com/lucas-clemente/quic-go"}]
["imsnif/bandwhich",{"$f":"VLOOKUP(A3693,汇总!D:E,2,FALSE)","v":"https://github.com/imsnif/bandwhich"}]
["emacs-tw/awesome-emacs",{"$f":"VLOOKUP(A3694,汇总!D:E,2,FALSE)","v":"https://github.com/emacs-tw/awesome-emacs"}]
["vipshop/vjtools",{"$f":"VLOOKUP(A3695,汇总!D:E,2,FALSE)","v":"https://github.com/vipshop/vjtools"}]
["cloudflare/cfssl",{"$f":"VLOOKUP(A3696,汇总!D:E,2,FALSE)","v":"https://github.com/cloudflare/cfssl"}]
["vaexio/vaex",{"$f":"VLOOKUP(A3697,汇总!D:E,2,FALSE)","v":"https://github.com/vaexio/vaex"}]
["robb/Cartography",{"$f":"VLOOKUP(A3698,汇总!D:E,2,FALSE)","v":"https://github.com/robb/Cartography"}]
["onivim/oni2",{"$f":"VLOOKUP(A3699,汇总!D:E,2,FALSE)","v":"https://github.com/onivim/oni2"}]
["freddier/hyperblog",{"$f":"VLOOKUP(A3700,汇总!D:E,2,FALSE)","v":"https://github.com/freddier/hyperblog"}]
["openai/universe",{"$f":"VLOOKUP(A3701,汇总!D:E,2,FALSE)","v":"https://github.com/openai/universe"}]
["deeplearning-ai/machine-learning-yearning-cn",{"$f":"VLOOKUP(A3702,汇总!D:E,2,FALSE)","v":"https://github.com/deeplearning-ai/machine-learning-yearning-cn"}]
["taskflow/taskflow",{"$f":"VLOOKUP(A3703,汇总!D:E,2,FALSE)","v":"https://github.com/taskflow/taskflow"}]
["symfony/debug",{"$f":"VLOOKUP(A3704,汇总!D:E,2,FALSE)","v":"https://github.com/symfony/debug"}]
["kkroening/ffmpeg-python",{"$f":"VLOOKUP(A3705,汇总!D:E,2,FALSE)","v":"https://github.com/kkroening/ffmpeg-python"}]
["tumobi/nideshop-mini-program",{"$f":"VLOOKUP(A3706,汇总!D:E,2,FALSE)","v":"https://github.com/tumobi/nideshop-mini-program"}]
["OffcierCia/DeFi-Developer-Road-Map",{"$f":"VLOOKUP(A3707,汇总!D:E,2,FALSE)","v":"https://github.com/OffcierCia/DeFi-Developer-Road-Map"}]
["QianMo/Game-Programmer-Study-Notes",{"$f":"VLOOKUP(A3708,汇总!D:E,2,FALSE)","v":"https://github.com/QianMo/Game-Programmer-Study-Notes"}]
["checkstyle/checkstyle",{"$f":"VLOOKUP(A3709,汇总!D:E,2,FALSE)","v":"https://github.com/checkstyle/checkstyle"}]
["javascript-tutorial/zh.javascript.info",{"$f":"VLOOKUP(A3710,汇总!D:E,2,FALSE)","v":"https://github.com/javascript-tutorial/zh.javascript.info"}]
["yuliskov/SmartTubeNext",{"$f":"VLOOKUP(A3711,汇总!D:E,2,FALSE)","v":"https://github.com/yuliskov/SmartTubeNext"}]
["transmission/transmission",{"$f":"VLOOKUP(A3712,汇总!D:E,2,FALSE)","v":"https://github.com/transmission/transmission"}]
["DmitryUlyanov/deep-image-prior",{"$f":"VLOOKUP(A3713,汇总!D:E,2,FALSE)","v":"https://github.com/DmitryUlyanov/deep-image-prior"}]
["ngrx/platform",{"$f":"VLOOKUP(A3714,汇总!D:E,2,FALSE)","v":"https://github.com/ngrx/platform"}]
["sebastianbergmann/php-timer",{"$f":"VLOOKUP(A3715,汇总!D:E,2,FALSE)","v":"https://github.com/sebastianbergmann/php-timer"}]
["ljianshu/Blog",{"$f":"VLOOKUP(A3716,汇总!D:E,2,FALSE)","v":"https://github.com/ljianshu/Blog"}]
["donnemartin/gitsome",{"$f":"VLOOKUP(A3717,汇总!D:E,2,FALSE)","v":"https://github.com/donnemartin/gitsome"}]
["gedoor/MyBookshelf",{"$f":"VLOOKUP(A3718,汇总!D:E,2,FALSE)","v":"https://github.com/gedoor/MyBookshelf"}]
["brightmart/nlp_chinese_corpus",{"$f":"VLOOKUP(A3719,汇总!D:E,2,FALSE)","v":"https://github.com/brightmart/nlp_chinese_corpus"}]
["PCSX2/pcsx2",{"$f":"VLOOKUP(A3720,汇总!D:E,2,FALSE)","v":"https://github.com/PCSX2/pcsx2"}]
["alibaba/fish-redux",{"$f":"VLOOKUP(A3721,汇总!D:E,2,FALSE)","v":"https://github.com/alibaba/fish-redux"}]
["fideloper/TrustedProxy",{"$f":"VLOOKUP(A3722,汇总!D:E,2,FALSE)","v":"https://github.com/fideloper/TrustedProxy"}]
["koush/AndroidAsync",{"$f":"VLOOKUP(A3723,汇总!D:E,2,FALSE)","v":"https://github.com/koush/AndroidAsync"}]
["square/dagger",{"$f":"VLOOKUP(A3724,汇总!D:E,2,FALSE)","v":"https://github.com/square/dagger"}]
["zsh-users/antigen",{"$f":"VLOOKUP(A3725,汇总!D:E,2,FALSE)","v":"https://github.com/zsh-users/antigen"}]
["facebookarchive/three20",{"$f":"VLOOKUP(A3726,汇总!D:E,2,FALSE)","v":"https://github.com/facebookarchive/three20"}]
["stefanpenner/es6-promise",{"$f":"VLOOKUP(A3727,汇总!D:E,2,FALSE)","v":"https://github.com/stefanpenner/es6-promise"}]
["rayon-rs/rayon",{"$f":"VLOOKUP(A3728,汇总!D:E,2,FALSE)","v":"https://github.com/rayon-rs/rayon"}]
["apache/shenyu",{"$f":"VLOOKUP(A3729,汇总!D:E,2,FALSE)","v":"https://github.com/apache/shenyu"}]
["seven332/EhViewer",{"$f":"VLOOKUP(A3730,汇总!D:E,2,FALSE)","v":"https://github.com/seven332/EhViewer"}]
["toptal/gitignore.io",{"$f":"VLOOKUP(A3731,汇总!D:E,2,FALSE)","v":"https://github.com/toptal/gitignore.io"}]
["go-admin-team/go-admin",{"$f":"VLOOKUP(A3732,汇总!D:E,2,FALSE)","v":"https://github.com/go-admin-team/go-admin"}]
["technomancy/leiningen",{"$f":"VLOOKUP(A3733,汇总!D:E,2,FALSE)","v":"https://github.com/technomancy/leiningen"}]
["ReSwift/ReSwift",{"$f":"VLOOKUP(A3734,汇总!D:E,2,FALSE)","v":"https://github.com/ReSwift/ReSwift"}]
["ActivityWatch/activitywatch",{"$f":"VLOOKUP(A3735,汇总!D:E,2,FALSE)","v":"https://github.com/ActivityWatch/activitywatch"}]
["Tencent/libco",{"$f":"VLOOKUP(A3736,汇总!D:E,2,FALSE)","v":"https://github.com/Tencent/libco"}]
["developit/microbundle",{"$f":"VLOOKUP(A3737,汇总!D:E,2,FALSE)","v":"https://github.com/developit/microbundle"}]
["onceupon/Bash-Oneliner",{"$f":"VLOOKUP(A3738,汇总!D:E,2,FALSE)","v":"https://github.com/onceupon/Bash-Oneliner"}]
["google/agera",{"$f":"VLOOKUP(A3739,汇总!D:E,2,FALSE)","v":"https://github.com/google/agera"}]
["readthedocs/readthedocs.org",{"$f":"VLOOKUP(A3740,汇总!D:E,2,FALSE)","v":"https://github.com/readthedocs/readthedocs.org"}]
["Bearded-Hen/Android-Bootstrap",{"$f":"VLOOKUP(A3741,汇总!D:E,2,FALSE)","v":"https://github.com/Bearded-Hen/Android-Bootstrap"}]
["angular/angularfire",{"$f":"VLOOKUP(A3742,汇总!D:E,2,FALSE)","v":"https://github.com/angular/angularfire"}]
["seemoo-lab/opendrop",{"$f":"VLOOKUP(A3743,汇总!D:E,2,FALSE)","v":"https://github.com/seemoo-lab/opendrop"}]
["SublimeText/Spacegray",{"$f":"VLOOKUP(A3744,汇总!D:E,2,FALSE)","v":"https://github.com/SublimeText/Spacegray"}]
["OlafenwaMoses/ImageAI",{"$f":"VLOOKUP(A3745,汇总!D:E,2,FALSE)","v":"https://github.com/OlafenwaMoses/ImageAI"}]
["ssssssss-team/spider-flow",{"$f":"VLOOKUP(A3746,汇总!D:E,2,FALSE)","v":"https://github.com/ssssssss-team/spider-flow"}]
["cjbassi/gotop",{"$f":"VLOOKUP(A3747,汇总!D:E,2,FALSE)","v":"https://github.com/cjbassi/gotop"}]
["casperjs/casperjs",{"$f":"VLOOKUP(A3748,汇总!D:E,2,FALSE)","v":"https://github.com/casperjs/casperjs"}]
["cockpit-project/cockpit",{"$f":"VLOOKUP(A3749,汇总!D:E,2,FALSE)","v":"https://github.com/cockpit-project/cockpit"}]
["urfave/negroni",{"$f":"VLOOKUP(A3750,汇总!D:E,2,FALSE)","v":"https://github.com/urfave/negroni"}]
["mqttjs/MQTT.js",{"$f":"VLOOKUP(A3751,汇总!D:E,2,FALSE)","v":"https://github.com/mqttjs/MQTT.js"}]
["microsoft/windows-rs",{"$f":"VLOOKUP(A3752,汇总!D:E,2,FALSE)","v":"https://github.com/microsoft/windows-rs"}]
["Gogh-Co/Gogh",{"$f":"VLOOKUP(A3753,汇总!D:E,2,FALSE)","v":"https://github.com/Gogh-Co/Gogh"}]
["patchthecode/JTAppleCalendar",{"$f":"VLOOKUP(A3754,汇总!D:E,2,FALSE)","v":"https://github.com/patchthecode/JTAppleCalendar"}]
["pedant/sweet-alert-dialog",{"$f":"VLOOKUP(A3755,汇总!D:E,2,FALSE)","v":"https://github.com/pedant/sweet-alert-dialog"}]
["kognise/water.css",{"$f":"VLOOKUP(A3756,汇总!D:E,2,FALSE)","v":"https://github.com/kognise/water.css"}]
["shoelace-style/shoelace",{"$f":"VLOOKUP(A3757,汇总!D:E,2,FALSE)","v":"https://github.com/shoelace-style/shoelace"}]
["xirong/my-git",{"$f":"VLOOKUP(A3758,汇总!D:E,2,FALSE)","v":"https://github.com/xirong/my-git"}]
["openai/spinningup",{"$f":"VLOOKUP(A3759,汇总!D:E,2,FALSE)","v":"https://github.com/openai/spinningup"}]
["projectstorm/react-diagrams",{"$f":"VLOOKUP(A3760,汇总!D:E,2,FALSE)","v":"https://github.com/projectstorm/react-diagrams"}]
["google/re2",{"$f":"VLOOKUP(A3761,汇总!D:E,2,FALSE)","v":"https://github.com/google/re2"}]
["symfony/routing",{"$f":"VLOOKUP(A3762,汇总!D:E,2,FALSE)","v":"https://github.com/symfony/routing"}]
["skypjack/entt",{"$f":"VLOOKUP(A3763,汇总!D:E,2,FALSE)","v":"https://github.com/skypjack/entt"}]
["ThreeMammals/Ocelot",{"$f":"VLOOKUP(A3764,汇总!D:E,2,FALSE)","v":"https://github.com/ThreeMammals/Ocelot"}]
["troyeguo/koodo-reader",{"$f":"VLOOKUP(A3765,汇总!D:E,2,FALSE)","v":"https://github.com/troyeguo/koodo-reader"}]
["guzzle/promises",{"$f":"VLOOKUP(A3766,汇总!D:E,2,FALSE)","v":"https://github.com/guzzle/promises"}]
["juice-shop/juice-shop",{"$f":"VLOOKUP(A3767,汇总!D:E,2,FALSE)","v":"https://github.com/juice-shop/juice-shop"}]
["daybrush/moveable",{"$f":"VLOOKUP(A3768,汇总!D:E,2,FALSE)","v":"https://github.com/daybrush/moveable"}]
["webpro/awesome-dotfiles",{"$f":"VLOOKUP(A3769,汇总!D:E,2,FALSE)","v":"https://github.com/webpro/awesome-dotfiles"}]
["smallnest/rpcx",{"$f":"VLOOKUP(A3770,汇总!D:E,2,FALSE)","v":"https://github.com/smallnest/rpcx"}]
["cymcsg/UltimateRecyclerView",{"$f":"VLOOKUP(A3771,汇总!D:E,2,FALSE)","v":"https://github.com/cymcsg/UltimateRecyclerView"}]
["great-expectations/great_expectations",{"$f":"VLOOKUP(A3772,汇总!D:E,2,FALSE)","v":"https://github.com/great-expectations/great_expectations"}]
["supertokens/supertokens-core",{"$f":"VLOOKUP(A3773,汇总!D:E,2,FALSE)","v":"https://github.com/supertokens/supertokens-core"}]
["pillarjs/path-to-regexp",{"$f":"VLOOKUP(A3774,汇总!D:E,2,FALSE)","v":"https://github.com/pillarjs/path-to-regexp"}]
["RustScan/RustScan",{"$f":"VLOOKUP(A3775,汇总!D:E,2,FALSE)","v":"https://github.com/RustScan/RustScan"}]
["xournalpp/xournalpp",{"$f":"VLOOKUP(A3776,汇总!D:E,2,FALSE)","v":"https://github.com/xournalpp/xournalpp"}]
["bitcoin/bips",{"$f":"VLOOKUP(A3777,汇总!D:E,2,FALSE)","v":"https://github.com/bitcoin/bips"}]
["lltcggie/waifu2x-caffe",{"$f":"VLOOKUP(A3778,汇总!D:E,2,FALSE)","v":"https://github.com/lltcggie/waifu2x-caffe"}]
["adobe/react-spectrum",{"$f":"VLOOKUP(A3779,汇总!D:E,2,FALSE)","v":"https://github.com/adobe/react-spectrum"}]
["iGhibli/iOS-DeviceSupport",{"$f":"VLOOKUP(A3780,汇总!D:E,2,FALSE)","v":"https://github.com/iGhibli/iOS-DeviceSupport"}]
["mkrl/misbrands",{"$f":"VLOOKUP(A3781,汇总!D:E,2,FALSE)","v":"https://github.com/mkrl/misbrands"}]
["timqian/chart.xkcd",{"$f":"VLOOKUP(A3782,汇总!D:E,2,FALSE)","v":"https://github.com/timqian/chart.xkcd"}]
["orbitdb/orbit-db",{"$f":"VLOOKUP(A3783,汇总!D:E,2,FALSE)","v":"https://github.com/orbitdb/orbit-db"}]
["kamranahmedse/git-standup",{"$f":"VLOOKUP(A3784,汇总!D:E,2,FALSE)","v":"https://github.com/kamranahmedse/git-standup"}]
["n1nj4sec/pupy",{"$f":"VLOOKUP(A3785,汇总!D:E,2,FALSE)","v":"https://github.com/n1nj4sec/pupy"}]
["Alinshans/MyTinySTL",{"$f":"VLOOKUP(A3786,汇总!D:E,2,FALSE)","v":"https://github.com/Alinshans/MyTinySTL"}]
["microsoft/mimalloc",{"$f":"VLOOKUP(A3787,汇总!D:E,2,FALSE)","v":"https://github.com/microsoft/mimalloc"}]
["seanprashad/leetcode-patterns",{"$f":"VLOOKUP(A3788,汇总!D:E,2,FALSE)","v":"https://github.com/seanprashad/leetcode-patterns"}]
["thundernest/k-9",{"$f":"VLOOKUP(A3789,汇总!D:E,2,FALSE)","v":"https://github.com/thundernest/k-9"}]
["tenacityteam/tenacity",{"$f":"VLOOKUP(A3790,汇总!D:E,2,FALSE)","v":"https://github.com/tenacityteam/tenacity"}]
["mps-youtube/mps-youtube",{"$f":"VLOOKUP(A3791,汇总!D:E,2,FALSE)","v":"https://github.com/mps-youtube/mps-youtube"}]
["asweigart/pyautogui",{"$f":"VLOOKUP(A3792,汇总!D:E,2,FALSE)","v":"https://github.com/asweigart/pyautogui"}]
["fancyapps/fancybox",{"$f":"VLOOKUP(A3793,汇总!D:E,2,FALSE)","v":"https://github.com/fancyapps/fancybox"}]
["VictoriaMetrics/VictoriaMetrics",{"$f":"VLOOKUP(A3794,汇总!D:E,2,FALSE)","v":"https://github.com/VictoriaMetrics/VictoriaMetrics"}]
["libvips/libvips",{"$f":"VLOOKUP(A3795,汇总!D:E,2,FALSE)","v":"https://github.com/libvips/libvips"}]
["leolin310148/ShortcutBadger",{"$f":"VLOOKUP(A3796,汇总!D:E,2,FALSE)","v":"https://github.com/leolin310148/ShortcutBadger"}]
["NVlabs/SPADE",{"$f":"VLOOKUP(A3797,汇总!D:E,2,FALSE)","v":"https://github.com/NVlabs/SPADE"}]
["fission/fission",{"$f":"VLOOKUP(A3798,汇总!D:E,2,FALSE)","v":"https://github.com/fission/fission"}]
["a1studmuffin/SpaceshipGenerator",{"$f":"VLOOKUP(A3799,汇总!D:E,2,FALSE)","v":"https://github.com/a1studmuffin/SpaceshipGenerator"}]
["chrisvfritz/prerender-spa-plugin",{"$f":"VLOOKUP(A3800,汇总!D:E,2,FALSE)","v":"https://github.com/chrisvfritz/prerender-spa-plugin"}]
["faisalman/ua-parser-js",{"$f":"VLOOKUP(A3801,汇总!D:E,2,FALSE)","v":"https://github.com/faisalman/ua-parser-js"}]
["predis/predis",{"$f":"VLOOKUP(A3802,汇总!D:E,2,FALSE)","v":"https://github.com/predis/predis"}]
["facebook/facebook-ios-sdk",{"$f":"VLOOKUP(A3803,汇总!D:E,2,FALSE)","v":"https://github.com/facebook/facebook-ios-sdk"}]
["schachmat/wego",{"$f":"VLOOKUP(A3804,汇总!D:E,2,FALSE)","v":"https://github.com/schachmat/wego"}]
["jofpin/trape",{"$f":"VLOOKUP(A3805,汇总!D:E,2,FALSE)","v":"https://github.com/jofpin/trape"}]
["gui-cs/Terminal.Gui",{"$f":"VLOOKUP(A3806,汇总!D:E,2,FALSE)","v":"https://github.com/gui-cs/Terminal.Gui"}]
["CEWendel/SWTableViewCell",{"$f":"VLOOKUP(A3807,汇总!D:E,2,FALSE)","v":"https://github.com/CEWendel/SWTableViewCell"}]
["MatthewYork/DateTools",{"$f":"VLOOKUP(A3808,汇总!D:E,2,FALSE)","v":"https://github.com/MatthewYork/DateTools"}]
["Akryum/vue-virtual-scroller",{"$f":"VLOOKUP(A3809,汇总!D:E,2,FALSE)","v":"https://github.com/Akryum/vue-virtual-scroller"}]
["crazycodeboy/TakePhoto",{"$f":"VLOOKUP(A3810,汇总!D:E,2,FALSE)","v":"https://github.com/crazycodeboy/TakePhoto"}]
["mbasso/awesome-wasm",{"$f":"VLOOKUP(A3811,汇总!D:E,2,FALSE)","v":"https://github.com/mbasso/awesome-wasm"}]
["joelgrus/data-science-from-scratch",{"$f":"VLOOKUP(A3812,汇总!D:E,2,FALSE)","v":"https://github.com/joelgrus/data-science-from-scratch"}]
["jazzband/django-debug-toolbar",{"$f":"VLOOKUP(A3813,汇总!D:E,2,FALSE)","v":"https://github.com/jazzband/django-debug-toolbar"}]
["arc298/instagram-scraper",{"$f":"VLOOKUP(A3814,汇总!D:E,2,FALSE)","v":"https://github.com/arc298/instagram-scraper"}]
["SonarSource/sonarqube",{"$f":"VLOOKUP(A3815,汇总!D:E,2,FALSE)","v":"https://github.com/SonarSource/sonarqube"}]
["spyder-ide/spyder",{"$f":"VLOOKUP(A3816,汇总!D:E,2,FALSE)","v":"https://github.com/spyder-ide/spyder"}]
["expressjs/morgan",{"$f":"VLOOKUP(A3817,汇总!D:E,2,FALSE)","v":"https://github.com/expressjs/morgan"}]
["vercel/styled-jsx",{"$f":"VLOOKUP(A3818,汇总!D:E,2,FALSE)","v":"https://github.com/vercel/styled-jsx"}]
["xmrig/xmrig",{"$f":"VLOOKUP(A3819,汇总!D:E,2,FALSE)","v":"https://github.com/xmrig/xmrig"}]
["daliansky/Hackintosh",{"$f":"VLOOKUP(A3820,汇总!D:E,2,FALSE)","v":"https://github.com/daliansky/Hackintosh"}]
["Mooophy/Cpp-Primer",{"$f":"VLOOKUP(A3821,汇总!D:E,2,FALSE)","v":"https://github.com/Mooophy/Cpp-Primer"}]
["electerm/electerm",{"$f":"VLOOKUP(A3822,汇总!D:E,2,FALSE)","v":"https://github.com/electerm/electerm"}]
["ustbhuangyi/vue-analysis",{"$f":"VLOOKUP(A3823,汇总!D:E,2,FALSE)","v":"https://github.com/ustbhuangyi/vue-analysis"}]
["casey/just",{"$f":"VLOOKUP(A3824,汇总!D:E,2,FALSE)","v":"https://github.com/casey/just"}]
["HubSpot/odometer",{"$f":"VLOOKUP(A3825,汇总!D:E,2,FALSE)","v":"https://github.com/HubSpot/odometer"}]
["open-policy-agent/opa",{"$f":"VLOOKUP(A3826,汇总!D:E,2,FALSE)","v":"https://github.com/open-policy-agent/opa"}]
["reactiveui/ReactiveUI",{"$f":"VLOOKUP(A3827,汇总!D:E,2,FALSE)","v":"https://github.com/reactiveui/ReactiveUI"}]
["SocialSisterYi/bilibili-API-collect",{"$f":"VLOOKUP(A3828,汇总!D:E,2,FALSE)","v":"https://github.com/SocialSisterYi/bilibili-API-collect"}]
["metafizzy/flickity",{"$f":"VLOOKUP(A3829,汇总!D:E,2,FALSE)","v":"https://github.com/metafizzy/flickity"}]
["novus/nvd3",{"$f":"VLOOKUP(A3830,汇总!D:E,2,FALSE)","v":"https://github.com/novus/nvd3"}]
["NancyFx/Nancy",{"$f":"VLOOKUP(A3831,汇总!D:E,2,FALSE)","v":"https://github.com/NancyFx/Nancy"}]
["andeya/pholcus",{"$f":"VLOOKUP(A3832,汇总!D:E,2,FALSE)","v":"https://github.com/andeya/pholcus"}]
["jackzhenguo/python-small-examples",{"$f":"VLOOKUP(A3833,汇总!D:E,2,FALSE)","v":"https://github.com/jackzhenguo/python-small-examples"}]
["puma/puma",{"$f":"VLOOKUP(A3834,汇总!D:E,2,FALSE)","v":"https://github.com/puma/puma"}]
["greatfire/wiki",{"$f":"VLOOKUP(A3835,汇总!D:E,2,FALSE)","v":"https://github.com/greatfire/wiki"}]
["realm/jazzy",{"$f":"VLOOKUP(A3836,汇总!D:E,2,FALSE)","v":"https://github.com/realm/jazzy"}]
["motioneye-project/motioneyeos",{"$f":"VLOOKUP(A3837,汇总!D:E,2,FALSE)","v":"https://github.com/motioneye-project/motioneyeos"}]
["google/android-classyshark",{"$f":"VLOOKUP(A3838,汇总!D:E,2,FALSE)","v":"https://github.com/google/android-classyshark"}]
["cameron314/concurrentqueue",{"$f":"VLOOKUP(A3839,汇总!D:E,2,FALSE)","v":"https://github.com/cameron314/concurrentqueue"}]
["citybound/citybound",{"$f":"VLOOKUP(A3840,汇总!D:E,2,FALSE)","v":"https://github.com/citybound/citybound"}]
["nodemcu/nodemcu-firmware",{"$f":"VLOOKUP(A3841,汇总!D:E,2,FALSE)","v":"https://github.com/nodemcu/nodemcu-firmware"}]
["hajimehoshi/ebiten",{"$f":"VLOOKUP(A3842,汇总!D:E,2,FALSE)","v":"https://github.com/hajimehoshi/ebiten"}]
["BlackrockDigital/startbootstrap",{"$f":"VLOOKUP(A3843,汇总!D:E,2,FALSE)","v":"https://github.com/BlackrockDigital/startbootstrap"}]
["romaonthego/RESideMenu",{"$f":"VLOOKUP(A3844,汇总!D:E,2,FALSE)","v":"https://github.com/romaonthego/RESideMenu"}]
["metafizzy/infinite-scroll",{"$f":"VLOOKUP(A3845,汇总!D:E,2,FALSE)","v":"https://github.com/metafizzy/infinite-scroll"}]
["returntocorp/semgrep",{"$f":"VLOOKUP(A3846,汇总!D:E,2,FALSE)","v":"https://github.com/returntocorp/semgrep"}]
["webmozarts/assert",{"$f":"VLOOKUP(A3847,汇总!D:E,2,FALSE)","v":"https://github.com/webmozarts/assert"}]
["chvin/react-tetris",{"$f":"VLOOKUP(A3848,汇总!D:E,2,FALSE)","v":"https://github.com/chvin/react-tetris"}]
["ubuwaits/beautiful-web-type",{"$f":"VLOOKUP(A3849,汇总!D:E,2,FALSE)","v":"https://github.com/ubuwaits/beautiful-web-type"}]
["gobuffalo/buffalo",{"$f":"VLOOKUP(A3850,汇总!D:E,2,FALSE)","v":"https://github.com/gobuffalo/buffalo"}]
["surmon-china/vue-quill-editor",{"$f":"VLOOKUP(A3851,汇总!D:E,2,FALSE)","v":"https://github.com/surmon-china/vue-quill-editor"}]
["sebastianbergmann/diff",{"$f":"VLOOKUP(A3852,汇总!D:E,2,FALSE)","v":"https://github.com/sebastianbergmann/diff"}]
["geeeeeeeeek/WeChatLuckyMoney",{"$f":"VLOOKUP(A3853,汇总!D:E,2,FALSE)","v":"https://github.com/geeeeeeeeek/WeChatLuckyMoney"}]
["fchollet/deep-learning-models",{"$f":"VLOOKUP(A3854,汇总!D:E,2,FALSE)","v":"https://github.com/fchollet/deep-learning-models"}]
["dotansimha/graphql-yoga",{"$f":"VLOOKUP(A3855,汇总!D:E,2,FALSE)","v":"https://github.com/dotansimha/graphql-yoga"}]
["aws/aws-sdk-js",{"$f":"VLOOKUP(A3856,汇总!D:E,2,FALSE)","v":"https://github.com/aws/aws-sdk-js"}]
["jverdi/JVFloatLabeledTextField",{"$f":"VLOOKUP(A3857,汇总!D:E,2,FALSE)","v":"https://github.com/jverdi/JVFloatLabeledTextField"}]
["kien/ctrlp.vim",{"$f":"VLOOKUP(A3858,汇总!D:E,2,FALSE)","v":"https://github.com/kien/ctrlp.vim"}]
["kornia/kornia",{"$f":"VLOOKUP(A3859,汇总!D:E,2,FALSE)","v":"https://github.com/kornia/kornia"}]
["lbryio/lbry-sdk",{"$f":"VLOOKUP(A3860,汇总!D:E,2,FALSE)","v":"https://github.com/lbryio/lbry-sdk"}]
["lukemelas/EfficientNet-PyTorch",{"$f":"VLOOKUP(A3861,汇总!D:E,2,FALSE)","v":"https://github.com/lukemelas/EfficientNet-PyTorch"}]
["umdjs/umd",{"$f":"VLOOKUP(A3862,汇总!D:E,2,FALSE)","v":"https://github.com/umdjs/umd"}]
["Jigsaw-Code/outline-client",{"$f":"VLOOKUP(A3863,汇总!D:E,2,FALSE)","v":"https://github.com/Jigsaw-Code/outline-client"}]
["dvf/blockchain",{"$f":"VLOOKUP(A3864,汇总!D:E,2,FALSE)","v":"https://github.com/dvf/blockchain"}]
["sveltejs/sapper",{"$f":"VLOOKUP(A3865,汇总!D:E,2,FALSE)","v":"https://github.com/sveltejs/sapper"}]
["usefathom/fathom",{"$f":"VLOOKUP(A3866,汇总!D:E,2,FALSE)","v":"https://github.com/usefathom/fathom"}]
["rolling-scopes/rsschool-app",{"$f":"VLOOKUP(A3867,汇总!D:E,2,FALSE)","v":"https://github.com/rolling-scopes/rsschool-app"}]
["teh-cmc/go-internals",{"$f":"VLOOKUP(A3868,汇总!D:E,2,FALSE)","v":"https://github.com/teh-cmc/go-internals"}]
["jsplumb/jsplumb",{"$f":"VLOOKUP(A3869,汇总!D:E,2,FALSE)","v":"https://github.com/jsplumb/jsplumb"}]
["JakeWharton/ActionBarSherlock",{"$f":"VLOOKUP(A3870,汇总!D:E,2,FALSE)","v":"https://github.com/JakeWharton/ActionBarSherlock"}]
["firebase/flutterfire",{"$f":"VLOOKUP(A3871,汇总!D:E,2,FALSE)","v":"https://github.com/firebase/flutterfire"}]
["vernesong/OpenClash",{"$f":"VLOOKUP(A3872,汇总!D:E,2,FALSE)","v":"https://github.com/vernesong/OpenClash"}]
["vercel/ncc",{"$f":"VLOOKUP(A3873,汇总!D:E,2,FALSE)","v":"https://github.com/vercel/ncc"}]
["microsoft/ailab",{"$f":"VLOOKUP(A3874,汇总!D:E,2,FALSE)","v":"https://github.com/microsoft/ailab"}]
["bnb/awesome-developer-streams",{"$f":"VLOOKUP(A3875,汇总!D:E,2,FALSE)","v":"https://github.com/bnb/awesome-developer-streams"}]
["kivy/python-for-android",{"$f":"VLOOKUP(A3876,汇总!D:E,2,FALSE)","v":"https://github.com/kivy/python-for-android"}]
["spring-projects/spring-security",{"$f":"VLOOKUP(A3877,汇总!D:E,2,FALSE)","v":"https://github.com/spring-projects/spring-security"}]
["DylanVann/react-native-fast-image",{"$f":"VLOOKUP(A3878,汇总!D:E,2,FALSE)","v":"https://github.com/DylanVann/react-native-fast-image"}]
["peco/peco",{"$f":"VLOOKUP(A3879,汇总!D:E,2,FALSE)","v":"https://github.com/peco/peco"}]
["gperftools/gperftools",{"$f":"VLOOKUP(A3880,汇总!D:E,2,FALSE)","v":"https://github.com/gperftools/gperftools"}]
["FullHuman/purgecss",{"$f":"VLOOKUP(A3881,汇总!D:E,2,FALSE)","v":"https://github.com/FullHuman/purgecss"}]
["Humanizr/Humanizer",{"$f":"VLOOKUP(A3882,汇总!D:E,2,FALSE)","v":"https://github.com/Humanizr/Humanizer"}]
["ApoorvSaxena/lozad.js",{"$f":"VLOOKUP(A3883,汇总!D:E,2,FALSE)","v":"https://github.com/ApoorvSaxena/lozad.js"}]
["siyuan-note/siyuan",{"$f":"VLOOKUP(A3884,汇总!D:E,2,FALSE)","v":"https://github.com/siyuan-note/siyuan"}]
["twitter-archive/snowflake",{"$f":"VLOOKUP(A3885,汇总!D:E,2,FALSE)","v":"https://github.com/twitter-archive/snowflake"}]
["wuye9036/CppTemplateTutorial",{"$f":"VLOOKUP(A3886,汇总!D:E,2,FALSE)","v":"https://github.com/wuye9036/CppTemplateTutorial"}]
["aalhour/awesome-compilers",{"$f":"VLOOKUP(A3887,汇总!D:E,2,FALSE)","v":"https://github.com/aalhour/awesome-compilers"}]
["sohutv/cachecloud",{"$f":"VLOOKUP(A3888,汇总!D:E,2,FALSE)","v":"https://github.com/sohutv/cachecloud"}]
["roboticcam/machine-learning-notes",{"$f":"VLOOKUP(A3889,汇总!D:E,2,FALSE)","v":"https://github.com/roboticcam/machine-learning-notes"}]
["google/trax",{"$f":"VLOOKUP(A3890,汇总!D:E,2,FALSE)","v":"https://github.com/google/trax"}]
["shekhargulati/52-technologies-in-2016",{"$f":"VLOOKUP(A3891,汇总!D:E,2,FALSE)","v":"https://github.com/shekhargulati/52-technologies-in-2016"}]
["apple/swift-nio",{"$f":"VLOOKUP(A3892,汇总!D:E,2,FALSE)","v":"https://github.com/apple/swift-nio"}]
["seanmonstar/warp",{"$f":"VLOOKUP(A3893,汇总!D:E,2,FALSE)","v":"https://github.com/seanmonstar/warp"}]
["XAMPPRocky/tokei",{"$f":"VLOOKUP(A3894,汇总!D:E,2,FALSE)","v":"https://github.com/XAMPPRocky/tokei"}]
["symfony/css-selector",{"$f":"VLOOKUP(A3895,汇总!D:E,2,FALSE)","v":"https://github.com/symfony/css-selector"}]
["rsuite/rsuite",{"$f":"VLOOKUP(A3896,汇总!D:E,2,FALSE)","v":"https://github.com/rsuite/rsuite"}]
["uber/RIBs",{"$f":"VLOOKUP(A3897,汇总!D:E,2,FALSE)","v":"https://github.com/uber/RIBs"}]
["Anankke/SSPanel-Uim",{"$f":"VLOOKUP(A3898,汇总!D:E,2,FALSE)","v":"https://github.com/Anankke/SSPanel-Uim"}]
["es-shims/es5-shim",{"$f":"VLOOKUP(A3899,汇总!D:E,2,FALSE)","v":"https://github.com/es-shims/es5-shim"}]
["goldze/MVVMHabit",{"$f":"VLOOKUP(A3900,汇总!D:E,2,FALSE)","v":"https://github.com/goldze/MVVMHabit"}]
["sharkdp/hexyl",{"$f":"VLOOKUP(A3901,汇总!D:E,2,FALSE)","v":"https://github.com/sharkdp/hexyl"}]
["final-form/react-final-form",{"$f":"VLOOKUP(A3902,汇总!D:E,2,FALSE)","v":"https://github.com/final-form/react-final-form"}]
["Kapeli/Dash-iOS",{"$f":"VLOOKUP(A3903,汇总!D:E,2,FALSE)","v":"https://github.com/Kapeli/Dash-iOS"}]
["DevinVinson/WordPress-Plugin-Boilerplate",{"$f":"VLOOKUP(A3904,汇总!D:E,2,FALSE)","v":"https://github.com/DevinVinson/WordPress-Plugin-Boilerplate"}]
["gelstudios/gitfiti",{"$f":"VLOOKUP(A3905,汇总!D:E,2,FALSE)","v":"https://github.com/gelstudios/gitfiti"}]
["hpneo/gmaps",{"$f":"VLOOKUP(A3906,汇总!D:E,2,FALSE)","v":"https://github.com/hpneo/gmaps"}]
["marionettejs/backbone.marionette",{"$f":"VLOOKUP(A3907,汇总!D:E,2,FALSE)","v":"https://github.com/marionettejs/backbone.marionette"}]
["yugabyte/yugabyte-db",{"$f":"VLOOKUP(A3908,汇总!D:E,2,FALSE)","v":"https://github.com/yugabyte/yugabyte-db"}]
["nasa-jpl/open-source-rover",{"$f":"VLOOKUP(A3909,汇总!D:E,2,FALSE)","v":"https://github.com/nasa-jpl/open-source-rover"}]
["witheve/Eve",{"$f":"VLOOKUP(A3910,汇总!D:E,2,FALSE)","v":"https://github.com/witheve/Eve"}]
["jwasham/computer-science-flash-cards",{"$f":"VLOOKUP(A3911,汇总!D:E,2,FALSE)","v":"https://github.com/jwasham/computer-science-flash-cards"}]
["symfony/process",{"$f":"VLOOKUP(A3912,汇总!D:E,2,FALSE)","v":"https://github.com/symfony/process"}]
["phar-io/manifest",{"$f":"VLOOKUP(A3913,汇总!D:E,2,FALSE)","v":"https://github.com/phar-io/manifest"}]
["aemkei/jsfuck",{"$f":"VLOOKUP(A3914,汇总!D:E,2,FALSE)","v":"https://github.com/aemkei/jsfuck"}]
["DataTables/DataTables",{"$f":"VLOOKUP(A3915,汇总!D:E,2,FALSE)","v":"https://github.com/DataTables/DataTables"}]
["github/personal-website",{"$f":"VLOOKUP(A3916,汇总!D:E,2,FALSE)","v":"https://github.com/github/personal-website"}]
["pointfreeco/swift-composable-architecture",{"$f":"VLOOKUP(A3917,汇总!D:E,2,FALSE)","v":"https://github.com/pointfreeco/swift-composable-architecture"}]
["Geal/nom",{"$f":"VLOOKUP(A3918,汇总!D:E,2,FALSE)","v":"https://github.com/Geal/nom"}]
["sebastianbergmann/php-file-iterator",{"$f":"VLOOKUP(A3919,汇总!D:E,2,FALSE)","v":"https://github.com/sebastianbergmann/php-file-iterator"}]
["kevin-wayne/algs4",{"$f":"VLOOKUP(A3920,汇总!D:E,2,FALSE)","v":"https://github.com/kevin-wayne/algs4"}]
["laravel/tinker",{"$f":"VLOOKUP(A3921,汇总!D:E,2,FALSE)","v":"https://github.com/laravel/tinker"}]
["utterance/utterances",{"$f":"VLOOKUP(A3922,汇总!D:E,2,FALSE)","v":"https://github.com/utterance/utterances"}]
["datawhalechina/leeml-notes",{"$f":"VLOOKUP(A3923,汇总!D:E,2,FALSE)","v":"https://github.com/datawhalechina/leeml-notes"}]
["Chuyu-Team/Dism-Multi-language",{"$f":"VLOOKUP(A3924,汇总!D:E,2,FALSE)","v":"https://github.com/Chuyu-Team/Dism-Multi-language"}]
["dodyg/practical-aspnetcore",{"$f":"VLOOKUP(A3925,汇总!D:E,2,FALSE)","v":"https://github.com/dodyg/practical-aspnetcore"}]
["sstephenson/bats",{"$f":"VLOOKUP(A3926,汇总!D:E,2,FALSE)","v":"https://github.com/sstephenson/bats"}]
["PyMySQL/PyMySQL",{"$f":"VLOOKUP(A3927,汇总!D:E,2,FALSE)","v":"https://github.com/PyMySQL/PyMySQL"}]
["NeXTs/Clusterize.js",{"$f":"VLOOKUP(A3928,汇总!D:E,2,FALSE)","v":"https://github.com/NeXTs/Clusterize.js"}]
["JetBrains/kotlin-native",{"$f":"VLOOKUP(A3929,汇总!D:E,2,FALSE)","v":"https://github.com/JetBrains/kotlin-native"}]
["ipfs/js-ipfs",{"$f":"VLOOKUP(A3930,汇总!D:E,2,FALSE)","v":"https://github.com/ipfs/js-ipfs"}]
["tensorlayer/TensorLayer",{"$f":"VLOOKUP(A3931,汇总!D:E,2,FALSE)","v":"https://github.com/tensorlayer/TensorLayer"}]
["libretro/RetroArch",{"$f":"VLOOKUP(A3932,汇总!D:E,2,FALSE)","v":"https://github.com/libretro/RetroArch"}]
["workshopper/learnyounode",{"$f":"VLOOKUP(A3933,汇总!D:E,2,FALSE)","v":"https://github.com/workshopper/learnyounode"}]
["ljpzzz/machinelearning",{"$f":"VLOOKUP(A3934,汇总!D:E,2,FALSE)","v":"https://github.com/ljpzzz/machinelearning"}]
["phar-io/version",{"$f":"VLOOKUP(A3935,汇总!D:E,2,FALSE)","v":"https://github.com/phar-io/version"}]
["swagger-api/swagger-core",{"$f":"VLOOKUP(A3936,汇总!D:E,2,FALSE)","v":"https://github.com/swagger-api/swagger-core"}]
["malcommac/SwiftDate",{"$f":"VLOOKUP(A3937,汇总!D:E,2,FALSE)","v":"https://github.com/malcommac/SwiftDate"}]
["google/flutter-desktop-embedding",{"$f":"VLOOKUP(A3938,汇总!D:E,2,FALSE)","v":"https://github.com/google/flutter-desktop-embedding"}]
["kishikawakatsumi/KeychainAccess",{"$f":"VLOOKUP(A3939,汇总!D:E,2,FALSE)","v":"https://github.com/kishikawakatsumi/KeychainAccess"}]
["microsoft/cpprestsdk",{"$f":"VLOOKUP(A3940,汇总!D:E,2,FALSE)","v":"https://github.com/microsoft/cpprestsdk"}]
["qqwweee/keras-yolo3",{"$f":"VLOOKUP(A3941,汇总!D:E,2,FALSE)","v":"https://github.com/qqwweee/keras-yolo3"}]
["AdrienTorris/awesome-blazor",{"$f":"VLOOKUP(A3942,汇总!D:E,2,FALSE)","v":"https://github.com/AdrienTorris/awesome-blazor"}]
["reactjs/react-modal",{"$f":"VLOOKUP(A3943,汇总!D:E,2,FALSE)","v":"https://github.com/reactjs/react-modal"}]
["carpedm20/DCGAN-tensorflow",{"$f":"VLOOKUP(A3944,汇总!D:E,2,FALSE)","v":"https://github.com/carpedm20/DCGAN-tensorflow"}]
["objective-see/LuLu",{"$f":"VLOOKUP(A3945,汇总!D:E,2,FALSE)","v":"https://github.com/objective-see/LuLu"}]
["dwarvesf/hidden",{"$f":"VLOOKUP(A3946,汇总!D:E,2,FALSE)","v":"https://github.com/dwarvesf/hidden"}]
["owainlewis/awesome-artificial-intelligence",{"$f":"VLOOKUP(A3947,汇总!D:E,2,FALSE)","v":"https://github.com/owainlewis/awesome-artificial-intelligence"}]
["MorvanZhou/PyTorch-Tutorial",{"$f":"VLOOKUP(A3948,汇总!D:E,2,FALSE)","v":"https://github.com/MorvanZhou/PyTorch-Tutorial"}]
["wuchangming/spy-debugger",{"$f":"VLOOKUP(A3949,汇总!D:E,2,FALSE)","v":"https://github.com/wuchangming/spy-debugger"}]
["quickwit-oss/tantivy",{"$f":"VLOOKUP(A3950,汇总!D:E,2,FALSE)","v":"https://github.com/quickwit-oss/tantivy"}]
["mrjbq7/ta-lib",{"$f":"VLOOKUP(A3951,汇总!D:E,2,FALSE)","v":"https://github.com/mrjbq7/ta-lib"}]
["luyishisi/Anti-Anti-Spider",{"$f":"VLOOKUP(A3952,汇总!D:E,2,FALSE)","v":"https://github.com/luyishisi/Anti-Anti-Spider"}]
["symfony/var-dumper",{"$f":"VLOOKUP(A3953,汇总!D:E,2,FALSE)","v":"https://github.com/symfony/var-dumper"}]
["alibaba/MNN",{"$f":"VLOOKUP(A3954,汇总!D:E,2,FALSE)","v":"https://github.com/alibaba/MNN"}]
["sebastianbergmann/php-text-template",{"$f":"VLOOKUP(A3955,汇总!D:E,2,FALSE)","v":"https://github.com/sebastianbergmann/php-text-template"}]
["fabiolb/fabio",{"$f":"VLOOKUP(A3956,汇总!D:E,2,FALSE)","v":"https://github.com/fabiolb/fabio"}]
["pymc-devs/pymc",{"$f":"VLOOKUP(A3957,汇总!D:E,2,FALSE)","v":"https://github.com/pymc-devs/pymc"}]
["cookieY/Yearning",{"$f":"VLOOKUP(A3958,汇总!D:E,2,FALSE)","v":"https://github.com/cookieY/Yearning"}]
["Qihoo360/RePlugin",{"$f":"VLOOKUP(A3959,汇总!D:E,2,FALSE)","v":"https://github.com/Qihoo360/RePlugin"}]
["Rob--W/cors-anywhere",{"$f":"VLOOKUP(A3960,汇总!D:E,2,FALSE)","v":"https://github.com/Rob--W/cors-anywhere"}]
["unoplatform/uno",{"$f":"VLOOKUP(A3961,汇总!D:E,2,FALSE)","v":"https://github.com/unoplatform/uno"}]
["cobaltdisco/Google-Chinese-Results-Blocklist",{"$f":"VLOOKUP(A3962,汇总!D:E,2,FALSE)","v":"https://github.com/cobaltdisco/Google-Chinese-Results-Blocklist"}]
["macvim-dev/macvim",{"$f":"VLOOKUP(A3963,汇总!D:E,2,FALSE)","v":"https://github.com/macvim-dev/macvim"}]
["darktable-org/darktable",{"$f":"VLOOKUP(A3964,汇总!D:E,2,FALSE)","v":"https://github.com/darktable-org/darktable"}]
["mltframework/shotcut",{"$f":"VLOOKUP(A3965,汇总!D:E,2,FALSE)","v":"https://github.com/mltframework/shotcut"}]
["DataV-Team/DataV",{"$f":"VLOOKUP(A3966,汇总!D:E,2,FALSE)","v":"https://github.com/DataV-Team/DataV"}]
["draios/sysdig",{"$f":"VLOOKUP(A3967,汇总!D:E,2,FALSE)","v":"https://github.com/draios/sysdig"}]
["jpochyla/psst",{"$f":"VLOOKUP(A3968,汇总!D:E,2,FALSE)","v":"https://github.com/jpochyla/psst"}]
["deepstreamIO/deepstream.io",{"$f":"VLOOKUP(A3969,汇总!D:E,2,FALSE)","v":"https://github.com/deepstreamIO/deepstream.io"}]
["rockerBOO/awesome-neovim",{"$f":"VLOOKUP(A3970,汇总!D:E,2,FALSE)","v":"https://github.com/rockerBOO/awesome-neovim"}]
["rs/zerolog",{"$f":"VLOOKUP(A3971,汇总!D:E,2,FALSE)","v":"https://github.com/rs/zerolog"}]
["Eonasdan/tempus-dominus",{"$f":"VLOOKUP(A3972,汇总!D:E,2,FALSE)","v":"https://github.com/Eonasdan/tempus-dominus"}]
["chef/chef",{"$f":"VLOOKUP(A3973,汇总!D:E,2,FALSE)","v":"https://github.com/chef/chef"}]
["dyc87112/SpringCloud-Learning",{"$f":"VLOOKUP(A3974,汇总!D:E,2,FALSE)","v":"https://github.com/dyc87112/SpringCloud-Learning"}]
["opsnull/follow-me-install-kubernetes-cluster",{"$f":"VLOOKUP(A3975,汇总!D:E,2,FALSE)","v":"https://github.com/opsnull/follow-me-install-kubernetes-cluster"}]
["Dhghomon/easy_rust",{"$f":"VLOOKUP(A3976,汇总!D:E,2,FALSE)","v":"https://github.com/Dhghomon/easy_rust"}]
["kubescape/kubescape",{"$f":"VLOOKUP(A3977,汇总!D:E,2,FALSE)","v":"https://github.com/kubescape/kubescape"}]
["pluja/awesome-privacy",{"$f":"VLOOKUP(A3978,汇总!D:E,2,FALSE)","v":"https://github.com/pluja/awesome-privacy"}]
["Sylius/Sylius",{"$f":"VLOOKUP(A3979,汇总!D:E,2,FALSE)","v":"https://github.com/Sylius/Sylius"}]
["jwyang/faster-rcnn.pytorch",{"$f":"VLOOKUP(A3980,汇总!D:E,2,FALSE)","v":"https://github.com/jwyang/faster-rcnn.pytorch"}]
["PAIR-code/facets",{"$f":"VLOOKUP(A3981,汇总!D:E,2,FALSE)","v":"https://github.com/PAIR-code/facets"}]
["olivere/elastic",{"$f":"VLOOKUP(A3982,汇总!D:E,2,FALSE)","v":"https://github.com/olivere/elastic"}]
["lazyprogrammer/machine_learning_examples",{"$f":"VLOOKUP(A3983,汇总!D:E,2,FALSE)","v":"https://github.com/lazyprogrammer/machine_learning_examples"}]
["keystonejs/keystone",{"$f":"VLOOKUP(A3984,汇总!D:E,2,FALSE)","v":"https://github.com/keystonejs/keystone"}]
["verlok/vanilla-lazyload",{"$f":"VLOOKUP(A3985,汇总!D:E,2,FALSE)","v":"https://github.com/verlok/vanilla-lazyload"}]
["freeCodeCamp/how-to-contribute-to-open-source",{"$f":"VLOOKUP(A3986,汇总!D:E,2,FALSE)","v":"https://github.com/freeCodeCamp/how-to-contribute-to-open-source"}]
["ogaclejapan/SmartTabLayout",{"$f":"VLOOKUP(A3987,汇总!D:E,2,FALSE)","v":"https://github.com/ogaclejapan/SmartTabLayout"}]
["YunaiV/ruoyi-vue-pro",{"$f":"VLOOKUP(A3988,汇总!D:E,2,FALSE)","v":"https://github.com/YunaiV/ruoyi-vue-pro"}]
["ogaclejapan/SmartTabLayout",{"$f":"VLOOKUP(A3989,汇总!D:E,2,FALSE)","v":"https://github.com/ogaclejapan/SmartTabLayout"}]
["YunaiV/ruoyi-vue-pro",{"$f":"VLOOKUP(A3990,汇总!D:E,2,FALSE)","v":"https://github.com/YunaiV/ruoyi-vue-pro"}]
["JakHuang/form-generator",{"$f":"VLOOKUP(A3991,汇总!D:E,2,FALSE)","v":"https://github.com/JakHuang/form-generator"}]
["wtsxDev/reverse-engineering",{"$f":"VLOOKUP(A3992,汇总!D:E,2,FALSE)","v":"https://github.com/wtsxDev/reverse-engineering"}]
["wpscanteam/wpscan",{"$f":"VLOOKUP(A3993,汇总!D:E,2,FALSE)","v":"https://github.com/wpscanteam/wpscan"}]
["json-api/json-api",{"$f":"VLOOKUP(A3994,汇总!D:E,2,FALSE)","v":"https://github.com/json-api/json-api"}]
["crownpku/Awesome-Chinese-NLP",{"$f":"VLOOKUP(A3995,汇总!D:E,2,FALSE)","v":"https://github.com/crownpku/Awesome-Chinese-NLP"}]
["facebookarchive/xctool",{"$f":"VLOOKUP(A3996,汇总!D:E,2,FALSE)","v":"https://github.com/facebookarchive/xctool"}]
["visualfc/liteide",{"$f":"VLOOKUP(A3997,汇总!D:E,2,FALSE)","v":"https://github.com/visualfc/liteide"}]
["pmndrs/use-gesture",{"$f":"VLOOKUP(A3998,汇总!D:E,2,FALSE)","v":"https://github.com/pmndrs/use-gesture"}]
["tindy2013/subconverter",{"$f":"VLOOKUP(A3999,汇总!D:E,2,FALSE)","v":"https://github.com/tindy2013/subconverter"}]
["unocss/unocss",{"$f":"VLOOKUP(A4000,汇总!D:E,2,FALSE)","v":"https://github.com/unocss/unocss"}]
["optuna/optuna",{"$f":"VLOOKUP(A4001,汇总!D:E,2,FALSE)","v":"https://github.com/optuna/optuna"}]
["rxin/db-readings",{"$f":"VLOOKUP(A4002,汇总!D:E,2,FALSE)","v":"https://github.com/rxin/db-readings"}]
["morrisjs/morris.js",{"$f":"VLOOKUP(A4003,汇总!D:E,2,FALSE)","v":"https://github.com/morrisjs/morris.js"}]
["open-falcon/falcon-plus",{"$f":"VLOOKUP(A4004,汇总!D:E,2,FALSE)","v":"https://github.com/open-falcon/falcon-plus"}]
["ipkn/crow",{"$f":"VLOOKUP(A4005,汇总!D:E,2,FALSE)","v":"https://github.com/ipkn/crow"}]
["grpc/grpc-web",{"$f":"VLOOKUP(A4006,汇总!D:E,2,FALSE)","v":"https://github.com/grpc/grpc-web"}]
["flame-engine/flame",{"$f":"VLOOKUP(A4007,汇总!D:E,2,FALSE)","v":"https://github.com/flame-engine/flame"}]
["rwv/chinese-dos-games",{"$f":"VLOOKUP(A4008,汇总!D:E,2,FALSE)","v":"https://github.com/rwv/chinese-dos-games"}]
["utom/sketch-measure",{"$f":"VLOOKUP(A4009,汇总!D:E,2,FALSE)","v":"https://github.com/utom/sketch-measure"}]
["abel533/Mapper",{"$f":"VLOOKUP(A4010,汇总!D:E,2,FALSE)","v":"https://github.com/abel533/Mapper"}]
["fuzzdb-project/fuzzdb",{"$f":"VLOOKUP(A4011,汇总!D:E,2,FALSE)","v":"https://github.com/fuzzdb-project/fuzzdb"}]
["panjf2000/gnet",{"$f":"VLOOKUP(A4012,汇总!D:E,2,FALSE)","v":"https://github.com/panjf2000/gnet"}]
["Jermolene/TiddlyWiki5",{"$f":"VLOOKUP(A4013,汇总!D:E,2,FALSE)","v":"https://github.com/Jermolene/TiddlyWiki5"}]
["distribution/distribution",{"$f":"VLOOKUP(A4014,汇总!D:E,2,FALSE)","v":"https://github.com/distribution/distribution"}]
["a8m/golang-cheat-sheet",{"$f":"VLOOKUP(A4015,汇总!D:E,2,FALSE)","v":"https://github.com/a8m/golang-cheat-sheet"}]
["Urinx/WeixinBot",{"$f":"VLOOKUP(A4016,汇总!D:E,2,FALSE)","v":"https://github.com/Urinx/WeixinBot"}]
["OpenFlutter/Flutter-Notebook",{"$f":"VLOOKUP(A4017,汇总!D:E,2,FALSE)","v":"https://github.com/OpenFlutter/Flutter-Notebook"}]
["screetsec/TheFatRat",{"$f":"VLOOKUP(A4018,汇总!D:E,2,FALSE)","v":"https://github.com/screetsec/TheFatRat"}]
["bitwiseshiftleft/sjcl",{"$f":"VLOOKUP(A4019,汇总!D:E,2,FALSE)","v":"https://github.com/bitwiseshiftleft/sjcl"}]
["mongodb/mongo-go-driver",{"$f":"VLOOKUP(A4020,汇总!D:E,2,FALSE)","v":"https://github.com/mongodb/mongo-go-driver"}]
["LonamiWebs/Telethon",{"$f":"VLOOKUP(A4021,汇总!D:E,2,FALSE)","v":"https://github.com/LonamiWebs/Telethon"}]
["elm/compiler",{"$f":"VLOOKUP(A4022,汇总!D:E,2,FALSE)","v":"https://github.com/elm/compiler"}]
["priyankavergadia/google-cloud-4-words",{"$f":"VLOOKUP(A4023,汇总!D:E,2,FALSE)","v":"https://github.com/priyankavergadia/google-cloud-4-words"}]
["tonymillion/Reachability",{"$f":"VLOOKUP(A4024,汇总!D:E,2,FALSE)","v":"https://github.com/tonymillion/Reachability"}]
["amusi/awesome-object-detection",{"$f":"VLOOKUP(A4025,汇总!D:E,2,FALSE)","v":"https://github.com/amusi/awesome-object-detection"}]
["IvanGoncharov/graphql-voyager",{"$f":"VLOOKUP(A4026,汇总!D:E,2,FALSE)","v":"https://github.com/IvanGoncharov/graphql-voyager"}]
["launchbadge/sqlx",{"$f":"VLOOKUP(A4027,汇总!D:E,2,FALSE)","v":"https://github.com/launchbadge/sqlx"}]
["alibaba/AndFix",{"$f":"VLOOKUP(A4028,汇总!D:E,2,FALSE)","v":"https://github.com/alibaba/AndFix"}]
["olton/Metro-UI-CSS",{"$f":"VLOOKUP(A4029,汇总!D:E,2,FALSE)","v":"https://github.com/olton/Metro-UI-CSS"}]
["ericchiang/pup",{"$f":"VLOOKUP(A4030,汇总!D:E,2,FALSE)","v":"https://github.com/ericchiang/pup"}]
["github/roadmap",{"$f":"VLOOKUP(A4031,汇总!D:E,2,FALSE)","v":"https://github.com/github/roadmap"}]
["scylladb/seastar",{"$f":"VLOOKUP(A4032,汇总!D:E,2,FALSE)","v":"https://github.com/scylladb/seastar"}]
["cookpete/react-player",{"$f":"VLOOKUP(A4033,汇总!D:E,2,FALSE)","v":"https://github.com/cookpete/react-player"}]
["BlocksKit/BlocksKit",{"$f":"VLOOKUP(A4034,汇总!D:E,2,FALSE)","v":"https://github.com/BlocksKit/BlocksKit"}]
["Kulbear/deep-learning-coursera",{"$f":"VLOOKUP(A4035,汇总!D:E,2,FALSE)","v":"https://github.com/Kulbear/deep-learning-coursera"}]
["wiseodd/generative-models",{"$f":"VLOOKUP(A4036,汇总!D:E,2,FALSE)","v":"https://github.com/wiseodd/generative-models"}]
["fluxcd/flux",{"$f":"VLOOKUP(A4037,汇总!D:E,2,FALSE)","v":"https://github.com/fluxcd/flux"}]
["MortimerGoro/MGSwipeTableCell",{"$f":"VLOOKUP(A4038,汇总!D:E,2,FALSE)","v":"https://github.com/MortimerGoro/MGSwipeTableCell"}]
["mhadidg/software-architecture-books",{"$f":"VLOOKUP(A4039,汇总!D:E,2,FALSE)","v":"https://github.com/mhadidg/software-architecture-books"}]
["reach/router",{"$f":"VLOOKUP(A4040,汇总!D:E,2,FALSE)","v":"https://github.com/reach/router"}]
["microsoft/playwright-python",{"$f":"VLOOKUP(A4041,汇总!D:E,2,FALSE)","v":"https://github.com/microsoft/playwright-python"}]
["HubSpot/vex",{"$f":"VLOOKUP(A4042,汇总!D:E,2,FALSE)","v":"https://github.com/HubSpot/vex"}]
["selierlin/Share-SSR-V2ray",{"$f":"VLOOKUP(A4043,汇总!D:E,2,FALSE)","v":"https://github.com/selierlin/Share-SSR-V2ray"}]
["hellerve/programming-talks",{"$f":"VLOOKUP(A4044,汇总!D:E,2,FALSE)","v":"https://github.com/hellerve/programming-talks"}]
["digoal/blog",{"$f":"VLOOKUP(A4045,汇总!D:E,2,FALSE)","v":"https://github.com/digoal/blog"}]
["lukehaas/css-loaders",{"$f":"VLOOKUP(A4046,汇总!D:E,2,FALSE)","v":"https://github.com/lukehaas/css-loaders"}]
["Cenmrev/V2RayX",{"$f":"VLOOKUP(A4047,汇总!D:E,2,FALSE)","v":"https://github.com/Cenmrev/V2RayX"}]
["matthew-andrews/isomorphic-fetch",{"$f":"VLOOKUP(A4048,汇总!D:E,2,FALSE)","v":"https://github.com/matthew-andrews/isomorphic-fetch"}]
["apollographql/react-apollo",{"$f":"VLOOKUP(A4049,汇总!D:E,2,FALSE)","v":"https://github.com/apollographql/react-apollo"}]
["nayafia/lemonade-stand",{"$f":"VLOOKUP(A4050,汇总!D:E,2,FALSE)","v":"https://github.com/nayafia/lemonade-stand"}]
["github-changelog-generator/github-changelog-generator",{"$f":"VLOOKUP(A4051,汇总!D:E,2,FALSE)","v":"https://github.com/github-changelog-generator/github-changelog-generator"}]
["mickael-kerjean/filestash",{"$f":"VLOOKUP(A4052,汇总!D:E,2,FALSE)","v":"https://github.com/mickael-kerjean/filestash"}]
["anaibol/awesome-serverless",{"$f":"VLOOKUP(A4053,汇总!D:E,2,FALSE)","v":"https://github.com/anaibol/awesome-serverless"}]
["jdan/98.css",{"$f":"VLOOKUP(A4054,汇总!D:E,2,FALSE)","v":"https://github.com/jdan/98.css"}]
["jsfiddle/togetherjs",{"$f":"VLOOKUP(A4055,汇总!D:E,2,FALSE)","v":"https://github.com/jsfiddle/togetherjs"}]
["microsoft/azuredatastudio",{"$f":"VLOOKUP(A4056,汇总!D:E,2,FALSE)","v":"https://github.com/microsoft/azuredatastudio"}]
["sbstjn/timesheet.js",{"$f":"VLOOKUP(A4057,汇总!D:E,2,FALSE)","v":"https://github.com/sbstjn/timesheet.js"}]
["kennethreitz/records",{"$f":"VLOOKUP(A4058,汇总!D:E,2,FALSE)","v":"https://github.com/kennethreitz/records"}]
["akveo/kittenTricks",{"$f":"VLOOKUP(A4059,汇总!D:E,2,FALSE)","v":"https://github.com/akveo/kittenTricks"}]
["sxei/chrome-plugin-demo",{"$f":"VLOOKUP(A4060,汇总!D:E,2,FALSE)","v":"https://github.com/sxei/chrome-plugin-demo"}]
["trentm/node-bunyan",{"$f":"VLOOKUP(A4061,汇总!D:E,2,FALSE)","v":"https://github.com/trentm/node-bunyan"}]
["microsoft/botframework-sdk",{"$f":"VLOOKUP(A4062,汇总!D:E,2,FALSE)","v":"https://github.com/microsoft/botframework-sdk"}]
["covid19india/covid19india-react",{"$f":"VLOOKUP(A4063,汇总!D:E,2,FALSE)","v":"https://github.com/covid19india/covid19india-react"}]
["yuanguangxin/LeetCode",{"$f":"VLOOKUP(A4064,汇总!D:E,2,FALSE)","v":"https://github.com/yuanguangxin/LeetCode"}]
["mailchimp/email-blueprints",{"$f":"VLOOKUP(A4065,汇总!D:E,2,FALSE)","v":"https://github.com/mailchimp/email-blueprints"}]
["JetBrains/ideavim",{"$f":"VLOOKUP(A4066,汇总!D:E,2,FALSE)","v":"https://github.com/JetBrains/ideavim"}]
["OctoPrint/OctoPrint",{"$f":"VLOOKUP(A4067,汇总!D:E,2,FALSE)","v":"https://github.com/OctoPrint/OctoPrint"}]
["middleman/middleman",{"$f":"VLOOKUP(A4068,汇总!D:E,2,FALSE)","v":"https://github.com/middleman/middleman"}]
["ReactiveX/RxKotlin",{"$f":"VLOOKUP(A4069,汇总!D:E,2,FALSE)","v":"https://github.com/ReactiveX/RxKotlin"}]
["exercism/exercism",{"$f":"VLOOKUP(A4070,汇总!D:E,2,FALSE)","v":"https://github.com/exercism/exercism"}]
["swaggo/swag",{"$f":"VLOOKUP(A4071,汇总!D:E,2,FALSE)","v":"https://github.com/swaggo/swag"}]
["zardus/ctf-tools",{"$f":"VLOOKUP(A4072,汇总!D:E,2,FALSE)","v":"https://github.com/zardus/ctf-tools"}]
["LeaVerou/awesomplete",{"$f":"VLOOKUP(A4073,汇总!D:E,2,FALSE)","v":"https://github.com/LeaVerou/awesomplete"}]
["vuejs/petite-vue",{"$f":"VLOOKUP(A4074,汇总!D:E,2,FALSE)","v":"https://github.com/vuejs/petite-vue"}]
["google/benchmark",{"$f":"VLOOKUP(A4075,汇总!D:E,2,FALSE)","v":"https://github.com/google/benchmark"}]
["nytimes/covid-19-data",{"$f":"VLOOKUP(A4076,汇总!D:E,2,FALSE)","v":"https://github.com/nytimes/covid-19-data"}]
["MrXujiang/h5-Dooring",{"$f":"VLOOKUP(A4077,汇总!D:E,2,FALSE)","v":"https://github.com/MrXujiang/h5-Dooring"}]
["kean/Nuke",{"$f":"VLOOKUP(A4078,汇总!D:E,2,FALSE)","v":"https://github.com/kean/Nuke"}]
["jupyter/docker-stacks",{"$f":"VLOOKUP(A4079,汇总!D:E,2,FALSE)","v":"https://github.com/jupyter/docker-stacks"}]
["xzhih/one-key-hidpi",{"$f":"VLOOKUP(A4080,汇总!D:E,2,FALSE)","v":"https://github.com/xzhih/one-key-hidpi"}]
["EZFNDEV/EZFN-Lobbybot",{"$f":"VLOOKUP(A4081,汇总!D:E,2,FALSE)","v":"https://github.com/EZFNDEV/EZFN-Lobbybot"}]
["jadore801120/attention-is-all-you-need-pytorch",{"$f":"VLOOKUP(A4082,汇总!D:E,2,FALSE)","v":"https://github.com/jadore801120/attention-is-all-you-need-pytorch"}]
["ajenti/ajenti",{"$f":"VLOOKUP(A4083,汇总!D:E,2,FALSE)","v":"https://github.com/ajenti/ajenti"}]
["geohot/tinygrad",{"$f":"VLOOKUP(A4084,汇总!D:E,2,FALSE)","v":"https://github.com/geohot/tinygrad"}]
["qinjx/30min_guides",{"$f":"VLOOKUP(A4085,汇总!D:E,2,FALSE)","v":"https://github.com/qinjx/30min_guides"}]
["liuliu/ccv",{"$f":"VLOOKUP(A4086,汇总!D:E,2,FALSE)","v":"https://github.com/liuliu/ccv"}]
["skwp/dotfiles",{"$f":"VLOOKUP(A4087,汇总!D:E,2,FALSE)","v":"https://github.com/skwp/dotfiles"}]
["samratashok/nishang",{"$f":"VLOOKUP(A4088,汇总!D:E,2,FALSE)","v":"https://github.com/samratashok/nishang"}]
["utkuozbulak/pytorch-cnn-visualizations",{"$f":"VLOOKUP(A4089,汇总!D:E,2,FALSE)","v":"https://github.com/utkuozbulak/pytorch-cnn-visualizations"}]
["coells/100days",{"$f":"VLOOKUP(A4090,汇总!D:E,2,FALSE)","v":"https://github.com/coells/100days"}]
["robertkrimen/otto",{"$f":"VLOOKUP(A4091,汇总!D:E,2,FALSE)","v":"https://github.com/robertkrimen/otto"}]
["marcan/takeover.sh",{"$f":"VLOOKUP(A4092,汇总!D:E,2,FALSE)","v":"https://github.com/marcan/takeover.sh"}]
["nonstriater/Learn-Algorithms",{"$f":"VLOOKUP(A4093,汇总!D:E,2,FALSE)","v":"https://github.com/nonstriater/Learn-Algorithms"}]
["ChrisAnd1998/TaskbarX",{"$f":"VLOOKUP(A4094,汇总!D:E,2,FALSE)","v":"https://github.com/ChrisAnd1998/TaskbarX"}]
["SirVer/ultisnips",{"$f":"VLOOKUP(A4095,汇总!D:E,2,FALSE)","v":"https://github.com/SirVer/ultisnips"}]
["hongyangAndroid/okhttputils",{"$f":"VLOOKUP(A4096,汇总!D:E,2,FALSE)","v":"https://github.com/hongyangAndroid/okhttputils"}]
["xojs/xo",{"$f":"VLOOKUP(A4097,汇总!D:E,2,FALSE)","v":"https://github.com/xojs/xo"}]
["guess-js/guess",{"$f":"VLOOKUP(A4098,汇总!D:E,2,FALSE)","v":"https://github.com/guess-js/guess"}]
["instillai/machine-learning-course",{"$f":"VLOOKUP(A4099,汇总!D:E,2,FALSE)","v":"https://github.com/instillai/machine-learning-course"}]
["vmware-archive/kubeless",{"$f":"VLOOKUP(A4100,汇总!D:E,2,FALSE)","v":"https://github.com/vmware-archive/kubeless"}]
["LSPosed/LSPosed",{"$f":"VLOOKUP(A4101,汇总!D:E,2,FALSE)","v":"https://github.com/LSPosed/LSPosed"}]
["nmap/nmap",{"$f":"VLOOKUP(A4102,汇总!D:E,2,FALSE)","v":"https://github.com/nmap/nmap"}]
["DoctorWkt/acwj",{"$f":"VLOOKUP(A4103,汇总!D:E,2,FALSE)","v":"https://github.com/DoctorWkt/acwj"}]
["edeng23/binance-trade-bot",{"$f":"VLOOKUP(A4104,汇总!D:E,2,FALSE)","v":"https://github.com/edeng23/binance-trade-bot"}]
["cazala/synaptic",{"$f":"VLOOKUP(A4105,汇总!D:E,2,FALSE)","v":"https://github.com/cazala/synaptic"}]
["snipe/snipe-it",{"$f":"VLOOKUP(A4106,汇总!D:E,2,FALSE)","v":"https://github.com/snipe/snipe-it"}]
["hamcrest/hamcrest-php",{"$f":"VLOOKUP(A4107,汇总!D:E,2,FALSE)","v":"https://github.com/hamcrest/hamcrest-php"}]
["jsonmodel/jsonmodel",{"$f":"VLOOKUP(A4108,汇总!D:E,2,FALSE)","v":"https://github.com/jsonmodel/jsonmodel"}]
["official-stockfish/Stockfish",{"$f":"VLOOKUP(A4109,汇总!D:E,2,FALSE)","v":"https://github.com/official-stockfish/Stockfish"}]
["Hacker0x01/react-datepicker",{"$f":"VLOOKUP(A4110,汇总!D:E,2,FALSE)","v":"https://github.com/Hacker0x01/react-datepicker"}]
["hackergrrl/art-of-readme",{"$f":"VLOOKUP(A4111,汇总!D:E,2,FALSE)","v":"https://github.com/hackergrrl/art-of-readme"}]
["google/skia",{"$f":"VLOOKUP(A4112,汇总!D:E,2,FALSE)","v":"https://github.com/google/skia"}]
["fengdu78/Data-Science-Notes",{"$f":"VLOOKUP(A4113,汇总!D:E,2,FALSE)","v":"https://github.com/fengdu78/Data-Science-Notes"}]
["xmu-xiaoma666/External-Attention-pytorch",{"$f":"VLOOKUP(A4114,汇总!D:E,2,FALSE)","v":"https://github.com/xmu-xiaoma666/External-Attention-pytorch"}]
["ptomasroos/react-native-scrollable-tab-view",{"$f":"VLOOKUP(A4115,汇总!D:E,2,FALSE)","v":"https://github.com/ptomasroos/react-native-scrollable-tab-view"}]
["brunch/brunch",{"$f":"VLOOKUP(A4116,汇总!D:E,2,FALSE)","v":"https://github.com/brunch/brunch"}]
["thebird/Swipe",{"$f":"VLOOKUP(A4117,汇总!D:E,2,FALSE)","v":"https://github.com/thebird/Swipe"}]
["marcosgriselli/ViewAnimator",{"$f":"VLOOKUP(A4118,汇总!D:E,2,FALSE)","v":"https://github.com/marcosgriselli/ViewAnimator"}]
["neon-bindings/neon",{"$f":"VLOOKUP(A4119,汇总!D:E,2,FALSE)","v":"https://github.com/neon-bindings/neon"}]
["Tencent/Hippy",{"$f":"VLOOKUP(A4120,汇总!D:E,2,FALSE)","v":"https://github.com/Tencent/Hippy"}]
["NixOS/nix",{"$f":"VLOOKUP(A4121,汇总!D:E,2,FALSE)","v":"https://github.com/NixOS/nix"}]
["senghoo/golang-design-pattern",{"$f":"VLOOKUP(A4122,汇总!D:E,2,FALSE)","v":"https://github.com/senghoo/golang-design-pattern"}]
["wildfirechat/im-server",{"$f":"VLOOKUP(A4123,汇总!D:E,2,FALSE)","v":"https://github.com/wildfirechat/im-server"}]
["cssinjs/jss",{"$f":"VLOOKUP(A4124,汇总!D:E,2,FALSE)","v":"https://github.com/cssinjs/jss"}]
["99designs/aws-vault",{"$f":"VLOOKUP(A4125,汇总!D:E,2,FALSE)","v":"https://github.com/99designs/aws-vault"}]
["krzysztofzablocki/Sourcery",{"$f":"VLOOKUP(A4126,汇总!D:E,2,FALSE)","v":"https://github.com/krzysztofzablocki/Sourcery"}]
["microsoft/unilm",{"$f":"VLOOKUP(A4127,汇总!D:E,2,FALSE)","v":"https://github.com/microsoft/unilm"}]
["google/lovefield",{"$f":"VLOOKUP(A4128,汇总!D:E,2,FALSE)","v":"https://github.com/google/lovefield"}]
["bup/bup",{"$f":"VLOOKUP(A4129,汇总!D:E,2,FALSE)","v":"https://github.com/bup/bup"}]
["gcc-mirror/gcc",{"$f":"VLOOKUP(A4130,汇总!D:E,2,FALSE)","v":"https://github.com/gcc-mirror/gcc"}]
["jupyterhub/jupyterhub",{"$f":"VLOOKUP(A4131,汇总!D:E,2,FALSE)","v":"https://github.com/jupyterhub/jupyterhub"}]
["canonical/microk8s",{"$f":"VLOOKUP(A4132,汇总!D:E,2,FALSE)","v":"https://github.com/canonical/microk8s"}]
["renzifeng/ZFPlayer",{"$f":"VLOOKUP(A4133,汇总!D:E,2,FALSE)","v":"https://github.com/renzifeng/ZFPlayer"}]
["gregberge/loadable-components",{"$f":"VLOOKUP(A4134,汇总!D:E,2,FALSE)","v":"https://github.com/gregberge/loadable-components"}]
["rethinkdb/horizon",{"$f":"VLOOKUP(A4135,汇总!D:E,2,FALSE)","v":"https://github.com/rethinkdb/horizon"}]
["MiCode/Xiaomi_Kernel_OpenSource",{"$f":"VLOOKUP(A4136,汇总!D:E,2,FALSE)","v":"https://github.com/MiCode/Xiaomi_Kernel_OpenSource"}]
["any86/any-rule",{"$f":"VLOOKUP(A4137,汇总!D:E,2,FALSE)","v":"https://github.com/any86/any-rule"}]
["plantuml/plantuml",{"$f":"VLOOKUP(A4138,汇总!D:E,2,FALSE)","v":"https://github.com/plantuml/plantuml"}]
["Vincit/objection.js",{"$f":"VLOOKUP(A4139,汇总!D:E,2,FALSE)","v":"https://github.com/Vincit/objection.js"}]
["eriklindernoren/PyTorch-YOLOv3",{"$f":"VLOOKUP(A4140,汇总!D:E,2,FALSE)","v":"https://github.com/eriklindernoren/PyTorch-YOLOv3"}]
["kazupon/vue-i18n",{"$f":"VLOOKUP(A4141,汇总!D:E,2,FALSE)","v":"https://github.com/kazupon/vue-i18n"}]
["Compass/compass",{"$f":"VLOOKUP(A4142,汇总!D:E,2,FALSE)","v":"https://github.com/Compass/compass"}]
["zijie0/HumanSystemOptimization",{"$f":"VLOOKUP(A4143,汇总!D:E,2,FALSE)","v":"https://github.com/zijie0/HumanSystemOptimization"}]
["fontello/fontello",{"$f":"VLOOKUP(A4144,汇总!D:E,2,FALSE)","v":"https://github.com/fontello/fontello"}]
["openwall/john",{"$f":"VLOOKUP(A4145,汇总!D:E,2,FALSE)","v":"https://github.com/openwall/john"}]
["BetterErrors/better_errors",{"$f":"VLOOKUP(A4146,汇总!D:E,2,FALSE)","v":"https://github.com/BetterErrors/better_errors"}]
["xmartlabs/XLPagerTabStrip",{"$f":"VLOOKUP(A4147,汇总!D:E,2,FALSE)","v":"https://github.com/xmartlabs/XLPagerTabStrip"}]
["sindresorhus/np",{"$f":"VLOOKUP(A4148,汇总!D:E,2,FALSE)","v":"https://github.com/sindresorhus/np"}]
["Laravel-Lang/lang",{"$f":"VLOOKUP(A4149,汇总!D:E,2,FALSE)","v":"https://github.com/Laravel-Lang/lang"}]
["kanboard/kanboard",{"$f":"VLOOKUP(A4150,汇总!D:E,2,FALSE)","v":"https://github.com/kanboard/kanboard"}]
["Integerous/goQuality-dev-contents",{"$f":"VLOOKUP(A4151,汇总!D:E,2,FALSE)","v":"https://github.com/Integerous/goQuality-dev-contents"}]
["sb2nov/mac-setup",{"$f":"VLOOKUP(A4152,汇总!D:E,2,FALSE)","v":"https://github.com/sb2nov/mac-setup"}]
["amejiarosario/dsa.js-data-structures-algorithms-javascript",{"$f":"VLOOKUP(A4153,汇总!D:E,2,FALSE)","v":"https://github.com/amejiarosario/dsa.js-data-structures-algorithms-javascript"}]
["mutualmobile/MMDrawerController",{"$f":"VLOOKUP(A4154,汇总!D:E,2,FALSE)","v":"https://github.com/mutualmobile/MMDrawerController"}]
["AGWA/git-crypt",{"$f":"VLOOKUP(A4155,汇总!D:E,2,FALSE)","v":"https://github.com/AGWA/git-crypt"}]
["davatron5000/FitText.js",{"$f":"VLOOKUP(A4156,汇总!D:E,2,FALSE)","v":"https://github.com/davatron5000/FitText.js"}]
["fengyuanchen/viewerjs",{"$f":"VLOOKUP(A4157,汇总!D:E,2,FALSE)","v":"https://github.com/fengyuanchen/viewerjs"}]
["phuocng/csslayout",{"$f":"VLOOKUP(A4158,汇总!D:E,2,FALSE)","v":"https://github.com/phuocng/csslayout"}]
["visgl/react-map-gl",{"$f":"VLOOKUP(A4159,汇总!D:E,2,FALSE)","v":"https://github.com/visgl/react-map-gl"}]
["yutiansut/QUANTAXIS",{"$f":"VLOOKUP(A4160,汇总!D:E,2,FALSE)","v":"https://github.com/yutiansut/QUANTAXIS"}]
["mbdavid/LiteDB",{"$f":"VLOOKUP(A4161,汇总!D:E,2,FALSE)","v":"https://github.com/mbdavid/LiteDB"}]
["tgalal/yowsup",{"$f":"VLOOKUP(A4162,汇总!D:E,2,FALSE)","v":"https://github.com/tgalal/yowsup"}]
["qemu/qemu",{"$f":"VLOOKUP(A4163,汇总!D:E,2,FALSE)","v":"https://github.com/qemu/qemu"}]
["ninenines/cowboy",{"$f":"VLOOKUP(A4164,汇总!D:E,2,FALSE)","v":"https://github.com/ninenines/cowboy"}]
["lcobucci/jwt",{"$f":"VLOOKUP(A4165,汇总!D:E,2,FALSE)","v":"https://github.com/lcobucci/jwt"}]
["electron/fiddle",{"$f":"VLOOKUP(A4166,汇总!D:E,2,FALSE)","v":"https://github.com/electron/fiddle"}]
["qiu-deqing/FE-interview",{"$f":"VLOOKUP(A4167,汇总!D:E,2,FALSE)","v":"https://github.com/qiu-deqing/FE-interview"}]
["mleibman/SlickGrid",{"$f":"VLOOKUP(A4168,汇总!D:E,2,FALSE)","v":"https://github.com/mleibman/SlickGrid"}]
["shidenggui/easytrader",{"$f":"VLOOKUP(A4169,汇总!D:E,2,FALSE)","v":"https://github.com/shidenggui/easytrader"}]
["filamentgroup/loadCSS",{"$f":"VLOOKUP(A4170,汇总!D:E,2,FALSE)","v":"https://github.com/filamentgroup/loadCSS"}]
["doccano/doccano",{"$f":"VLOOKUP(A4171,汇总!D:E,2,FALSE)","v":"https://github.com/doccano/doccano"}]
["RockstarLang/rockstar",{"$f":"VLOOKUP(A4172,汇总!D:E,2,FALSE)","v":"https://github.com/RockstarLang/rockstar"}]
["andrew--r/frontend-case-studies",{"$f":"VLOOKUP(A4173,汇总!D:E,2,FALSE)","v":"https://github.com/andrew--r/frontend-case-studies"}]
["jonsuh/hamburgers",{"$f":"VLOOKUP(A4174,汇总!D:E,2,FALSE)","v":"https://github.com/jonsuh/hamburgers"}]
["PrestaShop/PrestaShop",{"$f":"VLOOKUP(A4175,汇总!D:E,2,FALSE)","v":"https://github.com/PrestaShop/PrestaShop"}]
["0x7c13/Notepads",{"$f":"VLOOKUP(A4176,汇总!D:E,2,FALSE)","v":"https://github.com/0x7c13/Notepads"}]
["NLPchina/elasticsearch-sql",{"$f":"VLOOKUP(A4177,汇总!D:E,2,FALSE)","v":"https://github.com/NLPchina/elasticsearch-sql"}]
["avast/retdec",{"$f":"VLOOKUP(A4178,汇总!D:E,2,FALSE)","v":"https://github.com/avast/retdec"}]
["naman14/Timber",{"$f":"VLOOKUP(A4179,汇总!D:E,2,FALSE)","v":"https://github.com/naman14/Timber"}]
["mRemoteNG/mRemoteNG",{"$f":"VLOOKUP(A4180,汇总!D:E,2,FALSE)","v":"https://github.com/mRemoteNG/mRemoteNG"}]
["juicedata/juicefs",{"$f":"VLOOKUP(A4181,汇总!D:E,2,FALSE)","v":"https://github.com/juicedata/juicefs"}]
["DroidPluginTeam/DroidPlugin",{"$f":"VLOOKUP(A4182,汇总!D:E,2,FALSE)","v":"https://github.com/DroidPluginTeam/DroidPlugin"}]
["flyway/flyway",{"$f":"VLOOKUP(A4183,汇总!D:E,2,FALSE)","v":"https://github.com/flyway/flyway"}]
["go-resty/resty",{"$f":"VLOOKUP(A4184,汇总!D:E,2,FALSE)","v":"https://github.com/go-resty/resty"}]
["Exrick/xmall",{"$f":"VLOOKUP(A4185,汇总!D:E,2,FALSE)","v":"https://github.com/Exrick/xmall"}]
["enquirer/enquirer",{"$f":"VLOOKUP(A4186,汇总!D:E,2,FALSE)","v":"https://github.com/enquirer/enquirer"}]
["github/scientist",{"$f":"VLOOKUP(A4187,汇总!D:E,2,FALSE)","v":"https://github.com/github/scientist"}]
["AllThingsSmitty/must-watch-javascript",{"$f":"VLOOKUP(A4188,汇总!D:E,2,FALSE)","v":"https://github.com/AllThingsSmitty/must-watch-javascript"}]
["deepmind/lab",{"$f":"VLOOKUP(A4189,汇总!D:E,2,FALSE)","v":"https://github.com/deepmind/lab"}]
["roadrunner-server/roadrunner",{"$f":"VLOOKUP(A4190,汇总!D:E,2,FALSE)","v":"https://github.com/roadrunner-server/roadrunner"}]
["LemmyNet/lemmy",{"$f":"VLOOKUP(A4191,汇总!D:E,2,FALSE)","v":"https://github.com/LemmyNet/lemmy"}]
["a-b-street/abstreet",{"$f":"VLOOKUP(A4192,汇总!D:E,2,FALSE)","v":"https://github.com/a-b-street/abstreet"}]
["catboost/catboost",{"$f":"VLOOKUP(A4193,汇总!D:E,2,FALSE)","v":"https://github.com/catboost/catboost"}]
["bottlerocket-os/bottlerocket",{"$f":"VLOOKUP(A4194,汇总!D:E,2,FALSE)","v":"https://github.com/bottlerocket-os/bottlerocket"}]
["docker/dockercraft",{"$f":"VLOOKUP(A4195,汇总!D:E,2,FALSE)","v":"https://github.com/docker/dockercraft"}]
["meetecho/janus-gateway",{"$f":"VLOOKUP(A4196,汇总!D:E,2,FALSE)","v":"https://github.com/meetecho/janus-gateway"}]
["volta-cli/volta",{"$f":"VLOOKUP(A4197,汇总!D:E,2,FALSE)","v":"https://github.com/volta-cli/volta"}]
["blasten/turn.js",{"$f":"VLOOKUP(A4198,汇总!D:E,2,FALSE)","v":"https://github.com/blasten/turn.js"}]
["baldurk/renderdoc",{"$f":"VLOOKUP(A4199,汇总!D:E,2,FALSE)","v":"https://github.com/baldurk/renderdoc"}]
["easymotion/vim-easymotion",{"$f":"VLOOKUP(A4200,汇总!D:E,2,FALSE)","v":"https://github.com/easymotion/vim-easymotion"}]
["mailgun/transactional-email-templates",{"$f":"VLOOKUP(A4201,汇总!D:E,2,FALSE)","v":"https://github.com/mailgun/transactional-email-templates"}]
["We5ter/Scanners-Box",{"$f":"VLOOKUP(A4202,汇总!D:E,2,FALSE)","v":"https://github.com/We5ter/Scanners-Box"}]
["NodeOS/NodeOS",{"$f":"VLOOKUP(A4203,汇总!D:E,2,FALSE)","v":"https://github.com/NodeOS/NodeOS"}]
["kubernetes/client-go",{"$f":"VLOOKUP(A4204,汇总!D:E,2,FALSE)","v":"https://github.com/kubernetes/client-go"}]
["eclipse/che",{"$f":"VLOOKUP(A4205,汇总!D:E,2,FALSE)","v":"https://github.com/eclipse/che"}]
["needim/noty",{"$f":"VLOOKUP(A4206,汇总!D:E,2,FALSE)","v":"https://github.com/needim/noty"}]
["ChenYilong/CYLTabBarController",{"$f":"VLOOKUP(A4207,汇总!D:E,2,FALSE)","v":"https://github.com/ChenYilong/CYLTabBarController"}]
["PaperMC/Paper",{"$f":"VLOOKUP(A4208,汇总!D:E,2,FALSE)","v":"https://github.com/PaperMC/Paper"}]
["wowchemy/wowchemy-hugo-themes",{"$f":"VLOOKUP(A4209,汇总!D:E,2,FALSE)","v":"https://github.com/wowchemy/wowchemy-hugo-themes"}]
["nestjs/awesome-nestjs",{"$f":"VLOOKUP(A4210,汇总!D:E,2,FALSE)","v":"https://github.com/nestjs/awesome-nestjs"}]
["blender/blender",{"$f":"VLOOKUP(A4211,汇总!D:E,2,FALSE)","v":"https://github.com/blender/blender"}]
["SSHeRun/CS-Xmind-Note",{"$f":"VLOOKUP(A4212,汇总!D:E,2,FALSE)","v":"https://github.com/SSHeRun/CS-Xmind-Note"}]
["choojs/choo",{"$f":"VLOOKUP(A4213,汇总!D:E,2,FALSE)","v":"https://github.com/choojs/choo"}]
["orf/gping",{"$f":"VLOOKUP(A4214,汇总!D:E,2,FALSE)","v":"https://github.com/orf/gping"}]
["zephyrproject-rtos/zephyr",{"$f":"VLOOKUP(A4215,汇总!D:E,2,FALSE)","v":"https://github.com/zephyrproject-rtos/zephyr"}]
["cloudflare/quiche",{"$f":"VLOOKUP(A4216,汇总!D:E,2,FALSE)","v":"https://github.com/cloudflare/quiche"}]
["puppetlabs/puppet",{"$f":"VLOOKUP(A4217,汇总!D:E,2,FALSE)","v":"https://github.com/puppetlabs/puppet"}]
["lenve/VBlog",{"$f":"VLOOKUP(A4218,汇总!D:E,2,FALSE)","v":"https://github.com/lenve/VBlog"}]
["Universidade-Livre/ciencia-da-computacao",{"$f":"VLOOKUP(A4219,汇总!D:E,2,FALSE)","v":"https://github.com/Universidade-Livre/ciencia-da-computacao"}]
["rovo89/Xposed",{"$f":"VLOOKUP(A4220,汇总!D:E,2,FALSE)","v":"https://github.com/rovo89/Xposed"}]
["actions/starter-workflows",{"$f":"VLOOKUP(A4221,汇总!D:E,2,FALSE)","v":"https://github.com/actions/starter-workflows"}]
["alvarcarto/url-to-pdf-api",{"$f":"VLOOKUP(A4222,汇总!D:E,2,FALSE)","v":"https://github.com/alvarcarto/url-to-pdf-api"}]
["dylanaraps/pywal",{"$f":"VLOOKUP(A4223,汇总!D:E,2,FALSE)","v":"https://github.com/dylanaraps/pywal"}]
["rasbt/python-machine-learning-book-2nd-edition",{"$f":"VLOOKUP(A4224,汇总!D:E,2,FALSE)","v":"https://github.com/rasbt/python-machine-learning-book-2nd-edition"}]
["awslabs/aws-shell",{"$f":"VLOOKUP(A4225,汇总!D:E,2,FALSE)","v":"https://github.com/awslabs/aws-shell"}]
["nginx-proxy/acme-companion",{"$f":"VLOOKUP(A4226,汇总!D:E,2,FALSE)","v":"https://github.com/nginx-proxy/acme-companion"}]
["holman/dotfiles",{"$f":"VLOOKUP(A4227,汇总!D:E,2,FALSE)","v":"https://github.com/holman/dotfiles"}]
["csseky/cskaoyan",{"$f":"VLOOKUP(A4228,汇总!D:E,2,FALSE)","v":"https://github.com/csseky/cskaoyan"}]
["material-shell/material-shell",{"$f":"VLOOKUP(A4229,汇总!D:E,2,FALSE)","v":"https://github.com/material-shell/material-shell"}]
["open-source-parsers/jsoncpp",{"$f":"VLOOKUP(A4230,汇总!D:E,2,FALSE)","v":"https://github.com/open-source-parsers/jsoncpp"}]
["actions/runner-images",{"$f":"VLOOKUP(A4231,汇总!D:E,2,FALSE)","v":"https://github.com/actions/runner-images"}]
["electronicarts/EASTL",{"$f":"VLOOKUP(A4232,汇总!D:E,2,FALSE)","v":"https://github.com/electronicarts/EASTL"}]
["hongyangAndroid/AndroidAutoLayout",{"$f":"VLOOKUP(A4233,汇总!D:E,2,FALSE)","v":"https://github.com/hongyangAndroid/AndroidAutoLayout"}]
["conventional-changelog/standard-version",{"$f":"VLOOKUP(A4234,汇总!D:E,2,FALSE)","v":"https://github.com/conventional-changelog/standard-version"}]
["aheckmann/gm",{"$f":"VLOOKUP(A4235,汇总!D:E,2,FALSE)","v":"https://github.com/aheckmann/gm"}]
["Ewenwan/MVision",{"$f":"VLOOKUP(A4236,汇总!D:E,2,FALSE)","v":"https://github.com/Ewenwan/MVision"}]
["li-xiaojun/XPopup",{"$f":"VLOOKUP(A4237,汇总!D:E,2,FALSE)","v":"https://github.com/li-xiaojun/XPopup"}]
["sourcegraph/sourcegraph",{"$f":"VLOOKUP(A4238,汇总!D:E,2,FALSE)","v":"https://github.com/sourcegraph/sourcegraph"}]
["xufei/blog",{"$f":"VLOOKUP(A4239,汇总!D:E,2,FALSE)","v":"https://github.com/xufei/blog"}]
["jobbole/awesome-cpp-cn",{"$f":"VLOOKUP(A4240,汇总!D:E,2,FALSE)","v":"https://github.com/jobbole/awesome-cpp-cn"}]
["Tencent/QMUI_iOS",{"$f":"VLOOKUP(A4241,汇总!D:E,2,FALSE)","v":"https://github.com/Tencent/QMUI_iOS"}]
["duckdb/duckdb",{"$f":"VLOOKUP(A4242,汇总!D:E,2,FALSE)","v":"https://github.com/duckdb/duckdb"}]
["ElemeFE/v-charts",{"$f":"VLOOKUP(A4243,汇总!D:E,2,FALSE)","v":"https://github.com/ElemeFE/v-charts"}]
["octref/polacode",{"$f":"VLOOKUP(A4244,汇总!D:E,2,FALSE)","v":"https://github.com/octref/polacode"}]
["Radarr/Radarr",{"$f":"VLOOKUP(A4245,汇总!D:E,2,FALSE)","v":"https://github.com/Radarr/Radarr"}]
["changgyhub/leetcode_101",{"$f":"VLOOKUP(A4246,汇总!D:E,2,FALSE)","v":"https://github.com/changgyhub/leetcode_101"}]
["NVIDIA/apex",{"$f":"VLOOKUP(A4247,汇总!D:E,2,FALSE)","v":"https://github.com/NVIDIA/apex"}]
["openethereum/parity-ethereum",{"$f":"VLOOKUP(A4248,汇总!D:E,2,FALSE)","v":"https://github.com/openethereum/parity-ethereum"}]
["EmpireProject/Empire",{"$f":"VLOOKUP(A4249,汇总!D:E,2,FALSE)","v":"https://github.com/EmpireProject/Empire"}]
["peng-zhihui/L-ink_Card",{"$f":"VLOOKUP(A4250,汇总!D:E,2,FALSE)","v":"https://github.com/peng-zhihui/L-ink_Card"}]
["coodict/javascript-in-one-pic",{"$f":"VLOOKUP(A4251,汇总!D:E,2,FALSE)","v":"https://github.com/coodict/javascript-in-one-pic"}]
["vmware-tanzu/velero",{"$f":"VLOOKUP(A4252,汇总!D:E,2,FALSE)","v":"https://github.com/vmware-tanzu/velero"}]
["sourcerer-io/sourcerer-app",{"$f":"VLOOKUP(A4253,汇总!D:E,2,FALSE)","v":"https://github.com/sourcerer-io/sourcerer-app"}]
["SwiftKickMobile/SwiftMessages",{"$f":"VLOOKUP(A4254,汇总!D:E,2,FALSE)","v":"https://github.com/SwiftKickMobile/SwiftMessages"}]
["omcljs/om",{"$f":"VLOOKUP(A4255,汇总!D:E,2,FALSE)","v":"https://github.com/omcljs/om"}]
["aimacode/aima-python",{"$f":"VLOOKUP(A4256,汇总!D:E,2,FALSE)","v":"https://github.com/aimacode/aima-python"}]
["SecWiki/windows-kernel-exploits",{"$f":"VLOOKUP(A4257,汇总!D:E,2,FALSE)","v":"https://github.com/SecWiki/windows-kernel-exploits"}]
["Fmstrat/winapps",{"$f":"VLOOKUP(A4258,汇总!D:E,2,FALSE)","v":"https://github.com/Fmstrat/winapps"}]
["Saul-Mirone/milkdown",{"$f":"VLOOKUP(A4259,汇总!D:E,2,FALSE)","v":"https://github.com/Saul-Mirone/milkdown"}]
["vanhauser-thc/thc-hydra",{"$f":"VLOOKUP(A4260,汇总!D:E,2,FALSE)","v":"https://github.com/vanhauser-thc/thc-hydra"}]
["blue-yonder/tsfresh",{"$f":"VLOOKUP(A4261,汇总!D:E,2,FALSE)","v":"https://github.com/blue-yonder/tsfresh"}]
["shadowsocks/shadowsocks-go",{"$f":"VLOOKUP(A4262,汇总!D:E,2,FALSE)","v":"https://github.com/shadowsocks/shadowsocks-go"}]
["invoiceninja/invoiceninja",{"$f":"VLOOKUP(A4263,汇总!D:E,2,FALSE)","v":"https://github.com/invoiceninja/invoiceninja"}]
["sindresorhus/fkill-cli",{"$f":"VLOOKUP(A4264,汇总!D:E,2,FALSE)","v":"https://github.com/sindresorhus/fkill-cli"}]
["sebastianbergmann/comparator",{"$f":"VLOOKUP(A4265,汇总!D:E,2,FALSE)","v":"https://github.com/sebastianbergmann/comparator"}]
["RMerl/asuswrt-merlin",{"$f":"VLOOKUP(A4266,汇总!D:E,2,FALSE)","v":"https://github.com/RMerl/asuswrt-merlin"}]
["Workiva/go-datastructures",{"$f":"VLOOKUP(A4267,汇总!D:E,2,FALSE)","v":"https://github.com/Workiva/go-datastructures"}]
["pwn20wndstuff/Undecimus",{"$f":"VLOOKUP(A4268,汇总!D:E,2,FALSE)","v":"https://github.com/pwn20wndstuff/Undecimus"}]
["YunaiV/yudao-cloud",{"$f":"VLOOKUP(A4269,汇总!D:E,2,FALSE)","v":"https://github.com/YunaiV/yudao-cloud"}]
["android-cn/android-open-project-analysis",{"$f":"VLOOKUP(A4270,汇总!D:E,2,FALSE)","v":"https://github.com/android-cn/android-open-project-analysis"}]
["hugapi/hug",{"$f":"VLOOKUP(A4271,汇总!D:E,2,FALSE)","v":"https://github.com/hugapi/hug"}]
["MatrixTM/MHDDoS",{"$f":"VLOOKUP(A4272,汇总!D:E,2,FALSE)","v":"https://github.com/MatrixTM/MHDDoS"}]
["taylorchen709/vue-admin",{"$f":"VLOOKUP(A4273,汇总!D:E,2,FALSE)","v":"https://github.com/taylorchen709/vue-admin"}]
["flyerhzm/bullet",{"$f":"VLOOKUP(A4274,汇总!D:E,2,FALSE)","v":"https://github.com/flyerhzm/bullet"}]
["BuilderIO/mitosis",{"$f":"VLOOKUP(A4275,汇总!D:E,2,FALSE)","v":"https://github.com/BuilderIO/mitosis"}]
["schollz/howmanypeoplearearound",{"$f":"VLOOKUP(A4276,汇总!D:E,2,FALSE)","v":"https://github.com/schollz/howmanypeoplearearound"}]
["infosecn1nja/Red-Teaming-Toolkit",{"$f":"VLOOKUP(A4277,汇总!D:E,2,FALSE)","v":"https://github.com/infosecn1nja/Red-Teaming-Toolkit"}]
["mde/ejs",{"$f":"VLOOKUP(A4278,汇总!D:E,2,FALSE)","v":"https://github.com/mde/ejs"}]
["PaddlePaddle/models",{"$f":"VLOOKUP(A4279,汇总!D:E,2,FALSE)","v":"https://github.com/PaddlePaddle/models"}]
["cassidoo/getting-a-gig",{"$f":"VLOOKUP(A4280,汇总!D:E,2,FALSE)","v":"https://github.com/cassidoo/getting-a-gig"}]
["sindresorhus/screenfull",{"$f":"VLOOKUP(A4281,汇总!D:E,2,FALSE)","v":"https://github.com/sindresorhus/screenfull"}]
["BYVoid/OpenCC",{"$f":"VLOOKUP(A4282,汇总!D:E,2,FALSE)","v":"https://github.com/BYVoid/OpenCC"}]
["apify/crawlee",{"$f":"VLOOKUP(A4283,汇总!D:E,2,FALSE)","v":"https://github.com/apify/crawlee"}]
["HospitalRun/hospitalrun-frontend",{"$f":"VLOOKUP(A4284,汇总!D:E,2,FALSE)","v":"https://github.com/HospitalRun/hospitalrun-frontend"}]
["alexeygrigorev/data-science-interviews",{"$f":"VLOOKUP(A4285,汇总!D:E,2,FALSE)","v":"https://github.com/alexeygrigorev/data-science-interviews"}]
["zeroclipboard/zeroclipboard",{"$f":"VLOOKUP(A4286,汇总!D:E,2,FALSE)","v":"https://github.com/zeroclipboard/zeroclipboard"}]
["digininja/DVWA",{"$f":"VLOOKUP(A4287,汇总!D:E,2,FALSE)","v":"https://github.com/digininja/DVWA"}]
["eclipse/mosquitto",{"$f":"VLOOKUP(A4288,汇总!D:E,2,FALSE)","v":"https://github.com/eclipse/mosquitto"}]
["Cyan4973/xxHash",{"$f":"VLOOKUP(A4289,汇总!D:E,2,FALSE)","v":"https://github.com/Cyan4973/xxHash"}]
["open-power-workgroup/Hospital",{"$f":"VLOOKUP(A4290,汇总!D:E,2,FALSE)","v":"https://github.com/open-power-workgroup/Hospital"}]
["beakerbrowser/beaker",{"$f":"VLOOKUP(A4291,汇总!D:E,2,FALSE)","v":"https://github.com/beakerbrowser/beaker"}]
["PyO3/pyo3",{"$f":"VLOOKUP(A4292,汇总!D:E,2,FALSE)","v":"https://github.com/PyO3/pyo3"}]
["prowler-cloud/prowler",{"$f":"VLOOKUP(A4293,汇总!D:E,2,FALSE)","v":"https://github.com/prowler-cloud/prowler"}]
["google/closure-compiler",{"$f":"VLOOKUP(A4294,汇总!D:E,2,FALSE)","v":"https://github.com/google/closure-compiler"}]
["dixonandmoe/rellax",{"$f":"VLOOKUP(A4295,汇总!D:E,2,FALSE)","v":"https://github.com/dixonandmoe/rellax"}]
["rxi/lite",{"$f":"VLOOKUP(A4296,汇总!D:E,2,FALSE)","v":"https://github.com/rxi/lite"}]
["glidejs/glide",{"$f":"VLOOKUP(A4297,汇总!D:E,2,FALSE)","v":"https://github.com/glidejs/glide"}]
["engineerapart/TheRemoteFreelancer",{"$f":"VLOOKUP(A4298,汇总!D:E,2,FALSE)","v":"https://github.com/engineerapart/TheRemoteFreelancer"}]
["ankane/pghero",{"$f":"VLOOKUP(A4299,汇总!D:E,2,FALSE)","v":"https://github.com/ankane/pghero"}]
["adamian98/pulse",{"$f":"VLOOKUP(A4300,汇总!D:E,2,FALSE)","v":"https://github.com/adamian98/pulse"}]
["bxcodec/go-clean-arch",{"$f":"VLOOKUP(A4301,汇总!D:E,2,FALSE)","v":"https://github.com/bxcodec/go-clean-arch"}]
["conventional-changelog/conventional-changelog",{"$f":"VLOOKUP(A4302,汇总!D:E,2,FALSE)","v":"https://github.com/conventional-changelog/conventional-changelog"}]
["coqui-ai/TTS",{"$f":"VLOOKUP(A4303,汇总!D:E,2,FALSE)","v":"https://github.com/coqui-ai/TTS"}]
["php-fig/http-message",{"$f":"VLOOKUP(A4304,汇总!D:E,2,FALSE)","v":"https://github.com/php-fig/http-message"}]
["OJ/gobuster",{"$f":"VLOOKUP(A4305,汇总!D:E,2,FALSE)","v":"https://github.com/OJ/gobuster"}]
["adobe-fonts/source-han-serif",{"$f":"VLOOKUP(A4306,汇总!D:E,2,FALSE)","v":"https://github.com/adobe-fonts/source-han-serif"}]
["azat-io/you-dont-know-js-ru",{"$f":"VLOOKUP(A4307,汇总!D:E,2,FALSE)","v":"https://github.com/azat-io/you-dont-know-js-ru"}]
["chyingp/nodejs-learning-guide",{"$f":"VLOOKUP(A4308,汇总!D:E,2,FALSE)","v":"https://github.com/chyingp/nodejs-learning-guide"}]
["xiaolai/everyone-can-use-english",{"$f":"VLOOKUP(A4309,汇总!D:E,2,FALSE)","v":"https://github.com/xiaolai/everyone-can-use-english"}]
["jquery/esprima",{"$f":"VLOOKUP(A4310,汇总!D:E,2,FALSE)","v":"https://github.com/jquery/esprima"}]
["QuantConnect/Lean",{"$f":"VLOOKUP(A4311,汇总!D:E,2,FALSE)","v":"https://github.com/QuantConnect/Lean"}]
["labs42io/clean-code-typescript",{"$f":"VLOOKUP(A4312,汇总!D:E,2,FALSE)","v":"https://github.com/labs42io/clean-code-typescript"}]
["zetbaitsu/Compressor",{"$f":"VLOOKUP(A4313,汇总!D:E,2,FALSE)","v":"https://github.com/zetbaitsu/Compressor"}]
["Jack-Cherish/Machine-Learning",{"$f":"VLOOKUP(A4314,汇总!D:E,2,FALSE)","v":"https://github.com/Jack-Cherish/Machine-Learning"}]
["Gazler/githug",{"$f":"VLOOKUP(A4315,汇总!D:E,2,FALSE)","v":"https://github.com/Gazler/githug"}]
["Angel-ML/angel",{"$f":"VLOOKUP(A4316,汇总!D:E,2,FALSE)","v":"https://github.com/Angel-ML/angel"}]
["Tencent/Shadow",{"$f":"VLOOKUP(A4317,汇总!D:E,2,FALSE)","v":"https://github.com/Tencent/Shadow"}]
["vpncn/vpncn.github.io",{"$f":"VLOOKUP(A4318,汇总!D:E,2,FALSE)","v":"https://github.com/vpncn/vpncn.github.io"}]
["biancangming/wtv",{"$f":"VLOOKUP(A4319,汇总!D:E,2,FALSE)","v":"https://github.com/biancangming/wtv"}]
["kpdecker/jsdiff",{"$f":"VLOOKUP(A4320,汇总!D:E,2,FALSE)","v":"https://github.com/kpdecker/jsdiff"}]
["appleboy/gorush",{"$f":"VLOOKUP(A4321,汇总!D:E,2,FALSE)","v":"https://github.com/appleboy/gorush"}]
["gocd/gocd",{"$f":"VLOOKUP(A4322,汇总!D:E,2,FALSE)","v":"https://github.com/gocd/gocd"}]
["TechEmpower/FrameworkBenchmarks",{"$f":"VLOOKUP(A4323,汇总!D:E,2,FALSE)","v":"https://github.com/TechEmpower/FrameworkBenchmarks"}]
["xingyizhou/CenterNet",{"$f":"VLOOKUP(A4324,汇总!D:E,2,FALSE)","v":"https://github.com/xingyizhou/CenterNet"}]
["abraunegg/onedrive",{"$f":"VLOOKUP(A4325,汇总!D:E,2,FALSE)","v":"https://github.com/abraunegg/onedrive"}]
["axi0mX/ipwndfu",{"$f":"VLOOKUP(A4326,汇总!D:E,2,FALSE)","v":"https://github.com/axi0mX/ipwndfu"}]
["hotoo/pinyin",{"$f":"VLOOKUP(A4327,汇总!D:E,2,FALSE)","v":"https://github.com/hotoo/pinyin"}]
["all-contributors/all-contributors",{"$f":"VLOOKUP(A4328,汇总!D:E,2,FALSE)","v":"https://github.com/all-contributors/all-contributors"}]
["WenchaoD/FSPagerView",{"$f":"VLOOKUP(A4329,汇总!D:E,2,FALSE)","v":"https://github.com/WenchaoD/FSPagerView"}]
["opencart/opencart",{"$f":"VLOOKUP(A4330,汇总!D:E,2,FALSE)","v":"https://github.com/opencart/opencart"}]
["kelektiv/node.bcrypt.js",{"$f":"VLOOKUP(A4331,汇总!D:E,2,FALSE)","v":"https://github.com/kelektiv/node.bcrypt.js"}]
["facebookresearch/pytorch3d",{"$f":"VLOOKUP(A4332,汇总!D:E,2,FALSE)","v":"https://github.com/facebookresearch/pytorch3d"}]
["redcanaryco/atomic-red-team",{"$f":"VLOOKUP(A4333,汇总!D:E,2,FALSE)","v":"https://github.com/redcanaryco/atomic-red-team"}]
["gopherchina/conference",{"$f":"VLOOKUP(A4334,汇总!D:E,2,FALSE)","v":"https://github.com/gopherchina/conference"}]
["getsentry/sentry-javascript",{"$f":"VLOOKUP(A4335,汇总!D:E,2,FALSE)","v":"https://github.com/getsentry/sentry-javascript"}]
["ai/easings.net",{"$f":"VLOOKUP(A4336,汇总!D:E,2,FALSE)","v":"https://github.com/ai/easings.net"}]
["fangwei716/30-days-of-react-native",{"$f":"VLOOKUP(A4337,汇总!D:E,2,FALSE)","v":"https://github.com/fangwei716/30-days-of-react-native"}]
["freebsd/freebsd-src",{"$f":"VLOOKUP(A4338,汇总!D:E,2,FALSE)","v":"https://github.com/freebsd/freebsd-src"}]
["IceWhaleTech/CasaOS",{"$f":"VLOOKUP(A4339,汇总!D:E,2,FALSE)","v":"https://github.com/IceWhaleTech/CasaOS"}]
["yanzhenjie/AndPermission",{"$f":"VLOOKUP(A4340,汇总!D:E,2,FALSE)","v":"https://github.com/yanzhenjie/AndPermission"}]
["redux-utilities/redux-actions",{"$f":"VLOOKUP(A4341,汇总!D:E,2,FALSE)","v":"https://github.com/redux-utilities/redux-actions"}]
["JetBrains/Exposed",{"$f":"VLOOKUP(A4342,汇总!D:E,2,FALSE)","v":"https://github.com/JetBrains/Exposed"}]
["flightjs/flight",{"$f":"VLOOKUP(A4343,汇总!D:E,2,FALSE)","v":"https://github.com/flightjs/flight"}]
["concourse/concourse",{"$f":"VLOOKUP(A4344,汇总!D:E,2,FALSE)","v":"https://github.com/concourse/concourse"}]
["briangonzalez/jquery.adaptive-backgrounds.js",{"$f":"VLOOKUP(A4345,汇总!D:E,2,FALSE)","v":"https://github.com/briangonzalez/jquery.adaptive-backgrounds.js"}]
["Terry-Mao/goim",{"$f":"VLOOKUP(A4346,汇总!D:E,2,FALSE)","v":"https://github.com/Terry-Mao/goim"}]
["Mortennn/Dozer",{"$f":"VLOOKUP(A4347,汇总!D:E,2,FALSE)","v":"https://github.com/Mortennn/Dozer"}]
["sindresorhus/github-markdown-css",{"$f":"VLOOKUP(A4348,汇总!D:E,2,FALSE)","v":"https://github.com/sindresorhus/github-markdown-css"}]
["ReactNativeNews/React-Native-Apps",{"$f":"VLOOKUP(A4349,汇总!D:E,2,FALSE)","v":"https://github.com/ReactNativeNews/React-Native-Apps"}]
["bpmn-io/bpmn-js",{"$f":"VLOOKUP(A4350,汇总!D:E,2,FALSE)","v":"https://github.com/bpmn-io/bpmn-js"}]
["mack-a/v2ray-agent",{"$f":"VLOOKUP(A4351,汇总!D:E,2,FALSE)","v":"https://github.com/mack-a/v2ray-agent"}]
["gaearon/overreacted.io",{"$f":"VLOOKUP(A4352,汇总!D:E,2,FALSE)","v":"https://github.com/gaearon/overreacted.io"}]
["mobxjs/mobx-state-tree",{"$f":"VLOOKUP(A4353,汇总!D:E,2,FALSE)","v":"https://github.com/mobxjs/mobx-state-tree"}]
["fluent-ffmpeg/node-fluent-ffmpeg",{"$f":"VLOOKUP(A4354,汇总!D:E,2,FALSE)","v":"https://github.com/fluent-ffmpeg/node-fluent-ffmpeg"}]
["tholman/elevator.js",{"$f":"VLOOKUP(A4355,汇总!D:E,2,FALSE)","v":"https://github.com/tholman/elevator.js"}]
["NirantK/awesome-project-ideas",{"$f":"VLOOKUP(A4356,汇总!D:E,2,FALSE)","v":"https://github.com/NirantK/awesome-project-ideas"}]
["miekg/dns",{"$f":"VLOOKUP(A4357,汇总!D:E,2,FALSE)","v":"https://github.com/miekg/dns"}]
["tiff/wysihtml5",{"$f":"VLOOKUP(A4358,汇总!D:E,2,FALSE)","v":"https://github.com/tiff/wysihtml5"}]
["svenstaro/genact",{"$f":"VLOOKUP(A4359,汇总!D:E,2,FALSE)","v":"https://github.com/svenstaro/genact"}]
["chrismaltby/gb-studio",{"$f":"VLOOKUP(A4360,汇总!D:E,2,FALSE)","v":"https://github.com/chrismaltby/gb-studio"}]
["rough-stuff/rough-notation",{"$f":"VLOOKUP(A4361,汇总!D:E,2,FALSE)","v":"https://github.com/rough-stuff/rough-notation"}]
["reactjs/react-rails",{"$f":"VLOOKUP(A4362,汇总!D:E,2,FALSE)","v":"https://github.com/reactjs/react-rails"}]
["yagop/node-telegram-bot-api",{"$f":"VLOOKUP(A4363,汇总!D:E,2,FALSE)","v":"https://github.com/yagop/node-telegram-bot-api"}]
["shutterstock/rickshaw",{"$f":"VLOOKUP(A4364,汇总!D:E,2,FALSE)","v":"https://github.com/shutterstock/rickshaw"}]
["Bogdan-Lyashenko/js-code-to-svg-flowchart",{"$f":"VLOOKUP(A4365,汇总!D:E,2,FALSE)","v":"https://github.com/Bogdan-Lyashenko/js-code-to-svg-flowchart"}]
["ripperhe/Bob",{"$f":"VLOOKUP(A4366,汇总!D:E,2,FALSE)","v":"https://github.com/ripperhe/Bob"}]
["pahen/madge",{"$f":"VLOOKUP(A4367,汇总!D:E,2,FALSE)","v":"https://github.com/pahen/madge"}]
["AirtestProject/Airtest",{"$f":"VLOOKUP(A4368,汇总!D:E,2,FALSE)","v":"https://github.com/AirtestProject/Airtest"}]
["wilsonpage/fastdom",{"$f":"VLOOKUP(A4369,汇总!D:E,2,FALSE)","v":"https://github.com/wilsonpage/fastdom"}]
["matplotlib/cheatsheets",{"$f":"VLOOKUP(A4370,汇总!D:E,2,FALSE)","v":"https://github.com/matplotlib/cheatsheets"}]
["patrickmn/go-cache",{"$f":"VLOOKUP(A4371,汇总!D:E,2,FALSE)","v":"https://github.com/patrickmn/go-cache"}]
["vitest-dev/vitest",{"$f":"VLOOKUP(A4372,汇总!D:E,2,FALSE)","v":"https://github.com/vitest-dev/vitest"}]
["software-mansion/react-native-reanimated",{"$f":"VLOOKUP(A4373,汇总!D:E,2,FALSE)","v":"https://github.com/software-mansion/react-native-reanimated"}]
["pyeve/eve",{"$f":"VLOOKUP(A4374,汇总!D:E,2,FALSE)","v":"https://github.com/pyeve/eve"}]
["academicpages/academicpages.github.io",{"$f":"VLOOKUP(A4375,汇总!D:E,2,FALSE)","v":"https://github.com/academicpages/academicpages.github.io"}]
["airbnb/css",{"$f":"VLOOKUP(A4376,汇总!D:E,2,FALSE)","v":"https://github.com/airbnb/css"}]
["taobao/nginx-book",{"$f":"VLOOKUP(A4377,汇总!D:E,2,FALSE)","v":"https://github.com/taobao/nginx-book"}]
["mikefarah/yq",{"$f":"VLOOKUP(A4378,汇总!D:E,2,FALSE)","v":"https://github.com/mikefarah/yq"}]
["go-shiori/shiori",{"$f":"VLOOKUP(A4379,汇总!D:E,2,FALSE)","v":"https://github.com/go-shiori/shiori"}]
["houtianze/bypy",{"$f":"VLOOKUP(A4380,汇总!D:E,2,FALSE)","v":"https://github.com/houtianze/bypy"}]
["doctrine/annotations",{"$f":"VLOOKUP(A4381,汇总!D:E,2,FALSE)","v":"https://github.com/doctrine/annotations"}]
["RichardKnop/machinery",{"$f":"VLOOKUP(A4382,汇总!D:E,2,FALSE)","v":"https://github.com/RichardKnop/machinery"}]
["simonw/datasette",{"$f":"VLOOKUP(A4383,汇总!D:E,2,FALSE)","v":"https://github.com/simonw/datasette"}]
["automl/auto-sklearn",{"$f":"VLOOKUP(A4384,汇总!D:E,2,FALSE)","v":"https://github.com/automl/auto-sklearn"}]
["pry/pry",{"$f":"VLOOKUP(A4385,汇总!D:E,2,FALSE)","v":"https://github.com/pry/pry"}]
["baskerville/bspwm",{"$f":"VLOOKUP(A4386,汇总!D:E,2,FALSE)","v":"https://github.com/baskerville/bspwm"}]
["docker/machine",{"$f":"VLOOKUP(A4387,汇总!D:E,2,FALSE)","v":"https://github.com/docker/machine"}]
["johnno1962/injectionforxcode",{"$f":"VLOOKUP(A4388,汇总!D:E,2,FALSE)","v":"https://github.com/johnno1962/injectionforxcode"}]
["bestony/logoly",{"$f":"VLOOKUP(A4389,汇总!D:E,2,FALSE)","v":"https://github.com/bestony/logoly"}]
["imgproxy/imgproxy",{"$f":"VLOOKUP(A4390,汇总!D:E,2,FALSE)","v":"https://github.com/imgproxy/imgproxy"}]
["dilanx/craco",{"$f":"VLOOKUP(A4391,汇总!D:E,2,FALSE)","v":"https://github.com/dilanx/craco"}]
["gitextensions/gitextensions",{"$f":"VLOOKUP(A4392,汇总!D:E,2,FALSE)","v":"https://github.com/gitextensions/gitextensions"}]
["mamaral/Onboard",{"$f":"VLOOKUP(A4393,汇总!D:E,2,FALSE)","v":"https://github.com/mamaral/Onboard"}]
["Uberi/speech_recognition",{"$f":"VLOOKUP(A4394,汇总!D:E,2,FALSE)","v":"https://github.com/Uberi/speech_recognition"}]
["reactiveui/refit",{"$f":"VLOOKUP(A4395,汇总!D:E,2,FALSE)","v":"https://github.com/reactiveui/refit"}]
["sebastianbergmann/php-token-stream",{"$f":"VLOOKUP(A4396,汇总!D:E,2,FALSE)","v":"https://github.com/sebastianbergmann/php-token-stream"}]
["isomorphic-git/isomorphic-git",{"$f":"VLOOKUP(A4397,汇总!D:E,2,FALSE)","v":"https://github.com/isomorphic-git/isomorphic-git"}]
["rauchg/slackin",{"$f":"VLOOKUP(A4398,汇总!D:E,2,FALSE)","v":"https://github.com/rauchg/slackin"}]
["dahlbyk/posh-git",{"$f":"VLOOKUP(A4399,汇总!D:E,2,FALSE)","v":"https://github.com/dahlbyk/posh-git"}]
["maxence-charriere/go-app",{"$f":"VLOOKUP(A4400,汇总!D:E,2,FALSE)","v":"https://github.com/maxence-charriere/go-app"}]
["presidentbeef/brakeman",{"$f":"VLOOKUP(A4401,汇总!D:E,2,FALSE)","v":"https://github.com/presidentbeef/brakeman"}]
["madrobby/keymaster",{"$f":"VLOOKUP(A4402,汇总!D:E,2,FALSE)","v":"https://github.com/madrobby/keymaster"}]
["Linzaer/Ultra-Light-Fast-Generic-Face-Detector-1MB",{"$f":"VLOOKUP(A4403,汇总!D:E,2,FALSE)","v":"https://github.com/Linzaer/Ultra-Light-Fast-Generic-Face-Detector-1MB"}]
["go-xorm/xorm",{"$f":"VLOOKUP(A4404,汇总!D:E,2,FALSE)","v":"https://github.com/go-xorm/xorm"}]
["pyroscope-io/pyroscope",{"$f":"VLOOKUP(A4405,汇总!D:E,2,FALSE)","v":"https://github.com/pyroscope-io/pyroscope"}]
["erikflowers/weather-icons",{"$f":"VLOOKUP(A4406,汇总!D:E,2,FALSE)","v":"https://github.com/erikflowers/weather-icons"}]
["Squirrel/Squirrel.Windows",{"$f":"VLOOKUP(A4407,汇总!D:E,2,FALSE)","v":"https://github.com/Squirrel/Squirrel.Windows"}]
["Meituan-Dianping/walle",{"$f":"VLOOKUP(A4408,汇总!D:E,2,FALSE)","v":"https://github.com/Meituan-Dianping/walle"}]
["fenixsoft/awesome-fenix",{"$f":"VLOOKUP(A4409,汇总!D:E,2,FALSE)","v":"https://github.com/fenixsoft/awesome-fenix"}]
["tensorflow/examples",{"$f":"VLOOKUP(A4410,汇总!D:E,2,FALSE)","v":"https://github.com/tensorflow/examples"}]
["elasticsearch-dump/elasticsearch-dump",{"$f":"VLOOKUP(A4411,汇总!D:E,2,FALSE)","v":"https://github.com/elasticsearch-dump/elasticsearch-dump"}]
["simplezhli/flutter_deer",{"$f":"VLOOKUP(A4412,汇总!D:E,2,FALSE)","v":"https://github.com/simplezhli/flutter_deer"}]
["Wind4/vlmcsd",{"$f":"VLOOKUP(A4413,汇总!D:E,2,FALSE)","v":"https://github.com/Wind4/vlmcsd"}]
["blueedgetechno/win11React",{"$f":"VLOOKUP(A4414,汇总!D:E,2,FALSE)","v":"https://github.com/blueedgetechno/win11React"}]
["360Controller/360Controller",{"$f":"VLOOKUP(A4415,汇总!D:E,2,FALSE)","v":"https://github.com/360Controller/360Controller"}]
["listen1/listen1_desktop",{"$f":"VLOOKUP(A4416,汇总!D:E,2,FALSE)","v":"https://github.com/listen1/listen1_desktop"}]
["apache/jmeter",{"$f":"VLOOKUP(A4417,汇总!D:E,2,FALSE)","v":"https://github.com/apache/jmeter"}]
["hwayne/awesome-cold-showers",{"$f":"VLOOKUP(A4418,汇总!D:E,2,FALSE)","v":"https://github.com/hwayne/awesome-cold-showers"}]
["s3fs-fuse/s3fs-fuse",{"$f":"VLOOKUP(A4419,汇总!D:E,2,FALSE)","v":"https://github.com/s3fs-fuse/s3fs-fuse"}]
["lhartikk/ArnoldC",{"$f":"VLOOKUP(A4420,汇总!D:E,2,FALSE)","v":"https://github.com/lhartikk/ArnoldC"}]
["zo0r/react-native-push-notification",{"$f":"VLOOKUP(A4421,汇总!D:E,2,FALSE)","v":"https://github.com/zo0r/react-native-push-notification"}]
["sghall/react-move",{"$f":"VLOOKUP(A4422,汇总!D:E,2,FALSE)","v":"https://github.com/sghall/react-move"}]
["boto/boto",{"$f":"VLOOKUP(A4423,汇总!D:E,2,FALSE)","v":"https://github.com/boto/boto"}]
["CocoaPods/Specs",{"$f":"VLOOKUP(A4424,汇总!D:E,2,FALSE)","v":"https://github.com/CocoaPods/Specs"}]
["jverkoey/nimbus",{"$f":"VLOOKUP(A4425,汇总!D:E,2,FALSE)","v":"https://github.com/jverkoey/nimbus"}]
["TerryCavanagh/VVVVVV",{"$f":"VLOOKUP(A4426,汇总!D:E,2,FALSE)","v":"https://github.com/TerryCavanagh/VVVVVV"}]
["caronc/apprise",{"$f":"VLOOKUP(A4427,汇总!D:E,2,FALSE)","v":"https://github.com/caronc/apprise"}]
["the-benchmarker/web-frameworks",{"$f":"VLOOKUP(A4428,汇总!D:E,2,FALSE)","v":"https://github.com/the-benchmarker/web-frameworks"}]
["vuelidate/vuelidate",{"$f":"VLOOKUP(A4429,汇总!D:E,2,FALSE)","v":"https://github.com/vuelidate/vuelidate"}]
["xianhu/LearnPython",{"$f":"VLOOKUP(A4430,汇总!D:E,2,FALSE)","v":"https://github.com/xianhu/LearnPython"}]
["tkipf/gcn",{"$f":"VLOOKUP(A4431,汇总!D:E,2,FALSE)","v":"https://github.com/tkipf/gcn"}]
["feross/simple-peer",{"$f":"VLOOKUP(A4432,汇总!D:E,2,FALSE)","v":"https://github.com/feross/simple-peer"}]
["idea4good/GuiLite",{"$f":"VLOOKUP(A4433,汇总!D:E,2,FALSE)","v":"https://github.com/idea4good/GuiLite"}]
["imbushuo/mac-precision-touchpad",{"$f":"VLOOKUP(A4434,汇总!D:E,2,FALSE)","v":"https://github.com/imbushuo/mac-precision-touchpad"}]
["NorthwoodsSoftware/GoJS",{"$f":"VLOOKUP(A4435,汇总!D:E,2,FALSE)","v":"https://github.com/NorthwoodsSoftware/GoJS"}]
["Porchetta-Industries/CrackMapExec",{"$f":"VLOOKUP(A4436,汇总!D:E,2,FALSE)","v":"https://github.com/Porchetta-Industries/CrackMapExec"}]
["necolas/idiomatic-css",{"$f":"VLOOKUP(A4437,汇总!D:E,2,FALSE)","v":"https://github.com/necolas/idiomatic-css"}]
["sindresorhus/caprine",{"$f":"VLOOKUP(A4438,汇总!D:E,2,FALSE)","v":"https://github.com/sindresorhus/caprine"}]
["katspaugh/wavesurfer.js",{"$f":"VLOOKUP(A4439,汇总!D:E,2,FALSE)","v":"https://github.com/katspaugh/wavesurfer.js"}]
["flask-restful/flask-restful",{"$f":"VLOOKUP(A4440,汇总!D:E,2,FALSE)","v":"https://github.com/flask-restful/flask-restful"}]
["vmware/clarity",{"$f":"VLOOKUP(A4441,汇总!D:E,2,FALSE)","v":"https://github.com/vmware/clarity"}]
["vitalets/x-editable",{"$f":"VLOOKUP(A4442,汇总!D:E,2,FALSE)","v":"https://github.com/vitalets/x-editable"}]
["olive-editor/olive",{"$f":"VLOOKUP(A4443,汇总!D:E,2,FALSE)","v":"https://github.com/olive-editor/olive"}]
["RomuloOliveira/commit-messages-guide",{"$f":"VLOOKUP(A4444,汇总!D:E,2,FALSE)","v":"https://github.com/RomuloOliveira/commit-messages-guide"}]
["owncast/owncast",{"$f":"VLOOKUP(A4445,汇总!D:E,2,FALSE)","v":"https://github.com/owncast/owncast"}]
["Richasy/Bili.Uwp",{"$f":"VLOOKUP(A4446,汇总!D:E,2,FALSE)","v":"https://github.com/Richasy/Bili.Uwp"}]
["1j01/jspaint",{"$f":"VLOOKUP(A4447,汇总!D:E,2,FALSE)","v":"https://github.com/1j01/jspaint"}]
["MVIG-SJTU/AlphaPose",{"$f":"VLOOKUP(A4448,汇总!D:E,2,FALSE)","v":"https://github.com/MVIG-SJTU/AlphaPose"}]
["facebookarchive/fbctf",{"$f":"VLOOKUP(A4449,汇总!D:E,2,FALSE)","v":"https://github.com/facebookarchive/fbctf"}]
["Unleash/unleash",{"$f":"VLOOKUP(A4450,汇总!D:E,2,FALSE)","v":"https://github.com/Unleash/unleash"}]
["IFTTT/JazzHands",{"$f":"VLOOKUP(A4451,汇总!D:E,2,FALSE)","v":"https://github.com/IFTTT/JazzHands"}]
["albertlauncher/albert",{"$f":"VLOOKUP(A4452,汇总!D:E,2,FALSE)","v":"https://github.com/albertlauncher/albert"}]
["yuantiku/YTKNetwork",{"$f":"VLOOKUP(A4453,汇总!D:E,2,FALSE)","v":"https://github.com/yuantiku/YTKNetwork"}]
["cisco/ChezScheme",{"$f":"VLOOKUP(A4454,汇总!D:E,2,FALSE)","v":"https://github.com/cisco/ChezScheme"}]
["dataarts/dat.gui",{"$f":"VLOOKUP(A4455,汇总!D:E,2,FALSE)","v":"https://github.com/dataarts/dat.gui"}]
["sebastianbergmann/exporter",{"$f":"VLOOKUP(A4456,汇总!D:E,2,FALSE)","v":"https://github.com/sebastianbergmann/exporter"}]
["jorgef/engineeringladders",{"$f":"VLOOKUP(A4457,汇总!D:E,2,FALSE)","v":"https://github.com/jorgef/engineeringladders"}]
["EleutherAI/gpt-neo",{"$f":"VLOOKUP(A4458,汇总!D:E,2,FALSE)","v":"https://github.com/EleutherAI/gpt-neo"}]
["php-pm/php-pm",{"$f":"VLOOKUP(A4459,汇总!D:E,2,FALSE)","v":"https://github.com/php-pm/php-pm"}]
["ElectronNET/Electron.NET",{"$f":"VLOOKUP(A4460,汇总!D:E,2,FALSE)","v":"https://github.com/ElectronNET/Electron.NET"}]
["markzhai/AndroidPerformanceMonitor",{"$f":"VLOOKUP(A4461,汇总!D:E,2,FALSE)","v":"https://github.com/markzhai/AndroidPerformanceMonitor"}]
["centrifugal/centrifugo",{"$f":"VLOOKUP(A4462,汇总!D:E,2,FALSE)","v":"https://github.com/centrifugal/centrifugo"}]
["jackocnr/intl-tel-input",{"$f":"VLOOKUP(A4463,汇总!D:E,2,FALSE)","v":"https://github.com/jackocnr/intl-tel-input"}]
["jgraph/mxgraph",{"$f":"VLOOKUP(A4464,汇总!D:E,2,FALSE)","v":"https://github.com/jgraph/mxgraph"}]
["adonovan/gopl.io",{"$f":"VLOOKUP(A4465,汇总!D:E,2,FALSE)","v":"https://github.com/adonovan/gopl.io"}]
["andreafabrizi/Dropbox-Uploader",{"$f":"VLOOKUP(A4466,汇总!D:E,2,FALSE)","v":"https://github.com/andreafabrizi/Dropbox-Uploader"}]
["bytedance/IconPark",{"$f":"VLOOKUP(A4467,汇总!D:E,2,FALSE)","v":"https://github.com/bytedance/IconPark"}]
["googlecreativelab/anypixel",{"$f":"VLOOKUP(A4468,汇总!D:E,2,FALSE)","v":"https://github.com/googlecreativelab/anypixel"}]
["kyleconroy/sqlc",{"$f":"VLOOKUP(A4469,汇总!D:E,2,FALSE)","v":"https://github.com/kyleconroy/sqlc"}]
["moyix/fauxpilot",{"$f":"VLOOKUP(A4470,汇总!D:E,2,FALSE)","v":"https://github.com/moyix/fauxpilot"}]
["joeycastillo/The-Open-Book",{"$f":"VLOOKUP(A4471,汇总!D:E,2,FALSE)","v":"https://github.com/joeycastillo/The-Open-Book"}]
["lijin-THU/notes-python",{"$f":"VLOOKUP(A4472,汇总!D:E,2,FALSE)","v":"https://github.com/lijin-THU/notes-python"}]
["tc39/proposal-pipeline-operator",{"$f":"VLOOKUP(A4473,汇总!D:E,2,FALSE)","v":"https://github.com/tc39/proposal-pipeline-operator"}]
["altercation/vim-colors-solarized",{"$f":"VLOOKUP(A4474,汇总!D:E,2,FALSE)","v":"https://github.com/altercation/vim-colors-solarized"}]
["baconjs/bacon.js",{"$f":"VLOOKUP(A4475,汇总!D:E,2,FALSE)","v":"https://github.com/baconjs/bacon.js"}]
["crater-invoice/crater",{"$f":"VLOOKUP(A4476,汇总!D:E,2,FALSE)","v":"https://github.com/crater-invoice/crater"}]
["norvig/paip-lisp",{"$f":"VLOOKUP(A4477,汇总!D:E,2,FALSE)","v":"https://github.com/norvig/paip-lisp"}]
["golang/tools",{"$f":"VLOOKUP(A4478,汇总!D:E,2,FALSE)","v":"https://github.com/golang/tools"}]
["PostgresApp/PostgresApp",{"$f":"VLOOKUP(A4479,汇总!D:E,2,FALSE)","v":"https://github.com/PostgresApp/PostgresApp"}]
["Spotifyd/spotifyd",{"$f":"VLOOKUP(A4480,汇总!D:E,2,FALSE)","v":"https://github.com/Spotifyd/spotifyd"}]
["NanoHttpd/nanohttpd",{"$f":"VLOOKUP(A4481,汇总!D:E,2,FALSE)","v":"https://github.com/NanoHttpd/nanohttpd"}]
["P1xt/p1xt-guides",{"$f":"VLOOKUP(A4482,汇总!D:E,2,FALSE)","v":"https://github.com/P1xt/p1xt-guides"}]
["shenweichen/DeepCTR",{"$f":"VLOOKUP(A4483,汇总!D:E,2,FALSE)","v":"https://github.com/shenweichen/DeepCTR"}]
["hashicorp/raft",{"$f":"VLOOKUP(A4484,汇总!D:E,2,FALSE)","v":"https://github.com/hashicorp/raft"}]
["jiaaro/pydub",{"$f":"VLOOKUP(A4485,汇总!D:E,2,FALSE)","v":"https://github.com/jiaaro/pydub"}]
["onsi/ginkgo",{"$f":"VLOOKUP(A4486,汇总!D:E,2,FALSE)","v":"https://github.com/onsi/ginkgo"}]
["i18next/i18next",{"$f":"VLOOKUP(A4487,汇总!D:E,2,FALSE)","v":"https://github.com/i18next/i18next"}]
["auduno/clmtrackr",{"$f":"VLOOKUP(A4488,汇总!D:E,2,FALSE)","v":"https://github.com/auduno/clmtrackr"}]
["mdn/content",{"$f":"VLOOKUP(A4489,汇总!D:E,2,FALSE)","v":"https://github.com/mdn/content"}]
["npm/cli",{"$f":"VLOOKUP(A4490,汇总!D:E,2,FALSE)","v":"https://github.com/npm/cli"}]
["hyperopt/hyperopt",{"$f":"VLOOKUP(A4491,汇总!D:E,2,FALSE)","v":"https://github.com/hyperopt/hyperopt"}]
["blackmatrix7/ios_rule_script",{"$f":"VLOOKUP(A4492,汇总!D:E,2,FALSE)","v":"https://github.com/blackmatrix7/ios_rule_script"}]
["sebastianbergmann/environment",{"$f":"VLOOKUP(A4493,汇总!D:E,2,FALSE)","v":"https://github.com/sebastianbergmann/environment"}]
["oldratlee/translations",{"$f":"VLOOKUP(A4494,汇总!D:E,2,FALSE)","v":"https://github.com/oldratlee/translations"}]
["simeji/jid",{"$f":"VLOOKUP(A4495,汇总!D:E,2,FALSE)","v":"https://github.com/simeji/jid"}]
["oz123/awesome-c",{"$f":"VLOOKUP(A4496,汇总!D:E,2,FALSE)","v":"https://github.com/oz123/awesome-c"}]
["yzhao062/anomaly-detection-resources",{"$f":"VLOOKUP(A4497,汇总!D:E,2,FALSE)","v":"https://github.com/yzhao062/anomaly-detection-resources"}]
["mixmark-io/turndown",{"$f":"VLOOKUP(A4498,汇总!D:E,2,FALSE)","v":"https://github.com/mixmark-io/turndown"}]
["GrenderG/Toasty",{"$f":"VLOOKUP(A4499,汇总!D:E,2,FALSE)","v":"https://github.com/GrenderG/Toasty"}]
["ehazlett/shipyard",{"$f":"VLOOKUP(A4500,汇总!D:E,2,FALSE)","v":"https://github.com/ehazlett/shipyard"}]
["pocoproject/poco",{"$f":"VLOOKUP(A4501,汇总!D:E,2,FALSE)","v":"https://github.com/pocoproject/poco"}]
["HashLips/hashlips_art_engine",{"$f":"VLOOKUP(A4502,汇总!D:E,2,FALSE)","v":"https://github.com/HashLips/hashlips_art_engine"}]
["datahub-project/datahub",{"$f":"VLOOKUP(A4503,汇总!D:E,2,FALSE)","v":"https://github.com/datahub-project/datahub"}]
["PHPOffice/PHPWord",{"$f":"VLOOKUP(A4504,汇总!D:E,2,FALSE)","v":"https://github.com/PHPOffice/PHPWord"}]
["apache/storm",{"$f":"VLOOKUP(A4505,汇总!D:E,2,FALSE)","v":"https://github.com/apache/storm"}]
["benbusby/whoogle-search",{"$f":"VLOOKUP(A4506,汇总!D:E,2,FALSE)","v":"https://github.com/benbusby/whoogle-search"}]
["ashishb/android-security-awesome",{"$f":"VLOOKUP(A4507,汇总!D:E,2,FALSE)","v":"https://github.com/ashishb/android-security-awesome"}]
["WebpageFX/emoji-cheat-sheet.com",{"$f":"VLOOKUP(A4508,汇总!D:E,2,FALSE)","v":"https://github.com/WebpageFX/emoji-cheat-sheet.com"}]
["rancher/os",{"$f":"VLOOKUP(A4509,汇总!D:E,2,FALSE)","v":"https://github.com/rancher/os"}]
["amoffat/sh",{"$f":"VLOOKUP(A4510,汇总!D:E,2,FALSE)","v":"https://github.com/amoffat/sh"}]
["p-e-w/maybe",{"$f":"VLOOKUP(A4511,汇总!D:E,2,FALSE)","v":"https://github.com/p-e-w/maybe"}]
["yocontra/react-responsive",{"$f":"VLOOKUP(A4512,汇总!D:E,2,FALSE)","v":"https://github.com/yocontra/react-responsive"}]
["unifyai/ivy",{"$f":"VLOOKUP(A4513,汇总!D:E,2,FALSE)","v":"https://github.com/unifyai/ivy"}]
["dbohdan/structured-text-tools",{"$f":"VLOOKUP(A4514,汇总!D:E,2,FALSE)","v":"https://github.com/dbohdan/structured-text-tools"}]
["gruntwork-io/terratest",{"$f":"VLOOKUP(A4515,汇总!D:E,2,FALSE)","v":"https://github.com/gruntwork-io/terratest"}]
["twbs/icons",{"$f":"VLOOKUP(A4516,汇总!D:E,2,FALSE)","v":"https://github.com/twbs/icons"}]
["dnoegel/php-xdg-base-dir",{"$f":"VLOOKUP(A4517,汇总!D:E,2,FALSE)","v":"https://github.com/dnoegel/php-xdg-base-dir"}]
["File-New-Project/EarTrumpet",{"$f":"VLOOKUP(A4518,汇总!D:E,2,FALSE)","v":"https://github.com/File-New-Project/EarTrumpet"}]
["zendesk/android-floating-action-button",{"$f":"VLOOKUP(A4519,汇总!D:E,2,FALSE)","v":"https://github.com/zendesk/android-floating-action-button"}]
["testcontainers/testcontainers-java",{"$f":"VLOOKUP(A4520,汇总!D:E,2,FALSE)","v":"https://github.com/testcontainers/testcontainers-java"}]
["dgkanatsios/CKAD-exercises",{"$f":"VLOOKUP(A4521,汇总!D:E,2,FALSE)","v":"https://github.com/dgkanatsios/CKAD-exercises"}]
["rossant/awesome-math",{"$f":"VLOOKUP(A4522,汇总!D:E,2,FALSE)","v":"https://github.com/rossant/awesome-math"}]
["paralax/awesome-honeypots",{"$f":"VLOOKUP(A4523,汇总!D:E,2,FALSE)","v":"https://github.com/paralax/awesome-honeypots"}]
["zhangqianhui/AdversarialNetsPapers",{"$f":"VLOOKUP(A4524,汇总!D:E,2,FALSE)","v":"https://github.com/zhangqianhui/AdversarialNetsPapers"}]
["paper-trail-gem/paper_trail",{"$f":"VLOOKUP(A4525,汇总!D:E,2,FALSE)","v":"https://github.com/paper-trail-gem/paper_trail"}]
["pytorch/tutorials",{"$f":"VLOOKUP(A4526,汇总!D:E,2,FALSE)","v":"https://github.com/pytorch/tutorials"}]
["jerryscript-project/jerryscript",{"$f":"VLOOKUP(A4527,汇总!D:E,2,FALSE)","v":"https://github.com/jerryscript-project/jerryscript"}]
["node-formidable/formidable",{"$f":"VLOOKUP(A4528,汇总!D:E,2,FALSE)","v":"https://github.com/node-formidable/formidable"}]
["ange-yaghi/engine-sim",{"$f":"VLOOKUP(A4529,汇总!D:E,2,FALSE)","v":"https://github.com/ange-yaghi/engine-sim"}]
["juliocesarfort/public-pentesting-reports",{"$f":"VLOOKUP(A4530,汇总!D:E,2,FALSE)","v":"https://github.com/juliocesarfort/public-pentesting-reports"}]
["MacPass/MacPass",{"$f":"VLOOKUP(A4531,汇总!D:E,2,FALSE)","v":"https://github.com/MacPass/MacPass"}]
["weaveworks/weave",{"$f":"VLOOKUP(A4532,汇总!D:E,2,FALSE)","v":"https://github.com/weaveworks/weave"}]
["cupy/cupy",{"$f":"VLOOKUP(A4533,汇总!D:E,2,FALSE)","v":"https://github.com/cupy/cupy"}]
["n64decomp/sm64",{"$f":"VLOOKUP(A4534,汇总!D:E,2,FALSE)","v":"https://github.com/n64decomp/sm64"}]
["jackfrued/Python-Core-50-Courses",{"$f":"VLOOKUP(A4535,汇总!D:E,2,FALSE)","v":"https://github.com/jackfrued/Python-Core-50-Courses"}]
["facebookresearch/hydra",{"$f":"VLOOKUP(A4536,汇总!D:E,2,FALSE)","v":"https://github.com/facebookresearch/hydra"}]
["total-typescript/beginners-typescript-tutorial",{"$f":"VLOOKUP(A4537,汇总!D:E,2,FALSE)","v":"https://github.com/total-typescript/beginners-typescript-tutorial"}]
["graphql/express-graphql",{"$f":"VLOOKUP(A4538,汇总!D:E,2,FALSE)","v":"https://github.com/graphql/express-graphql"}]
["securego/gosec",{"$f":"VLOOKUP(A4539,汇总!D:E,2,FALSE)","v":"https://github.com/securego/gosec"}]
["mcollina/autocannon",{"$f":"VLOOKUP(A4540,汇总!D:E,2,FALSE)","v":"https://github.com/mcollina/autocannon"}]
["anderspitman/awesome-tunneling",{"$f":"VLOOKUP(A4541,汇总!D:E,2,FALSE)","v":"https://github.com/anderspitman/awesome-tunneling"}]
["ckeditor/ckeditor5",{"$f":"VLOOKUP(A4542,汇总!D:E,2,FALSE)","v":"https://github.com/ckeditor/ckeditor5"}]
["abiosoft/colima",{"$f":"VLOOKUP(A4543,汇总!D:E,2,FALSE)","v":"https://github.com/abiosoft/colima"}]
["tokyo-metropolitan-gov/covid19",{"$f":"VLOOKUP(A4544,汇总!D:E,2,FALSE)","v":"https://github.com/tokyo-metropolitan-gov/covid19"}]
["karatelabs/karate",{"$f":"VLOOKUP(A4545,汇总!D:E,2,FALSE)","v":"https://github.com/karatelabs/karate"}]
["pycaret/pycaret",{"$f":"VLOOKUP(A4546,汇总!D:E,2,FALSE)","v":"https://github.com/pycaret/pycaret"}]
["drwetter/testssl.sh",{"$f":"VLOOKUP(A4547,汇总!D:E,2,FALSE)","v":"https://github.com/drwetter/testssl.sh"}]
["xtyxtyx/sorry",{"$f":"VLOOKUP(A4548,汇总!D:E,2,FALSE)","v":"https://github.com/xtyxtyx/sorry"}]
["vinc3m1/RoundedImageView",{"$f":"VLOOKUP(A4549,汇总!D:E,2,FALSE)","v":"https://github.com/vinc3m1/RoundedImageView"}]
["tokio-rs/axum",{"$f":"VLOOKUP(A4550,汇总!D:E,2,FALSE)","v":"https://github.com/tokio-rs/axum"}]
["vanilla-extract-css/vanilla-extract",{"$f":"VLOOKUP(A4551,汇总!D:E,2,FALSE)","v":"https://github.com/vanilla-extract-css/vanilla-extract"}]
["amueller/introduction_to_ml_with_python",{"$f":"VLOOKUP(A4552,汇总!D:E,2,FALSE)","v":"https://github.com/amueller/introduction_to_ml_with_python"}]
["GoogleCloudPlatform/training-data-analyst",{"$f":"VLOOKUP(A4553,汇总!D:E,2,FALSE)","v":"https://github.com/GoogleCloudPlatform/training-data-analyst"}]
["alteryx/featuretools",{"$f":"VLOOKUP(A4554,汇总!D:E,2,FALSE)","v":"https://github.com/alteryx/featuretools"}]
["tycrek/degoogle",{"$f":"VLOOKUP(A4555,汇总!D:E,2,FALSE)","v":"https://github.com/tycrek/degoogle"}]
["xonsh/xonsh",{"$f":"VLOOKUP(A4556,汇总!D:E,2,FALSE)","v":"https://github.com/xonsh/xonsh"}]
["facebookresearch/pytext",{"$f":"VLOOKUP(A4557,汇总!D:E,2,FALSE)","v":"https://github.com/facebookresearch/pytext"}]
["SerpentAI/SerpentAI",{"$f":"VLOOKUP(A4558,汇总!D:E,2,FALSE)","v":"https://github.com/SerpentAI/SerpentAI"}]
["yenchenlin/DeepLearningFlappyBird",{"$f":"VLOOKUP(A4559,汇总!D:E,2,FALSE)","v":"https://github.com/yenchenlin/DeepLearningFlappyBird"}]
["wurstmeister/kafka-docker",{"$f":"VLOOKUP(A4560,汇总!D:E,2,FALSE)","v":"https://github.com/wurstmeister/kafka-docker"}]
["GoAdminGroup/go-admin",{"$f":"VLOOKUP(A4561,汇总!D:E,2,FALSE)","v":"https://github.com/GoAdminGroup/go-admin"}]
["sebastianbergmann/code-unit-reverse-lookup",{"$f":"VLOOKUP(A4562,汇总!D:E,2,FALSE)","v":"https://github.com/sebastianbergmann/code-unit-reverse-lookup"}]
["linkedin/css-blocks",{"$f":"VLOOKUP(A4563,汇总!D:E,2,FALSE)","v":"https://github.com/linkedin/css-blocks"}]
["Clipy/Clipy",{"$f":"VLOOKUP(A4564,汇总!D:E,2,FALSE)","v":"https://github.com/Clipy/Clipy"}]
["sunface/rust-by-practice",{"$f":"VLOOKUP(A4565,汇总!D:E,2,FALSE)","v":"https://github.com/sunface/rust-by-practice"}]
["bmatzelle/gow",{"$f":"VLOOKUP(A4566,汇总!D:E,2,FALSE)","v":"https://github.com/bmatzelle/gow"}]
["lebinh/ngxtop",{"$f":"VLOOKUP(A4567,汇总!D:E,2,FALSE)","v":"https://github.com/lebinh/ngxtop"}]
["purcell/emacs.d",{"$f":"VLOOKUP(A4568,汇总!D:E,2,FALSE)","v":"https://github.com/purcell/emacs.d"}]
["symfony/translation",{"$f":"VLOOKUP(A4569,汇总!D:E,2,FALSE)","v":"https://github.com/symfony/translation"}]
["StackExchange/blackbox",{"$f":"VLOOKUP(A4570,汇总!D:E,2,FALSE)","v":"https://github.com/StackExchange/blackbox"}]
["Juanpe/About-SwiftUI",{"$f":"VLOOKUP(A4571,汇总!D:E,2,FALSE)","v":"https://github.com/Juanpe/About-SwiftUI"}]
["ramboxapp/community-edition",{"$f":"VLOOKUP(A4572,汇总!D:E,2,FALSE)","v":"https://github.com/ramboxapp/community-edition"}]
["gitalk/gitalk",{"$f":"VLOOKUP(A4573,汇总!D:E,2,FALSE)","v":"https://github.com/gitalk/gitalk"}]
["DataTalksClub/data-engineering-zoomcamp",{"$f":"VLOOKUP(A4574,汇总!D:E,2,FALSE)","v":"https://github.com/DataTalksClub/data-engineering-zoomcamp"}]
["heroiclabs/nakama",{"$f":"VLOOKUP(A4575,汇总!D:E,2,FALSE)","v":"https://github.com/heroiclabs/nakama"}]
["daviddao/awful-ai",{"$f":"VLOOKUP(A4576,汇总!D:E,2,FALSE)","v":"https://github.com/daviddao/awful-ai"}]
["machyve/xhyve",{"$f":"VLOOKUP(A4577,汇总!D:E,2,FALSE)","v":"https://github.com/machyve/xhyve"}]
["Famous/famous",{"$f":"VLOOKUP(A4578,汇总!D:E,2,FALSE)","v":"https://github.com/Famous/famous"}]
["TalAter/annyang",{"$f":"VLOOKUP(A4579,汇总!D:E,2,FALSE)","v":"https://github.com/TalAter/annyang"}]
["itchyny/lightline.vim",{"$f":"VLOOKUP(A4580,汇总!D:E,2,FALSE)","v":"https://github.com/itchyny/lightline.vim"}]
["robinhood/faust",{"$f":"VLOOKUP(A4581,汇总!D:E,2,FALSE)","v":"https://github.com/robinhood/faust"}]
["vaxilu/x-ui",{"$f":"VLOOKUP(A4582,汇总!D:E,2,FALSE)","v":"https://github.com/vaxilu/x-ui"}]
["stitchesjs/stitches",{"$f":"VLOOKUP(A4583,汇总!D:E,2,FALSE)","v":"https://github.com/stitchesjs/stitches"}]
["zouzg/mybatis-generator-gui",{"$f":"VLOOKUP(A4584,汇总!D:E,2,FALSE)","v":"https://github.com/zouzg/mybatis-generator-gui"}]
["facebookresearch/DensePose",{"$f":"VLOOKUP(A4585,汇总!D:E,2,FALSE)","v":"https://github.com/facebookresearch/DensePose"}]
["Huxpro/huxpro.github.io",{"$f":"VLOOKUP(A4586,汇总!D:E,2,FALSE)","v":"https://github.com/Huxpro/huxpro.github.io"}]
["Kenshin/simpread",{"$f":"VLOOKUP(A4587,汇总!D:E,2,FALSE)","v":"https://github.com/Kenshin/simpread"}]
["jwilber/roughViz",{"$f":"VLOOKUP(A4588,汇总!D:E,2,FALSE)","v":"https://github.com/jwilber/roughViz"}]
["react-native-svg/react-native-svg",{"$f":"VLOOKUP(A4589,汇总!D:E,2,FALSE)","v":"https://github.com/react-native-svg/react-native-svg"}]
["react-native-video/react-native-video",{"$f":"VLOOKUP(A4590,汇总!D:E,2,FALSE)","v":"https://github.com/react-native-video/react-native-video"}]
["uber/cadence",{"$f":"VLOOKUP(A4591,汇总!D:E,2,FALSE)","v":"https://github.com/uber/cadence"}]
["DIYgod/APlayer",{"$f":"VLOOKUP(A4592,汇总!D:E,2,FALSE)","v":"https://github.com/DIYgod/APlayer"}]
["statping/statping",{"$f":"VLOOKUP(A4593,汇总!D:E,2,FALSE)","v":"https://github.com/statping/statping"}]
["stanfordnlp/stanza",{"$f":"VLOOKUP(A4594,汇总!D:E,2,FALSE)","v":"https://github.com/stanfordnlp/stanza"}]
["miloyip/json-tutorial",{"$f":"VLOOKUP(A4595,汇总!D:E,2,FALSE)","v":"https://github.com/miloyip/json-tutorial"}]
["lightningnetwork/lnd",{"$f":"VLOOKUP(A4596,汇总!D:E,2,FALSE)","v":"https://github.com/lightningnetwork/lnd"}]
["ryanb/cancan",{"$f":"VLOOKUP(A4597,汇总!D:E,2,FALSE)","v":"https://github.com/ryanb/cancan"}]
["wmjordan/PDFPatcher",{"$f":"VLOOKUP(A4598,汇总!D:E,2,FALSE)","v":"https://github.com/wmjordan/PDFPatcher"}]
["magicmonty/bash-git-prompt",{"$f":"VLOOKUP(A4599,汇总!D:E,2,FALSE)","v":"https://github.com/magicmonty/bash-git-prompt"}]
["NobyDa/Script",{"$f":"VLOOKUP(A4600,汇总!D:E,2,FALSE)","v":"https://github.com/NobyDa/Script"}]
["arkenfox/user.js",{"$f":"VLOOKUP(A4601,汇总!D:E,2,FALSE)","v":"https://github.com/arkenfox/user.js"}]
["techfort/LokiJS",{"$f":"VLOOKUP(A4602,汇总!D:E,2,FALSE)","v":"https://github.com/techfort/LokiJS"}]
["0nn0/terminal-mac-cheatsheet",{"$f":"VLOOKUP(A4603,汇总!D:E,2,FALSE)","v":"https://github.com/0nn0/terminal-mac-cheatsheet"}]
["koush/ion",{"$f":"VLOOKUP(A4604,汇总!D:E,2,FALSE)","v":"https://github.com/koush/ion"}]
["semver/semver",{"$f":"VLOOKUP(A4605,汇总!D:E,2,FALSE)","v":"https://github.com/semver/semver"}]
["rui314/chibicc",{"$f":"VLOOKUP(A4606,汇总!D:E,2,FALSE)","v":"https://github.com/rui314/chibicc"}]
["sindresorhus/Gifski",{"$f":"VLOOKUP(A4607,汇总!D:E,2,FALSE)","v":"https://github.com/sindresorhus/Gifski"}]
["seanmonstar/reqwest",{"$f":"VLOOKUP(A4608,汇总!D:E,2,FALSE)","v":"https://github.com/seanmonstar/reqwest"}]
["numenta/nupic",{"$f":"VLOOKUP(A4609,汇总!D:E,2,FALSE)","v":"https://github.com/numenta/nupic"}]
["firmai/industry-machine-learning",{"$f":"VLOOKUP(A4610,汇总!D:E,2,FALSE)","v":"https://github.com/firmai/industry-machine-learning"}]
["autowarefoundation/autoware",{"$f":"VLOOKUP(A4611,汇总!D:E,2,FALSE)","v":"https://github.com/autowarefoundation/autoware"}]
["fmfn/BayesianOptimization",{"$f":"VLOOKUP(A4612,汇总!D:E,2,FALSE)","v":"https://github.com/fmfn/BayesianOptimization"}]
["wojtekmaj/react-pdf",{"$f":"VLOOKUP(A4613,汇总!D:E,2,FALSE)","v":"https://github.com/wojtekmaj/react-pdf"}]
["Freeboard/freeboard",{"$f":"VLOOKUP(A4614,汇总!D:E,2,FALSE)","v":"https://github.com/Freeboard/freeboard"}]
["IntelRealSense/librealsense",{"$f":"VLOOKUP(A4615,汇总!D:E,2,FALSE)","v":"https://github.com/IntelRealSense/librealsense"}]
["bookshelf/bookshelf",{"$f":"VLOOKUP(A4616,汇总!D:E,2,FALSE)","v":"https://github.com/bookshelf/bookshelf"}]
["apache/tomcat",{"$f":"VLOOKUP(A4617,汇总!D:E,2,FALSE)","v":"https://github.com/apache/tomcat"}]
["zfile-dev/zfile",{"$f":"VLOOKUP(A4618,汇总!D:E,2,FALSE)","v":"https://github.com/zfile-dev/zfile"}]
["detailyang/awesome-cheatsheet",{"$f":"VLOOKUP(A4619,汇总!D:E,2,FALSE)","v":"https://github.com/detailyang/awesome-cheatsheet"}]
["paritytech/polkadot",{"$f":"VLOOKUP(A4620,汇总!D:E,2,FALSE)","v":"https://github.com/paritytech/polkadot"}]
["spacejam/sled",{"$f":"VLOOKUP(A4621,汇总!D:E,2,FALSE)","v":"https://github.com/spacejam/sled"}]
["cpp-best-practices/cppbestpractices",{"$f":"VLOOKUP(A4622,汇总!D:E,2,FALSE)","v":"https://github.com/cpp-best-practices/cppbestpractices"}]
["oldratlee/useful-scripts",{"$f":"VLOOKUP(A4623,汇总!D:E,2,FALSE)","v":"https://github.com/oldratlee/useful-scripts"}]
["ben-rogerson/twin.macro",{"$f":"VLOOKUP(A4624,汇总!D:E,2,FALSE)","v":"https://github.com/ben-rogerson/twin.macro"}]
["romannurik/AndroidAssetStudio",{"$f":"VLOOKUP(A4625,汇总!D:E,2,FALSE)","v":"https://github.com/romannurik/AndroidAssetStudio"}]
["rubocop/rails-style-guide",{"$f":"VLOOKUP(A4626,汇总!D:E,2,FALSE)","v":"https://github.com/rubocop/rails-style-guide"}]
["thedevs-network/kutt",{"$f":"VLOOKUP(A4627,汇总!D:E,2,FALSE)","v":"https://github.com/thedevs-network/kutt"}]
["LawnchairLauncher/lawnchair",{"$f":"VLOOKUP(A4628,汇总!D:E,2,FALSE)","v":"https://github.com/LawnchairLauncher/lawnchair"}]
["ufoym/deepo",{"$f":"VLOOKUP(A4629,汇总!D:E,2,FALSE)","v":"https://github.com/ufoym/deepo"}]
["SeleniumHQ/docker-selenium",{"$f":"VLOOKUP(A4630,汇总!D:E,2,FALSE)","v":"https://github.com/SeleniumHQ/docker-selenium"}]
["jazzband/pip-tools",{"$f":"VLOOKUP(A4631,汇总!D:E,2,FALSE)","v":"https://github.com/jazzband/pip-tools"}]
["bchavez/Bogus",{"$f":"VLOOKUP(A4632,汇总!D:E,2,FALSE)","v":"https://github.com/bchavez/Bogus"}]
["waydabber/BetterDisplay",{"$f":"VLOOKUP(A4633,汇总!D:E,2,FALSE)","v":"https://github.com/waydabber/BetterDisplay"}]
["Vay-keen/Machine-learning-learning-notes",{"$f":"VLOOKUP(A4634,汇总!D:E,2,FALSE)","v":"https://github.com/Vay-keen/Machine-learning-learning-notes"}]
["maxogden/menubar",{"$f":"VLOOKUP(A4635,汇总!D:E,2,FALSE)","v":"https://github.com/maxogden/menubar"}]
["hirak/prestissimo",{"$f":"VLOOKUP(A4636,汇总!D:E,2,FALSE)","v":"https://github.com/hirak/prestissimo"}]
["twowaits/SDE-Interview-Questions",{"$f":"VLOOKUP(A4637,汇总!D:E,2,FALSE)","v":"https://github.com/twowaits/SDE-Interview-Questions"}]
["mozilla/TTS",{"$f":"VLOOKUP(A4638,汇总!D:E,2,FALSE)","v":"https://github.com/mozilla/TTS"}]
["bda-research/node-crawler",{"$f":"VLOOKUP(A4639,汇总!D:E,2,FALSE)","v":"https://github.com/bda-research/node-crawler"}]
["wercker/stern",{"$f":"VLOOKUP(A4640,汇总!D:E,2,FALSE)","v":"https://github.com/wercker/stern"}]
["kangvcar/InfoSpider",{"$f":"VLOOKUP(A4641,汇总!D:E,2,FALSE)","v":"https://github.com/kangvcar/InfoSpider"}]
["rastapasta/mapscii",{"$f":"VLOOKUP(A4642,汇总!D:E,2,FALSE)","v":"https://github.com/rastapasta/mapscii"}]
["Graylog2/graylog2-server",{"$f":"VLOOKUP(A4643,汇总!D:E,2,FALSE)","v":"https://github.com/Graylog2/graylog2-server"}]
["marshmallow-code/marshmallow",{"$f":"VLOOKUP(A4644,汇总!D:E,2,FALSE)","v":"https://github.com/marshmallow-code/marshmallow"}]
["yeasy/blockchain_guide",{"$f":"VLOOKUP(A4645,汇总!D:E,2,FALSE)","v":"https://github.com/yeasy/blockchain_guide"}]
["TalkingData/iview-weapp",{"$f":"VLOOKUP(A4646,汇总!D:E,2,FALSE)","v":"https://github.com/TalkingData/iview-weapp"}]
["vercel/commerce",{"$f":"VLOOKUP(A4647,汇总!D:E,2,FALSE)","v":"https://github.com/vercel/commerce"}]
["DouyinFE/semi-design",{"$f":"VLOOKUP(A4648,汇总!D:E,2,FALSE)","v":"https://github.com/DouyinFE/semi-design"}]
["mozilla-mobile/fenix",{"$f":"VLOOKUP(A4649,汇总!D:E,2,FALSE)","v":"https://github.com/mozilla-mobile/fenix"}]
["projectdiscovery/subfinder",{"$f":"VLOOKUP(A4650,汇总!D:E,2,FALSE)","v":"https://github.com/projectdiscovery/subfinder"}]
["MysteryVaibhav/leetcode_company_wise_questions",{"$f":"VLOOKUP(A4651,汇总!D:E,2,FALSE)","v":"https://github.com/MysteryVaibhav/leetcode_company_wise_questions"}]
["dylang/npm-check",{"$f":"VLOOKUP(A4652,汇总!D:E,2,FALSE)","v":"https://github.com/dylang/npm-check"}]
["processing/processing",{"$f":"VLOOKUP(A4653,汇总!D:E,2,FALSE)","v":"https://github.com/processing/processing"}]
["egametang/ET",{"$f":"VLOOKUP(A4654,汇总!D:E,2,FALSE)","v":"https://github.com/egametang/ET"}]
["voidcosmos/npkill",{"$f":"VLOOKUP(A4655,汇总!D:E,2,FALSE)","v":"https://github.com/voidcosmos/npkill"}]
["microsoft/winfile",{"$f":"VLOOKUP(A4656,汇总!D:E,2,FALSE)","v":"https://github.com/microsoft/winfile"}]
["phuocng/1loc",{"$f":"VLOOKUP(A4657,汇总!D:E,2,FALSE)","v":"https://github.com/phuocng/1loc"}]
["JakubOnderka/PHP-Console-Highlighter",{"$f":"VLOOKUP(A4658,汇总!D:E,2,FALSE)","v":"https://github.com/JakubOnderka/PHP-Console-Highlighter"}]
["dragen1860/TensorFlow-2.x-Tutorials",{"$f":"VLOOKUP(A4659,汇总!D:E,2,FALSE)","v":"https://github.com/dragen1860/TensorFlow-2.x-Tutorials"}]
["Rem0o/FanControl.Releases",{"$f":"VLOOKUP(A4660,汇总!D:E,2,FALSE)","v":"https://github.com/Rem0o/FanControl.Releases"}]
["ValveSoftware/GameNetworkingSockets",{"$f":"VLOOKUP(A4661,汇总!D:E,2,FALSE)","v":"https://github.com/ValveSoftware/GameNetworkingSockets"}]
["PowerShell/Win32-OpenSSH",{"$f":"VLOOKUP(A4662,汇总!D:E,2,FALSE)","v":"https://github.com/PowerShell/Win32-OpenSSH"}]
["stevenjoezhang/live2d-widget",{"$f":"VLOOKUP(A4663,汇总!D:E,2,FALSE)","v":"https://github.com/stevenjoezhang/live2d-widget"}]
["yzhao062/pyod",{"$f":"VLOOKUP(A4664,汇总!D:E,2,FALSE)","v":"https://github.com/yzhao062/pyod"}]
["uswds/uswds",{"$f":"VLOOKUP(A4665,汇总!D:E,2,FALSE)","v":"https://github.com/uswds/uswds"}]
["edenhill/librdkafka",{"$f":"VLOOKUP(A4666,汇总!D:E,2,FALSE)","v":"https://github.com/edenhill/librdkafka"}]
["sebastianbergmann/global-state",{"$f":"VLOOKUP(A4667,汇总!D:E,2,FALSE)","v":"https://github.com/sebastianbergmann/global-state"}]
["guardianproject/haven",{"$f":"VLOOKUP(A4668,汇总!D:E,2,FALSE)","v":"https://github.com/guardianproject/haven"}]
["newsapps/beeswithmachineguns",{"$f":"VLOOKUP(A4669,汇总!D:E,2,FALSE)","v":"https://github.com/newsapps/beeswithmachineguns"}]
["HypothesisWorks/hypothesis",{"$f":"VLOOKUP(A4670,汇总!D:E,2,FALSE)","v":"https://github.com/HypothesisWorks/hypothesis"}]
["msgpack/msgpack",{"$f":"VLOOKUP(A4671,汇总!D:E,2,FALSE)","v":"https://github.com/msgpack/msgpack"}]
["athensresearch/athens",{"$f":"VLOOKUP(A4672,汇总!D:E,2,FALSE)","v":"https://github.com/athensresearch/athens"}]
["tensorpack/tensorpack",{"$f":"VLOOKUP(A4673,汇总!D:E,2,FALSE)","v":"https://github.com/tensorpack/tensorpack"}]
["Twipped/InterviewThis",{"$f":"VLOOKUP(A4674,汇总!D:E,2,FALSE)","v":"https://github.com/Twipped/InterviewThis"}]
["hjacobs/kubernetes-failure-stories",{"$f":"VLOOKUP(A4675,汇总!D:E,2,FALSE)","v":"https://github.com/hjacobs/kubernetes-failure-stories"}]
["gorse-io/gorse",{"$f":"VLOOKUP(A4676,汇总!D:E,2,FALSE)","v":"https://github.com/gorse-io/gorse"}]
["Cocoanetics/DTCoreText",{"$f":"VLOOKUP(A4677,汇总!D:E,2,FALSE)","v":"https://github.com/Cocoanetics/DTCoreText"}]
["tictail/bounce.js",{"$f":"VLOOKUP(A4678,汇总!D:E,2,FALSE)","v":"https://github.com/tictail/bounce.js"}]
["jaredreich/notie",{"$f":"VLOOKUP(A4679,汇总!D:E,2,FALSE)","v":"https://github.com/jaredreich/notie"}]
["yezihaohao/react-admin",{"$f":"VLOOKUP(A4680,汇总!D:E,2,FALSE)","v":"https://github.com/yezihaohao/react-admin"}]
["fex-team/ueditor",{"$f":"VLOOKUP(A4681,汇总!D:E,2,FALSE)","v":"https://github.com/fex-team/ueditor"}]
["JakubOnderka/PHP-Console-Color",{"$f":"VLOOKUP(A4682,汇总!D:E,2,FALSE)","v":"https://github.com/JakubOnderka/PHP-Console-Color"}]
["qgis/QGIS",{"$f":"VLOOKUP(A4683,汇总!D:E,2,FALSE)","v":"https://github.com/qgis/QGIS"}]
["stubbornella/oocss",{"$f":"VLOOKUP(A4684,汇总!D:E,2,FALSE)","v":"https://github.com/stubbornella/oocss"}]
["sebastianbergmann/version",{"$f":"VLOOKUP(A4685,汇总!D:E,2,FALSE)","v":"https://github.com/sebastianbergmann/version"}]
["Jack-Cherish/PythonPark",{"$f":"VLOOKUP(A4686,汇总!D:E,2,FALSE)","v":"https://github.com/Jack-Cherish/PythonPark"}]
["nswbmw/node-in-debugging",{"$f":"VLOOKUP(A4687,汇总!D:E,2,FALSE)","v":"https://github.com/nswbmw/node-in-debugging"}]
["PaddlePaddle/Paddle-Lite",{"$f":"VLOOKUP(A4688,汇总!D:E,2,FALSE)","v":"https://github.com/PaddlePaddle/Paddle-Lite"}]
["swisspol/GCDWebServer",{"$f":"VLOOKUP(A4689,汇总!D:E,2,FALSE)","v":"https://github.com/swisspol/GCDWebServer"}]
["vk-com/kphp-kdb",{"$f":"VLOOKUP(A4690,汇总!D:E,2,FALSE)","v":"https://github.com/vk-com/kphp-kdb"}]
["snowplow/snowplow",{"$f":"VLOOKUP(A4691,汇总!D:E,2,FALSE)","v":"https://github.com/snowplow/snowplow"}]
["ariakit/ariakit",{"$f":"VLOOKUP(A4692,汇总!D:E,2,FALSE)","v":"https://github.com/ariakit/ariakit"}]
["sebastianbergmann/recursion-context",{"$f":"VLOOKUP(A4693,汇总!D:E,2,FALSE)","v":"https://github.com/sebastianbergmann/recursion-context"}]
["rust-unofficial/patterns",{"$f":"VLOOKUP(A4694,汇总!D:E,2,FALSE)","v":"https://github.com/rust-unofficial/patterns"}]
["trinodb/trino",{"$f":"VLOOKUP(A4695,汇总!D:E,2,FALSE)","v":"https://github.com/trinodb/trino"}]
["timvisee/ffsend",{"$f":"VLOOKUP(A4696,汇总!D:E,2,FALSE)","v":"https://github.com/timvisee/ffsend"}]
["square/crossfilter",{"$f":"VLOOKUP(A4697,汇总!D:E,2,FALSE)","v":"https://github.com/square/crossfilter"}]
["noodlewerk/NWPusher",{"$f":"VLOOKUP(A4698,汇总!D:E,2,FALSE)","v":"https://github.com/noodlewerk/NWPusher"}]
["htr-tech/zphisher",{"$f":"VLOOKUP(A4699,汇总!D:E,2,FALSE)","v":"https://github.com/htr-tech/zphisher"}]
["beanstalkd/beanstalkd",{"$f":"VLOOKUP(A4700,汇总!D:E,2,FALSE)","v":"https://github.com/beanstalkd/beanstalkd"}]
["shentao/vue-multiselect",{"$f":"VLOOKUP(A4701,汇总!D:E,2,FALSE)","v":"https://github.com/shentao/vue-multiselect"}]
["jenssegers/laravel-mongodb",{"$f":"VLOOKUP(A4702,汇总!D:E,2,FALSE)","v":"https://github.com/jenssegers/laravel-mongodb"}]
["gruntwork-io/terragrunt",{"$f":"VLOOKUP(A4703,汇总!D:E,2,FALSE)","v":"https://github.com/gruntwork-io/terragrunt"}]
["stefan-jansen/machine-learning-for-trading",{"$f":"VLOOKUP(A4704,汇总!D:E,2,FALSE)","v":"https://github.com/stefan-jansen/machine-learning-for-trading"}]
["poloclub/cnn-explainer",{"$f":"VLOOKUP(A4705,汇总!D:E,2,FALSE)","v":"https://github.com/poloclub/cnn-explainer"}]
["phpmyadmin/phpmyadmin",{"$f":"VLOOKUP(A4706,汇总!D:E,2,FALSE)","v":"https://github.com/phpmyadmin/phpmyadmin"}]
["johnezang/JSONKit",{"$f":"VLOOKUP(A4707,汇总!D:E,2,FALSE)","v":"https://github.com/johnezang/JSONKit"}]
["rse/es6-features",{"$f":"VLOOKUP(A4708,汇总!D:E,2,FALSE)","v":"https://github.com/rse/es6-features"}]
["lxn/walk",{"$f":"VLOOKUP(A4709,汇总!D:E,2,FALSE)","v":"https://github.com/lxn/walk"}]
["NLPchina/ansj_seg",{"$f":"VLOOKUP(A4710,汇总!D:E,2,FALSE)","v":"https://github.com/NLPchina/ansj_seg"}]
["conan-io/conan",{"$f":"VLOOKUP(A4711,汇总!D:E,2,FALSE)","v":"https://github.com/conan-io/conan"}]
["kristopolous/BOOTSTRA.386",{"$f":"VLOOKUP(A4712,汇总!D:E,2,FALSE)","v":"https://github.com/kristopolous/BOOTSTRA.386"}]
["eastlakeside/interpy-zh",{"$f":"VLOOKUP(A4713,汇总!D:E,2,FALSE)","v":"https://github.com/eastlakeside/interpy-zh"}]
["google/sentencepiece",{"$f":"VLOOKUP(A4714,汇总!D:E,2,FALSE)","v":"https://github.com/google/sentencepiece"}]
["geerlingguy/ansible-for-devops",{"$f":"VLOOKUP(A4715,汇总!D:E,2,FALSE)","v":"https://github.com/geerlingguy/ansible-for-devops"}]
["devicons/devicon",{"$f":"VLOOKUP(A4716,汇总!D:E,2,FALSE)","v":"https://github.com/devicons/devicon"}]
["bytedeco/javacv",{"$f":"VLOOKUP(A4717,汇总!D:E,2,FALSE)","v":"https://github.com/bytedeco/javacv"}]
["mozilla/geckodriver",{"$f":"VLOOKUP(A4718,汇总!D:E,2,FALSE)","v":"https://github.com/mozilla/geckodriver"}]
["hakluke/how-to-exit-vim",{"$f":"VLOOKUP(A4719,汇总!D:E,2,FALSE)","v":"https://github.com/hakluke/how-to-exit-vim"}]
["alibaba/flutter_boost",{"$f":"VLOOKUP(A4720,汇总!D:E,2,FALSE)","v":"https://github.com/alibaba/flutter_boost"}]
["belluzj/fantasque-sans",{"$f":"VLOOKUP(A4721,汇总!D:E,2,FALSE)","v":"https://github.com/belluzj/fantasque-sans"}]
["2d-inc/HistoryOfEverything",{"$f":"VLOOKUP(A4722,汇总!D:E,2,FALSE)","v":"https://github.com/2d-inc/HistoryOfEverything"}]
["gruns/icecream",{"$f":"VLOOKUP(A4723,汇总!D:E,2,FALSE)","v":"https://github.com/gruns/icecream"}]
["cartographer-project/cartographer",{"$f":"VLOOKUP(A4724,汇总!D:E,2,FALSE)","v":"https://github.com/cartographer-project/cartographer"}]
["microsoft/WinObjC",{"$f":"VLOOKUP(A4725,汇总!D:E,2,FALSE)","v":"https://github.com/microsoft/WinObjC"}]
["jquery/sizzle",{"$f":"VLOOKUP(A4726,汇总!D:E,2,FALSE)","v":"https://github.com/jquery/sizzle"}]
["jtleek/datasharing",{"$f":"VLOOKUP(A4727,汇总!D:E,2,FALSE)","v":"https://github.com/jtleek/datasharing"}]
["LappleApple/awesome-leading-and-managing",{"$f":"VLOOKUP(A4728,汇总!D:E,2,FALSE)","v":"https://github.com/LappleApple/awesome-leading-and-managing"}]
["garris/BackstopJS",{"$f":"VLOOKUP(A4729,汇总!D:E,2,FALSE)","v":"https://github.com/garris/BackstopJS"}]
["haoel/haoel.github.io",{"$f":"VLOOKUP(A4730,汇总!D:E,2,FALSE)","v":"https://github.com/haoel/haoel.github.io"}]
["nisrulz/flutter-examples",{"$f":"VLOOKUP(A4731,汇总!D:E,2,FALSE)","v":"https://github.com/nisrulz/flutter-examples"}]
["qubvel/segmentation_models.pytorch",{"$f":"VLOOKUP(A4732,汇总!D:E,2,FALSE)","v":"https://github.com/qubvel/segmentation_models.pytorch"}]
["pallets/werkzeug",{"$f":"VLOOKUP(A4733,汇总!D:E,2,FALSE)","v":"https://github.com/pallets/werkzeug"}]
["medialize/URI.js",{"$f":"VLOOKUP(A4734,汇总!D:E,2,FALSE)","v":"https://github.com/medialize/URI.js"}]
["smuyyh/BookReader",{"$f":"VLOOKUP(A4735,汇总!D:E,2,FALSE)","v":"https://github.com/smuyyh/BookReader"}]
["PeterL1n/RobustVideoMatting",{"$f":"VLOOKUP(A4736,汇总!D:E,2,FALSE)","v":"https://github.com/PeterL1n/RobustVideoMatting"}]
["mitchellh/mapstructure",{"$f":"VLOOKUP(A4737,汇总!D:E,2,FALSE)","v":"https://github.com/mitchellh/mapstructure"}]
["davecheney/httpstat",{"$f":"VLOOKUP(A4738,汇总!D:E,2,FALSE)","v":"https://github.com/davecheney/httpstat"}]
["kgretzky/evilginx2",{"$f":"VLOOKUP(A4739,汇总!D:E,2,FALSE)","v":"https://github.com/kgretzky/evilginx2"}]
["xuebinqin/U-2-Net",{"$f":"VLOOKUP(A4740,汇总!D:E,2,FALSE)","v":"https://github.com/xuebinqin/U-2-Net"}]
["bkeepers/dotenv",{"$f":"VLOOKUP(A4741,汇总!D:E,2,FALSE)","v":"https://github.com/bkeepers/dotenv"}]
["ArthurHub/Android-Image-Cropper",{"$f":"VLOOKUP(A4742,汇总!D:E,2,FALSE)","v":"https://github.com/ArthurHub/Android-Image-Cropper"}]
["khuedoan/homelab",{"$f":"VLOOKUP(A4743,汇总!D:E,2,FALSE)","v":"https://github.com/khuedoan/homelab"}]
["mamedev/mame",{"$f":"VLOOKUP(A4744,汇总!D:E,2,FALSE)","v":"https://github.com/mamedev/mame"}]
["LittleFriendsGroup/AndroidSdkSourceAnalysis",{"$f":"VLOOKUP(A4745,汇总!D:E,2,FALSE)","v":"https://github.com/LittleFriendsGroup/AndroidSdkSourceAnalysis"}]
["LiuBoyu/blockchain",{"$f":"VLOOKUP(A4746,汇总!D:E,2,FALSE)","v":"https://github.com/LiuBoyu/blockchain"}]
["real-logic/aeron",{"$f":"VLOOKUP(A4747,汇总!D:E,2,FALSE)","v":"https://github.com/real-logic/aeron"}]
["prerender/prerender",{"$f":"VLOOKUP(A4748,汇总!D:E,2,FALSE)","v":"https://github.com/prerender/prerender"}]
["liuruoze/EasyPR",{"$f":"VLOOKUP(A4749,汇总!D:E,2,FALSE)","v":"https://github.com/liuruoze/EasyPR"}]
["jspreadsheet/ce",{"$f":"VLOOKUP(A4750,汇总!D:E,2,FALSE)","v":"https://github.com/jspreadsheet/ce"}]
["thephpleague/oauth2-server",{"$f":"VLOOKUP(A4751,汇总!D:E,2,FALSE)","v":"https://github.com/thephpleague/oauth2-server"}]
["hak5darren/USB-Rubber-Ducky",{"$f":"VLOOKUP(A4752,汇总!D:E,2,FALSE)","v":"https://github.com/hak5darren/USB-Rubber-Ducky"}]
["andreasbm/web-skills",{"$f":"VLOOKUP(A4753,汇总!D:E,2,FALSE)","v":"https://github.com/andreasbm/web-skills"}]
["OrchardCMS/OrchardCore",{"$f":"VLOOKUP(A4754,汇总!D:E,2,FALSE)","v":"https://github.com/OrchardCMS/OrchardCore"}]
["flutter/engine",{"$f":"VLOOKUP(A4755,汇总!D:E,2,FALSE)","v":"https://github.com/flutter/engine"}]
["pppscn/SmsForwarder",{"$f":"VLOOKUP(A4756,汇总!D:E,2,FALSE)","v":"https://github.com/pppscn/SmsForwarder"}]
["ianstormtaylor/superstruct",{"$f":"VLOOKUP(A4757,汇总!D:E,2,FALSE)","v":"https://github.com/ianstormtaylor/superstruct"}]
["maxbbraun/trump2cash",{"$f":"VLOOKUP(A4758,汇总!D:E,2,FALSE)","v":"https://github.com/maxbbraun/trump2cash"}]
["kif-framework/KIF",{"$f":"VLOOKUP(A4759,汇总!D:E,2,FALSE)","v":"https://github.com/kif-framework/KIF"}]
["sdc-alibaba/SUI-Mobile",{"$f":"VLOOKUP(A4760,汇总!D:E,2,FALSE)","v":"https://github.com/sdc-alibaba/SUI-Mobile"}]
["ikew0ng/SwipeBackLayout",{"$f":"VLOOKUP(A4761,汇总!D:E,2,FALSE)","v":"https://github.com/ikew0ng/SwipeBackLayout"}]
["platformio/platformio-core",{"$f":"VLOOKUP(A4762,汇总!D:E,2,FALSE)","v":"https://github.com/platformio/platformio-core"}]
["Zizaco/entrust",{"$f":"VLOOKUP(A4763,汇总!D:E,2,FALSE)","v":"https://github.com/Zizaco/entrust"}]
["Hironsan/BossSensor",{"$f":"VLOOKUP(A4764,汇总!D:E,2,FALSE)","v":"https://github.com/Hironsan/BossSensor"}]
["fruitcake/laravel-cors",{"$f":"VLOOKUP(A4765,汇总!D:E,2,FALSE)","v":"https://github.com/fruitcake/laravel-cors"}]
["LMMS/lmms",{"$f":"VLOOKUP(A4766,汇总!D:E,2,FALSE)","v":"https://github.com/LMMS/lmms"}]
["AI4Finance-Foundation/FinRL",{"$f":"VLOOKUP(A4767,汇总!D:E,2,FALSE)","v":"https://github.com/AI4Finance-Foundation/FinRL"}]
["liftoff/GateOne",{"$f":"VLOOKUP(A4768,汇总!D:E,2,FALSE)","v":"https://github.com/liftoff/GateOne"}]
["guard/guard",{"$f":"VLOOKUP(A4769,汇总!D:E,2,FALSE)","v":"https://github.com/guard/guard"}]
["PaddlePaddle/PaddleGAN",{"$f":"VLOOKUP(A4770,汇总!D:E,2,FALSE)","v":"https://github.com/PaddlePaddle/PaddleGAN"}]
["id-Software/Quake-III-Arena",{"$f":"VLOOKUP(A4771,汇总!D:E,2,FALSE)","v":"https://github.com/id-Software/Quake-III-Arena"}]
["gsdios/SDCycleScrollView",{"$f":"VLOOKUP(A4772,汇总!D:E,2,FALSE)","v":"https://github.com/gsdios/SDCycleScrollView"}]
["guodongxiaren/README",{"$f":"VLOOKUP(A4773,汇总!D:E,2,FALSE)","v":"https://github.com/guodongxiaren/README"}]
["zhongsp/TypeScript",{"$f":"VLOOKUP(A4774,汇总!D:E,2,FALSE)","v":"https://github.com/zhongsp/TypeScript"}]
["xenia-project/xenia",{"$f":"VLOOKUP(A4775,汇总!D:E,2,FALSE)","v":"https://github.com/xenia-project/xenia"}]
["Dimillian/MovieSwiftUI",{"$f":"VLOOKUP(A4776,汇总!D:E,2,FALSE)","v":"https://github.com/Dimillian/MovieSwiftUI"}]
["angular-fullstack/generator-angular-fullstack",{"$f":"VLOOKUP(A4777,汇总!D:E,2,FALSE)","v":"https://github.com/angular-fullstack/generator-angular-fullstack"}]
["openedx/edx-platform",{"$f":"VLOOKUP(A4778,汇总!D:E,2,FALSE)","v":"https://github.com/openedx/edx-platform"}]
["TypeStrong/typedoc",{"$f":"VLOOKUP(A4779,汇总!D:E,2,FALSE)","v":"https://github.com/TypeStrong/typedoc"}]
["kulshekhar/ts-jest",{"$f":"VLOOKUP(A4780,汇总!D:E,2,FALSE)","v":"https://github.com/kulshekhar/ts-jest"}]
["radix-ui/primitives",{"$f":"VLOOKUP(A4781,汇总!D:E,2,FALSE)","v":"https://github.com/radix-ui/primitives"}]
["betaflight/betaflight",{"$f":"VLOOKUP(A4782,汇总!D:E,2,FALSE)","v":"https://github.com/betaflight/betaflight"}]
["awsdocs/aws-doc-sdk-examples",{"$f":"VLOOKUP(A4783,汇总!D:E,2,FALSE)","v":"https://github.com/awsdocs/aws-doc-sdk-examples"}]
["kubernetes/autoscaler",{"$f":"VLOOKUP(A4784,汇总!D:E,2,FALSE)","v":"https://github.com/kubernetes/autoscaler"}]
["taki0112/UGATIT",{"$f":"VLOOKUP(A4785,汇总!D:E,2,FALSE)","v":"https://github.com/taki0112/UGATIT"}]
["angr/angr",{"$f":"VLOOKUP(A4786,汇总!D:E,2,FALSE)","v":"https://github.com/angr/angr"}]
["vt-vl-lab/3d-photo-inpainting",{"$f":"VLOOKUP(A4787,汇总!D:E,2,FALSE)","v":"https://github.com/vt-vl-lab/3d-photo-inpainting"}]
["spulec/moto",{"$f":"VLOOKUP(A4788,汇总!D:E,2,FALSE)","v":"https://github.com/spulec/moto"}]
["ProseMirror/prosemirror",{"$f":"VLOOKUP(A4789,汇总!D:E,2,FALSE)","v":"https://github.com/ProseMirror/prosemirror"}]
["rengwuxian/MaterialEditText",{"$f":"VLOOKUP(A4790,汇总!D:E,2,FALSE)","v":"https://github.com/rengwuxian/MaterialEditText"}]
["mgdm/htmlq",{"$f":"VLOOKUP(A4791,汇总!D:E,2,FALSE)","v":"https://github.com/mgdm/htmlq"}]
["flashlight/wav2letter",{"$f":"VLOOKUP(A4792,汇总!D:E,2,FALSE)","v":"https://github.com/flashlight/wav2letter"}]
["serde-rs/serde",{"$f":"VLOOKUP(A4793,汇总!D:E,2,FALSE)","v":"https://github.com/serde-rs/serde"}]
["ctf-wiki/ctf-wiki",{"$f":"VLOOKUP(A4794,汇总!D:E,2,FALSE)","v":"https://github.com/ctf-wiki/ctf-wiki"}]
["sullo/nikto",{"$f":"VLOOKUP(A4795,汇总!D:E,2,FALSE)","v":"https://github.com/sullo/nikto"}]
["lua/lua",{"$f":"VLOOKUP(A4796,汇总!D:E,2,FALSE)","v":"https://github.com/lua/lua"}]
["ConsenSys/smart-contract-best-practices",{"$f":"VLOOKUP(A4797,汇总!D:E,2,FALSE)","v":"https://github.com/ConsenSys/smart-contract-best-practices"}]
["jorgebucaran/fisher",{"$f":"VLOOKUP(A4798,汇总!D:E,2,FALSE)","v":"https://github.com/jorgebucaran/fisher"}]
["google/error-prone",{"$f":"VLOOKUP(A4799,汇总!D:E,2,FALSE)","v":"https://github.com/google/error-prone"}]
["jpbruinsslot/slack-term",{"$f":"VLOOKUP(A4800,汇总!D:E,2,FALSE)","v":"https://github.com/jpbruinsslot/slack-term"}]
["sandstorm-io/sandstorm",{"$f":"VLOOKUP(A4801,汇总!D:E,2,FALSE)","v":"https://github.com/sandstorm-io/sandstorm"}]
["drivendata/cookiecutter-data-science",{"$f":"VLOOKUP(A4802,汇总!D:E,2,FALSE)","v":"https://github.com/drivendata/cookiecutter-data-science"}]
["electerious/Lychee",{"$f":"VLOOKUP(A4803,汇总!D:E,2,FALSE)","v":"https://github.com/electerious/Lychee"}]
["dataabc/weiboSpider",{"$f":"VLOOKUP(A4804,汇总!D:E,2,FALSE)","v":"https://github.com/dataabc/weiboSpider"}]
["sebastianbergmann/object-enumerator",{"$f":"VLOOKUP(A4805,汇总!D:E,2,FALSE)","v":"https://github.com/sebastianbergmann/object-enumerator"}]
["scikit-learn-contrib/imbalanced-learn",{"$f":"VLOOKUP(A4806,汇总!D:E,2,FALSE)","v":"https://github.com/scikit-learn-contrib/imbalanced-learn"}]
["twitchtv/twirp",{"$f":"VLOOKUP(A4807,汇总!D:E,2,FALSE)","v":"https://github.com/twitchtv/twirp"}]
["os-js/OS.js",{"$f":"VLOOKUP(A4808,汇总!D:E,2,FALSE)","v":"https://github.com/os-js/OS.js"}]
["flike/kingshard",{"$f":"VLOOKUP(A4809,汇总!D:E,2,FALSE)","v":"https://github.com/flike/kingshard"}]
["samuelclay/NewsBlur",{"$f":"VLOOKUP(A4810,汇总!D:E,2,FALSE)","v":"https://github.com/samuelclay/NewsBlur"}]
["maaslalani/slides",{"$f":"VLOOKUP(A4811,汇总!D:E,2,FALSE)","v":"https://github.com/maaslalani/slides"}]
["burnash/gspread",{"$f":"VLOOKUP(A4812,汇总!D:E,2,FALSE)","v":"https://github.com/burnash/gspread"}]
["aws/aws-sam-cli",{"$f":"VLOOKUP(A4813,汇总!D:E,2,FALSE)","v":"https://github.com/aws/aws-sam-cli"}]
["eternnoir/pyTelegramBotAPI",{"$f":"VLOOKUP(A4814,汇总!D:E,2,FALSE)","v":"https://github.com/eternnoir/pyTelegramBotAPI"}]
["berty/berty",{"$f":"VLOOKUP(A4815,汇总!D:E,2,FALSE)","v":"https://github.com/berty/berty"}]
["nicklockwood/SwiftFormat",{"$f":"VLOOKUP(A4816,汇总!D:E,2,FALSE)","v":"https://github.com/nicklockwood/SwiftFormat"}]
["mimecorg/vuido",{"$f":"VLOOKUP(A4817,汇总!D:E,2,FALSE)","v":"https://github.com/mimecorg/vuido"}]
["nodejs/http-parser",{"$f":"VLOOKUP(A4818,汇总!D:E,2,FALSE)","v":"https://github.com/nodejs/http-parser"}]
["redux-offline/redux-offline",{"$f":"VLOOKUP(A4819,汇总!D:E,2,FALSE)","v":"https://github.com/redux-offline/redux-offline"}]
["ecrmnn/collect.js",{"$f":"VLOOKUP(A4820,汇总!D:E,2,FALSE)","v":"https://github.com/ecrmnn/collect.js"}]
["Immediate-Mode-UI/Nuklear",{"$f":"VLOOKUP(A4821,汇总!D:E,2,FALSE)","v":"https://github.com/Immediate-Mode-UI/Nuklear"}]
["pentaho/pentaho-kettle",{"$f":"VLOOKUP(A4822,汇总!D:E,2,FALSE)","v":"https://github.com/pentaho/pentaho-kettle"}]
["alexreisner/geocoder",{"$f":"VLOOKUP(A4823,汇总!D:E,2,FALSE)","v":"https://github.com/alexreisner/geocoder"}]
["mikesprague/udacity-nanodegrees",{"$f":"VLOOKUP(A4824,汇总!D:E,2,FALSE)","v":"https://github.com/mikesprague/udacity-nanodegrees"}]
["kallaway/100-days-of-code",{"$f":"VLOOKUP(A4825,汇总!D:E,2,FALSE)","v":"https://github.com/kallaway/100-days-of-code"}]
["midwayjs/midway",{"$f":"VLOOKUP(A4826,汇总!D:E,2,FALSE)","v":"https://github.com/midwayjs/midway"}]
["wuhan2020/wuhan2020",{"$f":"VLOOKUP(A4827,汇总!D:E,2,FALSE)","v":"https://github.com/wuhan2020/wuhan2020"}]
["bizz84/SwiftyStoreKit",{"$f":"VLOOKUP(A4828,汇总!D:E,2,FALSE)","v":"https://github.com/bizz84/SwiftyStoreKit"}]
["slap-editor/slap",{"$f":"VLOOKUP(A4829,汇总!D:E,2,FALSE)","v":"https://github.com/slap-editor/slap"}]
["billryan/resume",{"$f":"VLOOKUP(A4830,汇总!D:E,2,FALSE)","v":"https://github.com/billryan/resume"}]
["deis/deis",{"$f":"VLOOKUP(A4831,汇总!D:E,2,FALSE)","v":"https://github.com/deis/deis"}]
["venmo/synx",{"$f":"VLOOKUP(A4832,汇总!D:E,2,FALSE)","v":"https://github.com/venmo/synx"}]
["tensorflow/nmt",{"$f":"VLOOKUP(A4833,汇总!D:E,2,FALSE)","v":"https://github.com/tensorflow/nmt"}]
["wsvincent/awesome-django",{"$f":"VLOOKUP(A4834,汇总!D:E,2,FALSE)","v":"https://github.com/wsvincent/awesome-django"}]
["Kaiyiwing/qwerty-learner",{"$f":"VLOOKUP(A4835,汇总!D:E,2,FALSE)","v":"https://github.com/Kaiyiwing/qwerty-learner"}]
["gonum/gonum",{"$f":"VLOOKUP(A4836,汇总!D:E,2,FALSE)","v":"https://github.com/gonum/gonum"}]
["whatwg/html",{"$f":"VLOOKUP(A4837,汇总!D:E,2,FALSE)","v":"https://github.com/whatwg/html"}]
["luanfujun/deep-painterly-harmonization",{"$f":"VLOOKUP(A4838,汇总!D:E,2,FALSE)","v":"https://github.com/luanfujun/deep-painterly-harmonization"}]
["postmanlabs/newman",{"$f":"VLOOKUP(A4839,汇总!D:E,2,FALSE)","v":"https://github.com/postmanlabs/newman"}]
["sindresorhus/query-string",{"$f":"VLOOKUP(A4840,汇总!D:E,2,FALSE)","v":"https://github.com/sindresorhus/query-string"}]
["sparkle-project/Sparkle",{"$f":"VLOOKUP(A4841,汇总!D:E,2,FALSE)","v":"https://github.com/sparkle-project/Sparkle"}]
["ducksboard/gridster.js",{"$f":"VLOOKUP(A4842,汇总!D:E,2,FALSE)","v":"https://github.com/ducksboard/gridster.js"}]
["opf/openproject",{"$f":"VLOOKUP(A4843,汇总!D:E,2,FALSE)","v":"https://github.com/opf/openproject"}]
["arslanbilal/git-cheat-sheet",{"$f":"VLOOKUP(A4844,汇总!D:E,2,FALSE)","v":"https://github.com/arslanbilal/git-cheat-sheet"}]
["microsoft/winget-pkgs",{"$f":"VLOOKUP(A4845,汇总!D:E,2,FALSE)","v":"https://github.com/microsoft/winget-pkgs"}]
["mattn/emmet-vim",{"$f":"VLOOKUP(A4846,汇总!D:E,2,FALSE)","v":"https://github.com/mattn/emmet-vim"}]
["andreamazz/AMScrollingNavbar",{"$f":"VLOOKUP(A4847,汇总!D:E,2,FALSE)","v":"https://github.com/andreamazz/AMScrollingNavbar"}]
["madd86/awesome-system-design",{"$f":"VLOOKUP(A4848,汇总!D:E,2,FALSE)","v":"https://github.com/madd86/awesome-system-design"}]
["go-ego/riot",{"$f":"VLOOKUP(A4849,汇总!D:E,2,FALSE)","v":"https://github.com/go-ego/riot"}]
["goproxy/goproxy.cn",{"$f":"VLOOKUP(A4850,汇总!D:E,2,FALSE)","v":"https://github.com/goproxy/goproxy.cn"}]
["apache/doris",{"$f":"VLOOKUP(A4851,汇总!D:E,2,FALSE)","v":"https://github.com/apache/doris"}]
["basecamp/handbook",{"$f":"VLOOKUP(A4852,汇总!D:E,2,FALSE)","v":"https://github.com/basecamp/handbook"}]
["jmechner/Prince-of-Persia-Apple-II",{"$f":"VLOOKUP(A4853,汇总!D:E,2,FALSE)","v":"https://github.com/jmechner/Prince-of-Persia-Apple-II"}]
["telegraf/telegraf",{"$f":"VLOOKUP(A4854,汇总!D:E,2,FALSE)","v":"https://github.com/telegraf/telegraf"}]
["tensorflow/swift",{"$f":"VLOOKUP(A4855,汇总!D:E,2,FALSE)","v":"https://github.com/tensorflow/swift"}]
["webiny/webiny-js",{"$f":"VLOOKUP(A4856,汇总!D:E,2,FALSE)","v":"https://github.com/webiny/webiny-js"}]
["iron/iron",{"$f":"VLOOKUP(A4857,汇总!D:E,2,FALSE)","v":"https://github.com/iron/iron"}]
["facebook/pyre-check",{"$f":"VLOOKUP(A4858,汇总!D:E,2,FALSE)","v":"https://github.com/facebook/pyre-check"}]
["tilt-dev/tilt",{"$f":"VLOOKUP(A4859,汇总!D:E,2,FALSE)","v":"https://github.com/tilt-dev/tilt"}]
["princewen/tensorflow_practice",{"$f":"VLOOKUP(A4860,汇总!D:E,2,FALSE)","v":"https://github.com/princewen/tensorflow_practice"}]
["bitnami/charts",{"$f":"VLOOKUP(A4861,汇总!D:E,2,FALSE)","v":"https://github.com/bitnami/charts"}]
["Loyalsoldier/clash-rules",{"$f":"VLOOKUP(A4862,汇总!D:E,2,FALSE)","v":"https://github.com/Loyalsoldier/clash-rules"}]
["antfu/vitesse",{"$f":"VLOOKUP(A4863,汇总!D:E,2,FALSE)","v":"https://github.com/antfu/vitesse"}]
["neutralinojs/neutralinojs",{"$f":"VLOOKUP(A4864,汇总!D:E,2,FALSE)","v":"https://github.com/neutralinojs/neutralinojs"}]
["jackc/pgx",{"$f":"VLOOKUP(A4865,汇总!D:E,2,FALSE)","v":"https://github.com/jackc/pgx"}]
["microsoft/vscode-extension-samples",{"$f":"VLOOKUP(A4866,汇总!D:E,2,FALSE)","v":"https://github.com/microsoft/vscode-extension-samples"}]
["nodegui/react-nodegui",{"$f":"VLOOKUP(A4867,汇总!D:E,2,FALSE)","v":"https://github.com/nodegui/react-nodegui"}]
["neuecc/UniRx",{"$f":"VLOOKUP(A4868,汇总!D:E,2,FALSE)","v":"https://github.com/neuecc/UniRx"}]
["mattn/go-sqlite3",{"$f":"VLOOKUP(A4869,汇总!D:E,2,FALSE)","v":"https://github.com/mattn/go-sqlite3"}]
["sqlalchemy/sqlalchemy",{"$f":"VLOOKUP(A4870,汇总!D:E,2,FALSE)","v":"https://github.com/sqlalchemy/sqlalchemy"}]
["jquense/react-big-calendar",{"$f":"VLOOKUP(A4871,汇总!D:E,2,FALSE)","v":"https://github.com/jquense/react-big-calendar"}]
["nfmcclure/tensorflow_cookbook",{"$f":"VLOOKUP(A4872,汇总!D:E,2,FALSE)","v":"https://github.com/nfmcclure/tensorflow_cookbook"}]
["soldair/node-qrcode",{"$f":"VLOOKUP(A4873,汇总!D:E,2,FALSE)","v":"https://github.com/soldair/node-qrcode"}]
["operator-framework/operator-sdk",{"$f":"VLOOKUP(A4874,汇总!D:E,2,FALSE)","v":"https://github.com/operator-framework/operator-sdk"}]
["microsoft/fluentui-emoji",{"$f":"VLOOKUP(A4875,汇总!D:E,2,FALSE)","v":"https://github.com/microsoft/fluentui-emoji"}]
["chancejs/chancejs",{"$f":"VLOOKUP(A4876,汇总!D:E,2,FALSE)","v":"https://github.com/chancejs/chancejs"}]
["kbrsh/moon",{"$f":"VLOOKUP(A4877,汇总!D:E,2,FALSE)","v":"https://github.com/kbrsh/moon"}]
["rest-assured/rest-assured",{"$f":"VLOOKUP(A4878,汇总!D:E,2,FALSE)","v":"https://github.com/rest-assured/rest-assured"}]
["vmware-tanzu/octant",{"$f":"VLOOKUP(A4879,汇总!D:E,2,FALSE)","v":"https://github.com/vmware-tanzu/octant"}]
["stanfordnlp/GloVe",{"$f":"VLOOKUP(A4880,汇总!D:E,2,FALSE)","v":"https://github.com/stanfordnlp/GloVe"}]
["VirusTotal/yara",{"$f":"VLOOKUP(A4881,汇总!D:E,2,FALSE)","v":"https://github.com/VirusTotal/yara"}]
["rey5137/material",{"$f":"VLOOKUP(A4882,汇总!D:E,2,FALSE)","v":"https://github.com/rey5137/material"}]
["diasurgical/devilutionX",{"$f":"VLOOKUP(A4883,汇总!D:E,2,FALSE)","v":"https://github.com/diasurgical/devilutionX"}]
["ankane/chartkick",{"$f":"VLOOKUP(A4884,汇总!D:E,2,FALSE)","v":"https://github.com/ankane/chartkick"}]
["toddmotto/angularjs-styleguide",{"$f":"VLOOKUP(A4885,汇总!D:E,2,FALSE)","v":"https://github.com/toddmotto/angularjs-styleguide"}]
["pedrovgs/EffectiveAndroidUI",{"$f":"VLOOKUP(A4886,汇总!D:E,2,FALSE)","v":"https://github.com/pedrovgs/EffectiveAndroidUI"}]
["XIU2/CloudflareSpeedTest",{"$f":"VLOOKUP(A4887,汇总!D:E,2,FALSE)","v":"https://github.com/XIU2/CloudflareSpeedTest"}]
["Ranchero-Software/NetNewsWire",{"$f":"VLOOKUP(A4888,汇总!D:E,2,FALSE)","v":"https://github.com/Ranchero-Software/NetNewsWire"}]
["ecomfe/echarts-for-weixin",{"$f":"VLOOKUP(A4889,汇总!D:E,2,FALSE)","v":"https://github.com/ecomfe/echarts-for-weixin"}]
["aa112901/remusic",{"$f":"VLOOKUP(A4890,汇总!D:E,2,FALSE)","v":"https://github.com/aa112901/remusic"}]
["HMBSbige/ShadowsocksR-Windows",{"$f":"VLOOKUP(A4891,汇总!D:E,2,FALSE)","v":"https://github.com/HMBSbige/ShadowsocksR-Windows"}]
["allegro/bigcache",{"$f":"VLOOKUP(A4892,汇总!D:E,2,FALSE)","v":"https://github.com/allegro/bigcache"}]
["google/physical-web",{"$f":"VLOOKUP(A4893,汇总!D:E,2,FALSE)","v":"https://github.com/google/physical-web"}]
["hakanyalcinkaya/kodluyoruz-frontend-101-egitimi",{"$f":"VLOOKUP(A4894,汇总!D:E,2,FALSE)","v":"https://github.com/hakanyalcinkaya/kodluyoruz-frontend-101-egitimi"}]
["Atcold/pytorch-Deep-Learning",{"$f":"VLOOKUP(A4895,汇总!D:E,2,FALSE)","v":"https://github.com/Atcold/pytorch-Deep-Learning"}]
["adamschwartz/magic-of-css",{"$f":"VLOOKUP(A4896,汇总!D:E,2,FALSE)","v":"https://github.com/adamschwartz/magic-of-css"}]
["rabbitmq/rabbitmq-tutorials",{"$f":"VLOOKUP(A4897,汇总!D:E,2,FALSE)","v":"https://github.com/rabbitmq/rabbitmq-tutorials"}]
["perkeep/perkeep",{"$f":"VLOOKUP(A4898,汇总!D:E,2,FALSE)","v":"https://github.com/perkeep/perkeep"}]
["jakiestfu/Snap.js",{"$f":"VLOOKUP(A4899,汇总!D:E,2,FALSE)","v":"https://github.com/jakiestfu/Snap.js"}]
["IonicaBizau/git-stats",{"$f":"VLOOKUP(A4900,汇总!D:E,2,FALSE)","v":"https://github.com/IonicaBizau/git-stats"}]
["doublespeakgames/adarkroom",{"$f":"VLOOKUP(A4901,汇总!D:E,2,FALSE)","v":"https://github.com/doublespeakgames/adarkroom"}]
["plasma-umass/scalene",{"$f":"VLOOKUP(A4902,汇总!D:E,2,FALSE)","v":"https://github.com/plasma-umass/scalene"}]
["microsoft/nlp-recipes",{"$f":"VLOOKUP(A4903,汇总!D:E,2,FALSE)","v":"https://github.com/microsoft/nlp-recipes"}]
["qvacua/vimr",{"$f":"VLOOKUP(A4904,汇总!D:E,2,FALSE)","v":"https://github.com/qvacua/vimr"}]
["thunlp/WantWords",{"$f":"VLOOKUP(A4905,汇总!D:E,2,FALSE)","v":"https://github.com/thunlp/WantWords"}]
["moonD4rk/HackBrowserData",{"$f":"VLOOKUP(A4906,汇总!D:E,2,FALSE)","v":"https://github.com/moonD4rk/HackBrowserData"}]
["Netflix/metaflow",{"$f":"VLOOKUP(A4907,汇总!D:E,2,FALSE)","v":"https://github.com/Netflix/metaflow"}]
["daimajia/NumberProgressBar",{"$f":"VLOOKUP(A4908,汇总!D:E,2,FALSE)","v":"https://github.com/daimajia/NumberProgressBar"}]
["nenadmarkus/picojs",{"$f":"VLOOKUP(A4909,汇总!D:E,2,FALSE)","v":"https://github.com/nenadmarkus/picojs"}]
["ankane/searchkick",{"$f":"VLOOKUP(A4910,汇总!D:E,2,FALSE)","v":"https://github.com/ankane/searchkick"}]
["NVIDIA/TensorRT",{"$f":"VLOOKUP(A4911,汇总!D:E,2,FALSE)","v":"https://github.com/NVIDIA/TensorRT"}]
["wszqkzqk/deepin-wine-ubuntu",{"$f":"VLOOKUP(A4912,汇总!D:E,2,FALSE)","v":"https://github.com/wszqkzqk/deepin-wine-ubuntu"}]
["dtao/lazy.js",{"$f":"VLOOKUP(A4913,汇总!D:E,2,FALSE)","v":"https://github.com/dtao/lazy.js"}]
["thtrieu/darkflow",{"$f":"VLOOKUP(A4914,汇总!D:E,2,FALSE)","v":"https://github.com/thtrieu/darkflow"}]
["skydoves/Pokedex",{"$f":"VLOOKUP(A4915,汇总!D:E,2,FALSE)","v":"https://github.com/skydoves/Pokedex"}]
["KaimingHe/deep-residual-networks",{"$f":"VLOOKUP(A4916,汇总!D:E,2,FALSE)","v":"https://github.com/KaimingHe/deep-residual-networks"}]
["dgtlmoon/changedetection.io",{"$f":"VLOOKUP(A4917,汇总!D:E,2,FALSE)","v":"https://github.com/dgtlmoon/changedetection.io"}]
["open-source-ideas/ideas",{"$f":"VLOOKUP(A4918,汇总!D:E,2,FALSE)","v":"https://github.com/open-source-ideas/ideas"}]
["rectorphp/rector",{"$f":"VLOOKUP(A4919,汇总!D:E,2,FALSE)","v":"https://github.com/rectorphp/rector"}]
["saulpw/visidata",{"$f":"VLOOKUP(A4920,汇总!D:E,2,FALSE)","v":"https://github.com/saulpw/visidata"}]
["microsoft/WSL2-Linux-Kernel",{"$f":"VLOOKUP(A4921,汇总!D:E,2,FALSE)","v":"https://github.com/microsoft/WSL2-Linux-Kernel"}]
["wren-lang/wren",{"$f":"VLOOKUP(A4922,汇总!D:E,2,FALSE)","v":"https://github.com/wren-lang/wren"}]
["fabiospampinato/cash",{"$f":"VLOOKUP(A4923,汇总!D:E,2,FALSE)","v":"https://github.com/fabiospampinato/cash"}]
["huri000/SwiftEntryKit",{"$f":"VLOOKUP(A4924,汇总!D:E,2,FALSE)","v":"https://github.com/huri000/SwiftEntryKit"}]
["sebastianbergmann/resource-operations",{"$f":"VLOOKUP(A4925,汇总!D:E,2,FALSE)","v":"https://github.com/sebastianbergmann/resource-operations"}]
["AsyncHttpClient/async-http-client",{"$f":"VLOOKUP(A4926,汇总!D:E,2,FALSE)","v":"https://github.com/AsyncHttpClient/async-http-client"}]
["dagger/dagger",{"$f":"VLOOKUP(A4927,汇总!D:E,2,FALSE)","v":"https://github.com/dagger/dagger"}]
["h2oai/h2o-3",{"$f":"VLOOKUP(A4928,汇总!D:E,2,FALSE)","v":"https://github.com/h2oai/h2o-3"}]
["upspin/upspin",{"$f":"VLOOKUP(A4929,汇总!D:E,2,FALSE)","v":"https://github.com/upspin/upspin"}]
["me115/design_patterns",{"$f":"VLOOKUP(A4930,汇总!D:E,2,FALSE)","v":"https://github.com/me115/design_patterns"}]
["TheOdinProject/curriculum",{"$f":"VLOOKUP(A4931,汇总!D:E,2,FALSE)","v":"https://github.com/TheOdinProject/curriculum"}]

{"sheet":"汇总","index":5,"n_rows":5395,"n_cols":8,"rows_kept":5395,"cut":false,"hidden":false,"merged":[]}
["ID","RepoID","Org","FullName","Url","Star","Fork","Contributors"]
[1,20580498,"kubernetes","kubernetes/kubernetes","https://github.com/kubernetes/kubernetes",92451,33911,773]
[2,10744183,"netdata","netdata/netdata","https://github.com/netdata/netdata",60755,5382,774]
[3,156018,"redis","redis/redis","https://github.com/redis/redis",56977,21800,775]
[4,3638964,"ansible","ansible/ansible","https://github.com/ansible/ansible",54716,22437,776]
[5,120538304,"kelseyhightower","kelseyhightower/nocode","https://github.com/kelseyhightower/nocode",53803,4581,777]
[6,9185792,"apache","apache/echarts","https://github.com/apache/echarts",52604,19198,778]
[7,15111821,"grafana","grafana/grafana","https://github.com/grafana/grafana",51223,10057,779]
[8,39464018,"apache","apache/superset","https://github.com/apache/superset",48342,9586,780]
[9,6838921,"prometheus","prometheus/prometheus","https://github.com/prometheus/prometheus",44507,7495,781]
[10,11225014,"etcd-io","etcd-io/etcd","https://github.com/etcd-io/etcd",41332,8843,782]
[11,42408804,"traefik","traefik/traefik","https://github.com/traefik/traefik",39791,4340,783]
[12,4710920,"apache","apache/dubbo","https://github.com/apache/dubbo",37912,25338,784]
[13,null,"dcloudio","dcloudio/uni-app","https://github.com/dcloudio/uni-app",37141,3352,785]
[14,27729880,"grpc","grpc/grpc","https://github.com/grpc/grpc",35731,9401,786]
[15,29261473,"minio","minio/minio","https://github.com/minio/minio",35528,4208,787]
[16,17728164,"hashicorp","hashicorp/terraform","https://github.com/hashicorp/terraform",34339,7951,788]
[17,17165658,"apache","apache/spark","https://github.com/apache/spark",33992,26134,789]
[18,26783295,"Kong","Kong/kong","https://github.com/Kong/kong",32983,4285,790]
[19,41986369,"pingcap","pingcap/tidb","https://github.com/pingcap/tidb",32441,5277,791]
[20,74175805,"istio","istio/istio","https://github.com/istio/istio",31460,6676,792]
[21,null,"alibaba","alibaba/arthas","https://github.com/alibaba/arthas",30518,6658,793]
[22,33884891,"apache","apache/airflow","https://github.com/apache/airflow",27660,11291,794]
[23,53127403,"apolloconfig","apolloconfig/apollo","https://github.com/apolloconfig/apollo",27332,9970]
[24,15045751,"docker","docker/compose","https://github.com/docker/compose",27332,4559]
[25,null,"layui","layui/layui","https://github.com/layui/layui",26464,7081]
[26,31288958,"hashicorp","hashicorp/vault","https://github.com/hashicorp/vault",25903,3544]
[27,16607898,"harness","harness/drone","https://github.com/harness/drone",25792,2518]
[28,6452529,"rethinkdb","rethinkdb/rethinkdb","https://github.com/rethinkdb/rethinkdb",25702,1873]
[29,14125254,"hashicorp","hashicorp/consul","https://github.com/hashicorp/consul",25425,4156]
[30,17372733,"OAI","OAI/OpenAPI-Specification","https://github.com/OAI/OpenAPI-Specification",25045,8598]
[31,56353740,"kubernetes","kubernetes/minikube","https://github.com/kubernetes/minikube",24866,4293]
[32,13124802,"influxdata","influxdata/influxdb","https://github.com/influxdata/influxdb",24202,3243]
[33,137451403,"alibaba","alibaba/nacos","https://github.com/alibaba/nacos",24072,10709]
[34,null,"dromara","dromara/hutool","https://github.com/dromara/hutool",23922,6648]
[35,2211243,"apache","apache/kafka","https://github.com/apache/kafka",23180,11915]
[36,59239347,"portainer","portainer/portainer","https://github.com/portainer/portainer",23167,2047]
[37,2500088,"gitlabhq","gitlabhq/gitlabhq","https://github.com/gitlabhq/gitlabhq",23039,5711]
[38,163387337,"seata","seata/seata","https://github.com/seata/seata",22864,8090]
[39,43723161,"helm","helm/helm","https://github.com/helm/helm",22672,6388]
[40,null,"xuxueli","xuxueli/xxl-job","https://github.com/xuxueli/xxl-job",22547,9501]
[41,135516270,"k3s-io","k3s-io/k3s","https://github.com/k3s-io/k3s",21064,1863]
[42,285864199,"zeromicro","zeromicro/go-zero","https://github.com/zeromicro/go-zero",20746,2995]
[43,65214191,"envoyproxy","envoyproxy/envoy","https://github.com/envoyproxy/envoy",20532,3898]
[44,45721011,"apache","apache/skywalking","https://github.com/apache/skywalking",20308,5897]
[45,34864402,"apache","apache/incubator-mxnet","https://github.com/apache/incubator-mxnet",20085,6877]
[46,13753636,"jhipster","jhipster/generator-jhipster","https://github.com/jhipster/generator-jhipster",19929,3879]
[47,128018428,"alibaba","alibaba/Sentinel","https://github.com/alibaba/Sentinel",19927,7209]
[48,26337322,"rancher","rancher/rancher","https://github.com/rancher/rancher",19883,2660]
[49,20587599,"apache","apache/flink","https://github.com/apache/flink",19855,11251]
[50,1103607,"jenkinsci","jenkinsci/jenkins","https://github.com/jenkinsci/jenkins",19554,7672]
[51,107505869,"firecracker-microvm","firecracker-microvm/firecracker","https://github.com/firecracker-microvm/firecracker",19490,1399]
[52,196353673,"taosdata","taosdata/TDengine","https://github.com/taosdata/TDengine",19342,4486]
[53,165041732,"go-kratos","go-kratos/kratos","https://github.com/go-kratos/kratos",18935,3636]
[54,null,"PaddlePaddle","PaddlePaddle/Paddle","https://github.com/PaddlePaddle/Paddle",18901,4709]
[55,236095576,"backstage","backstage/backstage","https://github.com/backstage/backstage",18424,3035]
[56,50613991,"goharbor","goharbor/harbor","https://github.com/goharbor/harbor",18378,4172]
[57,75164823,"apache","apache/rocketmq","https://github.com/apache/rocketmq",18140,10200]
[58,54400687,"grafana","grafana/k6","https://github.com/grafana/k6",18034,935]
[59,49876476,"apache","apache/shardingsphere","https://github.com/apache/shardingsphere",17401,6008]
[60,37912398,"nginx","nginx/nginx","https://github.com/nginx/nginx",17227,5975]
[61,129717717,"grafana","grafana/loki","https://github.com/grafana/loki",17150,2193]
[62,56342508,"jaegertracing","jaegertracing/jaeger","https://github.com/jaegertracing/jaeger",16465,1980]
[63,4576305,"openzipkin","openzipkin/zipkin","https://github.com/openzipkin/zipkin",15699,3005]
[64,109145553,"containers","containers/podman","https://github.com/containers/podman",15386,1631]
[65,11008207,"vitessio","vitessio/vitess","https://github.com/vitessio/vitess",14785,1835]
[66,62091339,"kubernetes","kubernetes/kops","https://github.com/kubernetes/kops",14360,4427]
[67,180687624,"aquasecurity","aquasecurity/trivy","https://github.com/aquasecurity/trivy",14052,1342]
[68,8966356,"hashicorp","hashicorp/packer","https://github.com/hashicorp/packer",13955,3259]
[69,102343794,"apache","apache/incubator-brpc","https://github.com/apache/incubator-brpc",13921,3503]
[70,78186814,"apache","apache/incubator-weex","https://github.com/apache/incubator-weex",13914,1852]
[71,302322,"gradle","gradle/gradle","https://github.com/gradle/gradle",13883,3985]
[72,72477752,"pulumi","pulumi/pulumi","https://github.com/pulumi/pulumi",13793,769]
[73,null,"Tencent","Tencent/APIJSON","https://github.com/Tencent/APIJSON",13770,1807]
[74,null,"justauth","justauth/JustAuth","https://github.com/justauth/JustAuth",13758,2434]
[75,11125589,"keycloak","keycloak/keycloak","https://github.com/keycloak/keycloak",13656,4766]
[76,null,"baomidou","baomidou/mybatis-plus","https://github.com/baomidou/mybatis-plus",13532,3712]
[77,118654121,"GoogleContainerTools","GoogleContainerTools/skaffold","https://github.com/GoogleContainerTools/skaffold",13298,1452]
[78,36071697,"ory","ory/hydra","https://github.com/ory/hydra",13139,1269]
[79,48109239,"cilium","cilium/cilium","https://github.com/cilium/cilium",13130,1803]
[80,131212638,"google","google/gvisor","https://github.com/google/gvisor",13087,1103]
[81,1090311,"elastic","elastic/logstash","https://github.com/elastic/logstash",13076,3364]
[82,23418517,"apache","apache/hadoop","https://github.com/apache/hadoop",12955,8040]
[83,43613404,"kubernetes-sigs","kubernetes-sigs/kubespray","https://github.com/kubernetes-sigs/kubespray",12936,5459]
[84,1390248,"saltstack","saltstack/salt","https://github.com/saltstack/salt",12757,5342]
[85,null,"snail007","snail007/goproxy","https://github.com/snail007/goproxy",12720,2541]
[86,31558937,"gravitational","gravitational/teleport","https://github.com/gravitational/teleport",12718,1287]
[87,2649214,"arangodb","arangodb/arangodb","https://github.com/arangodb/arangodb",12582,786]
[88,7827081,"apache","apache/predictionio","https://github.com/apache/predictionio",12522,2015]
[89,130013,"akka","akka/akka","https://github.com/akka/akka",12509,3603]
[90,25459400,"pinpoint-apm","pinpoint-apm/pinpoint","https://github.com/pinpoint-apm/pinpoint",12407,3636]
[91,36653430,"hashicorp","hashicorp/nomad","https://github.com/hashicorp/nomad",12303,1661]
[92,8759133,"Netflix","Netflix/zuul","https://github.com/Netflix/zuul",12186,2251]
[93,46089560,"containerd","containerd/containerd","https://github.com/containerd/containerd",12143,2451]
[94,null,"mengshukeji","mengshukeji/Luckysheet","https://github.com/mengshukeji/Luckysheet",12089,1652]
[95,6358188,"apache","apache/druid","https://github.com/apache/druid",12068,3348]
[96,null,"lionsoul2014","lionsoul2014/ip2region","https://github.com/lionsoul2014/ip2region",12059,2199]
[97,null,"baidu","baidu/amis","https://github.com/baidu/amis",11985,1688]
[98,48833910,"tikv","tikv/tikv","https://github.com/tikv/tikv",11921,1835]
[99,100982449,"argoproj","argoproj/argo-workflows","https://github.com/argoproj/argo-workflows",11776,2465]
[100,114187903,"apple","apple/foundationdb","https://github.com/apple/foundationdb",11753,1155]
[101,3784017,"alibaba","alibaba/tengine","https://github.com/alibaba/tengine",11644,2434]
[102,62117812,"apache","apache/pulsar","https://github.com/apache/pulsar",11639,3085]
[103,6443435,"nats-io","nats-io/nats-server","https://github.com/nats-io/nats-server",11592,1138]
[104,1918677,"fluent","fluent/fluentd","https://github.com/fluent/fluentd",11517,1266]
[105,5198041,"Netflix","Netflix/eureka","https://github.com/Netflix/eureka",11493,3608]
[106,146327667,"vectordotdev","vectordotdev/vector","https://github.com/vectordotdev/vector",11315,892]
[107,16554739,"elastic","elastic/beats","https://github.com/elastic/beats",11295,4578]
[108,119419195,"GoogleContainerTools","GoogleContainerTools/kaniko","https://github.com/GoogleContainerTools/kaniko",11088,1151]
[109,130430977,"kubesphere","kubesphere/kubesphere","https://github.com/kubesphere/kubesphere",11059,1675]
[110,2310495,"ceph","ceph/ceph","https://github.com/ceph/ceph",11048,5118]
[111,927442,"postgres","postgres/postgres","https://github.com/postgres/postgres",11020,3491]
[112,109162639,"thanos-io","thanos-io/thanos","https://github.com/thanos-io/thanos",10972,1702]
[113,480080,"openresty","openresty/openresty","https://github.com/openresty/openresty",10872,1424]
[114,160999,"apache","apache/zookeeper","https://github.com/apache/zookeeper",10832,6795]
[115,120896210,"argoproj","argoproj/argo-cd","https://github.com/argoproj/argo-cd",10694,2907]
[116,null,"code4craft","code4craft/webmagic","https://github.com/code4craft/webmagic",10533,4078]
[117,148545807,"kubernetes-sigs","kubernetes-sigs/kind","https://github.com/kubernetes-sigs/kind",10524,1222]
[118,6650539,"neo4j","neo4j/neo4j","https://github.com/neo4j/neo4j",10453,2182]
[119,7202769,"emqx","emqx/emqx","https://github.com/emqx/emqx",10419,1849]
[120,51905353,"apache","apache/arrow","https://github.com/apache/arrow",10377,2549]
[121,62921553,"rook","rook/rook","https://github.com/rook/rook",10375,2415]
[122,null,"dromara","dromara/Sa-Token","https://github.com/dromara/Sa-Token",10304,1866]
[123,180481986,"apache","apache/apisix","https://github.com/apache/apisix",10301,1922]
[124,924551,"rabbitmq","rabbitmq/rabbitmq-server","https://github.com/rabbitmq/rabbitmq-server",9990,3732]
[125,54230994,"coredns","coredns/coredns","https://github.com/coredns/coredns",9775,1762]
[126,36960321,"opencontainers","opencontainers/runc","https://github.com/opencontainers/runc",9616,1818]
[127,79316451,"TarsCloud","TarsCloud/Tars","https://github.com/TarsCloud/Tars",9508,2109]
[128,92313258,"cert-manager","cert-manager/cert-manager","https://github.com/cert-manager/cert-manager",9399,1737]
[129,310611,"apache","apache/thrift","https://github.com/apache/thrift",9356,3873]
[130,283410102,"sogou","sogou/workflow","https://github.com/sogou/workflow",9259,1829]
[131,46140633,"quay","quay/clair","https://github.com/quay/clair",9043,1097]
[132,null,"didi","didi/chameleon","https://github.com/didi/chameleon",8929,692]
[133,113106184,"linkerd","linkerd/linkerd2","https://github.com/linkerd/linkerd2",8887,1061]
[134,26509369,"rkt","rkt/rkt","https://github.com/rkt/rkt",8856,908]
[135,173335706,"apache","apache/dolphinscheduler","https://github.com/apache/dolphinscheduler",8772,3352]
[136,21436816,"spinnaker","spinnaker/spinnaker","https://github.com/spinnaker/spinnaker",8636,1173]
[137,70746484,"apache","apache/tvm","https://github.com/apache/tvm",8609,2721]
[138,110401202,"easzlab","easzlab/kubeasz","https://github.com/easzlab/kubeasz",8532,3089]
[139,72878982,"cncf","cncf/landscape","https://github.com/cncf/landscape",8491,1596]
[140,28449431,"scylladb","scylladb/scylladb","https://github.com/scylladb/scylladb",8430,940]
[141,24494032,"mysql","mysql/mysql-server","https://github.com/mysql/mysql-server",8323,3190]
[142,null,"happyfish100","happyfish100/fastdfs","https://github.com/happyfish100/fastdfs",8215,1926]
[143,22442668,"openshift","openshift/origin","https://github.com/openshift/origin",8201,4744]
[144,null,"gogf","gogf/gf","https://github.com/gogf/gf",8161,1169]
[145,null,"openspug","openspug/spug","https://github.com/openspug/spug",7955,1718]
[146,null,"thinkgem","thinkgem/jeesite","https://github.com/thinkgem/jeesite",7825,2806]
[147,64654523,"openebs","openebs/openebs","https://github.com/openebs/openebs",7772,954]
[148,19537979,"TykTechnologies","TykTechnologies/tyk","https://github.com/TykTechnologies/tyk",7762,940]
[149,42304749,"apache","apache/shardingsphere-elasticjob","https://github.com/apache/shardingsphere-elasticjob",7704,3212]
[150,null,"barry-ran","barry-ran/QtScrcpy","https://github.com/barry-ran/QtScrcpy",7628,1355]
[151,null,"ZLMediaKit","ZLMediaKit/ZLMediaKit","https://github.com/ZLMediaKit/ZLMediaKit",7611,2080]
[152,206424,"apache","apache/cassandra","https://github.com/apache/cassandra",7552,3223]
[153,46932243,"linuxkit","linuxkit/linuxkit","https://github.com/linuxkit/linuxkit",7526,968]
[154,null,"JeffreySu","JeffreySu/WeiXinMPSDK","https://github.com/JeffreySu/WeiXinMPSDK",7520,4231]
[155,21704134,"flannel-io","flannel-io/flannel","https://github.com/flannel-io/flannel",7504,2716]
[156,36778364,"attic-labs","attic-labs/noms","https://github.com/attic-labs/noms",7480,281]
[157,null,"kekingcn","kekingcn/kkFileView","https://github.com/kekingcn/kkFileView",7479,2079]
[158,null,"RT-Thread","RT-Thread/rt-thread","https://github.com/RT-Thread/rt-thread",7429,4078]
[159,40916314,"dexidp","dexidp/dex","https://github.com/dexidp/dex",7398,1413]
[160,146641150,"tektoncd","tektoncd/pipeline","https://github.com/tektoncd/pipeline",7348,1562]
[161,140543886,"apache","apache/shenyu","https://github.com/apache/shenyu",7279,2470]
[162,null,"ssssssss-team","ssssssss-team/spider-flow","https://github.com/ssssssss-team/spider-flow",7225,1359]
[163,150954997,"VictoriaMetrics","VictoriaMetrics/VictoriaMetrics","https://github.com/VictoriaMetrics/VictoriaMetrics",7214,698]
[164,48714685,"open-policy-agent","open-policy-agent/opa","https://github.com/open-policy-agent/opa",7172,979]
[165,105944401,"yugabyte","yugabyte/yugabyte-db","https://github.com/yugabyte/yugabyte-db",7082,841]
[166,26390092,"deepstreamIO","deepstreamIO/deepstream.io","https://github.com/deepstreamIO/deepstream.io",7017,402]
[167,15926180,"draios","draios/sysdig","https://github.com/draios/sysdig",7016,694]
[168,108278,"chef","chef/chef","https://github.com/chef/chef",7006,2570]
[169,null,"cookieY","cookieY/Yearning","https://github.com/cookieY/Yearning",7003,1811]
[170,55850689,"open-falcon","open-falcon/falcon-plus","https://github.com/open-falcon/falcon-plus",6966,1534]
[171,28366058,"distribution","distribution/distribution","https://github.com/distribution/distribution",6949,2156]
[172,null,"wildfirechat","wildfirechat/im-server","https://github.com/wildfirechat/im-server",6815,1586]
[173,132732601,"canonical","canonical/microk8s","https://github.com/canonical/microk8s",6794,676]
[174,null,"yutiansut","yutiansut/QUANTAXIS","https://github.com/yutiansut/QUANTAXIS",6750,2684]
[175,32935745,"eclipse","eclipse/che","https://github.com/eclipse/che",6722,1208]
[176,910744,"puppetlabs","puppetlabs/puppet","https://github.com/puppetlabs/puppet",6699,2247]
[177,99143276,"vmware-tanzu","vmware-tanzu/velero","https://github.com/vmware-tanzu/velero",6662,1123]
[178,15155534,"gocd","gocd/gocd","https://github.com/gocd/gocd",6592,946]
[179,18950460,"concourse","concourse/concourse","https://github.com/concourse/concourse",6563,820]
[180,688352,"apache","apache/jmeter","https://github.com/apache/jmeter",6469,1773]
[181,null,"idea4good","idea4good/GuiLite","https://github.com/idea4good/GuiLite",6442,714]
[182,14135470,"apache","apache/storm","https://github.com/apache/storm",6391,4091]
[183,23059575,"weaveworks","weaveworks/weave","https://github.com/weaveworks/weave",6361,647]
[184,82700090,"uber","uber/cadence","https://github.com/uber/cadence",6310,635]
[185,2493904,"apache","apache/tomcat","https://github.com/apache/tomcat",6285,4283]
[186,166515022,"trinodb","trinodb/trino","https://github.com/trinodb/trino",6198,1970]
[187,null,"liuruoze","liuruoze/EasyPR","https://github.com/liuruoze/EasyPR",6162,2515]
[188,143896900,"tilt-dev","tilt-dev/tilt","https://github.com/tilt-dev/tilt",6050,228]
[189,120650407,"operator-framework","operator-framework/operator-sdk","https://github.com/operator-framework/operator-sdk",6041,1570]
[190,99919302,"apache","apache/doris","https://github.com/apache/doris",6036,1790]
[191,192779991,"vmware-tanzu","vmware-tanzu/octant","https://github.com/vmware-tanzu/octant",6036,426]
[192,7276954,"Alluxio","Alluxio/alluxio","https://github.com/Alluxio/alluxio",5901,2742]
[193,50904245,"apache","apache/beam","https://github.com/apache/beam",5886,3660]
[194,null,"wxiaoqi","wxiaoqi/Spring-Cloud-Platform","https://github.com/wxiaoqi/Spring-Cloud-Platform",5860,2364]
[195,147886080,"crossplane","crossplane/crossplane","https://github.com/crossplane/crossplane",5858,594]
[196,32848140,"apache","apache/zeppelin","https://github.com/apache/zeppelin",5827,2700]
[197,52039373,"apache","apache/openwhisk","https://github.com/apache/openwhisk",5793,1107]
[198,105262714,"oauth2-proxy","oauth2-proxy/oauth2-proxy","https://github.com/oauth2-proxy/oauth2-proxy",5793,1060]
[199,null,"chillzhuang","chillzhuang/SpringBlade","https://github.com/chillzhuang/SpringBlade",5742,1227]
[200,199763479,"bfenetworks","bfenetworks/bfe","https://github.com/bfenetworks/bfe",5669,916]
[201,null,"OpenAtomFoundation","OpenAtomFoundation/TencentOS-tiny","https://github.com/OpenAtomFoundation/TencentOS-tiny",5623,1484]
[202,null,"xmake-io","xmake-io/xmake","https://github.com/xmake-io/xmake",5615,519]
[203,34659664,"weaveworks","weaveworks/scope","https://github.com/weaveworks/scope",5544,704]
[204,4254338,"graphite-project","graphite-project/graphite-web","https://github.com/graphite-project/graphite-web",5538,1283]
[205,null,"swoft-cloud","swoft-cloud/swoft","https://github.com/swoft-cloud/swoft",5501,792]
[206,206417,"apache","apache/couchdb","https://github.com/apache/couchdb",5457,1019]
[207,244694886,"ccfos","ccfos/nightingale","https://github.com/ccfos/nightingale",5421,941]
[208,82933315,"telepresenceio","telepresenceio/telepresence","https://github.com/telepresenceio/telepresence",5346,421]
[209,117978265,"apache","apache/dubbo-spring-boot-project","https://github.com/apache/dubbo-spring-boot-project",5339,1866]
[210,null,"x-extends","x-extends/vxe-table","https://github.com/x-extends/vxe-table",5307,798]
[211,150713223,"kubeedge","kubeedge/kubeedge","https://github.com/kubeedge/kubeedge",5299,1407]
[212,72875399,"luraproject","luraproject/lura","https://github.com/luraproject/lura",5242,506]
[213,49986046,"falcosecurity","falcosecurity/falco","https://github.com/falcosecurity/falco",5224,696]
[214,206213815,"chaos-mesh","chaos-mesh/chaos-mesh","https://github.com/chaos-mesh/chaos-mesh",5190,656]
[215,160626997,"uber","uber/kraken","https://github.com/uber/kraken",5185,360]
[216,110027931,"metallb","metallb/metallb","https://github.com/metallb/metallb",5184,682]
[217,94779471,"aquasecurity","aquasecurity/kube-bench","https://github.com/aquasecurity/kube-bench",5174,983]
[218,null,"aceld","aceld/zinx","https://github.com/aceld/zinx",5144,903]
[219,384451028,"cloudwego","cloudwego/kitex","https://github.com/cloudwego/kitex",5128,547]
[220,null,"nepxion","nepxion/Discovery","https://github.com/nepxion/Discovery",4988,1328]
[221,175192867,"chaosblade-io","chaosblade-io/chaosblade","https://github.com/chaosblade-io/chaosblade",4972,839]
[222,11469439,"apache","apache/mesos","https://github.com/apache/mesos",4961,1698]
[223,19051806,"StackStorm","StackStorm/st2","https://github.com/StackStorm/st2",4955,673]
[224,67793333,"cortexproject","cortexproject/cortex","https://github.com/cortexproject/cortex",4865,698]
[225,null,"ldcsaa","ldcsaa/HP-Socket","https://github.com/ldcsaa/HP-Socket",4858,1670]
[226,371564104,"megaease","megaease/easegress","https://github.com/megaease/easegress",4799,418]
[227,null,"hyperf","hyperf/hyperf","https://github.com/hyperf/hyperf",4793,970]
[228,105006031,"apache","apache/incubator-weex-ui","https://github.com/apache/incubator-weex-ui",4786,931]
[229,null,"szad670401","szad670401/HyperLPR","https://github.com/szad670401/HyperLPR",4733,1867]
[230,865412,"OpenTSDB","OpenTSDB/opentsdb","https://github.com/OpenTSDB/opentsdb",4729,1257]
[231,224386599,"bridgecrewio","bridgecrewio/checkov","https://github.com/bridgecrewio/checkov",4709,709]
[232,886774,"rundeck","rundeck/rundeck","https://github.com/rundeck/rundeck",4701,833]
[233,null,"jdf2e","jdf2e/nutui","https://github.com/jdf2e/nutui",4697,644]
[234,null,"oceanbase","oceanbase/oceanbase","https://github.com/oceanbase/oceanbase",4660,1038]
[235,34039690,"apache","apache/groovy","https://github.com/apache/groovy",4645,1761]
[236,20089857,"apache","apache/hbase","https://github.com/apache/hbase",4645,3075]
[237,null,"ithewei","ithewei/libhv","https://github.com/ithewei/libhv",4642,843]
[238,null,"sofastack","sofastack/sofa-boot","https://github.com/sofastack/sofa-boot",4609,1187]
[239,null,"LiteOS","LiteOS/LiteOS","https://github.com/LiteOS/LiteOS",4574,1534]
[240,206317,"apache","apache/camel","https://github.com/apache/camel",4537,4598]
[241,7083240,"orientechnologies","orientechnologies/orientdb","https://github.com/orientechnologies/orientdb",4510,860]
[242,13839311,"openstack","openstack/openstack","https://github.com/openstack/openstack",4485,1564]
[243,19816070,"MariaDB","MariaDB/server","https://github.com/MariaDB/server",4470,1405]
[244,206444,"apache","apache/hive","https://github.com/apache/hive",4469,4181]
[245,null,"ant-design-blazor","ant-design-blazor/ant-design-blazor","https://github.com/ant-design-blazor/ant-design-blazor",4452,688]
[246,158171016,"KubeOperator","KubeOperator/KubeOperator","https://github.com/KubeOperator/KubeOperator",4441,806]
[247,33429211,"containernetworking","containernetworking/cni","https://github.com/containernetworking/cni",4436,951]
[248,52837350,"cloud-custodian","cloud-custodian/cloud-custodian","https://github.com/cloud-custodian/cloud-custodian",4411,1215]
[249,null,"yansongda","yansongda/pay","https://github.com/yansongda/pay",4409,949]
[250,null,"roncoo","roncoo/roncoo-pay","https://github.com/roncoo/roncoo-pay",4370,2515]
[251,4766638,"apache","apache/incubator-pagespeed-ngx","https://github.com/apache/incubator-pagespeed-ngx",4352,373]
[252,50229487,"apache","apache/lucene-solr","https://github.com/apache/lucene-solr",4301,2721]
[253,31006158,"apache","apache/ignite","https://github.com/apache/ignite",4284,1795]
[254,84916374,"apache","apache/rocketmq-externals","https://github.com/apache/rocketmq-externals",4284,3030]
[255,67828134,"cri-o","cri-o/cri-o","https://github.com/cri-o/cri-o",4250,845]
[256,61153677,"m3db","m3db/m3","https://github.com/m3db/m3",4249,410]
[257,116400734,"jenkins-x","jenkins-x/jx","https://github.com/jenkins-x/jx",4243,779]
[258,null,"hhyo","hhyo/Archery","https://github.com/hhyo/Archery",4241,1317]
[259,276822250,"kubevela","kubevela/kubevela","https://github.com/kubevela/kubevela",4233,603]
[260,19961085,"apache","apache/pinot","https://github.com/apache/pinot",4219,967]
[261,143965255,"apache","apache/dubbo-go","https://github.com/apache/dubbo-go",4207,768]
[262,null,"tboox","tboox/tbox","https://github.com/tboox/tbox",4173,635]
[263,null,"donet5","donet5/SqlSugar","https://github.com/donet5/SqlSugar",4162,1201]
[264,null,"HandyOrg","HandyOrg/HandyControl","https://github.com/HandyOrg/HandyControl",4132,795]
[265,88298561,"longhorn","longhorn/longhorn","https://github.com/longhorn/longhorn",4116,546]
[266,3631697,"tsuru","tsuru/tsuru","https://github.com/tsuru/tsuru",4113,509]
[267,null,"Javen205","Javen205/IJPay","https://github.com/Javen205/IJPay",4028,1140]
[268,86499813,"cncf","cncf/curriculum","https://github.com/cncf/curriculum",3952,1209]
[269,null,"pig-mesh","pig-mesh/pig","https://github.com/pig-mesh/pig",3931,630]
[270,141447532,"aquasecurity","aquasecurity/kube-hunter","https://github.com/aquasecurity/kube-hunter",3928,529]
[271,51290852,"bigchaindb","bigchaindb/bigchaindb","https://github.com/bigchaindb/bigchaindb",3928,782]
[272,291570,"apache","apache/shiro","https://github.com/apache/shiro",3926,2239]
[273,140654872,"mosn","mosn/mosn","https://github.com/mosn/mosn",3920,740]
[274,63882194,"projectcalico","projectcalico/calico","https://github.com/projectcalico/calico",3905,928]
[275,null,"dromara","dromara/hmily","https://github.com/dromara/hmily",3899,1394]
[276,99412308,"apache","apache/incubator-seatunnel","https://github.com/apache/incubator-seatunnel",3898,698]
[277,86740149,"emissary-ingress","emissary-ingress/emissary","https://github.com/emissary-ingress/emissary",3880,629]
[278,258469100,"fluxcd","fluxcd/flux2","https://github.com/fluxcd/flux2",3862,406]
[279,149515625,"fluxcd","fluxcd/flagger","https://github.com/fluxcd/flagger",3861,582]
[280,243394576,"pixie-io","pixie-io/pixie","https://github.com/pixie-io/pixie",3851,266]
[281,43884372,"sorintlab","sorintlab/stolon","https://github.com/sorintlab/stolon",3832,413]
[282,1377037,"gluster","gluster/glusterfs","https://github.com/gluster/glusterfs",3824,1022]
[283,null,"lc-soft","lc-soft/LCUI","https://github.com/lc-soft/LCUI",3818,349]
[284,224908244,"WasmEdge","WasmEdge/WasmEdge","https://github.com/WasmEdge/WasmEdge",3804,393]
[285,null,"crmeb","crmeb/CRMEB","https://github.com/crmeb/CRMEB",3725,1064]
[286,null,"PowerJob","PowerJob/PowerJob","https://github.com/PowerJob/PowerJob",3710,660]
[287,113701924,"cloudevents","cloudevents/spec","https://github.com/cloudevents/spec",3683,493]
[288,117054584,"apache","apache/dubbo-admin","https://github.com/apache/dubbo-admin",3662,2023]
[289,43158694,"apache","apache/incubator-heron","https://github.com/apache/incubator-heron",3619,621]
[290,128709824,"sofastack","sofastack/sofa-rpc","https://github.com/sofastack/sofa-rpc",3613,1097]
[291,null,"TaleLin","TaleLin/lin-ui","https://github.com/TaleLin/lin-ui",3605,468]
[292,76686583,"kubevirt","kubevirt/kubevirt","https://github.com/kubevirt/kubevirt",3553,859]
[293,76474200,"apache","apache/hudi","https://github.com/apache/hudi",3546,1630]
[294,118510171,"solo-io","solo-io/gloo","https://github.com/solo-io/gloo",3544,364]
[295,null,"umicro","umicro/uView","https://github.com/umicro/uView",3541,735]
[296,null,"DropsDevopsOrg","DropsDevopsOrg/ECommerceCrawlers","https://github.com/DropsDevopsOrg/ECommerceCrawlers",3528,1118]
[297,26192117,"lxc","lxc/lxd","https://github.com/lxc/lxd",3497,798]
[298,9342529,"crate","crate/crate","https://github.com/crate/crate",3494,514]
[299,null,"stylefeng","stylefeng/Guns","https://github.com/stylefeng/Guns",3489,1556]
[300,null,"zdhxiong","zdhxiong/mdui","https://github.com/zdhxiong/mdui",3469,353]
[301,58194180,"strimzi","strimzi/strimzi-kafka-operator","https://github.com/strimzi/strimzi-kafka-operator",3452,986]
[302,27911088,"apache","apache/nifi","https://github.com/apache/nifi",3440,2338]
[303,null,"goodrain","goodrain/rainbond","https://github.com/goodrain/rainbond",3429,646]
[304,46904685,"opentracing","opentracing/opentracing-go","https://github.com/opentracing/opentracing-go",3405,321]
[305,null,"doocs","doocs/md","https://github.com/doocs/md",3403,470]
[306,6898381,"apache","apache/cordova-android","https://github.com/apache/cordova-android",3400,1531]
[307,28738447,"apache","apache/kylin","https://github.com/apache/kylin",3384,1495]
[308,21193524,"apache","apache/calcite","https://github.com/apache/calcite",3362,1790]
[309,null,"hacklcx","hacklcx/HFish","https://github.com/hacklcx/HFish",3360,607]
[310,189490177,"openkruise","openkruise/kruise","https://github.com/openkruise/kruise",3356,562]
[311,158256479,"apache","apache/iceberg","https://github.com/apache/iceberg",3329,1277]
[312,50365232,"werf","werf/werf","https://github.com/werf/werf",3329,168]
[313,109451092,"siderolabs","siderolabs/talos","https://github.com/siderolabs/talos",3322,270]
[314,206483,"apache","apache/maven","https://github.com/apache/maven",3294,2298]
[315,103084166,"tenable","tenable/terrascan","https://github.com/tenable/terrascan",3294,395]
[316,85039965,"litmuschaos","litmuschaos/litmus","https://github.com/litmuschaos/litmus",3290,525]
[317,null,"o2oa","o2oa/o2oa","https://github.com/o2oa/o2oa",3290,1071]
[318,null,"doramart","doramart/DoraCMS","https://github.com/doramart/DoraCMS",3285,1004]
[319,null,"varletjs","varletjs/varlet","https://github.com/varletjs/varlet",3257,439]
[320,null,"sjqzhang","sjqzhang/go-fastdfs","https://github.com/sjqzhang/go-fastdfs",3243,667]
[321,163722349,"pomerium","pomerium/pomerium","https://github.com/pomerium/pomerium",3240,255]
[322,108462822,"projectcontour","projectcontour/contour","https://github.com/projectcontour/contour",3232,581]
[323,null,"dgiot","dgiot/dgiot","https://github.com/dgiot/dgiot",3200,1052]
[324,105809298,"cdk8s-team","cdk8s-team/cdk8s","https://github.com/cdk8s-team/cdk8s",3194,245]
[325,null,"nocobase","nocobase/nocobase","https://github.com/nocobase/nocobase",3193,379]
[326,null,"jfinal","jfinal/jfinal","https://github.com/jfinal/jfinal",3168,1355]
[327,128791889,"haproxy","haproxy/haproxy","https://github.com/haproxy/haproxy",3147,611]
[328,null,"jetlinks","jetlinks/jetlinks-community","https://github.com/jetlinks/jetlinks-community",3147,1150]
[329,145153231,"loft-sh","loft-sh/devspace","https://github.com/loft-sh/devspace",3095,266]
[330,null,"xiaoymin","xiaoymin/swagger-bootstrap-ui","https://github.com/xiaoymin/swagger-bootstrap-ui",3082,518]
[331,205423,"apache","apache/httpd","https://github.com/apache/httpd",3072,991]
[332,18383364,"openvswitch","openvswitch/ovs","https://github.com/openvswitch/ovs",2991,1752]
[333,83363132,"CrunchyData","CrunchyData/postgres-operator","https://github.com/CrunchyData/postgres-operator",2969,464]
[334,33866783,"SUSE","SUSE/Portus","https://github.com/SUSE/Portus",2960,486]
[335,169108858,"kyverno","kyverno/kyverno","https://github.com/kyverno/kyverno",2952,415]
[336,145011089,"buzzfeed","buzzfeed/sso","https://github.com/buzzfeed/sso",2950,177]
[337,120181748,"kiali","kiali/kiali","https://github.com/kiali/kiali",2945,420]
[338,124312956,"microsoft","microsoft/service-fabric","https://github.com/microsoft/service-fabric",2935,389]
[339,10637896,"apache","apache/logging-log4j2","https://github.com/apache/logging-log4j2",2932,1442]
[340,175425051,"kumahq","kumahq/kuma","https://github.com/kumahq/kuma",2931,261]
[341,171396748,"cubefs","cubefs/cubefs","https://github.com/cubefs/cubefs",2911,389]
[342,null,"zhaojh329","zhaojh329/rtty","https://github.com/zhaojh329/rtty",2898,393]
[343,null,"truthhun","truthhun/BookStack","https://github.com/truthhun/BookStack",2893,708]
[344,37743436,"notaryproject","notaryproject/notary","https://github.com/notaryproject/notary",2888,515]
[345,null,"TuiQiao","TuiQiao/CBoard","https://github.com/TuiQiao/CBoard",2877,1149]
[346,51556828,"moby","moby/swarmkit","https://github.com/moby/swarmkit",2875,602]
[347,null,"rememberber","rememberber/WePush","https://github.com/rememberber/WePush",2870,837]
[348,null,"top-think","top-think/thinkphp","https://github.com/top-think/thinkphp",2856,1537]
[349,17359057,"apache","apache/curator","https://github.com/apache/curator",2841,1189]
[350,null,"antvis","antvis/L7","https://github.com/antvis/L7",2835,489]
[351,null,"yangzongzhuan","yangzongzhuan/RuoYi","https://github.com/yangzongzhuan/RuoYi",2828,971]
[352,108337180,"rancher","rancher/rke","https://github.com/rancher/rke",2810,549]
[353,55072677,"semi-technologies","semi-technologies/weaviate","https://github.com/semi-technologies/weaviate",2801,163]
[354,null,"opengoofy","opengoofy/hippo4j","https://github.com/opengoofy/hippo4j",2773,649]
[355,38812664,"zalando","zalando/skipper","https://github.com/zalando/skipper",2753,297]
[356,198368711,"apache","apache/incubator-linkis","https://github.com/apache/incubator-linkis",2691,935]
[357,157735858,"FairwindsOps","FairwindsOps/polaris","https://github.com/FairwindsOps/polaris",2686,179]
[358,null,"fastnlp","fastnlp/fastNLP","https://github.com/fastnlp/fastNLP",2684,431]
[359,null,"chanjarster","chanjarster/weixin-java-tools","https://github.com/chanjarster/weixin-java-tools",2683,9230]
[360,33294317,"apache","apache/singa","https://github.com/apache/singa",2656,831]
[361,175592968,"volcano-sh","volcano-sh/volcano","https://github.com/volcano-sh/volcano",2633,608]
[362,null,"jeequan","jeequan/jeepay","https://github.com/jeequan/jeepay",2633,1220]
[363,191840044,"oam-dev","oam-dev/spec","https://github.com/oam-dev/spec",2618,237]
[364,98453563,"vmware-tanzu","vmware-tanzu/sonobuoy","https://github.com/vmware-tanzu/sonobuoy",2614,321]
[365,null,"view-design","view-design/ViewUI","https://github.com/view-design/ViewUI",2603,800]
[366,null,"zlgopen","zlgopen/awtk","https://github.com/zlgopen/awtk",2573,700]
[367,null,"gozfree","gozfree/gear-lib","https://github.com/gozfree/gear-lib",2566,724]
[368,41571541,"inspec","inspec/inspec","https://github.com/inspec/inspec",2559,669]
[369,311639195,"karmada-io","karmada-io/karmada","https://github.com/karmada-io/karmada",2557,515]
[370,158975124,"apache","apache/iotdb","https://github.com/apache/iotdb",2527,724]
[371,32866430,"square","square/keywhiz","https://github.com/square/keywhiz",2524,215]
[372,17253775,"zabbix","zabbix/zabbix","https://github.com/zabbix/zabbix",2518,732]
[373,358917318,"apache","apache/arrow-datafusion","https://github.com/apache/arrow-datafusion",2508,443]
[374,143846881,"okteto","okteto/okteto","https://github.com/okteto/okteto",2506,239]
[375,188779637,"apache","apache/incubator-streampark","https://github.com/apache/incubator-streampark",2499,579]
[376,null,"nutzam","nutzam/nutz","https://github.com/nutzam/nutz",2495,968]
[377,227895834,"openservicemesh","openservicemesh/osm","https://github.com/openservicemesh/osm",2480,265]
[378,null,"JPressProjects","JPressProjects/jpress","https://github.com/JPressProjects/jpress",2476,1158]
[379,206370,"apache","apache/nutch","https://github.com/apache/nutch",2442,1203]
[380,36098429,"habitat-sh","habitat-sh/habitat","https://github.com/habitat-sh/habitat",2397,331]
[381,43982667,"apptainer","apptainer/singularity","https://github.com/apptainer/singularity",2377,435]
[382,null,"NetDimension","NetDimension/NanUI","https://github.com/NetDimension/NanUI/",2372,545]
[383,108049853,"brigadecore","brigadecore/brigade","https://github.com/brigadecore/brigade",2364,251]
[384,206378,"apache","apache/commons-lang","https://github.com/apache/commons-lang",2349,1432]
[385,236055696,"grafana","grafana/tempo","https://github.com/grafana/tempo",2343,270]
[386,790019,"openstack","openstack/swift","https://github.com/openstack/swift",2335,1057]
[387,2198510,"apache","apache/flume","https://github.com/apache/flume",2324,1530]
[388,40127179,"FeatureBaseDB","FeatureBaseDB/featurebase","https://github.com/FeatureBaseDB/featurebase",2322,221]
[389,159242360,"kubernetes-sigs","kubernetes-sigs/kui","https://github.com/kubernetes-sigs/kui",2316,172]
[390,117377862,"gardener","gardener/gardener","https://github.com/gardener/gardener",2307,395]
[391,null,"WeBankFinTech","WeBankFinTech/DataSphereStudio","https://github.com/WeBankFinTech/DataSphereStudio",2295,811]
[392,null,"acl-dev","acl-dev/acl","https://github.com/acl-dev/acl",2290,895]
[393,null,"EhsanTang","EhsanTang/ApiManager","https://github.com/EhsanTang/ApiManager",2288,765]
[394,143456583,"rancher","rancher/rio","https://github.com/rancher/rio",2282,228]
[395,null,"winshining","winshining/nginx-http-flv-module","https://github.com/winshining/nginx-http-flv-module",2282,509]
[396,206459,"apache","apache/avro","https://github.com/apache/avro",2258,1388]
[397,null,"GreaterWMS","GreaterWMS/GreaterWMS","https://github.com/GreaterWMS/GreaterWMS",2248,542]
[398,258750,"theforeman","theforeman/foreman","https://github.com/theforeman/foreman",2244,949]
[399,54452627,"apache","apache/guacamole-server","https://github.com/apache/guacamole-server",2226,494]
[400,null,"mindskip","mindskip/xzs","https://github.com/mindskip/xzs",2195,538]
[401,null,"sofastack","sofastack/sofa-bolt","https://github.com/sofastack/sofa-bolt",2187,806]
[402,null,"zmister2016","zmister2016/MrDoc","https://github.com/zmister2016/MrDoc",2183,432]
[403,null,"zvtvz","zvtvz/zvt","https://github.com/zvtvz/zvt",2165,695]
[404,null,"cskefu","cskefu/cskefu","https://github.com/cskefu/cskefu",2162,718]
[405,34839383,"apache","apache/geode","https://github.com/apache/geode",2135,678]
[406,238662977,"deepfence","deepfence/ThreatMapper","https://github.com/deepfence/ThreatMapper",2122,223]
[407,110539997,"kata-containers","kata-containers/runtime","https://github.com/kata-containers/runtime",2108,384]
[408,141376301,"apache","apache/incubator-hugegraph","https://github.com/apache/incubator-hugegraph",2084,416]
[409,null,"mlogclub","mlogclub/bbs-go","https://github.com/mlogclub/bbs-go",2080,460]
[410,27392543,"apache","apache/gobblin","https://github.com/apache/gobblin",2078,728]
[411,206387,"apache","apache/activemq","https://github.com/apache/activemq",2076,1346]
[412,6898387,"apache","apache/cordova-ios","https://github.com/apache/cordova-ios",2069,960]
[413,null,"wkeyuan","wkeyuan/DWSurvey","https://github.com/wkeyuan/DWSurvey",2051,682]
[414,210029529,"apache","apache/maven-mvnd","https://github.com/apache/maven-mvnd",2043,151]
[415,220517730,"quay","quay/quay","https://github.com/quay/quay",2041,216]
[416,20445947,"juju","juju/juju","https://github.com/juju/juju",2036,439]
[417,null,"thinkcmf","thinkcmf/thinkcmf","https://github.com/thinkcmf/thinkcmf",2023,610]
[418,null,"jones2000","jones2000/HQChart","https://github.com/jones2000/HQChart",2021,267]
[419,102083576,"apache","apache/netbeans","https://github.com/apache/netbeans",2018,711]
[420,null,"gongfuxiang","gongfuxiang/shopxo","https://github.com/gongfuxiang/shopxo",2012,670]
[421,20089859,"apache","apache/mahout","https://github.com/apache/mahout",2011,963]
[422,125824259,"xtdb","xtdb/xtdb","https://github.com/xtdb/xtdb",1998,146]
[423,null,"zoujingli","zoujingli/ThinkAdmin","https://github.com/zoujingli/ThinkAdmin",1997,809]
[424,null,"Tencent","Tencent/bk-ci","https://github.com/Tencent/bk-ci",1989,436]
[425,3910314,"cloudfoundry","cloudfoundry/bosh","https://github.com/cloudfoundry/bosh",1985,656]
[426,355946670,"loft-sh","loft-sh/vcluster","https://github.com/loft-sh/vcluster",1982,170]
[427,175095528,"submariner-io","submariner-io/submariner","https://github.com/submariner-io/submariner",1965,151]
[428,null,"phodal","phodal/ledge","https://github.com/phodal/ledge",1964,311]
[429,88471725,"cloudnativelabs","cloudnativelabs/kube-router","https://github.com/cloudnativelabs/kube-router",1958,434]
[430,null,"qiujiayu","qiujiayu/AutoLoadCache","https://github.com/qiujiayu/AutoLoadCache",1936,685]
[431,null,"nmxiaowei","nmxiaowei/avue","https://github.com/nmxiaowei/avue",1936,462]
[432,null,"renrenio","renrenio/renren-security","https://github.com/renrenio/renren-security",1932,1069]
[433,2445970,"VoltDB","VoltDB/voltdb","https://github.com/VoltDB/voltdb",1930,447]
[434,307894865,"alibaba","alibaba/GraphScope","https://github.com/alibaba/GraphScope",1913,228]
[435,97573661,"apache","apache/servicecomb-pack","https://github.com/apache/servicecomb-pack",1910,450]
[436,null,"notadd","notadd/neditor","https://github.com/notadd/neditor",1908,267]
[437,419555,"apache","apache/libcloud","https://github.com/apache/libcloud",1878,918]
[438,161001,"apache","apache/lucenenet","https://github.com/apache/lucenenet",1872,610]
[439,null,"viest","viest/php-ext-xlswriter","https://github.com/viest/php-ext-xlswriter",1869,200]
[440,95098170,"OpenObservability","OpenObservability/OpenMetrics","https://github.com/OpenObservability/OpenMetrics",1866,145]
[441,null,"dromara","dromara/raincat","https://github.com/dromara/raincat",1854,686]
[442,113219762,"powerfulseal","powerfulseal/powerfulseal","https://github.com/powerfulseal/powerfulseal",1817,168]
[443,91674936,"apache","apache/servicecomb-java-chassis","https://github.com/apache/servicecomb-java-chassis",1809,769]
[444,null,"mix-php","mix-php/mix","https://github.com/mix-php/mix",1809,213]
[445,63096822,"pravega","pravega/pravega","https://github.com/pravega/pravega",1795,378]
[446,197374067,"grafana","grafana/tanka","https://github.com/grafana/tanka",1774,137]
[447,318103,"apache","apache/pdfbox","https://github.com/apache/pdfbox",1769,701]
[448,131394823,"apache","apache/dubbo-samples","https://github.com/apache/dubbo-samples",1766,1426]
[449,138544269,"buildpacks","buildpacks/pack","https://github.com/buildpacks/pack",1763,195]
[450,127344362,"trickstercache","trickstercache/trickster","https://github.com/trickstercache/trickster",1763,161]
[451,12440855,"Icinga","Icinga/icinga2","https://github.com/Icinga/icinga2",1759,533]
[452,384111310,"apache","apache/incubator-devlake","https://github.com/apache/incubator-devlake",1753,249]
[453,2442457,"apache","apache/ambari","https://github.com/apache/ambari",1744,1479]
[454,187875305,"traefik","traefik/mesh","https://github.com/traefik/mesh",1742,122]
[455,null,"xuxueli","xuxueli/xxl-sso","https://github.com/xuxueli/xxl-sso",1741,763]
[456,202483348,"apache","apache/incubator-kvrocks","https://github.com/apache/incubator-kvrocks",1734,232]
[457,5683653,"apache","apache/drill","https://github.com/apache/drill",1728,922]
[458,null,"louislivi","louislivi/SMProxy","https://github.com/louislivi/SMProxy",1726,249]
[459,null,"dromara","dromara/hertzbeat","https://github.com/dromara/hertzbeat",1718,249]
[460,99544448,"poseidon","poseidon/typhoon","https://github.com/poseidon/typhoon",1714,310]
[461,153061118,"apache","apache/rocketmq-spring","https://github.com/apache/rocketmq-spring",1712,770]
[462,null,"MonkSoul","MonkSoul/Furion","https://github.com/MonkSoul/Furion",1709,306]
[463,20675636,"apache","apache/parquet-mr","https://github.com/apache/parquet-mr",1706,1223]
[464,null,"lxerxa","lxerxa/actionview","https://github.com/lxerxa/actionview",1699,340]
[465,null,"koderover","koderover/zadig","https://github.com/koderover/zadig",1697,587]
[466,100131598,"solo-io","solo-io/squash","https://github.com/solo-io/squash",1684,107]
[467,5874515,"mistio","mistio/mist-ce","https://github.com/mistio/mist-ce",1677,273]
[468,12223350,"cloudfoundry","cloudfoundry/cli","https://github.com/cloudfoundry/cli",1667,902]
[469,null,"jishenghua","jishenghua/jshERP","https://github.com/jishenghua/jshERP",1652,736]
[470,null,"generalized-intelligence","generalized-intelligence/GAAS","https://github.com/generalized-intelligence/GAAS",1648,406]
[471,388260896,"aws","aws/eks-anywhere","https://github.com/aws/eks-anywhere",1642,173]
[472,null,"4paradigm","4paradigm/OpenMLDB","https://github.com/4paradigm/OpenMLDB",1638,582]
[473,1575956,"apache","apache/bookkeeper","https://github.com/apache/bookkeeper",1635,746]
[474,31788540,"spring-cloud","spring-cloud/spring-cloud-sleuth","https://github.com/spring-cloud/spring-cloud-sleuth",1630,750]
[475,50647838,"apache","apache/kudu","https://github.com/apache/kudu",1627,604]
[476,44998824,"Yelp","Yelp/paasta","https://github.com/Yelp/paasta",1620,222]
[477,null,"baidu","baidu/Senta","https://github.com/baidu/Senta",1614,342]
[478,30449481,"apache","apache/tinkerpop","https://github.com/apache/tinkerpop",1609,738]
[479,284555713,"nestybox","nestybox/sysbox","https://github.com/nestybox/sysbox",1609,95]
[480,104656275,"chaostoolkit","chaostoolkit/chaostoolkit","https://github.com/chaostoolkit/chaostoolkit",1603,165]
[481,76367175,"k8snetworkplumbingwg","k8snetworkplumbingwg/multus-cni","https://github.com/k8snetworkplumbingwg/multus-cni",1591,466]
[482,41712332,"apache","apache/incubator-pegasus","https://github.com/apache/incubator-pegasus",1578,291]
[483,null,"armink","armink/EasyFlash","https://github.com/armink/EasyFlash",1566,667]
[484,72786190,"linki","linki/chaoskube","https://github.com/linki/chaoskube",1563,109]
[485,162610275,"squat","squat/kilo","https://github.com/squat/kilo",1550,92]
[486,276365255,"opencurve","opencurve/curve","https://github.com/opencurve/curve",1512,290]
[487,206427,"apache","apache/tika","https://github.com/apache/tika",1511,671]
[488,356066,"apache","apache/trafficserver","https://github.com/apache/trafficserver",1510,747]
[489,137922416,"kuberhealthy","kuberhealthy/kuberhealthy","https://github.com/kuberhealthy/kuberhealthy",1509,214]
[490,157554479,"meshery","meshery/meshery","https://github.com/meshery/meshery",1507,706]
[491,166831098,"keptn","keptn/keptn","https://github.com/keptn/keptn",1505,227]
[492,102645710,"anchore","anchore/anchore-engine","https://github.com/anchore/anchore-engine",1503,267]
[493,null,"karsonzhang","karsonzhang/fastadmin","https://github.com/karsonzhang/fastadmin",1502,548]
[494,206368,"apache","apache/poi","https://github.com/apache/poi",1492,621]
[495,179344069,"woodpecker-ci","woodpecker-ci/woodpecker","https://github.com/woodpecker-ci/woodpecker",1483,150]
[496,36487440,"gravitee-io","gravitee-io/gravitee-api-management","https://github.com/gravitee-io/gravitee-api-management",1480,348]
[497,null,"phalapi","phalapi/phalapi","https://github.com/phalapi/phalapi",1477,365]
[498,2203782,"TritonDataCenter","TritonDataCenter/smartos-live","https://github.com/TritonDataCenter/smartos-live",1469,250]
[499,125122827,"cncf","cncf/tag-security","https://github.com/cncf/tag-security",1453,369]
[500,7942805,"theupdateframework","theupdateframework/python-tuf","https://github.com/theupdateframework/python-tuf",1436,234]
[501,89749658,"cncf","cncf/wg-serverless","https://github.com/cncf/wg-serverless",1433,153]
[502,183510345,"FairwindsOps","FairwindsOps/goldilocks","https://github.com/FairwindsOps/goldilocks",1433,79]
[503,311269921,"nocalhost","nocalhost/nocalhost","https://github.com/nocalhost/nocalhost",1398,118]
[504,177068961,"kubeovn","kubeovn/kube-ovn","https://github.com/kubeovn/kube-ovn",1392,334]
[505,99028287,"grafeas","grafeas/grafeas","https://github.com/grafeas/grafeas",1386,285]
[506,18988631,"siddhi-io","siddhi-io/siddhi","https://github.com/siddhi-io/siddhi",1382,499]
[507,null,"fasiondog","fasiondog/hikyuu","https://github.com/fasiondog/hikyuu",1378,438]
[508,98013453,"apache","apache/atlas","https://github.com/apache/atlas",1369,741]
[509,null,"dcloudio","dcloudio/uni-ui","https://github.com/dcloudio/uni-ui",1365,531]
[510,47574295,"cncf","cncf/toc","https://github.com/cncf/toc",1361,549]
[511,217420145,"antrea-io","antrea-io/antrea","https://github.com/antrea-io/antrea",1337,267]
[512,null,"ming-soft","ming-soft/mcms","https://github.com/ming-soft/mcms",1335,653]
[513,303802332,"vmware-tanzu","vmware-tanzu/community-edition","https://github.com/vmware-tanzu/community-edition",1333,261]
[514,50505775,"moosefs","moosefs/moosefs","https://github.com/moosefs/moosefs",1331,174]
[515,62117818,"apache","apache/carbondata","https://github.com/apache/carbondata",1330,700]
[516,91677514,"apache","apache/servicecomb-service-center","https://github.com/apache/servicecomb-service-center",1314,336]
[517,81339842,"cncf","cncf/mentoring","https://github.com/cncf/mentoring",1312,413]
[518,null,"MyCATApache","MyCATApache/Mycat2","https://github.com/MyCATApache/Mycat2",1296,436]
[519,265800635,"openyurtio","openyurtio/openyurt","https://github.com/openyurtio/openyurt",1290,287]
[520,null,"DataLinkDC","DataLinkDC/dlink","https://github.com/DataLinkDC/dlink",1289,519]
[521,9759448,"apache","apache/cloudstack","https://github.com/apache/cloudstack",1262,946]
[522,100061496,"spiffe","spiffe/spire","https://github.com/spiffe/spire",1250,333]
[523,206402,"apache","apache/httpcomponents-client","https://github.com/apache/httpcomponents-client",1239,835]
[524,null,"didi","didi/DDMQ","https://github.com/didi/DDMQ",1236,335]
[525,null,"session-replay-tools","session-replay-tools/cetus","https://github.com/session-replay-tools/cetus",1230,318]
[526,248386471,"kubesphere","kubesphere/kubekey","https://github.com/kubesphere/kubekey",1229,337]
[527,114619105,"apache","apache/incubator-kyuubi","https://github.com/apache/incubator-kyuubi",1225,455]
[528,173207060,"vmware-tanzu","vmware-tanzu/carvel-ytt","https://github.com/vmware-tanzu/carvel-ytt",1225,101]
[529,341631350,"apache","apache/lucene","https://github.com/apache/lucene",1218,558]
[530,20789757,"ManageIQ","ManageIQ/manageiq","https://github.com/ManageIQ/manageiq",1216,842]
[531,null,"qdtroy","qdtroy/DuiLib_Ultimate","https://github.com/qdtroy/DuiLib_Ultimate",1216,598]
[532,null,"yhuse","yhuse/SunnyUI","https://github.com/yhuse/SunnyUI",1210,286]
[533,null,"yomorun","yomorun/yomo","https://github.com/yomorun/yomo",1202,105]
[534,316257595,"opstrace","opstrace/opstrace","https://github.com/opstrace/opstrace",1201,45]
[535,34533675,"apache","apache/incubator-sedona","https://github.com/apache/incubator-sedona",1193,514]
[536,null,"SeasX","SeasX/SeasLog","https://github.com/SeasX/SeasLog",1189,289]
[537,15928650,"apache","apache/struts","https://github.com/apache/struts",1173,761]
[538,249814436,"FairwindsOps","FairwindsOps/pluto","https://github.com/FairwindsOps/pluto",1171,68]
[539,null,"mini-software","mini-software/MiniExcel","https://github.com/mini-software/MiniExcel",1170,121]
[540,20675635,"apache","apache/parquet-format","https://github.com/apache/parquet-format",1168,370]
[541,null,"zoujingli","zoujingli/WeChatDeveloper","https://github.com/zoujingli/WeChatDeveloper",1167,414]
[542,16119670,"NagiosEnterprises","NagiosEnterprises/nagioscore","https://github.com/NagiosEnterprises/nagioscore",1164,388]
[543,168629414,"openelb","openelb/openelb","https://github.com/openelb/openelb",1150,155]
[544,null,"zstackio","zstackio/zstack","https://github.com/zstackio/zstack",1149,382]
[545,188402099,"agola-io","agola-io/agola","https://github.com/agola-io/agola",1145,101]
[546,278954673,"fluid-cloudnative","fluid-cloudnative/fluid","https://github.com/fluid-cloudnative/fluid",1139,394]
[547,null,"dotnetcore","dotnetcore/BootstrapBlazor","https://github.com/dotnetcore/BootstrapBlazor",1135,171]
[548,2740148,"apache","apache/opennlp","https://github.com/apache/opennlp",1134,400]
[549,2194354,"apache","apache/nano","https://github.com/apache/nano",1123,173]
[550,62855546,"openservicebrokerapi","openservicebrokerapi/servicebroker","https://github.com/openservicebrokerapi/servicebroker",1118,434]
[551,125060113,"FairwindsOps","FairwindsOps/rbac-manager","https://github.com/FairwindsOps/rbac-manager",1111,101]
[552,null,"birdLark","birdLark/LarkMidTable","https://github.com/birdLark/LarkMidTable",1096,433]
[553,358917250,"apache","apache/arrow-rs","https://github.com/apache/arrow-rs",1095,289]
[554,99618772,"spiffe","spiffe/spiffe","https://github.com/spiffe/spiffe",1095,130]
[555,228103273,"apache","apache/incubator-nuttx","https://github.com/apache/incubator-nuttx",1092,586]
[556,91765224,"container-storage-interface","container-storage-interface/spec","https://github.com/container-storage-interface/spec",1084,338]
[557,null,"dhondta","dhondta/dronesploit","https://github.com/dhondta/dronesploit",1070,196]
[558,10860602,"apache","apache/cordova-plugin-inappbrowser","https://github.com/apache/cordova-plugin-inappbrowser",1069,2057]
[559,null,"WeBankFinTech","WeBankFinTech/fes.js","https://github.com/WeBankFinTech/fes.js",1065,118]
[560,158545617,"kudobuilder","kudobuilder/kudo","https://github.com/kudobuilder/kudo",1051,98]
[561,89560048,"apache","apache/incubator-teaclave-sgx-sdk","https://github.com/apache/incubator-teaclave-sgx-sdk",1043,226]
[562,116995448,"fossas","fossas/fossa-cli","https://github.com/fossas/fossa-cli",1043,160]
[563,null,"w5teams","w5teams/w5","https://github.com/w5teams/w5",1042,166]
[564,208698479,"apache","apache/incubator-eventmesh","https://github.com/apache/incubator-eventmesh",1040,281]
[565,null,"dromara","dromara/liteFlow","https://github.com/dromara/liteFlow",1039,185]
[566,99251094,"elastic","elastic/apm-server","https://github.com/elastic/apm-server",1038,416]
[567,233809604,"artifacthub","artifacthub/hub","https://github.com/artifacthub/hub",1036,140]
[568,54452622,"apache","apache/guacamole-client","https://github.com/apache/guacamole-client",1026,537]
[569,155974736,"kubermatic","kubermatic/kubeone","https://github.com/kubermatic/kubeone",1014,200]
[570,133340671,"sofastack","sofastack/sofa-tracer","https://github.com/sofastack/sofa-tracer",1007,347]
[571,1050944,"infinispan","infinispan/infinispan","https://github.com/infinispan/infinispan",1000,571]
[572,null,"kalcaddle","kalcaddle/kodbox","https://github.com/kalcaddle/kodbox",998,185]
[573,null,"tinyclub","tinyclub/linux-lab","https://github.com/tinyclub/linux-lab",992,162]
[574,null,"cym1102","cym1102/nginxWebUI","https://github.com/cym1102/nginxWebUI",989,187]
[575,null,"roncoo","roncoo/roncoo-education","https://github.com/roncoo/roncoo-education",961,479]
[576,null,"running-elephant","running-elephant/datart","https://github.com/running-elephant/datart",948,339]
[577,null,"FastTunnel","FastTunnel/FastTunnel","https://github.com/FastTunnel/FastTunnel",913,195]
[578,null,"anji-plus","anji-plus/captcha","https://github.com/anji-plus/captcha",827,226]
[579,null,"lionsoul2014","lionsoul2014/jcseg","https://github.com/lionsoul2014/jcseg",821,213]
[580,null,"yubaolee","yubaolee/OpenAuth.Cor","https://github.com/yubaolee/OpenAuth.Cor",766,220]
[581,null,"lcg0124","lcg0124/bootdo","https://github.com/lcg0124/bootdo",751,445]
[582,null,"java110","java110/MicroCommunity","https://github.com/java110/MicroCommunity",715,327]
[583,null,"yangfuhai","yangfuhai/jboot","https://github.com/yangfuhai/jboot",705,241]
[584,null,"damoqiongqiu","damoqiongqiu/NiceFish","https://github.com/damoqiongqiu/NiceFish",698,187]
[585,null,"datageartech","datageartech/datagear","https://github.com/datageartech/datagear",687,211]
[586,null,"monksoul","monksoul/LayX","https://github.com/monksoul/LayX",668,118]
[587,null,"dromara","dromara/mendmix","https://github.com/dromara/mendmix",632,283]
[588,null,"dromara","dromara/MaxKey","https://github.com/dromara/MaxKey",616,169]
[589,null,"tomsun28","tomsun28/bootshiro","https://github.com/tomsun28/bootshiro",599,250]
[590,null,"IoTSharp","IoTSharp/IoTSharp","https://github.com/IoTSharp/IoTSharp",507,135]
[591,null,"dromara","dromara/Jpom","https://github.com/dromara/Jpom",499,157]
[592,null,"wallace5303","wallace5303/electron-egg","https://github.com/wallace5303/electron-egg",476,84]
[593,null,"ArgoZhang","ArgoZhang/BootstrapAdmin","https://github.com/ArgoZhang/BootstrapAdmin",474,25]
[594,null,"Zhao-github","Zhao-github/ApiAdmin","https://github.com/Zhao-github/ApiAdmin",474,155]
[595,null,"yu120","yu120/neural","https://github.com/yu120/neural",432,112]
[596,null,"seagull1985","seagull1985/LuckyFrameWeb","https://github.com/seagull1985/LuckyFrameWeb",419,208]
[597,null,"celaraze","celaraze/chemex","https://github.com/celaraze/chemex",409,109]
[598,null,"smartboot","smartboot/smart-socket","https://github.com/smartboot/smart-socket",391,90]
[599,null,"anji-plus","anji-plus/report","https://github.com/anji-plus/report",371,122]
[600,null,"ZoeShaw101","ZoeShaw101/spring-boot-seckill","https://github.com/ZoeShaw101/spring-boot-seckill",364,167]
[601,null,"dromara","dromara/TLog","https://github.com/dromara/TLog",339,69]
[602,null,"HuangBingGui","HuangBingGui/JeeSpringCloudV3.2","https://github.com/HuangBingGui/JeeSpringCloudV3.2",332,163]
[603,null,"Georce","Georce/lepus","https://github.com/Georce/lepus",327,137]
[604,null,"farsunset","farsunset/cim","https://github.com/farsunset/cim",312,134]
[605,null,"oschina","oschina/kooder","https://github.com/oschina/kooder",312,45]
[606,null,"dromara","dromara/cubic","https://github.com/dromara/cubic",306,61]
[607,null,"mqttsnet","mqttsnet/thinglinks","https://github.com/mqttsnet/thinglinks",301,152]
[608,null,"xiweicheng","xiweicheng/tms","https://github.com/xiweicheng/tms",288,91]
[609,null,"lipengjun92","lipengjun92/platform-wxshop","https://github.com/lipengjun92/platform-wxshop",252,98]
[610,null,"RRQM","RRQM/TouchSocket","https://github.com/RRQM/TouchSocket",252,50]
[611,null,"openLuat","openLuat/LuatOS","https://github.com/openLuat/LuatOS",243,66]
[612,null,"baomidou","baomidou/kisso","https://github.com/baomidou/kisso",224,70]
[613,null,"pnoker","pnoker/iot-dc3","https://github.com/pnoker/iot-dc3",218,85]
[614,null,"dibo-software","dibo-software/diboot","https://github.com/dibo-software/diboot",212,950]
[615,null,"stylefeng","stylefeng/Roses","https://github.com/stylefeng/Roses",187,105]
[616,null,"misstt123","misstt123/oasys","https://github.com/misstt123/oasys",171,80]
[617,null,"fayechenlong","fayechenlong/plumelog","https://github.com/fayechenlong/plumelog",156,55]
[618,null,"taoes","taoes/SimpleDocker","https://github.com/taoes/SimpleDocker",146,31]
[619,null,"fujieid","fujieid/jap","https://github.com/fujieid/jap",136,27]
[620,null,"seagull1985","seagull1985/LuckyFrameClient","https://github.com/seagull1985/LuckyFrameClient",133,100]
[621,null,"budwk","budwk/budwk","https://github.com/budwk/budwk",125,28]
[622,null,"aalphaa","aalphaa/wookteam","https://github.com/aalphaa/wookteam",119,153]
[623,null,"dromara","dromara/koalas-rpc","https://github.com/dromara/koalas-rpc",81,28]
[624,null,"yubaolee","yubaolee/OpenAuth.Net","https://github.com/yubaolee/OpenAuth.Net",78,33]
[625,null,"AgileBPM","AgileBPM/agile-bpm-basic","https://github.com/AgileBPM/agile-bpm-basic",74,38]
[626,null,"rushmore","rushmore/zbus-server","https://github.com/rushmore/zbus-server",74,27]
[627,null,"yuanlinqiang","yuanlinqiang/lenosp","https://github.com/yuanlinqiang/lenosp",69,39]
[628,null,"oschina","oschina/J2Cache","https://github.com/oschina/J2Cache",54,21]
[629,null,"open-capacity-platform","open-capacity-platform/open-capacity-platform","https://github.com/open-capacity-platform/open-capacity-platform",47,36]
[630,null,"twilight19870","twilight19870/asyncTool","https://github.com/twilight19870/asyncTool",42,18]
[631,null,"BrianApple","BrianApple/IOTGate","https://github.com/BrianApple/IOTGate",38,26]
[632,null,"jieven","jieven/eova","https://github.com/jieven/eova",36,12]
[633,null,"tianyaleixiaowu","tianyaleixiaowu/md_blockchain","https://github.com/tianyaleixiaowu/md_blockchain",31,20]
[634,null,"ccbpm","ccbpm/CCFlow","https://github.com/ccbpm/CCFlow",30,6]
[635,null,"dromara","dromara/go-view","https://github.com/dromara/go-view",22,6]
[636,null,"OpenArkCompiler","OpenArkCompiler/openarkcompiler","https://github.com/OpenArkCompiler/openarkcompiler",17,3]
[637,null,"ntdgg","ntdgg/tpflow","https://github.com/ntdgg/tpflow",15,4]
[638,null,"Link-WeChat","Link-WeChat/link-wechat","https://github.com/Link-WeChat/link-wechat",9,4]
[639,null,"springrain","springrain/springrain","https://github.com/springrain/springrain",1,0]
[640,{"$f":"VLOOKUP(D641,IF({1,0},'[1]top5000'!$E:$E,'[1]top5000'!$B:$B),2,FALSE)","v":54346799},{"$f":"VLOOKUP(D641,IF({1,0},'[1]top5000'!$E:$E,'[1]top5000'!$D:$D),2,FALSE)","v":"public-apis"},"public-apis/public-apis","https://github.com/public-apis/public-apis",210747,24113]
[641,{"$f":"VLOOKUP(D642,IF({1,0},'[1]top5000'!$E:$E,'[1]top5000'!$B:$B),2,FALSE)","v":11730342},null,"vuejs/vue","https://github.com/vuejs/vue",199777,32877]
[642,{"$f":"VLOOKUP(D643,IF({1,0},'[1]top5000'!$E:$E,'[1]top5000'!$B:$B),2,FALSE)","v":83222441},null,"donnemartin/system-design-primer","https://github.com/donnemartin/system-design-primer",198838,35814]
[643,{"$f":"VLOOKUP(D644,IF({1,0},'[1]top5000'!$E:$E,'[1]top5000'!$B:$B),2,FALSE)","v":10270250},null,"facebook/react","https://github.com/facebook/react",195592,40513]
[644,{"$f":"VLOOKUP(D645,IF({1,0},'[1]top5000'!$E:$E,'[1]top5000'!$B:$B),2,FALSE)","v":45717250},null,"tensorflow/tensorflow","https://github.com/tensorflow/tensorflow",168154,87235]
[645,{"$f":"VLOOKUP(D646,IF({1,0},'[1]top5000'!$E:$E,'[1]top5000'!$B:$B),2,FALSE)","v":132750724},null,"codecrafters-io/build-your-own-x","https://github.com/codecrafters-io/build-your-own-x",166830,15717]
[646,{"$f":"VLOOKUP(D647,IF({1,0},'[1]top5000'!$E:$E,'[1]top5000'!$B:$B),2,FALSE)","v":2126244},null,"twbs/bootstrap","https://github.com/twbs/bootstrap",159814,77315]
[647,{"$f":"VLOOKUP(D648,IF({1,0},'[1]top5000'!$E:$E,'[1]top5000'!$B:$B),2,FALSE)","v":14440270},null,"getify/You-Dont-Know-JS","https://github.com/getify/You-Dont-Know-JS",159702,31269]
[648,{"$f":"VLOOKUP(D649,IF({1,0},'[1]top5000'!$E:$E,'[1]top5000'!$B:$B),2,FALSE)","v":121395510},null,"CyC2018/CS-Notes","https://github.com/CyC2018/CS-Notes",157159,49032]
[649,{"$f":"VLOOKUP(D650,IF({1,0},'[1]top5000'!$E:$E,'[1]top5000'!$B:$B),2,FALSE)","v":126577260},null,"trekhleb/javascript-algorithms","https://github.com/trekhleb/javascript-algorithms",152209,25384]
[650,{"$f":"VLOOKUP(D651,IF({1,0},'[1]top5000'!$E:$E,'[1]top5000'!$B:$B),2,FALSE)","v":291137},null,"ohmyzsh/ohmyzsh","https://github.com/ohmyzsh/ohmyzsh",150733,24556]
[651,{"$f":"VLOOKUP(D652,IF({1,0},'[1]top5000'!$E:$E,'[1]top5000'!$B:$B),2,FALSE)","v":63476337},null,"TheAlgorithms/Python","https://github.com/TheAlgorithms/Python",145993,37194]
[652,{"$f":"VLOOKUP(D653,IF({1,0},'[1]top5000'!$E:$E,'[1]top5000'!$B:$B),2,FALSE)","v":31792824},null,"flutter/flutter","https://github.com/flutter/flutter",145487,23390]
[653,{"$f":"VLOOKUP(D654,IF({1,0},'[1]top5000'!$E:$E,'[1]top5000'!$B:$B),2,FALSE)","v":21289110},null,"vinta/awesome-python","https://github.com/vinta/awesome-python",143616,21960]
[654,{"$f":"VLOOKUP(D655,IF({1,0},'[1]top5000'!$E:$E,'[1]top5000'!$B:$B),2,FALSE)","v":1062897},null,"github/gitignore","https://github.com/github/gitignore",139061,78512]
[655,{"$f":"VLOOKUP(D656,IF({1,0},'[1]top5000'!$E:$E,'[1]top5000'!$B:$B),2,FALSE)","v":2325298},null,"torvalds/linux","https://github.com/torvalds/linux",138982,44900]
[656,{"$f":"VLOOKUP(D657,IF({1,0},'[1]top5000'!$E:$E,'[1]top5000'!$B:$B),2,FALSE)","v":41881900},null,"microsoft/vscode","https://github.com/microsoft/vscode",137259,23522]
[657,{"$f":"VLOOKUP(D658,IF({1,0},'[1]top5000'!$E:$E,'[1]top5000'!$B:$B),2,FALSE)","v":132464395},null,"Snailclimb/JavaGuide","https://github.com/Snailclimb/JavaGuide",127679,42587]
[658,{"$f":"VLOOKUP(D659,IF({1,0},'[1]top5000'!$E:$E,'[1]top5000'!$B:$B),2,FALSE)","v":6498492},null,"airbnb/javascript","https://github.com/airbnb/javascript",127655,24335]
[659,{"$f":"VLOOKUP(D660,IF({1,0},'[1]top5000'!$E:$E,'[1]top5000'!$B:$B),2,FALSE)","v":123458551},null,"jackfrued/Python-100-Days","https://github.com/jackfrued/Python-100-Days",125892,47069]
[660,{"$f":"VLOOKUP(D661,IF({1,0},'[1]top5000'!$E:$E,'[1]top5000'!$B:$B),2,FALSE)","v":19415064},null,"ossu/computer-science","https://github.com/ossu/computer-science",125000,16619]
[661,{"$f":"VLOOKUP(D662,IF({1,0},'[1]top5000'!$E:$E,'[1]top5000'!$B:$B),2,FALSE)","v":1039520},null,"ytdl-org/youtube-dl","https://github.com/ytdl-org/youtube-dl",113900,8205]
[662,{"$f":"VLOOKUP(D663,IF({1,0},'[1]top5000'!$E:$E,'[1]top5000'!$B:$B),2,FALSE)","v":35955666},null,"jlevy/the-art-of-command-line","https://github.com/jlevy/the-art-of-command-line",111163,11736]
[663,{"$f":"VLOOKUP(D664,IF({1,0},'[1]top5000'!$E:$E,'[1]top5000'!$B:$B),2,FALSE)","v":241576270},null,"labuladong/fucking-algorithm","https://github.com/labuladong/fucking-algorithm",110730,21636]
[664,{"$f":"VLOOKUP(D665,IF({1,0},'[1]top5000'!$E:$E,'[1]top5000'!$B:$B),2,FALSE)","v":29028775},null,"facebook/react-native","https://github.com/facebook/react-native",105154,22472]
[665,{"$f":"VLOOKUP(D666,IF({1,0},'[1]top5000'!$E:$E,'[1]top5000'!$B:$B),2,FALSE)","v":36633370},null,"awesome-selfhosted/awesome-selfhosted","https://github.com/awesome-selfhosted/awesome-selfhosted",104751,6489]
[666,{"$f":"VLOOKUP(D667,IF({1,0},'[1]top5000'!$E:$E,'[1]top5000'!$B:$B),2,FALSE)","v":23096959},null,"golang/go","https://github.com/golang/go",104324,15456]
[667,{"$f":"VLOOKUP(D668,IF({1,0},'[1]top5000'!$E:$E,'[1]top5000'!$B:$B),2,FALSE)","v":9384267},null,"electron/electron","https://github.com/electron/electron",103939,13892]
[668,{"$f":"VLOOKUP(D669,IF({1,0},'[1]top5000'!$E:$E,'[1]top5000'!$B:$B),2,FALSE)","v":112507086},null,"30-seconds/30-seconds-of-code","https://github.com/30-seconds/30-seconds-of-code",103387,10783]
[669,{"$f":"VLOOKUP(D670,IF({1,0},'[1]top5000'!$E:$E,'[1]top5000'!$B:$B),2,FALSE)","v":943149},null,"d3/d3","https://github.com/d3/d3",102984,23174]
[670,{"$f":"VLOOKUP(D671,IF({1,0},'[1]top5000'!$E:$E,'[1]top5000'!$B:$B),2,FALSE)","v":63537249},null,"facebook/create-react-app","https://github.com/facebook/create-react-app",97233,25326]
[671,{"$f":"VLOOKUP(D672,IF({1,0},'[1]top5000'!$E:$E,'[1]top5000'!$B:$B),2,FALSE)","v":23088740},null,"axios/axios","https://github.com/axios/axios",96085,9820]
[672,null,null,"justjavac/free-programming-books-zh_CN","https://github.com/justjavac/free-programming-books-zh_CN",95939,26563]
[673,null,null,"vercel/next.js","https://github.com/vercel/next.js",93393,20496]
[674,null,null,"nodejs/node","https://github.com/nodejs/node",90711,24443]
[675,null,null,"avelino/awesome-go","https://github.com/avelino/awesome-go",88925,10293]
[676,null,null,"mrdoob/three.js","https://github.com/mrdoob/three.js",85808,33001]
[677,null,null,"denoland/deno","https://github.com/denoland/deno",85628,4627]
[678,null,null,"microsoft/terminal","https://github.com/microsoft/terminal",85495,7519]
[679,null,null,"microsoft/TypeScript","https://github.com/microsoft/TypeScript",84711,11017]
[680,null,null,"angular/angular","https://github.com/angular/angular",84134,22243]
[681,null,null,"ant-design/ant-design","https://github.com/ant-design/ant-design",82096,36086]
[682,null,null,"goldbergyoni/nodebestpractices","https://github.com/goldbergyoni/nodebestpractices",81901,8484]
[683,null,null,"mui/material-ui","https://github.com/mui/material-ui",81715,28142]
[684,null,null,"puppeteer/puppeteer","https://github.com/puppeteer/puppeteer",80178,8647]
[685,null,null,"trimstray/the-book-of-secret-knowledge","https://github.com/trimstray/the-book-of-secret-knowledge",79636,6399]
[686,null,null,"yangshun/tech-interview-handbook","https://github.com/yangshun/tech-interview-handbook",79409,10596]
[687,null,null,"microsoft/PowerToys","https://github.com/microsoft/PowerToys",79239,4520]
[688,null,null,"PanJiaChen/vue-element-admin","https://github.com/PanJiaChen/vue-element-admin",78731,28633]
[689,null,null,"practical-tutorials/project-based-learning","https://github.com/practical-tutorials/project-based-learning",78604,11344]
[690,null,null,"iluwatar/java-design-patterns","https://github.com/iluwatar/java-design-patterns",77151,23911]
[691,null,null,"animate-css/animate.css","https://github.com/animate-css/animate.css",75910,16251]
[692,null,null,"tensorflow/models","https://github.com/tensorflow/models",74488,46036]
[693,null,null,"storybookjs/storybook","https://github.com/storybookjs/storybook",74246,7767]
[694,null,null,"nvbn/thefuck","https://github.com/nvbn/thefuck",73708,3255]
[695,null,null,"ryanmcdermott/clean-code-javascript","https://github.com/ryanmcdermott/clean-code-javascript",73237,9900]
[696,null,null,"rust-lang/rust","https://github.com/rust-lang/rust",72685,9850]
[697,null,null,"MisterBooo/LeetCodeAnimation","https://github.com/MisterBooo/LeetCodeAnimation",71575,13708]
[698,null,null,"huggingface/transformers","https://github.com/huggingface/transformers",71338,16328]
[699,null,null,"laravel/laravel","https://github.com/laravel/laravel",71115,23018]
[700,null,null,"Genymobile/scrcpy","https://github.com/Genymobile/scrcpy",71115,7575]
[701,null,null,"FortAwesome/Font-Awesome","https://github.com/FortAwesome/Font-Awesome",70202,12186]
[702,null,null,"gothinkster/realworld","https://github.com/gothinkster/realworld"," and many more 🏅\"",4470]
[703,null,null,"doocs/advanced-java","https://github.com/doocs/advanced-java",66805,17712]
[704,null,null,"django/django","https://github.com/django/django",66600,27917]
[705,null,null,"tonsky/FiraCode","https://github.com/tonsky/FiraCode",66560,2894]
[706,null,null,"vuejs/awesome-vue","https://github.com/vuejs/awesome-vue",66498,9136]
[707,null,null,"bitcoin/bitcoin","https://github.com/bitcoin/bitcoin",66361,33076]
[708,null,null,"papers-we-love/papers-we-love","https://github.com/papers-we-love/papers-we-love",64749,4950]
[709,null,null,"moby/moby","https://github.com/moby/moby",64173,18291]
[710,null,null,"opencv/opencv","https://github.com/opencv/opencv",64067,52632]
[711,null,null,"typicode/json-server","https://github.com/typicode/json-server",63583,6278]
[712,null,null,"spring-projects/spring-boot","https://github.com/spring-projects/spring-boot",63435,37295]
[713,null,null,"gin-gonic/gin","https://github.com/gin-gonic/gin",63301,6950]
[714,null,null,"mtdvio/every-programmer-should-know","https://github.com/mtdvio/every-programmer-should-know",63167,5984]
[715,null,null,"gohugoio/hugo","https://github.com/gohugoio/hugo",62748,6822]
[716,null,null,"sveltejs/svelte","https://github.com/sveltejs/svelte",62460,3048]
[717,null,null,"hakimel/reveal.js","https://github.com/hakimel/reveal.js",62138,16379]
[718,null,null,"thedaviddias/Front-End-Checklist","https://github.com/thedaviddias/Front-End-Checklist",62123,5991]
[719,null,null,"webpack/webpack","https://github.com/webpack/webpack"," CSS"," Coffeescript"]
[720,null,null,"elastic/elasticsearch","https://github.com/elastic/elasticsearch",61345,22288]
[721,null,null,"macrozheng/mall","https://github.com/macrozheng/mall",61341,25650]
[722,null,null,"nvm-sh/nvm","https://github.com/nvm-sh/nvm",61249,6511]
[723,null,null,"tailwindlabs/tailwindcss","https://github.com/tailwindlabs/tailwindcss",61064,3101]
[724,null,null,"apple/swift","https://github.com/apple/swift",60758,9760]
[725,null,null,"pallets/flask","https://github.com/pallets/flask",60705,15263]
[726,null,null,"fatedier/frp","https://github.com/fatedier/frp",60541,10698]
[727,null,null,"ripienaar/free-for-dev","https://github.com/ripienaar/free-for-dev",60393,6646]
[728,null,null,"521xueweihan/HelloGitHub","https://github.com/521xueweihan/HelloGitHub",59862,8070]
[729,null,null,"angular/angular.js","https://github.com/angular/angular.js",59378,28237]
[730,null,null,"pytorch/pytorch","https://github.com/pytorch/pytorch",59330,16513]
[731,null,null,"reduxjs/redux","https://github.com/reduxjs/redux",58709,15311]
[732,null,null,"atom/atom","https://github.com/atom/atom",58558,17924]
[733,null,null,"resume/resume.github.com","https://github.com/resume/resume.github.com",58553,1375]
[734,null,null,"expressjs/express","https://github.com/expressjs/express",58493,9938]
[735,null,null,"kdn251/interviews","https://github.com/kdn251/interviews",58332,12309]
[736,null,null,"chartjs/Chart.js","https://github.com/chartjs/Chart.js",58304,11618]
[737,null,null,"neovim/neovim","https://github.com/neovim/neovim",58238,4068]
[738,null,null,"florinpop17/app-ideas","https://github.com/florinpop17/app-ideas",58234,7735]
[739,null,null,"microsoft/Web-Dev-For-Beginners","https://github.com/microsoft/Web-Dev-For-Beginners",57970,8860]
[740,null,null,"xingshaocheng/architect-awesome","https://github.com/xingshaocheng/architect-awesome",56925,17478]
[741,null,null,"coder/code-server","https://github.com/coder/code-server",56909,4734]
[742,null,null,"adam-p/markdown-here","https://github.com/adam-p/markdown-here",56823,11066]
[743,null,null,"jquery/jquery","https://github.com/jquery/jquery",56775,20486]
[744,null,null,"socketio/socket.io","https://github.com/socketio/socket.io",56766,10080]
[745,null,null,"Hack-with-Github/Awesome-Hacking","https://github.com/Hack-with-Github/Awesome-Hacking",56612,8125]
[746,null,null,"protocolbuffers/protobuf","https://github.com/protocolbuffers/protobuf",56478,14465]
[747,null,null,"keras-team/keras","https://github.com/keras-team/keras",56313,19188]
[748,null,null,"josephmisiti/awesome-machine-learning","https://github.com/josephmisiti/awesome-machine-learning",56156,13562]
[749,null,null,"iptv-org/iptv","https://github.com/iptv-org/iptv",56066,9723]
[750,null,null,"h5bp/Front-end-Developer-Interview-Questions","https://github.com/h5bp/Front-end-Developer-Interview-Questions",55396,10663]
[751,null,null,"shadowsocks/shadowsocks-windows","https://github.com/shadowsocks/shadowsocks-windows",55160,16331]
[752,null,null,"home-assistant/core","https://github.com/home-assistant/core",55108,19836]
[753,null,null,"lodash/lodash","https://github.com/lodash/lodash",54502,6664]
[754,null,null,"godotengine/godot","https://github.com/godotengine/godot",53894,9394]
[755,null,null,"chrislgarry/Apollo-11","https://github.com/chrislgarry/Apollo-11",53610,6808]
[756,null,null,"gatsbyjs/gatsby","https://github.com/gatsbyjs/gatsby",53602,10440]
[757,null,null,"jaywcjlove/awesome-mac","https://github.com/jaywcjlove/awesome-mac",53523,5504]
[758,null,null,"h5bp/html5-boilerplate","https://github.com/h5bp/html5-boilerplate",53407,12097]
[759,null,null,"ElemeFE/element","https://github.com/ElemeFE/element",52700,14225]
[760,null,null,"leonardomso/33-js-concepts","https://github.com/leonardomso/33-js-concepts",51975,7173]
[761,null,null,"tauri-apps/tauri","https://github.com/tauri-apps/tauri",51731,1316]
[762,null,null,"scikit-learn/scikit-learn","https://github.com/scikit-learn/scikit-learn",51555,23476]
[763,null,null,"rails/rails","https://github.com/rails/rails",51517,20650]
[764,null,null,"enaqx/awesome-react","https://github.com/enaqx/awesome-react",51388,6266]
[765,null,null,"awesomedata/awesome-public-datasets","https://github.com/awesomedata/awesome-public-datasets",51276,8951]
[766,null,null,"nestjs/nest","https://github.com/nestjs/nest",51144,5978]
[767,null,null,"mermaid-js/mermaid","https://github.com/mermaid-js/mermaid",50231,3840]
[768,null,null,"Semantic-Org/Semantic-UI","https://github.com/Semantic-Org/Semantic-UI",50187,5115]
[769,null,null,"tiangolo/fastapi","https://github.com/tiangolo/fastapi",50169,4013]
[770,null,null,"DopplerHQ/awesome-interview-questions","https://github.com/DopplerHQ/awesome-interview-questions",50104,7218]
[771,null,null,"azl397985856/leetcode","https://github.com/azl397985856/leetcode",49470,9166]
[772,null,null,"spring-projects/spring-framework","https://github.com/spring-projects/spring-framework",49294,34782]
[773,null,null,"scutan90/DeepLearning-500-questions","https://github.com/scutan90/DeepLearning-500-questions",49067,15300]
[774,null,null,"necolas/normalize.css","https://github.com/necolas/normalize.css",48788,10856]
[775,null,null,"strapi/strapi","https://github.com/strapi/strapi",48529,5915]
[776,null,null,"psf/requests","https://github.com/psf/requests",48315,8881]
[777,null,null,"GrowingGit/GitHub-Chinese-Top-Charts","https://github.com/GrowingGit/GitHub-Chinese-Top-Charts",48308,6967]
[778,null,null,"remix-run/react-router","https://github.com/remix-run/react-router",48290,9462]
[779,null,null,"lydiahallie/javascript-questions","https://github.com/lydiahallie/javascript-questions",48257,6824]
[780,null,null,"TheAlgorithms/Java","https://github.com/TheAlgorithms/Java",48156,15802]
[781,null,null,"vitejs/vite","https://github.com/vitejs/vite",48061,4033]
[782,null,null,"ionic-team/ionic-framework","https://github.com/ionic-team/ionic-framework",48027,13643]
[783,null,null,"sdmg15/Best-websites-a-programmer-should-visit","https://github.com/sdmg15/Best-websites-a-programmer-should-visit",47939,6341]
[784,null,null,"python/cpython","https://github.com/python/cpython",47906,24365]
[785,null,null,"Anduin2017/HowToCook","https://github.com/Anduin2017/HowToCook",47381,7136]
[786,null,null,"junegunn/fzf","https://github.com/junegunn/fzf",47336,2017]
[787,null,null,"3b1b/manim","https://github.com/3b1b/manim",47271,5064]
[788,null,null,"hoppscotch/hoppscotch","https://github.com/hoppscotch/hoppscotch",47248,3201]
[789,null,null,"sindresorhus/awesome-nodejs","https://github.com/sindresorhus/awesome-nodejs",47074,5475]
[790,null,null,"moment/moment","https://github.com/moment/moment",46951,7111]
[791,null,null,"syncthing/syncthing","https://github.com/syncthing/syncthing",46954,3567]
[792,null,null,"tesseract-ocr/tesseract","https://github.com/tesseract-ocr/tesseract",46894,8170]
[793,null,null,"google/material-design-icons","https://github.com/google/material-design-icons",46565,9384]
[794,null,null,"ReactiveX/RxJava","https://github.com/ReactiveX/RxJava",46507,7634]
[795,null,null,"anuraghazra/github-readme-stats","https://github.com/anuraghazra/github-readme-stats",46471,11359]
[796,null,null,"jgthms/bulma","https://github.com/jgthms/bulma",46180,3911]
[797,null,null,"ageitgey/face_recognition","https://github.com/ageitgey/face_recognition",45929,12509]
[798,null,null,"google/guava","https://github.com/google/guava",45834,10166]
[799,null,null,"soimort/you-get","https://github.com/soimort/you-get",45594,9047]
[800,null,null,"jekyll/jekyll","https://github.com/jekyll/jekyll",45370,9884]
[801,null,null,"NARKOZ/hacker-scripts","https://github.com/NARKOZ/hacker-scripts",45134,6700]
[802,null,null,"scrapy/scrapy","https://github.com/scrapy/scrapy",44720,9731]
[803,null,null,"bradtraversy/design-resources-for-developers","https://github.com/bradtraversy/design-resources-for-developers",44348,9559]
[804,null,null,"MunGell/awesome-for-beginners","https://github.com/MunGell/awesome-for-beginners",44239,5890]
[805,null,null,"wasabeef/awesome-android-ui","https://github.com/wasabeef/awesome-android-ui",44085,10220]
[806,null,null,"prettier/prettier","https://github.com/prettier/prettier",43943,3529]
[807,null,null,"Developer-Y/cs-video-courses","https://github.com/Developer-Y/cs-video-courses",43847,6356]
[808,null,null,"localstack/localstack","https://github.com/localstack/localstack",43769,3253]
[809,null,null,"git/git","https://github.com/git/git",43753,24075]
[810,null,null,"minimaxir/big-list-of-naughty-strings","https://github.com/minimaxir/big-list-of-naughty-strings",43743,2075]
[811,null,null,"fighting41love/funNLP","https://github.com/fighting41love/funNLP",43681,11840]
[812,null,null,"serverless/serverless","https://github.com/serverless/serverless",43544,5386]
[813,null,null,"caddyserver/caddy","https://github.com/caddyserver/caddy",43482,3390]
[814,null,null,"juliangarnier/anime","https://github.com/juliangarnier/anime",43278,3551]
[815,null,null,"Solido/awesome-flutter","https://github.com/Solido/awesome-flutter",43062,6089]
[816,null,null,"meteor/meteor","https://github.com/meteor/meteor",43047,5206]
[817,null,null,"prakhar1989/awesome-courses","https://github.com/prakhar1989/awesome-courses",42994,7825]
[818,null,null,"square/okhttp","https://github.com/square/okhttp",42952,8940]
[819,null,null,"microsoft/playwright","https://github.com/microsoft/playwright",42944,2045]
[820,null,null,"ziishaned/learn-regex","https://github.com/ziishaned/learn-regex",42841,6130]
[821,null,null,"JetBrains/kotlin","https://github.com/JetBrains/kotlin",42767,5281]
[822,null,null,"microsoft/ML-For-Beginners","https://github.com/microsoft/ML-For-Beginners",42395,8445]
[823,null,null,"deepfakes/faceswap","https://github.com/deepfakes/faceswap",42372,11916]
[824,null,null,"aymericdamien/TensorFlow-Examples","https://github.com/aymericdamien/TensorFlow-Examples",42259,15152]
[825,null,null,"alacritty/alacritty","https://github.com/alacritty/alacritty",42155,2450]
[826,null,null,"danielmiessler/SecLists","https://github.com/danielmiessler/SecLists",42053,21077]
[827,null,null,"obsproject/obs-studio","https://github.com/obsproject/obs-studio",42008,6285]
[828,null,null,"ocornut/imgui","https://github.com/ocornut/imgui",41977,7343]
[829,null,null,"ColorlibHQ/AdminLTE","https://github.com/ColorlibHQ/AdminLTE",41561,17800]
[830,null,null,"swisskyrepo/PayloadsAllTheThings","https://github.com/swisskyrepo/PayloadsAllTheThings",41559,11151]
[831,null,null,"android/architecture-samples","https://github.com/android/architecture-samples",41552,11286]
[832,null,null,"babel/babel","https://github.com/babel/babel",41453,5464]
[833,null,null,"nuxt/nuxt.js","https://github.com/nuxt/nuxt.js",41384,3294]
[834,null,null,"parcel-bundler/parcel","https://github.com/parcel-bundler/parcel",41380,2193]
[835,null,null,"TryGhost/Ghost","https://github.com/TryGhost/Ghost",41276,8911]
[836,null,null,"binhnguyennus/awesome-scalability","https://github.com/binhnguyennus/awesome-scalability",41086,4737]
[837,null,null,"DefinitelyTyped/DefinitelyTyped","https://github.com/DefinitelyTyped/DefinitelyTyped",41041,28030]
[838,null,null,"cypress-io/cypress","https://github.com/cypress-io/cypress",41014,2562]
[839,null,null,"gogs/gogs","https://github.com/gogs/gogs",40965,4643]
[840,null,null,"astaxie/build-web-application-with-golang","https://github.com/astaxie/build-web-application-with-golang",40956,10623]
[841,null,null,"yarnpkg/yarn","https://github.com/yarnpkg/yarn",40863,2867]
[842,null,null,"tldr-pages/tldr","https://github.com/tldr-pages/tldr",40787,3284]
[843,null,null,"vsouza/awesome-ios","https://github.com/vsouza/awesome-ios",40720,6635]
[844,null,null,"fffaraz/awesome-cpp","https://github.com/fffaraz/awesome-cpp",40701,6534]
[845,null,null,"square/retrofit","https://github.com/square/retrofit",40599,7189]
[846,null,null,"JuliaLang/julia","https://github.com/JuliaLang/julia",40534,5010]
[847,null,null,"iamkun/dayjs","https://github.com/iamkun/dayjs",40499,2039]
[848,null,null,"v2ray/v2ray-core","https://github.com/v2ray/v2ray-core",40499,8492]
[849,null,null,"facebook/jest","https://github.com/facebook/jest",40393,6073]
[850,null,null,"ventoy/Ventoy","https://github.com/ventoy/Ventoy",40073,2894]
[851,null,null,"mozilla/pdf.js","https://github.com/mozilla/pdf.js",40054,9012]
[852,null,null,"karan/Projects","https://github.com/karan/Projects",40045,10379]
[853,null,null,"Textualize/rich","https://github.com/Textualize/rich",39969,1369]
[854,null,null,"ethereum/go-ethereum","https://github.com/ethereum/go-ethereum",39585,15054]
[855,null,null,"vercel/hyper","https://github.com/vercel/hyper",39374,3269]
[856,null,null,"supabase/supabase","https://github.com/supabase/supabase",39360,2417]
[857,null,null,"k88hudson/git-flight-rules","https://github.com/k88hudson/git-flight-rules",39305,3029]
[858,null,null,"algorithm-visualizer/algorithm-visualizer","https://github.com/algorithm-visualizer/algorithm-visualizer",39192,6383]
[859,null,null,"x64dbg/x64dbg","https://github.com/x64dbg/x64dbg",39157,1950]
[860,null,null,"nwjs/nw.js","https://github.com/nwjs/nw.js",39152,3962]
[861,null,null,"bailicangdu/vue2-elm","https://github.com/bailicangdu/vue2-elm",39144,12396]
[862,null,null,"justjavac/awesome-wechat-weapp","https://github.com/justjavac/awesome-wechat-weapp",38955,8068]
[863,null,null,"pi-hole/pi-hole","https://github.com/pi-hole/pi-hole",38925,2372]
[864,null,null,"Dogfalo/materialize","https://github.com/Dogfalo/materialize",38728,4850]
[865,null,null,"ryanoasis/nerd-fonts","https://github.com/ryanoasis/nerd-fonts",38581,2981]
[866,null,null,"Avik-Jain/100-Days-Of-ML-Code","https://github.com/Avik-Jain/100-Days-Of-ML-Code",38499,9642]
[867,null,null,"facebook/docusaurus","https://github.com/facebook/docusaurus",38468,5757]
[868,null,null,"Alamofire/Alamofire","https://github.com/Alamofire/Alamofire",38388,7256]
[869,null,null,"Eugeny/tabby","https://github.com/Eugeny/tabby",38182,2342]
[870,null,null,"Unitech/pm2","https://github.com/Unitech/pm2",37806,2478]
[871,null,null,"chinese-poetry/chinese-poetry","https://github.com/chinese-poetry/chinese-poetry",37779,7789]
[872,null,null,"pixijs/pixijs","https://github.com/pixijs/pixijs",37623,4636]
[873,null,null,"styled-components/styled-components","https://github.com/styled-components/styled-components",37495,2345]
[874,null,null,"sharkdp/bat","https://github.com/sharkdp/bat",37403,976]
[875,null,null,"tiimgreen/github-cheat-sheet","https://github.com/tiimgreen/github-cheat-sheet",37140,5163]
[876,null,null,"FiloSottile/mkcert","https://github.com/FiloSottile/mkcert",37043,1852]
[877,null,null,"Alvin9999/new-pac","https://github.com/Alvin9999/new-pac",37026,7441]
[878,null,null,"CorentinJ/Real-Time-Voice-Cloning","https://github.com/CorentinJ/Real-Time-Voice-Cloning",36962,6759]
[879,null,null,"impress/impress.js","https://github.com/impress/impress.js",36955,6827]
[880,null,null,"typescript-cheatsheets/react","https://github.com/typescript-cheatsheets/react",36762,3218]
[881,null,null,"Fndroid/clash_for_windows_pkg","https://github.com/Fndroid/clash_for_windows_pkg",36777,5082]
[882,null,null,"huginn/huginn","https://github.com/huginn/huginn",36562,3308]
[883,null,null,"discourse/discourse","https://github.com/discourse/discourse",36550,7780]
[884,null,null,"FreeCodeCampChina/freecodecamp.cn","https://github.com/FreeCodeCampChina/freecodecamp.cn",36496,1364]
[885,null,null,"marktext/marktext","https://github.com/marktext/marktext",36251,2731]
[886,null,null,"jakevdp/PythonDataScienceHandbook","https://github.com/jakevdp/PythonDataScienceHandbook",36089,15999]
[887,null,null,"GitSquared/edex-ui","https://github.com/GitSquared/edex-ui",36063,2125]
[888,null,null,"commaai/openpilot","https://github.com/commaai/openpilot",36017,6636]
[889,null,null,"ngosang/trackerslist","https://github.com/ngosang/trackerslist",35996,6257]
[890,null,null,"sherlock-project/sherlock","https://github.com/sherlock-project/sherlock",36024,4233]
[891,null,null,"fastlane/fastlane","https://github.com/fastlane/fastlane",35869,5312]
[892,null,null,"Leaflet/Leaflet","https://github.com/Leaflet/Leaflet",35705,5465]
[893,null,null,"PhilJay/MPAndroidChart","https://github.com/PhilJay/MPAndroidChart",35656,8820]
[894,null,null,"isocpp/CppCoreGuidelines","https://github.com/isocpp/CppCoreGuidelines",35650,4832]
[895,null,null,"hexojs/hexo","https://github.com/hexojs/hexo",35486,4380]
[896,null,null,"pandas-dev/pandas","https://github.com/pandas-dev/pandas",35423,15086]
[897,null,null,"vuetifyjs/vuetify","https://github.com/vuetifyjs/vuetify",35357,6383]
[898,null,null,"d2l-ai/d2l-zh","https://github.com/d2l-ai/d2l-zh",35355,8057]
[899,null,null,"yangshun/front-end-interview-handbook","https://github.com/yangshun/front-end-interview-handbook",35347,5179]
[900,null,null,"dypsilon/frontend-dev-bookmarks","https://github.com/dypsilon/frontend-dev-bookmarks",35336,4924]
[901,null,null,"iperov/DeepFaceLab","https://github.com/iperov/DeepFaceLab",35220,7932]
[902,null,null,"PowerShell/PowerShell","https://github.com/PowerShell/PowerShell",35212,5912]
[903,null,null,"faif/python-patterns","https://github.com/faif/python-patterns",35167,6575]
[904,null,null,"alex/what-happens-when","https://github.com/alex/what-happens-when",35128,2589]
[905,null,null,"kamranahmedse/design-patterns-for-humans","https://github.com/kamranahmedse/design-patterns-for-humans",35064,4399]
[906,null,null,"golang-standards/project-layout","https://github.com/golang-standards/project-layout",34965,3934]
[907,null,null,"rclone/rclone","https://github.com/rclone/rclone"," One Drive"," Wasabi"]
[908,null,null,"NationalSecurityAgency/ghidra","https://github.com/NationalSecurityAgency/ghidra",34766,4468]
[909,null,null,"nodejs/node-v0.x-archive","https://github.com/nodejs/node-v0.x-archive",34652,7549]
[910,null,null,"oven-sh/bun","https://github.com/oven-sh/bun",34625,801]
[911,null,null,"slatedocs/slate","https://github.com/slatedocs/slate",34563,21696]
[912,null,null,"php/php-src","https://github.com/php/php-src",34373,7331]
[913,null,null,"google/zx","https://github.com/google/zx",34308,806]
[914,null,null,"videojs/video.js","https://github.com/videojs/video.js",34286,7245]
[915,null,null,"0voice/interview_internal_reference","https://github.com/0voice/interview_internal_reference",34100,9171]
[916,null,null,"alvarotrigo/fullPage.js","https://github.com/alvarotrigo/fullPage.js",34071,7458]
[917,null,null,"jgraph/drawio-desktop","https://github.com/jgraph/drawio-desktop",34027,3748]
[918,null,null,"apachecn/ailearning","https://github.com/apachecn/ailearning",34016,10952]
[919,null,null,"wagoodman/dive","https://github.com/wagoodman/dive",33914,1347]
[920,null,null,"sahat/hackathon-starter","https://github.com/sahat/hackathon-starter",33792,7969]
[921,null,null,"akullpp/awesome-java","https://github.com/akullpp/awesome-java",33760,6938]
[922,null,null,"quilljs/quill","https://github.com/quilljs/quill",33732,2888]
[923,null,null,"agalwood/Motrix","https://github.com/agalwood/Motrix",33666,3895]
[924,null,null,"lerna/lerna","https://github.com/lerna/lerna",33643,2242]
[925,null,null,"Homebrew/brew","https://github.com/Homebrew/brew",33567,8080]
[926,null,null,"adobe/brackets","https://github.com/adobe/brackets",33537,8084]
[927,null,null,"floodsung/Deep-Learning-Papers-Reading-Roadmap","https://github.com/floodsung/Deep-Learning-Papers-Reading-Roadmap",33535,7047]
[928,null,null,"RocketChat/Rocket.Chat","https://github.com/RocketChat/Rocket.Chat",33488,7640]
[929,null,null,"evanw/esbuild","https://github.com/evanw/esbuild",33457,915]
[930,null,null,"BurntSushi/ripgrep","https://github.com/BurntSushi/ripgrep",33459,1504]
[931,null,null,"excalidraw/excalidraw","https://github.com/excalidraw/excalidraw",33447,2784]
[932,null,null,"AFNetworking/AFNetworking","https://github.com/AFNetworking/AFNetworking",33336,10246]
[933,null,null,"airbnb/lottie-android","https://github.com/airbnb/lottie-android",33244,5304]
[934,null,null,"shadowsocks/shadowsocks","https://github.com/shadowsocks/shadowsocks",33219,19228]
[935,null,null,"koajs/koa","https://github.com/koajs/koa",33174,3216]
[936,null,null,"yt-dlp/yt-dlp","https://github.com/yt-dlp/yt-dlp",33116,2621]
[937,null,null,"preactjs/preact","https://github.com/preactjs/preact",33053,1823]
[938,null,null,"bumptech/glide","https://github.com/bumptech/glide",33010,5991]
[939,null,null,"wg/wrk","https://github.com/wg/wrk",33003,2735]
[940,null,null,"exacity/deeplearningbook-chinese","https://github.com/exacity/deeplearningbook-chinese",32951,9032]
[941,null,null,"ant-design/ant-design-pro","https://github.com/ant-design/ant-design-pro",32950,7674]
[942,null,null,"shadowsocks/shadowsocks-android","https://github.com/shadowsocks/shadowsocks-android",32918,11592]
[943,null,null,"photonstorm/phaser","https://github.com/photonstorm/phaser",32904,6825]
[944,null,null,"vuejs/core","https://github.com/vuejs/core",32898,5907]
[945,null,null,"BVLC/caffe","https://github.com/BVLC/caffe",32886,18996]
[946,null,null,"kelseyhightower/kubernetes-the-hard-way","https://github.com/kelseyhightower/kubernetes-the-hard-way",32809,10945]
[947,null,null,"nolimits4web/swiper","https://github.com/nolimits4web/swiper",32754,9645]
[948,null,null,"gulpjs/gulp","https://github.com/gulpjs/gulp",32628,4400]
[949,null,null,"gorhill/uBlock","https://github.com/gorhill/uBlock",32599,2527]
[950,null,null,"zenorocha/clipboard.js","https://github.com/zenorocha/clipboard.js",32584,4065]
[951,null,null,"open-guides/og-aws","https://github.com/open-guides/og-aws",32567,3533]
[952,null,null,"go-gitea/gitea","https://github.com/go-gitea/gitea",32565,4094]
[953,null,null,"brillout/awesome-react-components","https://github.com/brillout/awesome-react-components",32512,2812]
[954,null,null,"2dust/v2rayN","https://github.com/2dust/v2rayN",32404,6477]
[955,null,null,"serhii-londar/open-source-mac-os-apps","https://github.com/serhii-londar/open-source-mac-os-apps",32385,2079]
[956,null,null,"laurent22/joplin","https://github.com/laurent22/joplin",32336,3619]
[957,null,null,"immutable-js/immutable-js","https://github.com/immutable-js/immutable-js",32259,1852]
[958,null,null,"poteto/hiring-without-whiteboards","https://github.com/poteto/hiring-without-whiteboards",32231,2824]
[959,null,null,"streamich/react-use","https://github.com/streamich/react-use",32230,2592]
[960,null,null,"google-research/bert","https://github.com/google-research/bert",32217,8873]
[961,null,null,"getsentry/sentry","https://github.com/getsentry/sentry",32133,3598]
[962,null,null,"youngyangyang04/leetcode-master","https://github.com/youngyangyang04/leetcode-master",32109,8124]
[963,null,null,"google/material-design-lite","https://github.com/google/material-design-lite",32097,5210]
[964,null,null,"eugenp/tutorials","https://github.com/eugenp/tutorials",32094,50756]
[965,null,null,"nlohmann/json","https://github.com/nlohmann/json",32031,5504]
[966,null,null,"AobingJava/JavaFamily","https://github.com/AobingJava/JavaFamily",32006,7315]
[967,null,null,"FFmpeg/FFmpeg","https://github.com/FFmpeg/FFmpeg",31995,10122]
[968,null,null,"jondot/awesome-react-native","https://github.com/jondot/awesome-react-native",31959,3912]
[969,null,null,"dkhamsing/open-source-ios-apps","https://github.com/dkhamsing/open-source-ios-apps",31932,4871]
[970,null,null,"dylanaraps/pure-bash-bible","https://github.com/dylanaraps/pure-bash-bible",31886,2901]
[971,null,null,"skylot/jadx","https://github.com/skylot/jadx",31775,4021]
[972,null,null,"nativefier/nativefier","https://github.com/nativefier/nativefier",31765,2023]
[973,null,null,"satwikkansal/wtfpython","https://github.com/satwikkansal/wtfpython",31765,2517]
[974,null,null,"google/styleguide","https://github.com/google/styleguide",31762,12515]
[975,null,null,"NervJS/taro","https://github.com/NervJS/taro",31660,4292]
[976,null,null,"tabler/tabler","https://github.com/tabler/tabler",31644,3313]
[977,null,null,"Dreamacro/clash","https://github.com/Dreamacro/clash",31536,4335]
[978,null,null,"romkatv/powerlevel10k","https://github.com/romkatv/powerlevel10k",31494,1641]
[979,null,null,"jgraph/drawio","https://github.com/jgraph/drawio",31434,6272]
[980,null,null,"Blankj/AndroidUtilCode","https://github.com/Blankj/AndroidUtilCode",31421,10428]
[981,null,null,"geekxh/hello-algorithm","https://github.com/geekxh/hello-algorithm",31412,6092]
[982,null,null,"formulahendry/955.WLB","https://github.com/formulahendry/955.WLB",31402,1671]
[983,null,null,"SheetJS/sheetjs","https://github.com/SheetJS/sheetjs",31394,7832]
[984,null,null,"XX-net/XX-Net","https://github.com/XX-net/XX-Net",31388,7760]
[985,null,null,"xitu/gold-miner","https://github.com/xitu/gold-miner",31358,4923]
[986,null,null,"iina/iina","https://github.com/iina/iina",31350,2334]
[987,null,null,"microsoft/monaco-editor","https://github.com/microsoft/monaco-editor",31338,3006]
[988,null,null,"carbon-app/carbon","https://github.com/carbon-app/carbon",31317,1763]
[989,null,null,"ultralytics/yolov5","https://github.com/ultralytics/yolov5",31314,11256]
[990,null,null,"jaredpalmer/formik","https://github.com/jaredpalmer/formik",31266,2602]
[991,null,null,"unknwon/the-way-to-go_ZH_CN","https://github.com/unknwon/the-way-to-go_ZH_CN",31125,8223]
[992,null,null,"blueimp/jQuery-File-Upload","https://github.com/blueimp/jQuery-File-Upload",31065,8190]
[993,null,null,"Trinea/android-open-project","https://github.com/Trinea/android-open-project",31058,12035]
[994,null,null,"GokuMohandas/Made-With-ML","https://github.com/GokuMohandas/Made-With-ML",31058,5160]
[995,null,null,"jeecgboot/jeecg-boot","https://github.com/jeecgboot/jeecg-boot",31049,12316]
[996,null,null,"react-hook-form/react-hook-form","https://github.com/react-hook-form/react-hook-form",30870,1527]
[997,null,null,"bilibili/ijkplayer","https://github.com/bilibili/ijkplayer",30792,7875]
[998,null,null,"google/leveldb","https://github.com/google/leveldb",30792,6848]
[999,null,null,"LeCoupa/awesome-cheatsheets","https://github.com/LeCoupa/awesome-cheatsheets",30763,5029]
[1000,null,null,"shadowsocks/ShadowsocksX-NG","https://github.com/shadowsocks/ShadowsocksX-NG",30658,7962]
[1001,null,null,"testerSunshine/12306","https://github.com/testerSunshine/12306",30654,9420]
[1002,null,null,"bregman-arie/devops-exercises","https://github.com/bregman-arie/devops-exercises",30733,6602]
[1003,null,null,"chubin/cheat.sh","https://github.com/chubin/cheat.sh",30623,1534]
[1004,null,null,"vlang/v","https://github.com/vlang/v",30592,1874]
[1005,null,null,"nocodb/nocodb","https://github.com/nocodb/nocodb",30327,1879]
[1006,null,null,"rust-lang/rustlings","https://github.com/rust-lang/rustlings",30285,4867]
[1007,null,null,"gto76/python-cheatsheet","https://github.com/gto76/python-cheatsheet",30241,5528]
[1008,null,null,"zxing/zxing","https://github.com/zxing/zxing",241211,"Java"]
[1009,null,null,"TanStack/query","https://github.com/TanStack/query",30082,1817]
[1010,null,null,"jesseduffield/lazygit","https://github.com/jesseduffield/lazygit",30060,1220]
[1011,null,null,"koalaman/shellcheck","https://github.com/koalaman/shellcheck",30053,1518]
[1012,null,null,"cli/cli","https://github.com/cli/cli",30020,4219]
[1013,null,null,"netty/netty","https://github.com/netty/netty",30013,14877]
[1014,null,null,"mastodon/mastodon","https://github.com/mastodon/mastodon",29995,4671]
[1015,null,null,"date-fns/date-fns","https://github.com/date-fns/date-fns",29921,1517]
[1016,null,null,"go-gorm/gorm","https://github.com/go-gorm/gorm",29862,3328]
[1017,null,null,"metabase/metabase","https://github.com/metabase/metabase",29844,4081]
[1018,null,null,"freeCodeCamp/devdocs","https://github.com/freeCodeCamp/devdocs",29750,2015]
[1019,null,null,"meilisearch/meilisearch","https://github.com/meilisearch/meilisearch",29743,1060]
[1020,null,null,"dotnet/aspnetcore","https://github.com/dotnet/aspnetcore",29707,8306]
[1021,null,null,"rustdesk/rustdesk","https://github.com/rustdesk/rustdesk",29607,2610]
[1022,null,null,"vuejs/vue-cli","https://github.com/vuejs/vue-cli",29474,6358]
[1023,null,null,"typeorm/typeorm","https://github.com/typeorm/typeorm",29432,5424]
[1024,null,null,"bayandin/awesome-awesomeness","https://github.com/bayandin/awesome-awesomeness",29391,3500]
[1025,null,null,"topjohnwu/Magisk","https://github.com/topjohnwu/Magisk",29386,7698]
[1026,null,null,"joshbuchea/HEAD","https://github.com/joshbuchea/HEAD",29362,1961]
[1027,null,null,"certbot/certbot","https://github.com/certbot/certbot",29313,3271]
[1028,null,null,"foundation/foundation-sites","https://github.com/foundation/foundation-sites",29307,5639]
[1029,null,null,"fxsjy/jieba","https://github.com/fxsjy/jieba",29296,6604]
[1030,null,null,"psf/black","https://github.com/psf/black",29287,1861]
[1031,null,null,"junegunn/vim-plug","https://github.com/junegunn/vim-plug",29282,1813]
[1032,null,null,"QSCTech/zju-icicles","https://github.com/QSCTech/zju-icicles",29278,8254]
[1033,null,null,"iamadamdev/bypass-paywalls-chrome","https://github.com/iamadamdev/bypass-paywalls-chrome",29263,2123]
[1034,null,null,"CSSEGISandData/COVID-19","https://github.com/CSSEGISandData/COVID-19",29031,18689]
[1035,null,null,"lukehoban/es6features","https://github.com/lukehoban/es6features",29015,2926]
[1036,null,null,"ariya/phantomjs","https://github.com/ariya/phantomjs",29015,5834]
[1037,null,null,"rust-unofficial/awesome-rust","https://github.com/rust-unofficial/awesome-rust",28951,1926]
[1038,null,null,"pyenv/pyenv","https://github.com/pyenv/pyenv",28933,2580]
[1039,null,null,"sorrycc/awesome-javascript","https://github.com/sorrycc/awesome-javascript",28919,4085]
[1040,null,null,"beego/beego","https://github.com/beego/beego",28912,5536]
[1041,null,null,"starship/starship","https://github.com/starship/starship",28915,1214]
[1042,null,null,"chakra-ui/chakra-ui","https://github.com/chakra-ui/chakra-ui",28896,2577]
[1043,null,null,"mitmproxy/mitmproxy","https://github.com/mitmproxy/mitmproxy",28843,3498]
[1044,null,null,"spf13/cobra","https://github.com/spf13/cobra",28844,2487]
[1045,null,null,"react-boilerplate/react-boilerplate","https://github.com/react-boilerplate/react-boilerplate",28757,6115]
[1046,null,null,"openai/gym","https://github.com/openai/gym",28716,8006]
[1047,null,null,"vim/vim","https://github.com/vim/vim",28565,4390]
[1048,null,null,"dbeaver/dbeaver","https://github.com/dbeaver/dbeaver",28560,2615]
[1049,null,null,"denysdovhan/wtfjs","https://github.com/denysdovhan/wtfjs",28520,2055]
[1050,null,null,"markedjs/marked","https://github.com/markedjs/marked",28387,3253]
[1051,null,null,"rapid7/metasploit-framework","https://github.com/rapid7/metasploit-framework",28356,12545]
[1052,null,null,"mathiasbynens/dotfiles","https://github.com/mathiasbynens/dotfiles",28309,8824]
[1053,null,null,"acmesh-official/acme.sh","https://github.com/acmesh-official/acme.sh",28274,3944]
[1054,null,null,"alibaba/p3c","https://github.com/alibaba/p3c",28267,7755]
[1055,null,null,"nektos/act","https://github.com/nektos/act",28220,744]
[1056,null,null,"atlassian/react-beautiful-dnd","https://github.com/atlassian/react-beautiful-dnd",28181,2225]
[1057,null,null,"Asabeneh/30-Days-Of-JavaScript","https://github.com/Asabeneh/30-Days-Of-JavaScript",28162,6407]
[1058,null,null,"mqyqingfeng/Blog","https://github.com/mqyqingfeng/Blog",28151,4542]
[1059,null,null,"hasura/graphql-engine","https://github.com/hasura/graphql-engine",28113,2438]
[1060,null,null,"naptha/tesseract.js","https://github.com/naptha/tesseract.js",28104,1885]
[1061,null,null,"ityouknow/spring-boot-examples","https://github.com/ityouknow/spring-boot-examples",28086,12077]
[1062,null,null,"AppFlowy-IO/AppFlowy","https://github.com/AppFlowy-IO/AppFlowy",28021,1544]
[1063,null,null,"shengxinjing/programmer-job-blacklist","https://github.com/shengxinjing/programmer-job-blacklist",27995,1867]
[1064,null,null,"laravel/framework","https://github.com/laravel/framework",27976,9578]
[1065,null,null,"tastejs/todomvc","https://github.com/tastejs/todomvc",27968,13942]
[1066,null,null,"carbon-language/carbon-lang","https://github.com/carbon-language/carbon-lang",27962,1161]
[1067,null,null,"jashkenas/backbone","https://github.com/jashkenas/backbone",27923,5574]
[1068,null,null,"codepath/android_guides","https://github.com/codepath/android_guides",27912,6468]
[1069,null,null,"google/googletest","https://github.com/google/googletest",27908,8862]
[1070,null,null,"square/leakcanary","https://github.com/square/leakcanary",27899,3903]
[1071,null,null,"firstcontributions/first-contributions","https://github.com/firstcontributions/first-contributions",27942,50833]
[1072,null,null,"aosabook/500lines","https://github.com/aosabook/500lines",27838,5920]
[1073,null,null,"amix/vimrc","https://github.com/amix/vimrc",27812,7031]
[1074,null,null,"vuejs/vuex","https://github.com/vuejs/vuex",27795,9539]
[1075,null,null,"ReactiveX/rxjs","https://github.com/ReactiveX/rxjs",27785,2869]
[1076,null,null,"typicode/husky","https://github.com/typicode/husky",27782,979]
[1077,null,null,"caolan/async","https://github.com/caolan/async",27691,2455]
[1078,null,null,"kenwheeler/slick","https://github.com/kenwheeler/slick",27680,5932]
[1079,null,null,"aria2/aria2","https://github.com/aria2/aria2",27624,3084]
[1080,null,null,"lib-pku/libpku","https://github.com/lib-pku/libpku",27588,8017]
[1081,null,null,"airbnb/lottie-web","https://github.com/airbnb/lottie-web",27523,2736]
[1082,null,null,"standard/standard","https://github.com/standard/standard",27503,2309]
[1083,null,null,"symfony/symfony","https://github.com/symfony/symfony",27485,8830]
[1084,null,null,"ziadoz/awesome-php","https://github.com/ziadoz/awesome-php",27386,4999]
[1085,null,null,"elsewhencode/project-guidelines","https://github.com/elsewhencode/project-guidelines",27354,3078]
[1086,null,null,"Homebrew/legacy-homebrew","https://github.com/Homebrew/legacy-homebrew",27226,11751]
[1087,null,null,"ruanyf/weekly","https://github.com/ruanyf/weekly",27168,2020]
[1088,null,null,"xkcoding/spring-boot-demo","https://github.com/xkcoding/spring-boot-demo",27162,9523]
[1089,null,null,"0xAX/linux-insides","https://github.com/0xAX/linux-insides",27144,3073]
[1090,null,null,"hankcs/HanLP","https://github.com/hankcs/HanLP",27036,7425]
[1091,null,null,"composer/composer","https://github.com/composer/composer",26967,6438]
[1092,null,null,"CompVis/stable-diffusion","https://github.com/CompVis/stable-diffusion",27002,4298]
[1093,null,null,"raywenderlich/swift-algorithm-club","https://github.com/raywenderlich/swift-algorithm-club",26947,4839]
[1094,null,null,"webtorrent/webtorrent","https://github.com/webtorrent/webtorrent",26927,2610]
[1095,null,null,"bannedbook/fanqiang","https://github.com/bannedbook/fanqiang",26866,5789]
[1096,null,null,"crossoverJie/JCSprout","https://github.com/crossoverJie/JCSprout",26835,7148]
[1097,null,null,"curl/curl","https://github.com/curl/curl",26826,5329]
[1098,null,null,"sequelize/sequelize","https://github.com/sequelize/sequelize",26814,4098]
[1099,null,null,"niklasvh/html2canvas","https://github.com/niklasvh/html2canvas",26789,4480]
[1100,null,null,"postcss/postcss","https://github.com/postcss/postcss",26741,1539]
[1101,null,null,"halfrost/LeetCode-Go","https://github.com/halfrost/LeetCode-Go",26736,4913]
[1102,null,null,"jgm/pandoc","https://github.com/jgm/pandoc",26622,2984]
[1103,null,null,"jashkenas/underscore","https://github.com/jashkenas/underscore",26606,5618]
[1104,null,null,"fzaninotto/Faker","https://github.com/fzaninotto/Faker",26599,3428]
[1105,null,null,"Tencent/weui","https://github.com/Tencent/weui",26558,6517]
[1106,null,null,"houshanren/hangzhou_house_knowledge","https://github.com/houshanren/hangzhou_house_knowledge",26489,5438]
[1107,null,null,"geekcomputers/Python","https://github.com/geekcomputers/Python",26413,11157]
[1108,null,null,"IanLunn/Hover","https://github.com/IanLunn/Hover",26408,5676]
[1109,null,null,"odoo/odoo","https://github.com/odoo/odoo",26365,17051]
[1110,null,null,"tmux/tmux","https://github.com/tmux/tmux",26353,1808]
[1111,null,null,"VincentGarreau/particles.js","https://github.com/VincentGarreau/particles.js",26334,4636]
[1112,null,null,"herrbischoff/awesome-macos-command-line","https://github.com/herrbischoff/awesome-macos-command-line",26314,1503]
[1113,null,null,"goabstract/Awesome-Design-Tools","https://github.com/goabstract/Awesome-Design-Tools",26307,1930]
[1114,null,null,"donnemartin/interactive-coding-challenges","https://github.com/donnemartin/interactive-coding-challenges",26249,4229]
[1115,null,null,"Advanced-Frontend/Daily-Interview-Question","https://github.com/Advanced-Frontend/Daily-Interview-Question",26230,3282]
[1116,null,null,"trailofbits/algo","https://github.com/trailofbits/algo",26202,2167]
[1117,null,null,"ZuzooVn/machine-learning-for-software-engineers","https://github.com/ZuzooVn/machine-learning-for-software-engineers",26192,6083]
[1118,null,null,"fengdu78/Coursera-ML-AndrewNg-Notes","https://github.com/fengdu78/Coursera-ML-AndrewNg-Notes",26153,9812]
[1119,null,null,"alibaba/druid","https://github.com/alibaba/druid",26084,8243]
[1120,null,null,"huihut/interview","https://github.com/huihut/interview",26062,7021]
[1121,null,null,"danielgindi/Charts","https://github.com/danielgindi/Charts",26042,5536]
[1122,null,null,"PKUanonym/REKCARC-TSC-UHT","https://github.com/PKUanonym/REKCARC-TSC-UHT",26040,6792]
[1123,null,null,"mingrammer/diagrams","https://github.com/mingrammer/diagrams",26022,1580]
[1124,null,null,"prisma/prisma","https://github.com/prisma/prisma",26013,927]
[1125,null,null,"nvie/gitflow","https://github.com/nvie/gitflow",25965,2676]
[1126,null,null,"transloadit/uppy","https://github.com/transloadit/uppy",25920,1744]
[1127,null,null,"appwrite/appwrite","https://github.com/appwrite/appwrite",25877,2052]
[1128,null,null,"ccxt/ccxt","https://github.com/ccxt/ccxt",25839,6339]
[1129,null,null,"n8n-io/n8n","https://github.com/n8n-io/n8n",25782,3003]
[1130,null,null,"cockroachdb/cockroach","https://github.com/cockroachdb/cockroach",25776,3280]
[1131,null,null,"mobxjs/mobx","https://github.com/mobxjs/mobx",25732,1706]
[1132,null,null,"microsoft/calculator","https://github.com/microsoft/calculator",25715,4633]
[1133,null,null,"pcottle/learnGitBranching","https://github.com/pcottle/learnGitBranching",25707,5371]
[1134,null,null,"Binaryify/NeteaseCloudMusicApi","https://github.com/Binaryify/NeteaseCloudMusicApi",25694,10729]
[1135,null,null,"JakeWharton/butterknife","https://github.com/JakeWharton/butterknife",25677,4703]
[1136,null,null,"angular/angular-cli","https://github.com/angular/angular-cli",25670,12120]
[1137,null,null,"ClickHouse/ClickHouse","https://github.com/ClickHouse/ClickHouse",25645,5156]
[1138,null,null,"SortableJS/Sortable","https://github.com/SortableJS/Sortable",25644,3538]
[1139,null,null,"ianstormtaylor/slate","https://github.com/ianstormtaylor/slate",25544,2894]
[1140,null,null,"request/request","https://github.com/request/request",25536,3171]
[1141,null,null,"cheeriojs/cheerio","https://github.com/cheeriojs/cheerio",25523,1569]
[1142,null,null,"geekcompany/ResumeSample","https://github.com/geekcompany/ResumeSample",25479,9038]
[1143,null,null,"qiurunze123/miaosha","https://github.com/qiurunze123/miaosha",25475,6569]
[1144,null,null,"github/fetch","https://github.com/github/fetch",25466,3150]
[1145,null,null,"select2/select2","https://github.com/select2/select2",25444,6340]
[1146,null,null,"realpython/python-guide","https://github.com/realpython/python-guide",25401,5808]
[1147,null,null,"codemirror/codemirror5","https://github.com/codemirror/codemirror5",25372,4951]
[1148,null,null,"facebookresearch/Detectron","https://github.com/facebookresearch/Detectron",25338,5459]
[1149,null,null,"Modernizr/Modernizr","https://github.com/Modernizr/Modernizr",25331,3045]
[1150,null,null,"GoogleChrome/lighthouse","https://github.com/GoogleChrome/lighthouse",25330,8890]
[1151,null,null,"google-research/google-research","https://github.com/google-research/google-research",25298,6206]
[1152,null,null,"alibaba/easyexcel","https://github.com/alibaba/easyexcel",25284,6692]
[1153,null,null,"byoungd/English-level-up-tips","https://github.com/byoungd/English-level-up-tips",25235,3133]
[1154,null,null,"parallax/jsPDF","https://github.com/parallax/jsPDF",25209,4367]
[1155,null,null,"JedWatson/react-select","https://github.com/JedWatson/react-select",25205,3967]
[1156,null,null,"proxyee-down-org/proxyee-down","https://github.com/proxyee-down-org/proxyee-down",25165,4565]
[1157,null,null,"PaddlePaddle/PaddleOCR","https://github.com/PaddlePaddle/PaddleOCR",25121,5161]
[1158,null,null,"fastify/fastify","https://github.com/fastify/fastify",25079,1849]
[1159,null,null,"YMFE/yapi","https://github.com/YMFE/yapi",25065,4437]
[1160,null,null,"GitbookIO/gitbook","https://github.com/GitbookIO/gitbook",25054,3739]
[1161,null,null,"CMU-Perceptual-Computing-Lab/openpose","https://github.com/CMU-Perceptual-Computing-Lab/openpose",25035,7319]
[1162,null,null,"alibaba/fastjson","https://github.com/alibaba/fastjson",25013,6515]
[1163,null,null,"jobbole/awesome-python-cn","https://github.com/jobbole/awesome-python-cn",25015,7547]
[1164,null,null,"alebcay/awesome-shell","https://github.com/alebcay/awesome-shell",25005,2170]
[1165,null,null,"lenve/vhr","https://github.com/lenve/vhr",24936,10042]
[1166,null,null,"ajaxorg/ace","https://github.com/ajaxorg/ace",24923,5213]
[1167,null,null,"ageron/handson-ml","https://github.com/ageron/handson-ml",24894,12990]
[1168,null,null,"Light-City/CPlusPlusThings","https://github.com/Light-City/CPlusPlusThings",24869,6213]
[1169,null,null,"CamDavidsonPilon/Probabilistic-Programming-and-Bayesian-Methods-for-Hackers","https://github.com/CamDavidsonPilon/Probabilistic-Programming-and-Bayesian-Methods-for-Hackers",149063,"Jupyter Notebook"]
[1170,null,null,"type-challenges/type-challenges","https://github.com/type-challenges/type-challenges",24861,2415]
[1171,null,null,"Automattic/mongoose","https://github.com/Automattic/mongoose",24843,3575]
[1172,null,null,"yunjey/pytorch-tutorial","https://github.com/yunjey/pytorch-tutorial",24824,7398]
[1173,null,null,"nagadomi/waifu2x","https://github.com/nagadomi/waifu2x",24810,2626]
[1174,null,null,"sqlmapproject/sqlmap","https://github.com/sqlmapproject/sqlmap",24795,4995]
[1175,null,null,"SeleniumHQ/selenium","https://github.com/SeleniumHQ/selenium",24792,7182]
[1176,null,null,"sharkdp/fd","https://github.com/sharkdp/fd",24777,644]
[1177,null,null,"rstacruz/nprogress","https://github.com/rstacruz/nprogress",24726,1843]
[1178,null,null,"nylas/nylas-mail","https://github.com/nylas/nylas-mail",24694,1467]
[1179,null,null,"remy/nodemon","https://github.com/remy/nodemon",24490,1661]
[1180,null,null,"files-community/Files","https://github.com/files-community/Files",24446,1531]
[1181,null,null,"hashicorp/vagrant","https://github.com/hashicorp/vagrant",24398,4301]
[1182,null,null,"sudheerj/reactjs-interview-questions","https://github.com/sudheerj/reactjs-interview-questions",24388,6025]
[1183,null,null,"ibraheemdev/modern-unix","https://github.com/ibraheemdev/modern-unix",24366,602]
[1184,null,null,"wuyouzhuguli/SpringAll","https://github.com/wuyouzhuguli/SpringAll",24352,7335]
[1185,null,null,"SDWebImage/SDWebImage","https://github.com/SDWebImage/SDWebImage",24328,5838]
[1186,null,null,"explosion/spaCy","https://github.com/explosion/spaCy",24311,3949]
[1187,null,null,"ycm-core/YouCompleteMe","https://github.com/ycm-core/YouCompleteMe",24289,2775]
[1188,null,null,"babysor/MockingBird","https://github.com/babysor/MockingBird",24266,3580]
[1189,null,null,"dwmkerr/hacker-laws","https://github.com/dwmkerr/hacker-laws",24259,1443]
[1190,null,null,"bvaughn/react-virtualized","https://github.com/bvaughn/react-virtualized",24249,3052]
[1191,null,null,"encode/django-rest-framework","https://github.com/encode/django-rest-framework",24210,6319]
[1192,null,null,"viraptor/reverse-interview","https://github.com/viraptor/reverse-interview",24209,1871]
[1193,null,null,"yewstack/yew","https://github.com/yewstack/yew",24204,1167]
[1194,null,null,"freefq/free","https://github.com/freefq/free",24205,4942]
[1195,null,null,"alibaba/canal","https://github.com/alibaba/canal",24180,6956]
[1196,null,null,"ggreer/the_silver_searcher","https://github.com/ggreer/the_silver_searcher",24172,1357]
[1197,null,null,"pmndrs/react-spring","https://github.com/pmndrs/react-spring",24139,1048]
[1198,null,null,"greenrobot/EventBus","https://github.com/greenrobot/EventBus",24128,4672]
[1199,null,null,"vercel/swr","https://github.com/vercel/swr",24109,930]
[1200,null,null,"swc-project/swc","https://github.com/swc-project/swc",24070,806]
[1201,null,null,"cmderdev/cmder","https://github.com/cmderdev/cmder",24065,1973]
[1202,null,null,"johnpapa/angular-styleguide","https://github.com/johnpapa/angular-styleguide",24060,4280]
[1203,null,null,"sickcodes/Docker-OSX","https://github.com/sickcodes/Docker-OSX",24052,1186]
[1204,null,null,"terryum/awesome-deep-learning-papers","https://github.com/terryum/awesome-deep-learning-papers",24021,4482]
[1205,null,null,"iview/iview","https://github.com/iview/iview",23997,4215]
[1206,null,null,"httpie/httpie","https://github.com/httpie/httpie",23994,3704]
[1207,null,null,"mattermost/mattermost-server","https://github.com/mattermost/mattermost-server",23955,5701]
[1208,null,null,"powerline/fonts","https://github.com/powerline/fonts",23953,3219]
[1209,null,null,"facebookresearch/fastText","https://github.com/facebookresearch/fastText",23946,4509]
[1210,null,null,"akveo/ngx-admin","https://github.com/akveo/ngx-admin",23948,7645]
[1211,null,null,"go-kit/kit","https://github.com/go-kit/kit",23939,2361]
[1212,null,null,"jesseduffield/lazydocker","https://github.com/jesseduffield/lazydocker",23918,876]
[1213,null,null,"hollischuang/toBeTopJavaer","https://github.com/hollischuang/toBeTopJavaer",23910,5346]
[1214,null,null,"balena-io/etcher","https://github.com/balena-io/etcher",23909,1736]
[1215,null,null,"labstack/echo","https://github.com/labstack/echo",23893,2046]
[1216,null,null,"cfenollosa/os-tutorial","https://github.com/cfenollosa/os-tutorial",23874,2958]
[1217,null,null,"donnemartin/data-science-ipython-notebooks","https://github.com/donnemartin/data-science-ipython-notebooks",23850,7304]
[1218,null,null,"scwang90/SmartRefreshLayout","https://github.com/scwang90/SmartRefreshLayout",23839,4868]
[1219,null,null,"alibaba/spring-cloud-alibaba","https://github.com/alibaba/spring-cloud-alibaba",23770,7325]
[1220,null,null,"Kong/insomnia","https://github.com/Kong/insomnia",23771,1326]
[1221,null,null,"halo-dev/halo","https://github.com/halo-dev/halo",23749,7923]
[1222,null,null,"immerjs/immer","https://github.com/immerjs/immer",23731,771]
[1223,null,null,"dokku/dokku","https://github.com/dokku/dokku",23703,1760]
[1224,null,null,"facebook/rocksdb","https://github.com/facebook/rocksdb",23664,5425]
[1225,null,null,"jamiebuilds/the-super-tiny-compiler","https://github.com/jamiebuilds/the-super-tiny-compiler",23644,2605]
[1226,null,null,"zsh-users/zsh-autosuggestions","https://github.com/zsh-users/zsh-autosuggestions",23631,1546]
[1227,null,null,"tj/commander.js","https://github.com/tj/commander.js",23502,1659]
[1228,null,null,"mbeaudru/modern-js-cheatsheet","https://github.com/mbeaudru/modern-js-cheatsheet",23487,2687]
[1229,null,null,"lovell/sharp","https://github.com/lovell/sharp",23479,1172]
[1230,null,null,"sindresorhus/awesome-electron","https://github.com/sindresorhus/awesome-electron",23436,1957]
[1231,null,null,"coreybutler/nvm-windows","https://github.com/coreybutler/nvm-windows",23402,2431]
[1232,null,null,"pypa/pipenv","https://github.com/pypa/pipenv",23327,1771]
[1233,null,null,"pjreddie/darknet","https://github.com/pjreddie/darknet",23320,20550]
[1234,null,null,"VundleVim/Vundle.vim","https://github.com/VundleVim/Vundle.vim",23254,2561]
[1235,null,null,"dmlc/xgboost","https://github.com/dmlc/xgboost",23241,8464]
[1236,null,null,"facebook/folly","https://github.com/facebook/folly",23231,4838]
[1237,null,null,"hammerjs/hammer.js","https://github.com/hammerjs/hammer.js",23230,2667]
[1238,null,null,"coolsnowwolf/lede","https://github.com/coolsnowwolf/lede",23202,18048]
[1239,null,null,"stedolan/jq","https://github.com/stedolan/jq",23180,1356]
[1240,null,null,"alibaba/flutter-go","https://github.com/alibaba/flutter-go",23176,3746]
[1241,null,null,"lukasz-madon/awesome-remote-job","https://github.com/lukasz-madon/awesome-remote-job",23163,2310]
[1242,null,null,"airbnb/lottie-ios","https://github.com/airbnb/lottie-ios",23146,3402]
[1243,null,null,"CymChad/BaseRecyclerViewAdapterHelper","https://github.com/CymChad/BaseRecyclerViewAdapterHelper",23141,4957]
[1244,null,null,"google/python-fire","https://github.com/google/python-fire",23127,1339]
[1245,null,null,"CodeHubApp/CodeHub","https://github.com/CodeHubApp/CodeHub",23101,653]
[1246,null,null,"ageron/handson-ml2","https://github.com/ageron/handson-ml2",23076,11143]
[1247,null,null,"AllThingsSmitty/css-protips","https://github.com/AllThingsSmitty/css-protips",23050,1887]
[1248,null,null,"floating-ui/floating-ui","https://github.com/floating-ui/floating-ui",23035,1405]
[1249,null,null,"tqdm/tqdm","https://github.com/tqdm/tqdm",23032,1170]
[1250,null,null,"ehang-io/nps","https://github.com/ehang-io/nps",23016,4231]
[1251,null,null,"veggiemonk/awesome-docker","https://github.com/veggiemonk/awesome-docker",23004,2637]
[1252,null,null,"kataras/iris","https://github.com/kataras/iris",22997,2424]
[1253,null,null,"angular/components","https://github.com/angular/components",22989,6297]
[1254,null,null,"TheAlgorithms/JavaScript","https://github.com/TheAlgorithms/JavaScript",22982,3952]
[1255,null,null,"vuejs/devtools","https://github.com/vuejs/devtools",22974,3941]
[1256,null,null,"Netflix/Hystrix","https://github.com/Netflix/Hystrix",22966,4649]
[1257,null,null,"TencentARC/GFPGAN","https://github.com/TencentARC/GFPGAN",22909,3383]
[1258,null,null,"doczjs/docz","https://github.com/doczjs/docz",22904,1484]
[1259,null,null,"digitalocean/nginxconfig.io","https://github.com/digitalocean/nginxconfig.io",22867,1613]
[1260,null,null,"qishibo/AnotherRedisDesktopManager","https://github.com/qishibo/AnotherRedisDesktopManager",22866,2154]
[1261,null,null,"StreisandEffect/streisand","https://github.com/StreisandEffect/streisand",22862,2039]
[1262,null,null,"signalapp/Signal-Android","https://github.com/signalapp/Signal-Android",22855,5537]
[1263,null,null,"react-native-elements/react-native-elements","https://github.com/react-native-elements/react-native-elements",22847,4447]
[1264,null,null,"fabricjs/fabric.js","https://github.com/fabricjs/fabric.js",22838,3131]
[1265,null,null,"fastai/fastai","https://github.com/fastai/fastai",22832,7302]
[1266,null,null,"beurtschipper/Depix","https://github.com/beurtschipper/Depix",22783,2769]
[1267,null,null,"nsqio/nsq","https://github.com/nsqio/nsq",22782,2800]
[1268,null,null,"swagger-api/swagger-ui","https://github.com/swagger-api/swagger-ui",22781,8470]
[1269,null,null,"emscripten-core/emscripten","https://github.com/emscripten-core/emscripten",22769,2921]
[1270,null,null,"heartcombo/devise","https://github.com/heartcombo/devise",22759,5464]
[1271,null,null,"ReactiveX/RxSwift","https://github.com/ReactiveX/RxSwift",22751,4016]
[1272,null,null,"slidevjs/slidev","https://github.com/slidevjs/slidev",22722,872]
[1273,null,null,"sampotts/plyr","https://github.com/sampotts/plyr",22715,2710]
[1274,null,null,"photoprism/photoprism","https://github.com/photoprism/photoprism",22697,1270]
[1275,null,null,"mdbootstrap/mdb-ui-kit","https://github.com/mdbootstrap/mdb-ui-kit",22677,3488]
[1276,null,null,"gofiber/fiber","https://github.com/gofiber/fiber",22629,1151]
[1277,null,null,"pure-css/pure","https://github.com/pure-css/pure",22571,2501]
[1278,null,null,"mongodb/mongo","https://github.com/mongodb/mongo",22557,5337]
[1279,null,null,"syl20bnr/spacemacs","https://github.com/syl20bnr/spacemacs",22538,4939]
[1280,null,null,"zhongyang219/TrafficMonitor","https://github.com/zhongyang219/TrafficMonitor",22546,2437]
[1281,null,null,"solidjs/solid","https://github.com/solidjs/solid",22529,584]
[1282,null,null,"matteocrippa/awesome-swift","https://github.com/matteocrippa/awesome-swift",22498,3011]
[1283,null,null,"ryanhanwu/How-To-Ask-Questions-The-Smart-Way","https://github.com/ryanhanwu/How-To-Ask-Questions-The-Smart-Way",22502,5010]
[1284,null,null,"littlecodersh/ItChat","https://github.com/littlecodersh/ItChat",22488,5260]
[1285,null,null,"facebookresearch/detectron2","https://github.com/facebookresearch/detectron2",22435,6081]
[1286,null,null,"ramda/ramda","https://github.com/ramda/ramda",22410,1439]
[1287,null,null,"reduxjs/react-redux","https://github.com/reduxjs/react-redux",22398,3291]
[1288,null,null,"kahun/awesome-sysadmin","https://github.com/kahun/awesome-sysadmin",22387,3879]
[1289,null,null,"balderdashy/sails","https://github.com/balderdashy/sails",22306,1971]
[1290,null,null,"redux-saga/redux-saga","https://github.com/redux-saga/redux-saga",22299,2030]
[1291,null,null,"emberjs/ember.js","https://github.com/emberjs/ember.js",22296,4279]
[1292,null,null,"Wox-launcher/Wox","https://github.com/Wox-launcher/Wox",22282,2352]
[1293,null,null,"rollup/rollup","https://github.com/rollup/rollup",22258,1206]
[1294,null,null,"pmndrs/zustand","https://github.com/pmndrs/zustand",22266,659]
[1295,null,null,"android/architecture-components-samples","https://github.com/android/architecture-components-samples",22250,8209]
[1296,null,null,"dimsemenov/PhotoSwipe","https://github.com/dimsemenov/PhotoSwipe",22251,3296]
[1297,null,null,"matterport/Mask_RCNN","https://github.com/matterport/Mask_RCNN",22237,11049]
[1298,null,null,"kilimchoi/engineering-blogs","https://github.com/kilimchoi/engineering-blogs",22229,746]
[1299,null,null,"feathericons/feather","https://github.com/feathericons/feather",22221,1128]
[1300,null,null,"ray-project/ray","https://github.com/ray-project/ray",22215,3910]
[1301,null,null,"mbadolato/iTerm2-Color-Schemes","https://github.com/mbadolato/iTerm2-Color-Schemes",22211,6308]
[1302,null,null,"ovity/octotree","https://github.com/ovity/octotree",22195,1859]
[1303,null,null,"fouber/blog","https://github.com/fouber/blog",22191,2415]
[1304,null,null,"openfaas/faas","https://github.com/openfaas/faas",22179,1798]
[1305,null,null,"inconshreveable/ngrok","https://github.com/inconshreveable/ngrok",22163,4087]
[1306,null,null,"haizlin/fe-interview","https://github.com/haizlin/fe-interview",22154,3043]
[1307,null,null,"vapor/vapor","https://github.com/vapor/vapor",22132,1374]
[1308,null,null,"t4t5/sweetalert","https://github.com/t4t5/sweetalert",22125,2891]
[1309,null,null,"MostlyAdequate/mostly-adequate-guide","https://github.com/MostlyAdequate/mostly-adequate-guide",22108,1814]
[1310,null,null,"guzzle/guzzle","https://github.com/guzzle/guzzle",22107,2342]
[1311,null,null,"facebook/draft-js","https://github.com/facebook/draft-js",22100,2649]
[1312,null,null,"github/hub","https://github.com/github/hub",22082,2341]
[1313,null,null,"quasarframework/quasar","https://github.com/quasarframework/quasar",22076,2971]
[1314,null,null,"python-poetry/poetry","https://github.com/python-poetry/poetry",22064,1772]
[1315,null,null,"harvesthq/chosen","https://github.com/harvesthq/chosen",22045,4193]
[1316,null,null,"vercel/pkg","https://github.com/vercel/pkg",22038,940]
[1317,null,null,"coder2gwy/coder2gwy","https://github.com/coder2gwy/coder2gwy",22010,3298]
[1318,null,null,"yuzu-emu/yuzu","https://github.com/yuzu-emu/yuzu",21933,1834]
[1319,null,null,"Tencent/wepy","https://github.com/Tencent/wepy",21906,3062]
[1320,null,null,"datasciencemasters/go","https://github.com/datasciencemasters/go",21901,6135]
[1321,null,null,"Polymer/polymer","https://github.com/Polymer/polymer",21852,2028]
[1322,null,null,"facebook/flow","https://github.com/facebook/flow",21847,1850]
[1323,null,null,"getredash/redash","https://github.com/getredash/redash",21832,3807]
[1324,null,null,"louislam/uptime-kuma","https://github.com/louislam/uptime-kuma",21839,1794]
[1325,null,null,"markerikson/react-redux-links","https://github.com/markerikson/react-redux-links",21815,2456]
[1326,null,null,"ShareX/ShareX","https://github.com/ShareX/ShareX",21818,2685]
[1327,null,null,"ascoders/weekly","https://github.com/ascoders/weekly",21810,2615]
[1328,null,null,"dnSpy/dnSpy","https://github.com/dnSpy/dnSpy",21795,4268]
[1329,null,null,"alpinejs/alpine","https://github.com/alpinejs/alpine",21793,974]
[1330,null,null,"Pierian-Data/Complete-Python-3-Bootcamp","https://github.com/Pierian-Data/Complete-Python-3-Bootcamp",21789,73965]
[1331,null,null,"SerenityOS/serenity","https://github.com/SerenityOS/serenity",21775,2331]
[1332,null,null,"OWASP/CheatSheetSeries","https://github.com/OWASP/CheatSheetSeries",21750,3130]
[1333,null,null,"qianguyihao/Web","https://github.com/qianguyihao/Web",21738,5658]
[1334,null,null,"docsifyjs/docsify","https://github.com/docsifyjs/docsify",21731,5247]
[1335,null,null,"react-navigation/react-navigation","https://github.com/react-navigation/react-navigation",21682,4748]
[1336,null,null,"mochajs/mocha","https://github.com/mochajs/mocha",21678,2979]
[1337,null,null,"dotnet-architecture/eShopOnContainers","https://github.com/dotnet-architecture/eShopOnContainers",21661,9310]
[1338,null,null,"keon/algorithms","https://github.com/keon/algorithms",21655,4400]
[1339,null,null,"ApolloAuto/apollo","https://github.com/ApolloAuto/apollo",21653,8795]
[1340,null,null,"NativeScript/NativeScript","https://github.com/NativeScript/NativeScript",21644,1581]
[1341,null,null,"google/iosched","https://github.com/google/iosched",21644,6279]
[1342,null,null,"komeiji-satori/Dress","https://github.com/komeiji-satori/Dress",21621,4268]
[1343,null,null,"servo/servo","https://github.com/servo/servo",21614,2653]
[1344,null,null,"numpy/numpy","https://github.com/numpy/numpy",21600,7387]
[1345,null,null,"open-mmlab/mmdetection","https://github.com/open-mmlab/mmdetection",21579,7849]
[1346,null,null,"StevenBlack/hosts","https://github.com/StevenBlack/hosts",21571,1877]
[1347,null,null,"eriklindernoren/ML-From-Scratch","https://github.com/eriklindernoren/ML-From-Scratch",21557,4229]
[1348,null,null,"SwiftyJSON/SwiftyJSON","https://github.com/SwiftyJSON/SwiftyJSON",21555,3357]
[1349,null,null,"michalsnik/aos","https://github.com/michalsnik/aos",21551,2317]
[1350,null,null,"usablica/intro.js","https://github.com/usablica/intro.js",21544,2616]
[1351,null,null,"AMAI-GmbH/AI-Expert-Roadmap","https://github.com/AMAI-GmbH/AI-Expert-Roadmap",21541,1966]
[1352,null,null,"bilibili/flv.js","https://github.com/bilibili/flv.js",21529,3306]
[1353,null,null,"nicolargo/glances","https://github.com/nicolargo/glances",21516,1327]
[1354,null,null,"kriasoft/react-starter-kit","https://github.com/kriasoft/react-starter-kit",21514,4132]
[1355,null,null,"eugeneyan/applied-ml","https://github.com/eugeneyan/applied-ml",21496,3022]
[1356,null,null,"DIYgod/RSSHub","https://github.com/DIYgod/RSSHub",21458,4486]
[1357,null,null,"bradtraversy/50projects50days","https://github.com/bradtraversy/50projects50days",21441,5794]
[1358,null,null,"google/gson","https://github.com/google/gson",21439,4115]
[1359,null,null,"appsmithorg/appsmith","https://github.com/appsmithorg/appsmith",21434,1833]
[1360,null,null,"statelyai/xstate","https://github.com/statelyai/xstate",21402,1014]
[1361,null,null,"sirupsen/logrus","https://github.com/sirupsen/logrus",21392,2179]
[1362,null,null,"eslint/eslint","https://github.com/eslint/eslint",21388,3878]
[1363,null,null,"WerWolv/ImHex","https://github.com/WerWolv/ImHex",21349,967]
[1364,null,null,"github/copilot-docs","https://github.com/github/copilot-docs",21334,2384]
[1365,null,null,"wangzheng0822/algo","https://github.com/wangzheng0822/algo",21332,6832]
[1366,null,null,"bevacqua/dragula","https://github.com/bevacqua/dragula",21323,1983]
[1367,null,null,"TheAlgorithms/C-Plus-Plus","https://github.com/TheAlgorithms/C-Plus-Plus",21368,5639]
[1368,null,null,"ipfs/ipfs","https://github.com/ipfs/ipfs",21281,1441]
[1369,null,null,"taichi-dev/taichi","https://github.com/taichi-dev/taichi",21278,2090]
[1370,null,null,"conwnet/github1s","https://github.com/conwnet/github1s",21266,738]
[1371,null,null,"wesbos/JavaScript30","https://github.com/wesbos/JavaScript30",21245,27575]
[1372,null,null,"neoclide/coc.nvim","https://github.com/neoclide/coc.nvim",21231,872]
[1373,null,null,"TeamNewPipe/NewPipe","https://github.com/TeamNewPipe/NewPipe",21204,2445]
[1374,null,null,"rwightman/pytorch-image-models","https://github.com/rwightman/pytorch-image-models",21189,3499]
[1375,null,null,"yeasy/docker_practice","https://github.com/yeasy/docker_practice",21173,5382]
[1376,null,null,"chenglou/react-motion","https://github.com/chenglou/react-motion",21157,1185]
[1377,null,null,"react-bootstrap/react-bootstrap","https://github.com/react-bootstrap/react-bootstrap",21142,3414]
[1378,null,null,"viatsko/awesome-vscode","https://github.com/viatsko/awesome-vscode",21139,1136]
[1379,null,null,"wsargent/docker-cheat-sheet","https://github.com/wsargent/docker-cheat-sheet",21129,4495]
[1380,null,null,"microsoft/cascadia-code","https://github.com/microsoft/cascadia-code",21119,703]
[1381,null,null,"GorvGoyl/Clone-Wars","https://github.com/GorvGoyl/Clone-Wars",21122,1817]
[1382,null,null,"localForage/localForage","https://github.com/localForage/localForage",21085,1210]
[1383,null,null,"jlmakes/scrollreveal","https://github.com/jlmakes/scrollreveal",21063,2184]
[1384,null,null,"HeroTransitions/Hero","https://github.com/HeroTransitions/Hero",21055,1702]
[1385,null,null,"lyswhut/lx-music-desktop","https://github.com/lyswhut/lx-music-desktop",21068,3735]
[1386,null,null,"rwaldron/idiomatic.js","https://github.com/rwaldron/idiomatic.js",21034,3029]
[1387,null,null,"discordjs/discord.js","https://github.com/discordjs/discord.js",21009,3583]
[1388,null,null,"nushell/nushell","https://github.com/nushell/nushell",20991,1022]
[1389,null,null,"pugjs/pug","https://github.com/pugjs/pug",20953,1979]
[1390,null,null,"zhiwehu/Python-programming-exercises","https://github.com/zhiwehu/Python-programming-exercises",20936,6350]
[1391,null,null,"paularmstrong/normalizr","https://github.com/paularmstrong/normalizr",20929,889]
[1392,null,null,"sebastianruder/NLP-progress","https://github.com/sebastianruder/NLP-progress",20919,3506]
[1393,null,null,"The-Run-Philosophy-Organization/run","https://github.com/The-Run-Philosophy-Organization/run",20870,1648]
[1394,null,null,"uglide/RedisDesktopManager","https://github.com/uglide/RedisDesktopManager",20863,3191]
[1395,null,null,"googlehosts/hosts","https://github.com/googlehosts/hosts",20860,10731]
[1396,null,null,"vuejs/vuepress","https://github.com/vuejs/vuepress",20849,4624]
[1397,null,null,"schollz/croc","https://github.com/schollz/croc",20837,904]
[1398,null,null,"elixir-lang/elixir","https://github.com/elixir-lang/elixir",20834,2941]
[1399,null,null,"streamlit/streamlit","https://github.com/streamlit/streamlit",20830,1872]
[1400,null,null,"DesignPatternsPHP/DesignPatternsPHP","https://github.com/DesignPatternsPHP/DesignPatternsPHP",20798,4452]
[1401,null,null,"DrKLO/Telegram","https://github.com/DrKLO/Telegram",20800,7042]
[1402,null,null,"withastro/astro","https://github.com/withastro/astro",20795,961]
[1403,null,null,"homebridge/homebridge","https://github.com/homebridge/homebridge",20781,1930]
[1404,null,null,"spf13/viper","https://github.com/spf13/viper",20774,1756]
[1405,null,null,"Z4nzu/hackingtool","https://github.com/Z4nzu/hackingtool",20769,2615]
[1406,null,null,"tornadoweb/tornado","https://github.com/tornadoweb/tornado",20769,5477]
[1407,null,null,"goldfire/howler.js","https://github.com/goldfire/howler.js",20742,2110]
[1408,null,null,"marmelab/react-admin","https://github.com/marmelab/react-admin",20721,4556]
[1409,null,null,"jaredhanson/passport","https://github.com/jaredhanson/passport",20696,1190]
[1410,null,null,"charlax/professional-programming","https://github.com/charlax/professional-programming",20633,1836]
[1411,null,null,"onevcat/Kingfisher","https://github.com/onevcat/Kingfisher",20623,2326]
[1412,null,null,"ColorlibHQ/gentelella","https://github.com/ColorlibHQ/gentelella",20621,6836]
[1413,null,null,"SwiftGGTeam/the-swift-programming-language-in-chinese","https://github.com/SwiftGGTeam/the-swift-programming-language-in-chinese",20611,5161]
[1414,null,null,"postcss/autoprefixer","https://github.com/postcss/autoprefixer",20589,1274]
[1415,null,null,"julycoding/The-Art-Of-Programming-By-July","https://github.com/julycoding/The-Art-Of-Programming-By-July",20567,7165]
[1416,null,null,"deezer/spleeter","https://github.com/deezer/spleeter",20559,2279]
[1417,null,null,"libgdx/libgdx","https://github.com/libgdx/libgdx",20551,6340]
[1418,null,null,"highlightjs/highlight.js","https://github.com/highlightjs/highlight.js",20495,3387]
[1419,null,null,"datawhalechina/pumpkin-book","https://github.com/datawhalechina/pumpkin-book",20484,4527]
[1420,null,null,"git-tips/tips","https://github.com/git-tips/tips",20473,1732]
[1421,null,null,"bitcoinbook/bitcoinbook","https://github.com/bitcoinbook/bitcoinbook",20458,5404]
[1422,null,null,"google/jax","https://github.com/google/jax",20435,1887]
[1423,null,null,"Meituan-Dianping/mpvue","https://github.com/Meituan-Dianping/mpvue",20399,2120]
[1424,null,null,"zyedidia/micro","https://github.com/zyedidia/micro",20398,1053]
[1425,null,null,"FallibleInc/security-guide-for-developers","https://github.com/FallibleInc/security-guide-for-developers",20385,1589]
[1426,null,null,"notable/notable","https://github.com/notable/notable",20349,1031]
[1427,null,null,"WeNeedHome/SummaryOfLoanSuspension","https://github.com/WeNeedHome/SummaryOfLoanSuspension",20335,2268]
[1428,null,null,"codex-team/editor.js","https://github.com/codex-team/editor.js",20325,1599]
[1429,null,null,"mozilla/DeepSpeech","https://github.com/mozilla/DeepSpeech",20312,3575]
[1430,null,null,"ruanyf/es6tutorial","https://github.com/ruanyf/es6tutorial",20296,8880]
[1431,null,null,"Awesome-Windows/Awesome","https://github.com/Awesome-Windows/Awesome",20289,2122]
[1432,null,null,"pbatard/rufus","https://github.com/pbatard/rufus",20273,2081]
[1433,null,null,"necolas/react-native-web","https://github.com/necolas/react-native-web",20266,1736]
[1434,null,null,"v8/v8","https://github.com/v8/v8",20267,3732]
[1435,null,null,"youzan/vant","https://github.com/youzan/vant",20254,9369]
[1436,null,null,"camsong/You-Dont-Need-jQuery","https://github.com/camsong/You-Dont-Need-jQuery",20254,1830]
[1437,null,null,"electron-react-boilerplate/electron-react-boilerplate","https://github.com/electron-react-boilerplate/electron-react-boilerplate",20246,3426]
[1438,null,null,"nextcloud/server","https://github.com/nextcloud/server",20247,3232]
[1439,null,null,"tsenart/vegeta","https://github.com/tsenart/vegeta",20239,1246]
[1440,null,null,"validatorjs/validator.js","https://github.com/validatorjs/validator.js",20236,2026]
[1441,null,null,"Lightning-AI/lightning","https://github.com/Lightning-AI/lightning",20198,2604]
[1442,null,null,"JohnCoates/Aerial","https://github.com/JohnCoates/Aerial",20190,1036]
[1443,null,null,"celery/celery","https://github.com/celery/celery",20189,4365]
[1444,null,null,"trekhleb/homemade-machine-learning","https://github.com/trekhleb/homemade-machine-learning",20184,3703]
[1445,null,null,"gfwlist/gfwlist","https://github.com/gfwlist/gfwlist",20180,3886]
[1446,null,null,"libuv/libuv","https://github.com/libuv/libuv",20179,3236]
[1447,null,null,"futurice/android-best-practices","https://github.com/futurice/android-best-practices",20167,3435]
[1448,null,null,"tmrts/go-patterns","https://github.com/tmrts/go-patterns",20170,1879]
[1449,null,null,"petkaantonov/bluebird","https://github.com/petkaantonov/bluebird",20156,2419]
[1450,null,null,"mpv-player/mpv","https://github.com/mpv-player/mpv",20157,2423]
[1451,null,null,"judasn/IntelliJ-IDEA-Tutorial","https://github.com/judasn/IntelliJ-IDEA-Tutorial",20146,7373]
[1452,null,null,"withfig/autocomplete","https://github.com/withfig/autocomplete",20141,4689]
[1453,null,null,"leereilly/games","https://github.com/leereilly/games",20115,2650]
[1454,null,null,"lutzroeder/netron","https://github.com/lutzroeder/netron",20084,2297]
[1455,null,null,"microsoft/api-guidelines","https://github.com/microsoft/api-guidelines",20072,2461]
[1456,null,null,"OpenZeppelin/openzeppelin-contracts","https://github.com/OpenZeppelin/openzeppelin-contracts",20023,10305]
[1457,null,null,"nothings/stb","https://github.com/nothings/stb",20015,6985]
[1458,null,null,"BradLarson/GPUImage","https://github.com/BradLarson/GPUImage",20002,4640]
[1459,null,null,"mxgmn/WaveFunctionCollapse","https://github.com/mxgmn/WaveFunctionCollapse",20001,1063]
[1460,null,null,"avajs/ava","https://github.com/avajs/ava",20002,1455]
[1461,null,null,"SamyPesse/How-to-Make-a-Computer-Operating-System","https://github.com/SamyPesse/How-to-Make-a-Computer-Operating-System",19993,3383]
[1462,null,null,"ReactiveCocoa/ReactiveCocoa","https://github.com/ReactiveCocoa/ReactiveCocoa",19979,3569]
[1463,null,null,"enzymejs/enzyme","https://github.com/enzymejs/enzyme",19946,2102]
[1464,null,null,"js-cookie/js-cookie","https://github.com/js-cookie/js-cookie",19933,2063]
[1465,null,null,"telegramdesktop/tdesktop","https://github.com/telegramdesktop/tdesktop",19929,4207]
[1466,null,null,"Seldaek/monolog","https://github.com/Seldaek/monolog",19922,1837]
[1467,null,null,"yichengchen/clashX","https://github.com/yichengchen/clashX",19921,2604]
[1468,null,null,"hwdsl2/setup-ipsec-vpn","https://github.com/hwdsl2/setup-ipsec-vpn",19904,5406]
[1469,null,null,"MustangYM/WeChatExtension-ForMac","https://github.com/MustangYM/WeChatExtension-ForMac",19899,3396]
[1470,null,null,"redisson/redisson","https://github.com/redisson/redisson",19894,4814]
[1471,null,null,"Igglybuff/awesome-piracy","https://github.com/Igglybuff/awesome-piracy",19895,1816]
[1472,null,null,"jaywcjlove/linux-command","https://github.com/jaywcjlove/linux-command",19885,4446]
[1473,null,null,"google/ExoPlayer","https://github.com/google/ExoPlayer",19873,5754]
[1474,null,null,"remoteintech/remote-jobs","https://github.com/remoteintech/remote-jobs",19883,2188]
[1475,null,null,"locustio/locust","https://github.com/locustio/locust",19860,2564]
[1476,null,null,"python-telegram-bot/python-telegram-bot","https://github.com/python-telegram-bot/python-telegram-bot",19819,4355]
[1477,null,null,"zhaoolee/ChromeAppHeroes","https://github.com/zhaoolee/ChromeAppHeroes",19815,2212]
[1478,null,null,"pmndrs/react-three-fiber","https://github.com/pmndrs/react-three-fiber",19801,1110]
[1479,null,null,"facebookarchive/pop","https://github.com/facebookarchive/pop",19778,2922]
[1480,null,null,"parse-community/parse-server","https://github.com/parse-community/parse-server",19778,4672]
[1481,null,null,"sdras/awesome-actions","https://github.com/sdras/awesome-actions",19759,1283]
[1482,null,null,"FredKSchott/snowpack","https://github.com/FredKSchott/snowpack",19756,990]
[1483,null,null,"pnpm/pnpm","https://github.com/pnpm/pnpm",19723,584]
[1484,null,null,"forem/forem","https://github.com/forem/forem",19701,3505]
[1485,null,null,"ReactiveX/RxAndroid","https://github.com/ReactiveX/RxAndroid",19698,3008]
[1486,null,null,"felixrieseberg/windows95","https://github.com/felixrieseberg/windows95",19684,1174]
[1487,null,null,"fish-shell/fish-shell","https://github.com/fish-shell/fish-shell",19680,1609]
[1488,null,null,"robertdavidgraham/masscan","https://github.com/robertdavidgraham/masscan",19656,2794]
[1489,null,null,"tipsy/profile-summary-for-github","https://github.com/tipsy/profile-summary-for-github",19630,494]
[1490,null,null,"benweet/stackedit","https://github.com/benweet/stackedit",19629,2635]
[1491,null,null,"xi-editor/xi-editor","https://github.com/xi-editor/xi-editor",19614,710]
[1492,null,null,"Reactive-Extensions/RxJS","https://github.com/Reactive-Extensions/RxJS",19606,2211]
[1493,null,null,"academic/awesome-datascience","https://github.com/academic/awesome-datascience",19592,5187]
[1494,null,null,"drduh/macOS-Security-and-Privacy-Guide","https://github.com/drduh/macOS-Security-and-Privacy-Guide",19573,1397]
[1495,null,null,"dracula/dracula-theme","https://github.com/dracula/dracula-theme",19575,2021]
[1496,null,null,"winstonjs/winston","https://github.com/winstonjs/winston",19554,1720]
[1497,null,null,"chubin/wttr.in","https://github.com/chubin/wttr.in",19547,925]
[1498,null,null,"ruby/ruby","https://github.com/ruby/ruby",19531,5159]
[1499,null,null,"lensapp/lens","https://github.com/lensapp/lens",19534,1082]
[1500,null,null,"bazelbuild/bazel","https://github.com/bazelbuild/bazel",19520,3543]
[1501,null,null,"ChristosChristofidis/awesome-deep-learning","https://github.com/ChristosChristofidis/awesome-deep-learning",19524,5723]
[1502,null,null,"eligrey/FileSaver.js","https://github.com/eligrey/FileSaver.js",19494,4341]
[1503,null,null,"remix-run/remix","https://github.com/remix-run/remix",19496,1578]
[1504,null,null,"Homebrew/homebrew-cask","https://github.com/Homebrew/homebrew-cask",19476,9988]
[1505,null,null,"openssl/openssl","https://github.com/openssl/openssl",19477,8431]
[1506,null,null,"geekan/HowToLiveLonger","https://github.com/geekan/HowToLiveLonger",19474,1265]
[1507,null,null,"ogham/exa","https://github.com/ogham/exa",19416,573]
[1508,null,null,"freqtrade/freqtrade","https://github.com/freqtrade/freqtrade",19443,4092]
[1509,null,null,"afollestad/material-dialogs","https://github.com/afollestad/material-dialogs",19407,3150]
[1510,null,null,"qier222/YesPlayMusic","https://github.com/qier222/YesPlayMusic",19410,2909]
[1511,null,null,"dapr/dapr","https://github.com/dapr/dapr",19405,1526]
[1512,null,null,"railsware/upterm","https://github.com/railsware/upterm",19391,656]
[1513,null,null,"go-micro/go-micro","https://github.com/go-micro/go-micro",19395,2164]
[1514,null,null,"rome/tools","https://github.com/rome/tools",19379,589]
[1515,null,null,"TanStack/table","https://github.com/TanStack/table",19373,2594]
[1516,null,null,"osquery/osquery","https://github.com/osquery/osquery",19340,2346]
[1517,null,null,"facebookresearch/fairseq","https://github.com/facebookresearch/fairseq",19328,4884]
[1518,null,null,"palantir/blueprint","https://github.com/palantir/blueprint",19309,2056]
[1519,null,null,"verekia/js-stack-from-scratch","https://github.com/verekia/js-stack-from-scratch",19295,1960]
[1520,null,null,"vnpy/vnpy","https://github.com/vnpy/vnpy",19294,7499]
[1521,null,null,"go-delve/delve","https://github.com/go-delve/delve",19282,1957]
[1522,null,null,"segmentio/nightmare","https://github.com/segmentio/nightmare",19274,1157]
[1523,null,null,"shimohq/chinese-programmer-wrong-pronunciation","https://github.com/shimohq/chinese-programmer-wrong-pronunciation",19267,1472]
[1524,null,null,"ossrs/srs","https://github.com/ossrs/srs",19261,4662]
[1525,null,null,"PostgREST/postgrest","https://github.com/PostgREST/postgrest",19260,894]
[1526,null,null,"jumpserver/jumpserver","https://github.com/jumpserver/jumpserver",19216,4717]
[1527,null,null,"hapijs/joi","https://github.com/hapijs/joi",19214,1508]
[1528,null,null,"vadimdemedes/ink","https://github.com/vadimdemedes/ink",19208,518]
[1529,null,null,"chalk/chalk","https://github.com/chalk/chalk",19205,786]
[1530,null,null,"MLEveryday/100-Days-Of-ML-Code","https://github.com/MLEveryday/100-Days-Of-ML-Code",19191,5273]
[1531,null,null,"norvig/pytudes","https://github.com/norvig/pytudes",19191,2224]
[1532,null,null,"davideuler/architecture.of.internet-product","https://github.com/davideuler/architecture.of.internet-product",19138,4499]
[1533,null,null,"goldbergyoni/javascript-testing-best-practices","https://github.com/goldbergyoni/javascript-testing-best-practices",19136,1706]
[1534,null,null,"iawia002/lux","https://github.com/iawia002/lux",19131,2312]
[1535,null,null,"graphql/graphql-js","https://github.com/graphql/graphql-js",19081,2033]
[1536,null,null,"didi/DoKit","https://github.com/didi/DoKit",19080,2924]
[1537,null,null,"Popmotion/popmotion","https://github.com/Popmotion/popmotion",19077,688]
[1538,null,null,"urfave/cli","https://github.com/urfave/cli",19074,1619]
[1539,null,null,"SpaceVim/SpaceVim","https://github.com/SpaceVim/SpaceVim",19049,1458]
[1540,null,null,"TeamStuQ/skill-map","https://github.com/TeamStuQ/skill-map",19040,4325]
[1541,null,null,"nostalgic-css/NES.css","https://github.com/nostalgic-css/NES.css",19013,1585]
[1542,null,null,"n0shake/Public-APIs","https://github.com/n0shake/Public-APIs",19012,1633]
[1543,null,null,"nikitavoloboev/my-mac-os","https://github.com/nikitavoloboev/my-mac-os",19010,857]
[1544,null,null,"pytorch/examples","https://github.com/pytorch/examples",19003,8870]
[1545,null,null,"dani-garcia/vaultwarden","https://github.com/dani-garcia/vaultwarden",18997,984]
[1546,null,null,"refined-github/refined-github","https://github.com/refined-github/refined-github",18991,1340]
[1547,null,null,"javascript-tutorial/en.javascript.info","https://github.com/javascript-tutorial/en.javascript.info",18979,3354]
[1548,null,null,"tobiasahlin/SpinKit","https://github.com/tobiasahlin/SpinKit",18956,1838]
[1549,null,null,"tachiyomiorg/tachiyomi","https://github.com/tachiyomiorg/tachiyomi",18951,2244]
[1550,null,null,"bevyengine/bevy","https://github.com/bevyengine/bevy",18948,1855]
[1551,null,null,"gchq/CyberChef","https://github.com/gchq/CyberChef",18926,2259]
[1552,null,null,"kdeldycke/awesome-falsehood","https://github.com/kdeldycke/awesome-falsehood",18921,472]
[1553,null,null,"recharts/recharts","https://github.com/recharts/recharts",18919,1426]
[1554,null,null,"google/mediapipe","https://github.com/google/mediapipe",18895,3984]
[1555,null,null,"flameshot-org/flameshot","https://github.com/flameshot-org/flameshot",18888,1189]
[1556,null,null,"vuejs/vue-router","https://github.com/vuejs/vue-router",18875,5164]
[1557,null,null,"Ebazhanov/linkedin-skill-assessments-quizzes","https://github.com/Ebazhanov/linkedin-skill-assessments-quizzes",18873,10404]
[1558,null,null,"SnapKit/SnapKit","https://github.com/SnapKit/SnapKit",18851,1897]
[1559,null,null,"websockets/ws","https://github.com/websockets/ws",18844,2232]
[1560,null,null,"jorgebucaran/hyperapp","https://github.com/jorgebucaran/hyperapp",18840,832]
[1561,null,null,"changkun/modern-cpp-tutorial","https://github.com/changkun/modern-cpp-tutorial",18826,2509]
[1562,null,null,"google/flatbuffers","https://github.com/google/flatbuffers",18817,2913]
[1563,null,null,"aseprite/aseprite","https://github.com/aseprite/aseprite",18810,1679]
[1564,null,null,"google/eng-practices","https://github.com/google/eng-practices",18802,1829]
[1565,null,null,"ai/nanoid","https://github.com/ai/nanoid",18783,679]
[1566,null,null,"ftlabs/fastclick","https://github.com/ftlabs/fastclick",18779,3323]
[1567,null,null,"rxhanson/Rectangle","https://github.com/rxhanson/Rectangle",18775,545]
[1568,null,null,"reduxjs/reselect","https://github.com/reduxjs/reselect",18756,692]
[1569,null,null,"requarks/wiki","https://github.com/requarks/wiki",18751,2104]
[1570,null,null,"elunez/eladmin","https://github.com/elunez/eladmin",18753,6831]
[1571,null,null,"philc/vimium","https://github.com/philc/vimium",18747,2262]
[1572,null,null,"PHPMailer/PHPMailer","https://github.com/PHPMailer/PHPMailer",18736,9388]
[1573,null,null,"checkcheckzz/system-design-interview","https://github.com/checkcheckzz/system-design-interview",18735,4672]
[1574,null,null,"dhg/Skeleton","https://github.com/dhg/Skeleton",18697,3145]
[1575,null,null,"ruanyf/jstraining","https://github.com/ruanyf/jstraining",18682,4778]
[1576,null,null,"jitsi/jitsi-meet","https://github.com/jitsi/jitsi-meet",18683,5909]
[1577,null,null,"sebastianbergmann/phpunit","https://github.com/sebastianbergmann/phpunit",18668,2111]
[1578,null,null,"phoenixframework/phoenix","https://github.com/phoenixframework/phoenix",18642,2501]
[1579,null,null,"Awesome-HarmonyOS/HarmonyOS","https://github.com/Awesome-HarmonyOS/HarmonyOS",18634,3327]
[1580,null,null,"Redocly/redoc","https://github.com/Redocly/redoc",18601,2030]
[1581,null,null,"MonitorControl/MonitorControl","https://github.com/MonitorControl/MonitorControl",18592,581]
[1582,null,null,"Prinzhorn/skrollr","https://github.com/Prinzhorn/skrollr",18577,3567]
[1583,null,null,"lapce/lapce","https://github.com/lapce/lapce",18599,523]
[1584,null,null,"SergioBenitez/Rocket","https://github.com/SergioBenitez/Rocket",18555,1317]
[1585,null,null,"FelisCatus/SwitchyOmega","https://github.com/FelisCatus/SwitchyOmega",18543,2941]
[1586,null,null,"dgraph-io/dgraph","https://github.com/dgraph-io/dgraph",18504,1402]
[1587,null,null,"wenyan-lang/wenyan","https://github.com/wenyan-lang/wenyan",18493,1076]
[1588,null,null,"valyala/fasthttp","https://github.com/valyala/fasthttp",18492,1546]
[1589,null,null,"quii/learn-go-with-tests","https://github.com/quii/learn-go-with-tests",18488,2430]
[1590,null,null,"adobe-fonts/source-code-pro","https://github.com/adobe-fonts/source-code-pro",18478,1625]
[1591,null,null,"BabylonJS/Babylon.js","https://github.com/BabylonJS/Babylon.js",18458,2934]
[1592,null,null,"google/web-starter-kit","https://github.com/google/web-starter-kit",18455,3144]
[1593,null,null,"junyanz/pytorch-CycleGAN-and-pix2pix","https://github.com/junyanz/pytorch-CycleGAN-and-pix2pix",18434,5491]
[1594,null,null,"arendst/Tasmota","https://github.com/arendst/Tasmota",18432,4095]
[1595,null,null,"heartexlabs/labelImg","https://github.com/heartexlabs/labelImg",18432,5593]
[1596,null,null,"jquense/yup","https://github.com/jquense/yup",18426,792]
[1597,null,null,"NickeManarin/ScreenToGif","https://github.com/NickeManarin/ScreenToGif",18418,1885]
[1598,null,null,"nuysoft/Mock","https://github.com/nuysoft/Mock",18413,2668]
[1599,null,null,"ethereum/solidity","https://github.com/ethereum/solidity",18404,4394]
[1600,null,null,"GeekyAnts/NativeBase","https://github.com/GeekyAnts/NativeBase",18387,2276]
[1601,null,null,"square/picasso","https://github.com/square/picasso",18373,4032]
[1602,null,null,"docker/awesome-compose","https://github.com/docker/awesome-compose",18384,2842]
[1603,null,null,"Baseflow/PhotoView","https://github.com/Baseflow/PhotoView",18358,3897]
[1604,null,null,"fyne-io/fyne","https://github.com/fyne-io/fyne",18360,1002]
[1605,null,null,"facebook/zstd","https://github.com/facebook/zstd",18355,1761]
[1606,null,null,"MichaelCade/90DaysOfDevOps","https://github.com/MichaelCade/90DaysOfDevOps",18343,3848]
[1607,null,null,"ValveSoftware/Proton","https://github.com/ValveSoftware/Proton",18329,795]
[1608,null,null,"1c7/chinese-independent-developer","https://github.com/1c7/chinese-independent-developer",18313,1760]
[1609,null,null,"Molunerfinn/PicGo","https://github.com/Molunerfinn/PicGo",18308,1915]
[1610,null,null,"dennybritz/reinforcement-learning","https://github.com/dennybritz/reinforcement-learning",18308,5780]
[1611,null,null,"typicode/lowdb","https://github.com/typicode/lowdb",18307,855]
[1612,null,null,"svg/svgo","https://github.com/svg/svgo",18287,1310]
[1613,null,null,"react-dnd/react-dnd","https://github.com/react-dnd/react-dnd",18281,1874]
[1614,null,null,"v2fly/v2ray-core","https://github.com/v2fly/v2ray-core",18287,3058]
[1615,null,null,"jcjohnson/neural-style","https://github.com/jcjohnson/neural-style",18268,2780]
[1616,null,null,"basarat/typescript-book","https://github.com/basarat/typescript-book",18256,2306]
[1617,null,null,"wekan/wekan","https://github.com/wekan/wekan",18226,2760]
[1618,null,null,"bcit-ci/CodeIgniter","https://github.com/bcit-ci/CodeIgniter",18185,7741]
[1619,null,null,"eggjs/egg","https://github.com/eggjs/egg",18178,1773]
[1620,null,null,"pubkey/rxdb","https://github.com/pubkey/rxdb",18165,903]
[1621,null,null,"restic/restic","https://github.com/restic/restic",18163,1204]
[1622,null,null,"dotnet/core","https://github.com/dotnet/core",18160,4624]
[1623,null,null,"processing/p5.js","https://github.com/processing/p5.js",18142,2710]
[1624,null,null,"apollographql/apollo-client","https://github.com/apollographql/apollo-client",18114,2475]
[1625,null,null,"gorilla/websocket","https://github.com/gorilla/websocket",18115,3018]
[1626,null,null,"derailed/k9s","https://github.com/derailed/k9s",18108,1145]
[1627,null,null,"facebookresearch/faiss","https://github.com/facebookresearch/faiss",18103,2712]
[1628,null,null,"oldj/SwitchHosts","https://github.com/oldj/SwitchHosts",18094,2064]
[1629,null,null,"cookiecutter/cookiecutter","https://github.com/cookiecutter/cookiecutter",18092,1734]
[1630,null,null,"wesm/pydata-book","https://github.com/wesm/pydata-book",65230,"Jupyter Notebook"]
[1631,null,null,"SnapKit/Masonry","https://github.com/SnapKit/Masonry",18051,3171]
[1632,null,null,"penpot/penpot","https://github.com/penpot/penpot",18055,812]
[1633,null,null,"facert/awesome-spider","https://github.com/facert/awesome-spider",18034,4490]
[1634,null,null,"EnterpriseQualityCoding/FizzBuzzEnterpriseEdition","https://github.com/EnterpriseQualityCoding/FizzBuzzEnterpriseEdition",18023,721]
[1635,null,null,"badges/shields","https://github.com/badges/shields",17993,4998]
[1636,null,null,"zadam/trilium","https://github.com/zadam/trilium",17997,1173]
[1637,null,null,"SortableJS/Vue.Draggable","https://github.com/SortableJS/Vue.Draggable",17981,2754]
[1638,null,null,"alibaba/weex","https://github.com/alibaba/weex",17977,2172]
[1639,null,null,"InterviewMap/CS-Interview-Knowledge-Map","https://github.com/InterviewMap/CS-Interview-Knowledge-Map",17963,2599]
[1640,null,null,"jsdom/jsdom","https://github.com/jsdom/jsdom",17942,1535]
[1641,null,null,"luong-komorebi/Awesome-Linux-Software","https://github.com/luong-komorebi/Awesome-Linux-Software",17925,1817]
[1642,null,null,"magenta/magenta","https://github.com/magenta/magenta",17923,3663]
[1643,null,null,"shieldfy/API-Security-Checklist","https://github.com/shieldfy/API-Security-Checklist",17899,2175]
[1644,null,null,"VSCodium/vscodium","https://github.com/VSCodium/vscodium",17899,754]
[1645,null,null,"elastic/kibana","https://github.com/elastic/kibana",17889,7430]
[1646,null,null,"crystal-lang/crystal","https://github.com/crystal-lang/crystal",17880,1361]
[1647,null,null,"ziglang/zig","https://github.com/ziglang/zig",17879,1341]
[1648,null,null,"microsoft/winget-cli","https://github.com/microsoft/winget-cli",17870,1032]
[1649,null,null,"dotnet/corefx","https://github.com/dotnet/corefx",17856,5228]
[1650,null,null,"gocolly/colly","https://github.com/gocolly/colly",17850,1474]
[1651,null,null,"CarGuo/GSYVideoPlayer","https://github.com/CarGuo/GSYVideoPlayer",17842,3947]
[1652,null,null,"hemanth/functional-programming-jargon","https://github.com/hemanth/functional-programming-jargon",17833,984]
[1653,null,null,"directus/directus","https://github.com/directus/directus",17830,2087]
[1654,null,null,"mybatis/mybatis-3","https://github.com/mybatis/mybatis-3",17773,11895]
[1655,null,null,"responsively-org/responsively-app","https://github.com/responsively-org/responsively-app",17772,756]
[1656,null,null,"itdevbooks/pdf","https://github.com/itdevbooks/pdf",17760,5467]
[1657,null,null,"stretchr/testify","https://github.com/stretchr/testify",17749,1326]
[1658,null,null,"tokio-rs/tokio","https://github.com/tokio-rs/tokio",17746,1639]
[1659,null,null,"facebookexperimental/Recoil","https://github.com/facebookexperimental/Recoil",17741,994]
[1660,null,null,"doocs/leetcode","https://github.com/doocs/leetcode",17740,3267]
[1661,null,null,"preservim/nerdtree","https://github.com/preservim/nerdtree",17731,1402]
[1662,null,null,"mojs/mojs","https://github.com/mojs/mojs",17725,939]
[1663,null,null,"chai2010/advanced-go-programming-book","https://github.com/chai2010/advanced-go-programming-book",17665,3044]
[1664,null,null,"uikit/uikit","https://github.com/uikit/uikit",17649,2326]
[1665,null,null,"expo/expo","https://github.com/expo/expo",17648,3554]
[1666,null,null,"Micropoor/Micro8","https://github.com/Micropoor/Micro8",17638,6842]
[1667,null,null,"airyland/vux","https://github.com/airyland/vux",17635,3809]
[1668,null,null,"HelloZeroNet/ZeroNet","https://github.com/HelloZeroNet/ZeroNet",17621,2262]
[1669,null,null,"fingerprintjs/fingerprintjs","https://github.com/fingerprintjs/fingerprintjs",17613,2010]
[1670,null,null,"google/flexbox-layout","https://github.com/google/flexbox-layout",17613,1820]
[1671,null,null,"slundberg/shap","https://github.com/slundberg/shap",17606,2663]
[1672,null,null,"swoole/swoole-src","https://github.com/swoole/swoole-src",17599,3189]
[1673,null,null,"Swordfish90/cool-retro-term","https://github.com/Swordfish90/cool-retro-term",17594,737]
[1674,null,null,"you-dont-need/You-Dont-Need-JavaScript","https://github.com/you-dont-need/You-Dont-Need-JavaScript",17567,1026]
[1675,null,null,"oracle/graal","https://github.com/oracle/graal",17535,1407]
[1676,null,null,"rough-stuff/rough","https://github.com/rough-stuff/rough",17525,571]
[1677,null,null,"GoogleChromeLabs/squoosh","https://github.com/GoogleChromeLabs/squoosh",17525,1206]
[1678,null,null,"gpakosz/.tmux","https://github.com/gpakosz/.tmux",17519,2927]
[1679,null,null,"nosir/cleave.js","https://github.com/nosir/cleave.js",17516,1636]
[1680,null,null,"toml-lang/toml","https://github.com/toml-lang/toml",17513,846]
[1681,null,null,"adam-golab/react-developer-roadmap","https://github.com/adam-golab/react-developer-roadmap",17491,1919]
[1682,null,null,"spaceship-prompt/spaceship-prompt","https://github.com/spaceship-prompt/spaceship-prompt",17481,934]
[1683,null,null,"iampawan/FlutterExampleApps","https://github.com/iampawan/FlutterExampleApps",17464,3408]
[1684,null,null,"gorilla/mux","https://github.com/gorilla/mux",17440,1575]
[1685,null,null,"mysqljs/mysql","https://github.com/mysqljs/mysql",17435,2482]
[1686,null,null,"facebook/hhvm","https://github.com/facebook/hhvm",17435,3002]
[1687,null,null,"eclipse-theia/theia","https://github.com/eclipse-theia/theia",17427,2247]
[1688,null,null,"zloirock/core-js","https://github.com/zloirock/core-js",17426,1324]
[1689,null,null,"npm/npm","https://github.com/npm/npm",17423,3234]
[1690,null,null,"plotly/dash","https://github.com/plotly/dash",17422,1773]
[1691,null,null,"linlinjava/litemall","https://github.com/linlinjava/litemall",17421,6821]
[1692,null,null,"huiyadanli/RevokeMsgPatcher","https://github.com/huiyadanli/RevokeMsgPatcher",17408,2368]
[1693,null,null,"HarisIqbal88/PlotNeuralNet","https://github.com/HarisIqbal88/PlotNeuralNet",17359,2408]
[1694,null,null,"facebook/flux","https://github.com/facebook/flux",17358,3591]
[1695,null,null,"DovAmir/awesome-design-patterns","https://github.com/DovAmir/awesome-design-patterns",17355,1479]
[1696,null,null,"massgravel/Microsoft-Activation-Scripts","https://github.com/massgravel/Microsoft-Activation-Scripts",17362,2096]
[1697,null,null,"reduxjs/redux-thunk","https://github.com/reduxjs/redux-thunk",17354,1057]
[1698,null,null,"brettwooldridge/HikariCP","https://github.com/brettwooldridge/HikariCP",17337,2642]
[1699,null,null,"alibaba/ice","https://github.com/alibaba/ice",17330,2064]
[1700,null,null,"posquit0/Awesome-CV","https://github.com/posquit0/Awesome-CV",17329,4144]
[1701,null,null,"facebook/relay","https://github.com/facebook/relay",17316,1736]
[1702,null,null,"qbittorrent/qBittorrent","https://github.com/qbittorrent/qBittorrent",17313,2936]
[1703,null,null,"zergtant/pytorch-handbook","https://github.com/zergtant/pytorch-handbook",17297,5112]
[1704,null,null,"element-plus/element-plus","https://github.com/element-plus/element-plus",17278,6334]
[1705,null,null,"BoostIO/BoostNote-Legacy","https://github.com/BoostIO/BoostNote-Legacy",17239,1553]
[1706,null,null,"monicahq/monica","https://github.com/monicahq/monica",17237,1752]
[1707,null,null,"microsoft/CNTK","https://github.com/microsoft/CNTK",17232,4382]
[1708,null,null,"dianping/cat","https://github.com/dianping/cat",17224,5260]
[1709,null,null,"filebrowser/filebrowser","https://github.com/filebrowser/filebrowser",17225,2150]
[1710,null,null,"julianshapiro/velocity","https://github.com/julianshapiro/velocity",17201,1617]
[1711,null,null,"vueComponent/ant-design-vue","https://github.com/vueComponent/ant-design-vue",17186,3269]
[1712,null,null,"yudai/gotty","https://github.com/yudai/gotty",17183,1316]
[1713,null,null,"JacksonTian/fks","https://github.com/JacksonTian/fks",17171,4628]
[1714,null,null,"ZhongFuCheng3y/athena","https://github.com/ZhongFuCheng3y/athena",17166,3717]
[1715,null,null,"spmallick/learnopencv","https://github.com/spmallick/learnopencv",17166,10650]
[1716,null,null,"PanJiaChen/vue-admin-template","https://github.com/PanJiaChen/vue-admin-template",17162,6642]
[1717,null,null,"notepad-plus-plus/notepad-plus-plus","https://github.com/notepad-plus-plus/notepad-plus-plus",17149,3821]
[1718,null,null,"dotnet/maui","https://github.com/dotnet/maui",17125,1065]
[1719,null,null,"uber-go/zap","https://github.com/uber-go/zap",17105,1222]
[1720,null,null,"sqlitebrowser/sqlitebrowser","https://github.com/sqlitebrowser/sqlitebrowser",17101,1912]
[1721,null,null,"handsontable/handsontable","https://github.com/handsontable/handsontable",17082,2808]
[1722,null,null,"testing-library/react-testing-library","https://github.com/testing-library/react-testing-library",17027,1005]
[1723,null,null,"jbhuang0604/awesome-computer-vision","https://github.com/jbhuang0604/awesome-computer-vision",17014,3905]
[1724,null,null,"basecamp/trix","https://github.com/basecamp/trix",16978,1035]
[1725,null,null,"MichMich/MagicMirror","https://github.com/MichMich/MagicMirror",16971,3903]
[1726,null,null,"saleor/saleor","https://github.com/saleor/saleor",16950,4732]
[1727,null,null,"logseq/logseq","https://github.com/logseq/logseq",16949,1034]
[1728,null,null,"radareorg/radare2","https://github.com/radareorg/radare2",16934,2734]
[1729,null,null,"reactnativecn/react-native-guide","https://github.com/reactnativecn/react-native-guide",16927,3810]
[1730,null,null,"livewire/livewire","https://github.com/livewire/livewire",16920,931]
[1731,null,null,"tailwindlabs/headlessui","https://github.com/tailwindlabs/headlessui",16922,651]
[1732,null,null,"enaqx/awesome-pentest","https://github.com/enaqx/awesome-pentest",16920,4081]
[1733,null,null,"forezp/SpringCloudLearning","https://github.com/forezp/SpringCloudLearning",16907,8011]
[1734,null,null,"framework7io/framework7","https://github.com/framework7io/framework7",16905,3288]
[1735,null,null,"thangchung/awesome-dotnet-core","https://github.com/thangchung/awesome-dotnet-core",16902,2610]
[1736,null,null,"SBoudrias/Inquirer.js","https://github.com/SBoudrias/Inquirer.js",16900,1174]
[1737,null,null,"sindresorhus/quick-look-plugins","https://github.com/sindresorhus/quick-look-plugins",16895,545]
[1738,null,null,"facebook/fresco","https://github.com/facebook/fresco",16868,3782]
[1739,null,null,"grpc/grpc-go","https://github.com/grpc/grpc-go",16860,3766]
[1740,null,null,"chaozh/awesome-blockchain-cn","https://github.com/chaozh/awesome-blockchain-cn",16857,3489]
[1741,null,null,"matomo-org/matomo","https://github.com/matomo-org/matomo",16853,2376]
[1742,null,null,"less/less.js","https://github.com/less/less.js",16852,3465]
[1743,null,null,"dropzone/dropzone","https://github.com/dropzone/dropzone",16849,3308]
[1744,null,null,"tj/n","https://github.com/tj/n",16833,722]
[1745,null,null,"microsoft/vcpkg","https://github.com/microsoft/vcpkg",16826,4826]
[1746,null,null,"233boy/v2ray","https://github.com/233boy/v2ray",16820,13849]
[1747,null,null,"jellyfin/jellyfin","https://github.com/jellyfin/jellyfin",16817,1646]
[1748,null,null,"GitHubDaily/GitHubDaily","https://github.com/GitHubDaily/GitHubDaily",16813,1962]
[1749,null,null,"vim-airline/vim-airline","https://github.com/vim-airline/vim-airline",16811,1111]
[1750,null,null,"defunkt/jquery-pjax","https://github.com/defunkt/jquery-pjax",16807,2067]
[1751,null,null,"nostra13/Android-Universal-Image-Loader","https://github.com/nostra13/Android-Universal-Image-Loader",16801,6231]
[1752,null,null,"prisma/prisma1","https://github.com/prisma/prisma1",16798,921]
[1753,null,null,"handlebars-lang/handlebars.js","https://github.com/handlebars-lang/handlebars.js",16795,2063]
[1754,null,null,"microsoft/MS-DOS","https://github.com/microsoft/MS-DOS",16790,2589]
[1755,null,null,"chriskiehl/Gooey","https://github.com/chriskiehl/Gooey",16758,910]
[1756,null,null,"tailwindlabs/heroicons","https://github.com/tailwindlabs/heroicons",16757,1060]
[1757,null,null,"bokeh/bokeh","https://github.com/bokeh/bokeh",16751,3988]
[1758,null,null,"outline/outline","https://github.com/outline/outline",16754,1436]
[1759,null,null,"angular/material","https://github.com/angular/material",16735,3542]
[1760,null,null,"jtoy/awesome-tensorflow","https://github.com/jtoy/awesome-tensorflow",16709,3070]
[1761,null,null,"OpenBB-finance/OpenBBTerminal","https://github.com/OpenBB-finance/OpenBBTerminal",16696,1749]
[1762,null,null,"WordPress/WordPress","https://github.com/WordPress/WordPress",16684,11648]
[1763,null,null,"statsd/statsd","https://github.com/statsd/statsd",16680,1985]
[1764,null,null,"2dust/v2rayNG","https://github.com/2dust/v2rayNG",16645,2846]
[1765,null,null,"tensorflow/tfjs","https://github.com/tensorflow/tfjs",16624,1764]
[1766,null,null,"Kr328/ClashForAndroid","https://github.com/Kr328/ClashForAndroid",16605,2027]
[1767,null,null,"ueberdosis/tiptap","https://github.com/ueberdosis/tiptap",16595,1506]
[1768,null,null,"realm/SwiftLint","https://github.com/realm/SwiftLint",16583,1982]
[1769,null,null,"kelthuzadx/hosts","https://github.com/kelthuzadx/hosts",16583,7655]
[1770,null,null,"nfl/react-helmet","https://github.com/nfl/react-helmet",16582,696]
[1771,null,null,"tpope/vim-fugitive","https://github.com/tpope/vim-fugitive",16575,969]
[1772,null,null,"Tencent/tinker","https://github.com/Tencent/tinker",16564,3310]
[1773,null,null,"diem/diem","https://github.com/diem/diem",16545,2584]
[1774,null,null,"ElemeFE/mint-ui","https://github.com/ElemeFE/mint-ui",16535,3563]
[1775,null,null,"knex/knex","https://github.com/knex/knex",16530,1960]
[1776,null,null,"cocos2d/cocos2d-x","https://github.com/cocos2d/cocos2d-x",16521,7042]
[1777,null,null,"amark/gun","https://github.com/amark/gun",16502,1096]
[1778,null,null,"sanic-org/sanic","https://github.com/sanic-org/sanic",16499,1470]
[1779,null,null,"artf/grapesjs","https://github.com/artf/grapesjs",16499,3156]
[1780,null,null,"zulip/zulip","https://github.com/zulip/zulip",16494,5536]
[1781,null,null,"semantic-release/semantic-release","https://github.com/semantic-release/semantic-release",16492,1566]
[1782,null,null,"LingCoder/OnJava8","https://github.com/LingCoder/OnJava8",16477,5508]
[1783,null,null,"dotnet/roslyn","https://github.com/dotnet/roslyn",16477,3705]
[1784,null,null,"aFarkas/lazysizes","https://github.com/aFarkas/lazysizes",16471,1751]
[1785,null,null,"trojan-gfw/trojan","https://github.com/trojan-gfw/trojan",16456,2854]
[1786,null,null,"alsotang/node-lessons","https://github.com/alsotang/node-lessons",16442,4826]
[1787,null,null,"twitter/typeahead.js","https://github.com/twitter/typeahead.js",16440,3272]
[1788,null,null,"nondanee/UnblockNeteaseMusic","https://github.com/nondanee/UnblockNeteaseMusic",16435,2517]
[1789,null,null,"jamiebuilds/react-loadable","https://github.com/jamiebuilds/react-loadable",16430,853]
[1790,null,null,"Tencent/mars","https://github.com/Tencent/mars",16429,3478]
[1791,null,null,"nginx-proxy/nginx-proxy","https://github.com/nginx-proxy/nginx-proxy",16424,2809]
[1792,null,null,"react-grid-layout/react-grid-layout","https://github.com/react-grid-layout/react-grid-layout",16421,2242]
[1793,null,null,"EastWorld/wechat-app-mall","https://github.com/EastWorld/wechat-app-mall",16406,5755]
[1794,null,null,"material-components/material-components-web","https://github.com/material-components/material-components-web",16403,2187]
[1795,null,null,"haoel/leetcode","https://github.com/haoel/leetcode",16387,4773]
[1796,null,null,"joewalnes/websocketd","https://github.com/joewalnes/websocketd",16379,980]
[1797,null,null,"AtsushiSakai/PythonRobotics","https://github.com/AtsushiSakai/PythonRobotics",16381,5227]
[1798,null,null,"Shopify/draggable","https://github.com/Shopify/draggable",16373,1045]
[1799,null,null,"shuzheng/zheng","https://github.com/shuzheng/zheng",16359,7467]
[1800,null,null,"ionic-team/ionicons","https://github.com/ionic-team/ionicons",16359,2032]
[1801,null,null,"ForrestKnight/open-source-cs","https://github.com/ForrestKnight/open-source-cs",16357,2805]
[1802,null,null,"matryer/xbar","https://github.com/matryer/xbar",16338,641]
[1803,null,null,"css-modules/css-modules","https://github.com/css-modules/css-modules",16326,549]
[1804,null,null,"ScoopInstaller/Scoop","https://github.com/ScoopInstaller/Scoop",16307,1267]
[1805,null,null,"electronicarts/CnC_Remastered_Collection","https://github.com/electronicarts/CnC_Remastered_Collection",16284,4313]
[1806,null,null,"ethereumbook/ethereumbook","https://github.com/ethereumbook/ethereumbook",16284,4025]
[1807,null,null,"dylanaraps/neofetch","https://github.com/dylanaraps/neofetch",16283,1214]
[1808,null,null,"jhao104/proxy_pool","https://github.com/jhao104/proxy_pool",16278,4321]
[1809,null,null,"flutter/plugins","https://github.com/flutter/plugins",16274,9454]
[1810,null,null,"hubotio/hubot","https://github.com/hubotio/hubot",16267,3884]
[1811,null,null,"youzan/vant-weapp","https://github.com/youzan/vant-weapp",16257,3373]
[1812,null,null,"Asabeneh/30-Days-Of-React","https://github.com/Asabeneh/30-Days-Of-React",16249,4235]
[1813,null,null,"eip-work/kuboard-press","https://github.com/eip-work/kuboard-press",16244,1229]
[1814,null,null,"nickbutcher/plaid","https://github.com/nickbutcher/plaid",16239,3249]
[1815,null,null,"jashkenas/coffeescript","https://github.com/jashkenas/coffeescript",16227,2031]
[1816,null,null,"termux/termux-app","https://github.com/termux/termux-app",16221,2043]
[1817,null,null,"jina-ai/jina","https://github.com/jina-ai/jina",16215,1975]
[1818,null,null,"instillai/TensorFlow-Course","https://github.com/instillai/TensorFlow-Course",16210,3252]
[1819,null,null,"microsoft/Data-Science-For-Beginners","https://github.com/microsoft/Data-Science-For-Beginners",16205,2856]
[1820,null,null,"iview/iview-admin","https://github.com/iview/iview-admin",16201,4895]
[1821,null,null,"buger/goreplay","https://github.com/buger/goreplay",16198,1649]
[1822,null,null,"matplotlib/matplotlib","https://github.com/matplotlib/matplotlib",16191,6509]
[1823,null,null,"reddit-archive/reddit","https://github.com/reddit-archive/reddit",16187,2895]
[1824,null,null,"fastai/fastbook","https://github.com/fastai/fastbook",16182,6091]
[1825,null,null,"kovidgoyal/kitty","https://github.com/kovidgoyal/kitty",16179,752]
[1826,null,null,"llvm/llvm-project","https://github.com/llvm/llvm-project",16177,6134]
[1827,null,null,"android/sunflower","https://github.com/android/sunflower",16169,4252]
[1828,null,null,"web3/web3.js","https://github.com/web3/web3.js",16154,4252]
[1829,null,null,"visionmedia/superagent","https://github.com/visionmedia/superagent",16131,1336]
[1830,null,null,"AykutSarac/jsoncrack.com","https://github.com/AykutSarac/jsoncrack.com",16151,766]
[1831,null,null,"framer/motion","https://github.com/framer/motion",16119,496]
[1832,null,null,"oblador/react-native-vector-icons","https://github.com/oblador/react-native-vector-icons",16118,2043]
[1833,null,null,"getlantern/download","https://github.com/getlantern/download",16106,3053]
[1834,null,null,"simdjson/simdjson","https://github.com/simdjson/simdjson",16097,872]
[1835,null,null,"motdotla/dotenv","https://github.com/motdotla/dotenv",16093,798]
[1836,null,null,"fengdu78/lihang-code","https://github.com/fengdu78/lihang-code",16092,5862]
[1837,null,null,"gentilkiwi/mimikatz","https://github.com/gentilkiwi/mimikatz",16081,3146]
[1838,null,null,"dvajs/dva","https://github.com/dvajs/dva",16074,3226]
[1839,null,null,"rubocop/ruby-style-guide","https://github.com/rubocop/ruby-style-guide",16070,3447]
[1840,null,null,"Anuken/Mindustry","https://github.com/Anuken/Mindustry",16065,2235]
[1841,null,null,"icsharpcode/ILSpy","https://github.com/icsharpcode/ILSpy",16034,2947]
[1842,null,null,"spotify/luigi","https://github.com/spotify/luigi",16013,2350]
[1843,null,null,"ruanyf/react-demos","https://github.com/ruanyf/react-demos",16007,6571]
[1844,null,null,"tc39/proposals","https://github.com/tc39/proposals",15982,694]
[1845,null,null,"winterbe/java8-tutorial","https://github.com/winterbe/java8-tutorial",15977,3916]
[1846,null,null,"jdg/MBProgressHUD","https://github.com/jdg/MBProgressHUD",15963,3520]
[1847,null,null,"Kotlin/anko","https://github.com/Kotlin/anko",15947,1299]
[1848,null,null,"JaidedAI/EasyOCR","https://github.com/JaidedAI/EasyOCR",15937,2288]
[1849,null,null,"briannesbitt/Carbon","https://github.com/briannesbitt/Carbon",15922,1221]
[1850,null,null,"fchollet/deep-learning-with-python-notebooks","https://github.com/fchollet/deep-learning-with-python-notebooks",15909,7772]
[1851,null,null,"wagerfield/parallax","https://github.com/wagerfield/parallax",15910,2160]
[1852,null,null,"airbnb/visx","https://github.com/airbnb/visx",15914,624]
[1853,null,null,"cloudreve/Cloudreve","https://github.com/cloudreve/Cloudreve",15906,2773]
[1854,null,null,"JedWatson/classnames","https://github.com/JedWatson/classnames",15889,543]
[1855,null,null,"so-fancy/diff-so-fancy","https://github.com/so-fancy/diff-so-fancy",15888,338]
[1856,null,null,"hzlzh/Best-App","https://github.com/hzlzh/Best-App",15875,1836]
[1857,null,null,"nndl/nndl.github.io","https://github.com/nndl/nndl.github.io",15856,3481]
[1858,null,null,"tj/git-extras","https://github.com/tj/git-extras",15851,1186]
[1859,null,null,"teambit/bit","https://github.com/teambit/bit",15848,867]
[1860,null,null,"desktop/desktop","https://github.com/desktop/desktop",15841,8363]
[1861,null,null,"KaTeX/KaTeX","https://github.com/KaTeX/KaTeX",15822,1078]
[1862,null,null,"Nyr/openvpn-install","https://github.com/Nyr/openvpn-install",15819,4234]
[1863,null,null,"lin-xin/vue-manage-system","https://github.com/lin-xin/vue-manage-system",15794,5408]
[1864,null,null,"fivethirtyeight/data","https://github.com/fivethirtyeight/data",15793,10667]
[1865,null,null,"iissnan/hexo-theme-next","https://github.com/iissnan/hexo-theme-next",15792,3755]
[1866,null,null,"Vonng/ddia","https://github.com/Vonng/ddia",15792,3439]
[1867,null,null,"getify/Functional-Light-JS","https://github.com/getify/Functional-Light-JS",15791,1915]
[1868,null,null,"hackiftekhar/IQKeyboardManager","https://github.com/hackiftekhar/IQKeyboardManager",15787,2341]
[1869,null,null,"desandro/masonry","https://github.com/desandro/masonry",15782,2171]
[1870,null,null,"ustbhuangyi/better-scroll","https://github.com/ustbhuangyi/better-scroll",15777,2594]
[1871,null,null,"Olshansk/interview","https://github.com/Olshansk/interview",15773,3512]
[1872,null,null,"lewagon/dotfiles","https://github.com/lewagon/dotfiles",15771,17527]
[1873,null,null,"google/fonts","https://github.com/google/fonts",15768,2445]
[1874,null,null,"ipader/SwiftGuide","https://github.com/ipader/SwiftGuide",15759,3636]
[1875,null,null,"cjbarber/ToolsOfTheTrade","https://github.com/cjbarber/ToolsOfTheTrade",15759,1253]
[1876,null,null,"gabime/spdlog","https://github.com/gabime/spdlog",15750,3353]
[1877,null,null,"netlify/netlify-cms","https://github.com/netlify/netlify-cms",15745,2824]
[1878,null,null,"mitesh77/Best-Flutter-UI-Templates","https://github.com/mitesh77/Best-Flutter-UI-Templates",15740,3646]
[1879,null,null,"bmorelli25/Become-A-Full-Stack-Web-Developer","https://github.com/bmorelli25/Become-A-Full-Stack-Web-Developer",15732,2617]
[1880,null,null,"auth0/node-jsonwebtoken","https://github.com/auth0/node-jsonwebtoken",15729,1141]
[1881,null,null,"pyg-team/pytorch_geometric","https://github.com/pyg-team/pytorch_geometric",15715,2838]
[1882,null,null,"salomonelli/best-resume-ever","https://github.com/salomonelli/best-resume-ever",15704,2248]
[1883,null,null,"easychen/howto-make-more-money","https://github.com/easychen/howto-make-more-money",15702,1658]
[1884,null,null,"30-seconds/30-seconds-of-css","https://github.com/30-seconds/30-seconds-of-css",15691,1064]
[1885,null,null,"asdf-vm/asdf","https://github.com/asdf-vm/asdf",15686,608]
[1886,null,null,"nikic/PHP-Parser","https://github.com/nikic/PHP-Parser",15681,893]
[1887,null,null,"menzi11/BullshitGenerator","https://github.com/menzi11/BullshitGenerator",15679,2974]
[1888,null,null,"wulkano/Kap","https://github.com/wulkano/Kap",15674,779]
[1889,null,null,"yabwe/medium-editor","https://github.com/yabwe/medium-editor",15669,1882]
[1890,null,null,"copy/v86","https://github.com/copy/v86",15706,1142]
[1891,null,null,"utmapp/UTM","https://github.com/utmapp/UTM",15662,943]
[1892,null,null,"Tencent/ncnn","https://github.com/Tencent/ncnn",15635,3628]
[1893,null,null,"ossu/data-science","https://github.com/ossu/data-science",15628,2732]
[1894,null,null,"catchorg/Catch2","https://github.com/catchorg/Catch2",15623,2666]
[1895,null,null,"jeromeetienne/AR.js","https://github.com/jeromeetienne/AR.js",15613,2207]
[1896,null,null,"iovisor/bcc","https://github.com/iovisor/bcc",15610,3089]
[1897,null,null,"openai/gpt-2","https://github.com/openai/gpt-2",15606,3970]
[1898,null,null,"binux/pyspider","https://github.com/binux/pyspider",15597,3654]
[1899,null,null,"appium/appium","https://github.com/appium/appium",15575,5740]
[1900,null,null,"facebook/yoga","https://github.com/facebook/yoga",15573,1332]
[1901,null,null,"redis/node-redis","https://github.com/redis/node-redis",15563,1710]
[1902,null,null,"infernojs/inferno","https://github.com/infernojs/inferno",15554,672]
[1903,null,null,"janl/mustache.js","https://github.com/janl/mustache.js",15542,2438]
[1904,null,null,"ipython/ipython","https://github.com/ipython/ipython",15537,4384]
[1905,null,null,"realm/realm-swift","https://github.com/realm/realm-swift",15535,2096]
[1906,null,null,"ShusenTang/Dive-into-DL-PyTorch","https://github.com/ShusenTang/Dive-into-DL-PyTorch",15530,4988]
[1907,null,null,"go-redis/redis","https://github.com/go-redis/redis",15518,1890]
[1908,null,null,"CodeByZach/pace","https://github.com/CodeByZach/pace",15506,1958]
[1909,null,null,"emotion-js/emotion","https://github.com/emotion-js/emotion",15507,1026]
[1910,null,null,"seaweedfs/seaweedfs","https://github.com/seaweedfs/seaweedfs",15504,1865]
[1911,null,null,"hashcat/hashcat","https://github.com/hashcat/hashcat",15487,2351]
[1912,null,null,"zsh-users/zsh-syntax-highlighting","https://github.com/zsh-users/zsh-syntax-highlighting",15489,1187]
[1913,null,null,"iced-rs/iced","https://github.com/iced-rs/iced",15538,656]
[1914,null,null,"quantopian/zipline","https://github.com/quantopian/zipline",15477,4479]
[1915,null,null,"jantic/DeOldify","https://github.com/jantic/DeOldify",15472,2230]
[1916,null,null,"fullcalendar/fullcalendar","https://github.com/fullcalendar/fullcalendar",15466,3412]
[1917,null,null,"helm/charts","https://github.com/helm/charts",15458,17219]
[1918,null,null,"afatcoder/LeetcodeTop","https://github.com/afatcoder/LeetcodeTop",15457,2407]
[1919,null,null,"jasmine/jasmine","https://github.com/jasmine/jasmine",15445,2270]
[1920,null,null,"Asabeneh/30-Days-Of-Python","https://github.com/Asabeneh/30-Days-Of-Python",15439,3536]
[1921,null,null,"quozd/awesome-dotnet","https://github.com/quozd/awesome-dotnet",15424,2423]
[1922,null,null,"zziz/pwc","https://github.com/zziz/pwc",15421,2500]
[1923,null,null,"izackwu/TeachYourselfCS-CN","https://github.com/izackwu/TeachYourselfCS-CN",15415,2870]
[1924,null,null,"AvaloniaUI/Avalonia","https://github.com/AvaloniaUI/Avalonia",15398,1346]
[1925,null,null,"spf13/spf13-vim","https://github.com/spf13/spf13-vim",15389,3752]
[1926,null,null,"DapperLib/Dapper","https://github.com/DapperLib/Dapper",15387,3568]
[1927,null,null,"oxford-cs-deepnlp-2017/lectures","https://github.com/oxford-cs-deepnlp-2017/lectures",15382,3643]
[1928,null,null,"lottie-react-native/lottie-react-native","https://github.com/lottie-react-native/lottie-react-native",15377,1726]
[1929,null,null,"node-red/node-red","https://github.com/node-red/node-red",15358,2889]
[1930,null,null,"Alikhll/golang-developer-roadmap","https://github.com/Alikhll/golang-developer-roadmap",15349,1919]
[1931,null,null,"fmtlib/fmt","https://github.com/fmtlib/fmt",15345,1876]
[1932,null,null,"you-dont-need/You-Dont-Need-Lodash-Underscore","https://github.com/you-dont-need/You-Dont-Need-Lodash-Underscore",15333,740]
[1933,null,null,"bloc97/Anime4K","https://github.com/bloc97/Anime4K",15332,1296]
[1934,null,null,"ungoogled-software/ungoogled-chromium","https://github.com/ungoogled-software/ungoogled-chromium",15328,704]
[1935,null,null,"actix/actix-web","https://github.com/actix/actix-web",15328,1441]
[1936,null,null,"rasbt/deeplearning-models","https://github.com/rasbt/deeplearning-models",15321,3792]
[1937,null,null,"Jack-Cherish/python-spider","https://github.com/Jack-Cherish/python-spider",15319,5635]
[1938,null,null,"altercation/solarized","https://github.com/altercation/solarized",15298,3583]
[1939,null,null,"pqrs-org/Karabiner-Elements","https://github.com/pqrs-org/Karabiner-Elements",15296,784]
[1940,null,null,"dexteryy/spellbook-of-modern-webdev","https://github.com/dexteryy/spellbook-of-modern-webdev",15291,1246]
[1941,null,null,"limetext/lime","https://github.com/limetext/lime",15289,1112]
[1942,null,null,"miloyip/game-programmer","https://github.com/miloyip/game-programmer",15278,1895]
[1943,null,null,"antonmedv/fx","https://github.com/antonmedv/fx",15278,430]
[1944,null,null,"dandavison/delta","https://github.com/dandavison/delta",15256,257]
[1945,null,null,"pouchdb/pouchdb","https://github.com/pouchdb/pouchdb",15252,1435]
[1946,null,null,"inancgumus/learngo","https://github.com/inancgumus/learngo",15252,2013]
[1947,null,null,"cool-RR/PySnooper","https://github.com/cool-RR/PySnooper",15241,927]
[1948,null,null,"NVIDIA/nvidia-docker","https://github.com/NVIDIA/nvidia-docker",15227,1971]
[1949,null,null,"thedaviddias/Front-End-Performance-Checklist","https://github.com/thedaviddias/Front-End-Performance-Checklist",15222,1120]
[1950,null,null,"flatpickr/flatpickr","https://github.com/flatpickr/flatpickr",15221,1366]
[1951,null,null,"android10/Android-CleanArchitecture","https://github.com/android10/Android-CleanArchitecture",15213,3363]
[1952,null,null,"YunaiV/SpringBoot-Labs","https://github.com/YunaiV/SpringBoot-Labs",15215,5013]
[1953,null,null,"LMAX-Exchange/disruptor","https://github.com/LMAX-Exchange/disruptor",15211,3665]
[1954,null,null,"allinurl/goaccess","https://github.com/allinurl/goaccess",15204,1007]
[1955,null,null,"taizilongxu/interview_python","https://github.com/taizilongxu/interview_python",15202,5462]
[1956,null,null,"nhn/tui.editor","https://github.com/nhn/tui.editor",15198,1512]
[1957,null,null,"micropython/micropython","https://github.com/micropython/micropython",15185,5768]
[1958,null,null,"xinntao/Real-ESRGAN","https://github.com/xinntao/Real-ESRGAN",15165,1629]
[1959,null,null,"nswbmw/N-blog","https://github.com/nswbmw/N-blog",15159,4767]
[1960,null,null,"alievk/avatarify-python","https://github.com/alievk/avatarify-python",15156,2313]
[1961,null,null,"docker-slim/docker-slim","https://github.com/docker-slim/docker-slim",15150,552]
[1962,null,null,"doomemacs/doomemacs","https://github.com/doomemacs/doomemacs",15142,2767]
[1963,null,null,"source-foundry/Hack","https://github.com/source-foundry/Hack",15139,596]
[1964,null,null,"charmbracelet/bubbletea","https://github.com/charmbracelet/bubbletea",15153,418]
[1965,null,null,"Budibase/budibase","https://github.com/Budibase/budibase",15144,880]
[1966,null,null,"magic-wormhole/magic-wormhole","https://github.com/magic-wormhole/magic-wormhole",15129,551]
[1967,null,null,"fengdu78/deeplearning_ai_books","https://github.com/fengdu78/deeplearning_ai_books",15128,5518]
[1968,null,null,"lllyasviel/style2paints","https://github.com/lllyasviel/style2paints",15123,1870]
[1969,null,null,"Sycnex/Windows10Debloater","https://github.com/Sycnex/Windows10Debloater",15117,1852]
[1970,null,null,"browsh-org/browsh","https://github.com/browsh-org/browsh",15094,436]
[1971,null,null,"JeffLi1993/springboot-learning-example","https://github.com/JeffLi1993/springboot-learning-example",15089,7032]
[1972,null,null,"SimulatedGREG/electron-vue","https://github.com/SimulatedGREG/electron-vue",15077,1559]
[1973,null,null,"kivy/kivy","https://github.com/kivy/kivy",15077,2929]
[1974,null,null,"d2l-ai/d2l-en","https://github.com/d2l-ai/d2l-en",15077,3338]
[1975,null,null,"braydie/HowToBeAProgrammer","https://github.com/braydie/HowToBeAProgrammer",15068,1344]
[1976,null,null,"bower/bower","https://github.com/bower/bower",15063,1948]
[1977,null,null,"nodemailer/nodemailer","https://github.com/nodemailer/nodemailer",15058,1311]
[1978,null,null,"Tencent/vConsole","https://github.com/Tencent/vConsole",15057,2941]
[1979,null,null,"Tencent/MMKV","https://github.com/Tencent/MMKV",15049,1672]
[1980,null,null,"sweetalert2/sweetalert2","https://github.com/sweetalert2/sweetalert2",15041,1482]
[1981,null,null,"mkdocs/mkdocs","https://github.com/mkdocs/mkdocs",15041,2085]
[1982,null,null,"darkreader/darkreader","https://github.com/darkreader/darkreader",15042,1957]
[1983,null,null,"plotly/plotly.js","https://github.com/plotly/plotly.js",15022,1706]
[1984,null,null,"CodeEditApp/CodeEdit","https://github.com/CodeEditApp/CodeEdit",15059,694]
[1985,null,null,"microsoft/react-native-windows","https://github.com/microsoft/react-native-windows",14985,1098]
[1986,null,null,"facebook/prophet","https://github.com/facebook/prophet",14968,4288]
[1987,null,null,"madrobby/zepto","https://github.com/madrobby/zepto",14964,4047]
[1988,null,null,"jarun/nnn","https://github.com/jarun/nnn",14956,618]
[1989,null,null,"AnthonyCalandra/modern-cpp-features","https://github.com/AnthonyCalandra/modern-cpp-features",14955,1708]
[1990,null,null,"kriskowal/q","https://github.com/kriskowal/q",14951,1241]
[1991,null,null,"designmodo/Flat-UI","https://github.com/designmodo/Flat-UI",14950,2388]
[1992,null,null,"greensock/GSAP","https://github.com/greensock/GSAP",14943,1581]
[1993,null,null,"fatih/vim-go","https://github.com/fatih/vim-go",14944,1452]
[1994,null,null,"yaronn/blessed-contrib","https://github.com/yaronn/blessed-contrib",14935,897]
[1995,null,null,"airbnb/react-sketchapp","https://github.com/airbnb/react-sketchapp",14916,886]
[1996,null,null,"redwoodjs/redwood","https://github.com/redwoodjs/redwood",14916,792]
[1997,null,null,"iBotPeaches/Apktool","https://github.com/iBotPeaches/Apktool",14915,3190]
[1998,null,null,"RasaHQ/rasa","https://github.com/RasaHQ/rasa",14908,4118]
[1999,null,null,"ampproject/amphtml","https://github.com/ampproject/amphtml",14904,4011]
[2000,null,null,"cat-milk/Anime-Girls-Holding-Programming-Books","https://github.com/cat-milk/Anime-Girls-Holding-Programming-Books",14907,775]
[2001,null,null,"mantinedev/mantine","https://github.com/mantinedev/mantine",14905,927]
[2002,null,null,"localtunnel/localtunnel","https://github.com/localtunnel/localtunnel",14892,1133]
[2003,null,null,"hoanhan101/ultimate-go","https://github.com/hoanhan101/ultimate-go",14869,1196]
[2004,null,null,"krisk/Fuse","https://github.com/krisk/Fuse",14863,740]
[2005,null,null,"acdlite/recompose","https://github.com/acdlite/recompose",14845,1305]
[2006,null,null,"swagger-api/swagger-codegen","https://github.com/swagger-api/swagger-codegen",14844,5848]
[2007,null,null,"AlDanial/cloc","https://github.com/AlDanial/cloc",14818,862]
[2008,null,null,"the1812/Bilibili-Evolved","https://github.com/the1812/Bilibili-Evolved",14807,1316]
[2009,null,null,"joke2k/faker","https://github.com/joke2k/faker",14797,1667]
[2010,null,null,"ssloy/tinyrenderer","https://github.com/ssloy/tinyrenderer",14797,1404]
[2011,null,null,"yifeikong/reverse-interview-zh","https://github.com/yifeikong/reverse-interview-zh",14767,1206]
[2012,null,null,"nrwl/nx","https://github.com/nrwl/nx",14772,1420]
[2013,null,null,"dyc87112/SpringBoot-Learning","https://github.com/dyc87112/SpringBoot-Learning",14757,4788]
[2014,null,null,"keystonejs/keystone-classic","https://github.com/keystonejs/keystone-classic",14721,2289]
[2015,null,null,"riot/riot","https://github.com/riot/riot",14699,1023]
[2016,null,null,"jobbole/awesome-java-cn","https://github.com/jobbole/awesome-java-cn",14691,4681]
[2017,null,null,"twitter/twemoji","https://github.com/twitter/twemoji",14684,1683]
[2018,null,null,"kholia/OSX-KVM","https://github.com/kholia/OSX-KVM",14674,1468]
[2019,null,null,"abhisheknaiidu/awesome-github-profile-readme","https://github.com/abhisheknaiidu/awesome-github-profile-readme",14676,2582]
[2020,null,null,"google/filament","https://github.com/google/filament",14666,1467]
[2021,null,null,"rupa/z","https://github.com/rupa/z",14665,1136]
[2022,null,null,"Carthage/Carthage","https://github.com/Carthage/Carthage",14661,1609]
[2023,null,null,"InstaPy/InstaPy","https://github.com/InstaPy/InstaPy",14659,3646]
[2024,null,null,"be5invis/Iosevka","https://github.com/be5invis/Iosevka",14660,482]
[2025,null,null,"AssemblyScript/assemblyscript","https://github.com/AssemblyScript/assemblyscript",14625,613]
[2026,null,null,"XIU2/TrackersListCollection","https://github.com/XIU2/TrackersListCollection",14630,1203]
[2027,null,null,"grab/front-end-guide","https://github.com/grab/front-end-guide",14620,1144]
[2028,null,null,"pyscript/pyscript","https://github.com/pyscript/pyscript",14623,1054]
[2029,null,null,"saadeghi/daisyui","https://github.com/saadeghi/daisyui",14612,592]
[2030,null,null,"aframevr/aframe","https://github.com/aframevr/aframe",14603,3539]
[2031,null,null,"ethereum/wiki","https://github.com/ethereum/wiki",14600,2653]
[2032,null,null,"Kr1s77/awesome-python-login-model","https://github.com/Kr1s77/awesome-python-login-model",14585,3142]
[2033,null,null,"mhinz/vim-galore","https://github.com/mhinz/vim-galore",14585,579]
[2034,null,null,"flipped-aurora/gin-vue-admin","https://github.com/flipped-aurora/gin-vue-admin",14563,4330]
[2035,null,null,"TheAlgorithms/C","https://github.com/TheAlgorithms/C",14558,3643]
[2036,null,null,"yanue/V2rayU","https://github.com/yanue/V2rayU",14530,2358]
[2037,null,null,"xbmc/xbmc","https://github.com/xbmc/xbmc",14524,6007]
[2038,null,null,"dipakkr/A-to-Z-Resources-for-Students","https://github.com/dipakkr/A-to-Z-Resources-for-Students",14509,4316]
[2039,null,null,"twbs/ratchet","https://github.com/twbs/ratchet",14509,1495]
[2040,null,null,"cmusatyalab/openface","https://github.com/cmusatyalab/openface",14508,3590]
[2041,null,null,"julienschmidt/httprouter","https://github.com/julienschmidt/httprouter",14506,1381]
[2042,null,null,"wangeditor-team/wangEditor","https://github.com/wangeditor-team/wangEditor",14497,2919]
[2043,null,null,"checkly/headless-recorder","https://github.com/checkly/headless-recorder",14481,679]
[2044,null,null,"frappe/charts","https://github.com/frappe/charts",14482,719]
[2045,null,null,"barryvdh/laravel-debugbar","https://github.com/barryvdh/laravel-debugbar",14473,1408]
[2046,null,null,"cyrildiagne/ar-cutpaste","https://github.com/cyrildiagne/ar-cutpaste",14456,2052]
[2047,null,null,"alexpate/awesome-design-systems","https://github.com/alexpate/awesome-design-systems",14446,974]
[2048,null,null,"angular-ui/bootstrap","https://github.com/angular-ui/bootstrap",14432,6940]
[2049,null,null,"CopyTranslator/CopyTranslator","https://github.com/CopyTranslator/CopyTranslator",14439,1796]
[2050,null,null,"rsms/inter","https://github.com/rsms/inter",14425,363]
[2051,null,null,"Tencent/weui-wxss","https://github.com/Tencent/weui-wxss",14424,5300]
[2052,null,null,"rbenv/rbenv","https://github.com/rbenv/rbenv",14416,1378]
[2053,null,null,"pocketbase/pocketbase","https://github.com/pocketbase/pocketbase",14408,482]
[2054,null,null,"JetBrains/intellij-community","https://github.com/JetBrains/intellij-community",14389,4654]
[2055,null,null,"esp8266/Arduino","https://github.com/esp8266/Arduino",14386,12708]
[2056,null,null,"learn-anything/learn-anything","https://github.com/learn-anything/learn-anything",14388,936]
[2057,null,null,"maxwellito/vivus","https://github.com/maxwellito/vivus",14373,1137]
[2058,null,null,"mjmlio/mjml","https://github.com/mjmlio/mjml",14370,876]
[2059,null,null,"facebookarchive/prepack","https://github.com/facebookarchive/prepack",14364,488]
[2060,null,null,"kailashahirwar/cheatsheets-ai","https://github.com/kailashahirwar/cheatsheets-ai",14355,3431]
[2061,null,null,"medcl/elasticsearch-analysis-ik","https://github.com/medcl/elasticsearch-analysis-ik",14352,3049]
[2062,null,null,"imarvinle/awesome-cs-books","https://github.com/imarvinle/awesome-cs-books",14353,2320]
[2063,null,null,"cayleygraph/cayley","https://github.com/cayleygraph/cayley",14345,1278]
[2064,null,null,"rakyll/hey","https://github.com/rakyll/hey",14341,997]
[2065,null,null,"authelia/authelia","https://github.com/authelia/authelia",14321,797]
[2066,null,null,"hdodenhof/CircleImageView","https://github.com/hdodenhof/CircleImageView",14313,3129]
[2067,null,null,"sunym1993/flash-linux0.11-talk","https://github.com/sunym1993/flash-linux0.11-talk",14317,1817]
[2068,null,null,"Jam3/math-as-code","https://github.com/Jam3/math-as-code",14301,1050]
[2069,null,null,"521xueweihan/git-tips","https://github.com/521xueweihan/git-tips",14295,3121]
[2070,null,null,"spacedriveapp/spacedrive","https://github.com/spacedriveapp/spacedrive",14291,368]
[2071,null,null,"geeeeeeeeek/git-recipes","https://github.com/geeeeeeeeek/git-recipes",14284,3510]
[2072,null,null,"OpenEmu/OpenEmu","https://github.com/OpenEmu/OpenEmu",14283,1237]
[2073,null,null,"infinitered/ignite","https://github.com/infinitered/ignite",14274,1165]
[2074,null,null,"ArchiveBox/ArchiveBox","https://github.com/ArchiveBox/ArchiveBox",14270,825]
[2075,null,null,"uNetworking/uWebSockets","https://github.com/uNetworking/uWebSockets",14252,1594]
[2076,null,null,"markdown-it/markdown-it","https://github.com/markdown-it/markdown-it",14245,1536]
[2077,null,null,"erusev/parsedown","https://github.com/erusev/parsedown",14238,1086]
[2078,null,null,"alan2207/bulletproof-react","https://github.com/alan2207/bulletproof-react",14241,1171]
[2079,null,null,"microsoft/LightGBM","https://github.com/microsoft/LightGBM",14230,3634]
[2080,null,null,"commitizen/cz-cli","https://github.com/commitizen/cz-cli",14230,546]
[2081,null,null,"grpc-ecosystem/grpc-gateway","https://github.com/grpc-ecosystem/grpc-gateway",14227,1860]
[2082,null,null,"justadudewhohacks/face-api.js","https://github.com/justadudewhohacks/face-api.js",14227,3283]
[2083,null,null,"wting/autojump","https://github.com/wting/autojump",14227,664]
[2084,null,null,"google/libphonenumber","https://github.com/google/libphonenumber",14221,1892]
[2085,null,null,"openjdk/jdk","https://github.com/openjdk/jdk",14221,3936]
[2086,null,null,"browserify/browserify","https://github.com/browserify/browserify",14215,1245]
[2087,null,null,"Moya/Moya","https://github.com/Moya/Moya",14211,1877]
[2088,null,null,"ipfs/kubo","https://github.com/ipfs/kubo",14207,2809]
[2089,null,null,"simple-icons/simple-icons","https://github.com/simple-icons/simple-icons",14202,2024]
[2090,null,null,"huggingface/datasets","https://github.com/huggingface/datasets",14185,1854]
[2091,null,null,"sass/sass","https://github.com/sass/sass",14169,2007]
[2092,null,null,"graphql/graphiql","https://github.com/graphql/graphiql",14167,1546]
[2093,null,null,"dogecoin/dogecoin","https://github.com/dogecoin/dogecoin",14162,2619]
[2094,null,null,"Qv2ray/Qv2ray","https://github.com/Qv2ray/Qv2ray",14154,3004]
[2095,null,null,"medusajs/medusa","https://github.com/medusajs/medusa",14163,873]
[2096,null,null,"feathersjs/feathers","https://github.com/feathersjs/feathers",14147,685]
[2097,null,null,"microsoft/recommenders","https://github.com/microsoft/recommenders",14142,2494]
[2098,null,null,"redox-os/redox","https://github.com/redox-os/redox",14119,896]
[2099,null,null,"modood/Administrative-divisions-of-China","https://github.com/modood/Administrative-divisions-of-China",14088,6515]
[2100,null,null,"vbenjs/vue-vben-admin","https://github.com/vbenjs/vue-vben-admin",14091,3931]
[2101,null,null,"remotion-dev/remotion","https://github.com/remotion-dev/remotion",14089,602]
[2102,null,null,"microsoft/fluentui","https://github.com/microsoft/fluentui",14077,2310]
[2103,null,null,"bootstrap-vue/bootstrap-vue","https://github.com/bootstrap-vue/bootstrap-vue",14068,1893]
[2104,null,null,"marcuswestin/WebViewJavascriptBridge","https://github.com/marcuswestin/WebViewJavascriptBridge",14042,2951]
[2105,null,null,"pittcsc/Summer2023-Internships","https://github.com/pittcsc/Summer2023-Internships",14035,1449]
[2106,null,null,"kamranahmedse/driver.js","https://github.com/kamranahmedse/driver.js",14031,788]
[2107,null,null,"fbsamples/f8app","https://github.com/fbsamples/f8app",14028,2637]
[2108,null,null,"prestodb/presto","https://github.com/prestodb/presto",14022,4815]
[2109,null,null,"koel/koel","https://github.com/koel/koel",14018,1779]
[2110,null,null,"hyperledger/fabric","https://github.com/hyperledger/fabric",14020,8218]
[2111,null,null,"gztchan/awesome-design","https://github.com/gztchan/awesome-design",14007,1148]
[2112,null,null,"hapijs/hapi","https://github.com/hapijs/hapi",14005,1363]
[2113,null,null,"janpaepke/ScrollMagic","https://github.com/janpaepke/ScrollMagic",14003,2058]
[2114,null,null,"MengTo/Spring","https://github.com/MengTo/Spring",14003,1830]
[2115,null,null,"yiisoft/yii2","https://github.com/yiisoft/yii2",14000,7002]
[2116,null,null,"material-components/material-components-android","https://github.com/material-components/material-components-android",13990,2793]
[2117,null,null,"ty4z2008/Qix","https://github.com/ty4z2008/Qix",13980,4725]
[2118,null,null,"wtfutil/wtf","https://github.com/wtfutil/wtf",13982,763]
[2119,null,null,"mahmoud/awesome-python-applications","https://github.com/mahmoud/awesome-python-applications",13977,2454]
[2120,null,null,"alibaba/ARouter","https://github.com/alibaba/ARouter",13965,2493]
[2121,null,null,"afshinea/stanford-cs-229-machine-learning","https://github.com/afshinea/stanford-cs-229-machine-learning",13965,3424]
[2122,null,null,"deviantony/docker-elk","https://github.com/deviantony/docker-elk",13952,5817]
[2123,null,null,"mxcl/PromiseKit","https://github.com/mxcl/PromiseKit",13949,1460]
[2124,null,null,"verdaccio/verdaccio","https://github.com/verdaccio/verdaccio",13943,1250]
[2125,null,null,"gpujs/gpu.js","https://github.com/gpujs/gpu.js",13944,665]
[2126,null,null,"ibireme/YYKit","https://github.com/ibireme/YYKit",13940,3665]
[2127,null,null,"google/cadvisor","https://github.com/google/cadvisor",13929,2097]
[2128,null,null,"JaeYeopHan/Interview_Question_for_Beginner","https://github.com/JaeYeopHan/Interview_Question_for_Beginner",13925,3794]
[2129,null,null,"mdx-js/mdx","https://github.com/mdx-js/mdx",13922,1138]
[2130,null,null,"automerge/automerge","https://github.com/automerge/automerge",13908,4050]
[2131,null,null,"textmate/textmate","https://github.com/textmate/textmate",13888,1759]
[2132,null,null,"graphql/graphql-spec","https://github.com/graphql/graphql-spec",13892,1147]
[2133,null,null,"FormidableLabs/webpack-dashboard","https://github.com/FormidableLabs/webpack-dashboard",13884,427]
[2134,null,null,"GoogleContainerTools/distroless","https://github.com/GoogleContainerTools/distroless",13884,797]
[2135,null,null,"scala/scala","https://github.com/scala/scala",13881,3142]
[2136,null,null,"wangshub/wechat_jump_game","https://github.com/wangshub/wechat_jump_game",13876,4441]
[2137,null,null,"PerfectlySoft/Perfect","https://github.com/PerfectlySoft/Perfect",13872,974]
[2138,null,null,"python/mypy","https://github.com/python/mypy",13872,2315]
[2139,null,null,"brave/brave-browser","https://github.com/brave/brave-browser",13869,1620]
[2140,null,null,"geeeeeeeeek/electronic-wechat","https://github.com/geeeeeeeeek/electronic-wechat",13862,2816]
[2141,null,null,"keepassxreboot/keepassxc","https://github.com/keepassxreboot/keepassxc",13859,1101]
[2142,null,null,"ahmetb/kubectx","https://github.com/ahmetb/kubectx",13857,1001]
[2143,null,null,"CocoaPods/CocoaPods","https://github.com/CocoaPods/CocoaPods",13851,2567]
[2144,null,null,"twintproject/twint","https://github.com/twintproject/twint",13845,2368]
[2145,null,null,"milvus-io/milvus","https://github.com/milvus-io/milvus",13843,1842]
[2146,null,null,"programthink/books","https://github.com/programthink/books",13838,2762]
[2147,null,null,"h2y/Shadowrocket-ADBlock-Rules","https://github.com/h2y/Shadowrocket-ADBlock-Rules",13831,2266]
[2148,null,null,"marcuswestin/store.js","https://github.com/marcuswestin/store.js",13830,1399]
[2149,null,null,"cube-js/cube.js","https://github.com/cube-js/cube.js",13827,1415]
[2150,null,null,"thomaspark/bootswatch","https://github.com/thomaspark/bootswatch",13828,3665]
[2151,null,null,"lewagon/setup","https://github.com/lewagon/setup",13823,1328]
[2152,null,null,"chokcoco/iCSS","https://github.com/chokcoco/iCSS",13820,1474]
[2153,null,null,"xtermjs/xterm.js","https://github.com/xtermjs/xterm.js",13816,1367]
[2154,null,null,"MarlinFirmware/Marlin","https://github.com/MarlinFirmware/Marlin",13813,17239]
[2155,null,null,"Tencent/QMUI_Android","https://github.com/Tencent/QMUI_Android",13801,2627]
[2156,null,null,"timescale/timescaledb","https://github.com/timescale/timescaledb",13795,727]
[2157,null,null,"emilwallner/Screenshot-to-code","https://github.com/emilwallner/Screenshot-to-code",13783,1388]
[2158,null,null,"lettier/3d-game-shaders-for-beginners","https://github.com/lettier/3d-game-shaders-for-beginners",13780,1073]
[2159,null,null,"HubSpot/youmightnotneedjquery","https://github.com/HubSpot/youmightnotneedjquery",13770,527]
[2160,null,null,"jupyter/jupyter","https://github.com/jupyter/jupyter",13759,3541]
[2161,null,null,"valeriansaliou/sonic","https://github.com/valeriansaliou/sonic",13753,472]
[2162,null,null,"ochococo/Design-Patterns-In-Swift","https://github.com/ochococo/Design-Patterns-In-Swift",13744,1634]
[2163,null,null,"chatwoot/chatwoot","https://github.com/chatwoot/chatwoot",13740,1788]
[2164,null,null,"infinitered/reactotron","https://github.com/infinitered/reactotron",13738,902]
[2165,null,null,"liabru/matter-js","https://github.com/liabru/matter-js",13734,1833]
[2166,null,null,"mnielsen/neural-networks-and-deep-learning","https://github.com/mnielsen/neural-networks-and-deep-learning",13731,6098]
[2167,null,null,"calcom/cal.com","https://github.com/calcom/cal.com",13725,1625]
[2168,null,null,"android-hacker/VirtualXposed","https://github.com/android-hacker/VirtualXposed",13723,2365]
[2169,null,null,"keon/awesome-nlp","https://github.com/keon/awesome-nlp",13716,2426]
[2170,null,null,"greyireland/algorithm-pattern","https://github.com/greyireland/algorithm-pattern",13712,2462]
[2171,null,null,"ccgus/fmdb","https://github.com/ccgus/fmdb",13691,2791]
[2172,null,null,"apple/swift-evolution","https://github.com/apple/swift-evolution",13691,2287]
[2173,null,null,"angular-ui/ui-router","https://github.com/angular-ui/ui-router",13690,3117]
[2174,null,null,"Textualize/textual","https://github.com/Textualize/textual",13669,365]
[2175,null,null,"stephentian/33-js-concepts","https://github.com/stephentian/33-js-concepts",13662,2205]
[2176,null,null,"fabric/fabric","https://github.com/fabric/fabric",13661,1911]
[2177,null,null,"ToolJet/ToolJet","https://github.com/ToolJet/ToolJet",13689,1184]
[2178,null,null,"CoderMJLee/MJRefresh","https://github.com/CoderMJLee/MJRefresh",13656,3553]
[2179,null,null,"foreversd/forever","https://github.com/foreversd/forever",13644,984]
[2180,null,null,"microsoft/WSL","https://github.com/microsoft/WSL",13632,694]
[2181,null,null,"brendangregg/FlameGraph","https://github.com/brendangregg/FlameGraph",13627,1658]
[2182,null,null,"tc39/ecma262","https://github.com/tc39/ecma262",13627,1253]
[2183,null,null,"interagent/http-api-design","https://github.com/interagent/http-api-design",13618,1084]
[2184,null,null,"nim-lang/Nim","https://github.com/nim-lang/Nim",13618,1322]
[2185,null,null,"edent/SuperTinyIcons","https://github.com/edent/SuperTinyIcons",13612,808]
[2186,null,null,"chentsulin/awesome-graphql","https://github.com/chentsulin/awesome-graphql",13610,1198]
[2187,null,null,"thunlp/GNNPapers","https://github.com/thunlp/GNNPapers",13606,2755]
[2188,null,null,"OpenAPITools/openapi-generator","https://github.com/OpenAPITools/openapi-generator",13602,4618]
[2189,null,null,"bradtraversy/vanillawebprojects","https://github.com/bradtraversy/vanillawebprojects",13585,3889]
[2190,null,null,"trpc/trpc","https://github.com/trpc/trpc",13591,419]
[2191,null,null,"williamfiset/Algorithms","https://github.com/williamfiset/Algorithms",13578,3703]
[2192,null,null,"adobe-webplatform/Snap.svg","https://github.com/adobe-webplatform/Snap.svg",13566,1169]
[2193,null,null,"lgvalle/Material-Animations","https://github.com/lgvalle/Material-Animations",13564,2530]
[2194,null,null,"RaRe-Technologies/gensim","https://github.com/RaRe-Technologies/gensim",13565,4273]
[2195,null,null,"trufflesuite/truffle","https://github.com/trufflesuite/truffle",13563,2256]
[2196,null,null,"kubernetes/ingress-nginx","https://github.com/kubernetes/ingress-nginx",13562,7028]
[2197,null,null,"flutter/samples","https://github.com/flutter/samples",13556,6098]
[2198,null,null,"google/WebFundamentals","https://github.com/google/WebFundamentals",13550,2720]
[2199,null,null,"microsoft/AirSim","https://github.com/microsoft/AirSim",13548,3868]
[2200,null,null,"facebook/infer","https://github.com/facebook/infer",13537,1861]
[2201,null,null,"selfteaching/the-craft-of-selfteaching","https://github.com/selfteaching/the-craft-of-selfteaching",13539,14889]
[2202,null,null,"powerline/powerline","https://github.com/powerline/powerline",13524,1005]
[2203,null,null,"wechaty/wechaty","https://github.com/wechaty/wechaty",13522,1895]
[2204,null,null,"amazeui/amazeui","https://github.com/amazeui/amazeui",13521,2550]
[2205,null,null,"react-native-maps/react-native-maps","https://github.com/react-native-maps/react-native-maps",13514,4708]
[2206,null,null,"brix/crypto-js","https://github.com/brix/crypto-js",13502,1958]
[2207,null,null,"shelljs/shelljs","https://github.com/shelljs/shelljs",13496,740]
[2208,null,null,"facebookarchive/AsyncDisplayKit","https://github.com/facebookarchive/AsyncDisplayKit",13492,2291]
[2209,null,null,"CarGuo/gsy_github_app_flutter","https://github.com/CarGuo/gsy_github_app_flutter",13493,2412]
[2210,null,null,"helix-editor/helix","https://github.com/helix-editor/helix",13488,863]
[2211,null,null,"vurtun/nuklear","https://github.com/vurtun/nuklear",13474,1120]
[2212,null,null,"getgrav/grav","https://github.com/getgrav/grav",13474,1355]
[2213,null,null,"pavlobu/deskreen","https://github.com/pavlobu/deskreen",13471,725]
[2214,null,null,"RobinLinus/snapdrop","https://github.com/RobinLinus/snapdrop",13459,1218]
[2215,null,null,"MithrilJS/mithril.js","https://github.com/MithrilJS/mithril.js",13451,952]
[2216,null,null,"zalmoxisus/redux-devtools-extension","https://github.com/zalmoxisus/redux-devtools-extension",13439,1055]
[2217,null,null,"philipwalton/flexbugs","https://github.com/philipwalton/flexbugs",13437,490]
[2218,null,null,"bcicen/ctop","https://github.com/bcicen/ctop",13438,511]
[2219,null,null,"Unity-Technologies/ml-agents","https://github.com/Unity-Technologies/ml-agents",13435,3565]
[2220,null,null,"umijs/qiankun","https://github.com/umijs/qiankun",13434,1746]
[2221,null,null,"eczarny/spectacle","https://github.com/eczarny/spectacle",13423,814]
[2222,null,null,"orhanobut/logger","https://github.com/orhanobut/logger",13419,2127]
[2223,null,null,"bharathgs/Awesome-pytorch-list","https://github.com/bharathgs/Awesome-pytorch-list",13422,2729]
[2224,null,null,"froala/design-blocks","https://github.com/froala/design-blocks",13406,1279]
[2225,null,null,"qmk/qmk_firmware","https://github.com/qmk/qmk_firmware",13391,28462]
[2226,null,null,"formatjs/formatjs","https://github.com/formatjs/formatjs",13384,1353]
[2227,null,null,"Powerlevel9k/powerlevel9k","https://github.com/Powerlevel9k/powerlevel9k",13382,976]
[2228,null,null,"iCHAIT/awesome-macOS","https://github.com/iCHAIT/awesome-macOS",13375,1020]
[2229,null,null,"kovidgoyal/calibre","https://github.com/kovidgoyal/calibre",13369,1773]
[2230,null,null,"ether/etherpad-lite","https://github.com/ether/etherpad-lite",13362,2447]
[2231,null,null,"dcloudio/mui","https://github.com/dcloudio/mui",13361,6723]
[2232,null,null,"onnx/onnx","https://github.com/onnx/onnx",13354,3037]
[2233,null,null,"youfou/wxpy","https://github.com/youfou/wxpy",13352,2362]
[2234,null,null,"paperjs/paper.js","https://github.com/paperjs/paper.js",13349,1182]
[2235,null,null,"flarum/flarum","https://github.com/flarum/flarum",13348,1434]
[2236,null,null,"virgili0/Virgilio","https://github.com/virgili0/Virgilio",13339,2501]
[2237,null,null,"dropbox/zxcvbn","https://github.com/dropbox/zxcvbn",13339,891]
[2238,null,null,"Rigellute/spotify-tui","https://github.com/Rigellute/spotify-tui",13332,423]
[2239,null,null,"mockito/mockito","https://github.com/mockito/mockito",13327,2320]
[2240,null,null,"umami-software/umami","https://github.com/umami-software/umami",13328,2003]
[2241,null,null,"dutchcoders/transfer.sh","https://github.com/dutchcoders/transfer.sh",13307,1390]
[2242,null,null,"DIYgod/DPlayer","https://github.com/DIYgod/DPlayer",13299,2257]
[2243,null,null,"strongloop/loopback","https://github.com/strongloop/loopback",13295,1238]
[2244,null,null,"Konloch/bytecode-viewer","https://github.com/Konloch/bytecode-viewer",13288,1055]
[2245,null,null,"Foundry376/Mailspring","https://github.com/Foundry376/Mailspring",13278,831]
[2246,null,null,"trekhleb/learn-python","https://github.com/trekhleb/learn-python",13269,2175]
[2247,null,null,"BrainJS/brain.js","https://github.com/BrainJS/brain.js",13262,1058]
[2248,null,null,"chriskempson/tomorrow-theme","https://github.com/chriskempson/tomorrow-theme",13259,3237]
[2249,null,null,"walter201230/Python","https://github.com/walter201230/Python",13251,3978]
[2250,null,null,"prisma-archive/chromeless","https://github.com/prisma-archive/chromeless",13240,609]
[2251,null,null,"FLEXTool/FLEX","https://github.com/FLEXTool/FLEX",13214,1591]
[2252,null,null,"jobbole/awesome-programming-books","https://github.com/jobbole/awesome-programming-books",13212,3338]
[2253,null,null,"android/compose-samples","https://github.com/android/compose-samples",13211,3079]
[2254,null,null,"arduino/Arduino","https://github.com/arduino/Arduino",13200,7054]
[2255,null,null,"txthinking/brook","https://github.com/txthinking/brook",13185,2395]
[2256,null,null,"Bigkoo/Android-PickerView","https://github.com/Bigkoo/Android-PickerView",13182,3407]
[2257,null,null,"boltdb/bolt","https://github.com/boltdb/bolt",13179,1885]
[2258,null,null,"louischatriot/nedb","https://github.com/louischatriot/nedb",13178,1014]
[2259,null,null,"jsdoc/jsdoc","https://github.com/jsdoc/jsdoc",13178,1440]
[2260,null,null,"mozilla/send","https://github.com/mozilla/send",13177,1488]
[2261,null,null,"eclipse-vertx/vert.x","https://github.com/eclipse-vertx/vert.x",13176,1966]
[2262,null,null,"Bash-it/bash-it","https://github.com/Bash-it/bash-it",13175,2272]
[2263,null,null,"OpenGenus/cosmos","https://github.com/OpenGenus/cosmos",13174,3498]
[2264,null,null,"unbug/codelf","https://github.com/unbug/codelf",13158,966]
[2265,null,null,"angular/angular-seed","https://github.com/angular/angular-seed",13148,7091]
[2266,null,null,"TKkk-iOSer/WeChatPlugin-MacOS","https://github.com/TKkk-iOSer/WeChatPlugin-MacOS",13140,2430]
[2267,null,null,"imthenachoman/How-To-Secure-A-Linux-Server","https://github.com/imthenachoman/How-To-Secure-A-Linux-Server",13128,861]
[2268,null,null,"diaspora/diaspora","https://github.com/diaspora/diaspora",13123,2944]
[2269,null,null,"bvaughn/react-window","https://github.com/bvaughn/react-window",13126,734]
[2270,null,null,"chromium/chromium","https://github.com/chromium/chromium",13117,4981]
[2271,null,null,"ramitsurana/awesome-kubernetes","https://github.com/ramitsurana/awesome-kubernetes",13113,2092]
[2272,null,null,"umijs/umi","https://github.com/umijs/umi",13109,2341]
[2273,null,null,"google/deepdream","https://github.com/google/deepdream",13104,3239]
[2274,null,null,"wasmerio/wasmer","https://github.com/wasmerio/wasmer",13102,571]
[2275,null,null,"labmlai/annotated_deep_learning_paper_implementations","https://github.com/labmlai/annotated_deep_learning_paper_implementations",13095,1403]
[2276,null,null,"Curzibn/Luban","https://github.com/Curzibn/Luban",13088,2207]
[2277,null,null,"OptimalBits/bull","https://github.com/OptimalBits/bull",13078,1382]
[2278,null,null,"moment/luxon","https://github.com/moment/luxon",13074,672]
[2279,null,null,"antlr/antlr4","https://github.com/antlr/antlr4",13074,2837]
[2280,null,null,"reduxjs/redux-devtools","https://github.com/reduxjs/redux-devtools",13069,1060]
[2281,null,null,"pomber/git-history","https://github.com/pomber/git-history",13068,534]
[2282,null,null,"dolthub/dolt","https://github.com/dolthub/dolt",13061,375]
[2283,null,null,"microsoft/dotnet","https://github.com/microsoft/dotnet",13053,2105]
[2284,null,null,"unlock-music/unlock-music","https://github.com/unlock-music/unlock-music",13045,232]
[2285,null,null,"leandromoreira/digital_video_introduction","https://github.com/leandromoreira/digital_video_introduction",13043,1136]
[2286,null,null,"Delgan/loguru","https://github.com/Delgan/loguru",13037,552]
[2287,null,null,"AdguardTeam/AdGuardHome","https://github.com/AdguardTeam/AdGuardHome",13040,1243]
[2288,null,null,"expo/create-react-native-app","https://github.com/expo/create-react-native-app",13029,1433]
[2289,null,null,"dariubs/GoBooks","https://github.com/dariubs/GoBooks",13028,1769]
[2290,null,null,"adonisjs/core","https://github.com/adonisjs/core",13026,592]
[2291,null,null,"sorin-ionescu/prezto","https://github.com/sorin-ionescu/prezto",13023,4485]
[2292,null,null,"Wilfred/difftastic","https://github.com/Wilfred/difftastic",13024,193]
[2293,null,null,"pallets/click","https://github.com/pallets/click",13020,1286]
[2294,null,null,"xtaci/kcptun","https://github.com/xtaci/kcptun",13019,2504]
[2295,null,null,"golang/dep","https://github.com/golang/dep",13008,1098]
[2296,null,null,"koekeishiya/yabai","https://github.com/koekeishiya/yabai",13006,454]
[2297,null,null,"qax-os/excelize","https://github.com/qax-os/excelize",13005,1324]
[2298,null,null,"arialdomartini/Back-End-Developer-Interview-Questions","https://github.com/arialdomartini/Back-End-Developer-Interview-Questions",13004,1667]
[2299,null,null,"searx/searx","https://github.com/searx/searx",12000,1648]
[2300,null,null,"rubocop/rubocop","https://github.com/rubocop/rubocop",11996,2914]
[2301,null,null,"answershuto/learnVue","https://github.com/answershuto/learnVue",11989,2528]
[2302,null,null,"kaldi-asr/kaldi","https://github.com/kaldi-asr/kaldi",11988,5069]
[2303,null,null,"webpack-contrib/webpack-bundle-analyzer","https://github.com/webpack-contrib/webpack-bundle-analyzer",11987,497]
[2304,null,null,"video-dev/hls.js","https://github.com/video-dev/hls.js",11983,2299]
[2305,null,null,"react-dates/react-dates","https://github.com/react-dates/react-dates",11979,1720]
[2306,null,null,"frappe/erpnext","https://github.com/frappe/erpnext",11976,4856]
[2307,null,null,"tinymce/tinymce","https://github.com/tinymce/tinymce",11975,1997]
[2308,null,null,"spree/spree","https://github.com/spree/spree",11973,4878]
[2309,null,null,"Tonejs/Tone.js","https://github.com/Tonejs/Tone.js",11971,919]
[2310,null,null,"LuckSiege/PictureSelector","https://github.com/LuckSiege/PictureSelector",11941,2774]
[2311,null,null,"OI-wiki/OI-wiki","https://github.com/OI-wiki/OI-wiki",11940,2514]
[2312,null,null,"hyb1996/Auto.js","https://github.com/hyb1996/Auto.js",11938,3729]
[2313,null,null,"tgbot-collection/YYeTsBot","https://github.com/tgbot-collection/YYeTsBot",11940,1604]
[2314,null,null,"FaridSafi/react-native-gifted-chat","https://github.com/FaridSafi/react-native-gifted-chat",11937,3408]
[2315,null,null,"nicklockwood/iCarousel","https://github.com/nicklockwood/iCarousel",11930,2583]
[2316,null,null,"CosmicMind/Material","https://github.com/CosmicMind/Material",11930,1284]
[2317,null,null,"tpope/vim-pathogen","https://github.com/tpope/vim-pathogen",11926,1221]
[2318,null,null,"wailsapp/wails","https://github.com/wailsapp/wails",11927,549]
[2319,null,null,"codesandbox/codesandbox-client","https://github.com/codesandbox/codesandbox-client",11906,2031]
[2320,null,null,"rjsf-team/react-jsonschema-form","https://github.com/rjsf-team/react-jsonschema-form",11906,1958]
[2321,null,null,"sqshq/piggymetrics","https://github.com/sqshq/piggymetrics",11905,5734]
[2322,null,null,"roots/sage","https://github.com/roots/sage",11902,3009]
[2323,null,null,"PuerkitoBio/goquery","https://github.com/PuerkitoBio/goquery",11899,861]
[2324,null,null,"kubeflow/kubeflow","https://github.com/kubeflow/kubeflow",11895,2018]
[2325,null,null,"upptime/upptime","https://github.com/upptime/upptime",11892,657]
[2326,null,null,"1995parham/github-do-not-ban-us","https://github.com/1995parham/github-do-not-ban-us",11880,1141]
[2327,null,null,"Miserlou/Zappa","https://github.com/Miserlou/Zappa",11879,1260]
[2328,null,null,"apexcharts/apexcharts.js","https://github.com/apexcharts/apexcharts.js",11841,1007]
[2329,null,null,"bettercap/bettercap","https://github.com/bettercap/bettercap",11840,1206]
[2330,null,null,"davidshimjs/qrcodejs","https://github.com/davidshimjs/qrcodejs",11842,4613]
[2331,null,null,"ramsey/uuid","https://github.com/ramsey/uuid",11835,473]
[2332,null,null,"containrrr/watchtower","https://github.com/containrrr/watchtower",11832,653]
[2333,null,null,"OpenRA/OpenRA","https://github.com/OpenRA/OpenRA",11827,2442]
[2334,null,null,"reactioncommerce/reaction","https://github.com/reactioncommerce/reaction",11814,2143]
[2335,null,null,"phobal/ivideo","https://github.com/phobal/ivideo",11814,3273]
[2336,null,null,"BrowserSync/browser-sync","https://github.com/BrowserSync/browser-sync",11812,777]
[2337,null,null,"Tamsiree/RxTool","https://github.com/Tamsiree/RxTool",11808,2848]
[2338,null,null,"segmentio/evergreen","https://github.com/segmentio/evergreen",11809,812]
[2339,null,null,"denisidoro/navi","https://github.com/denisidoro/navi",11809,439]
[2340,null,null,"getlantern/lantern","https://github.com/getlantern/lantern",11810,11532]
[2341,null,null,"nextauthjs/next-auth","https://github.com/nextauthjs/next-auth",11806,1405]
[2342,null,null,"XiangLinPro/IT_book","https://github.com/XiangLinPro/IT_book",11808,3318]
[2343,null,null,"scottbez1/smartknob","https://github.com/scottbez1/smartknob",11805,695]
[2344,null,null,"yujiangshui/A-Programmers-Guide-to-English","https://github.com/yujiangshui/A-Programmers-Guide-to-English",11795,1219]
[2345,null,null,"nusr/hacker-laws-zh","https://github.com/nusr/hacker-laws-zh",11788,986]
[2346,null,null,"ShangtongZhang/reinforcement-learning-an-introduction","https://github.com/ShangtongZhang/reinforcement-learning-an-introduction",11783,4532]
[2347,null,null,"krasimir/react-in-patterns","https://github.com/krasimir/react-in-patterns",11781,828]
[2348,null,null,"tj/co","https://github.com/tj/co",11773,823]
[2349,null,null,"graphql/dataloader","https://github.com/graphql/dataloader",11769,505]
[2350,null,null,"dotnet/efcore","https://github.com/dotnet/efcore",11768,2823]
[2351,null,null,"nexe/nexe","https://github.com/nexe/nexe",11771,524]
[2352,null,null,"peterq/pan-light","https://github.com/peterq/pan-light",11763,2471]
[2353,null,null,"jaredreich/pell","https://github.com/jaredreich/pell",11763,609]
[2354,null,null,"waditu/tushare","https://github.com/waditu/tushare",11762,4223]
[2355,null,null,"karma-runner/karma","https://github.com/karma-runner/karma",11752,1750]
[2356,null,null,"Hunlongyu/ZY-Player","https://github.com/Hunlongyu/ZY-Player",11749,1913]
[2357,null,null,"skywind3000/kcp","https://github.com/skywind3000/kcp",11742,2238]
[2358,null,null,"d2-projects/d2-admin","https://github.com/d2-projects/d2-admin",11738,2349]
[2359,null,null,"WZMIAOMIAO/deep-learning-for-image-processing","https://github.com/WZMIAOMIAO/deep-learning-for-image-processing",11744,5359]
[2360,null,null,"SwifterSwift/SwifterSwift","https://github.com/SwifterSwift/SwifterSwift",11736,1468]
[2361,null,null,"s-matyukevich/raspberry-pi-os","https://github.com/s-matyukevich/raspberry-pi-os",11732,1195]
[2362,null,null,"LightTable/LightTable","https://github.com/LightTable/LightTable",11730,939]
[2363,null,null,"marko-js/marko","https://github.com/marko-js/marko",11729,640]
[2364,null,null,"aurelia/framework","https://github.com/aurelia/framework",11728,681]
[2365,null,null,"RelaxedJS/ReLaXed","https://github.com/RelaxedJS/ReLaXed",11726,456]
[2366,null,null,"ent/ent","https://github.com/ent/ent",11727,682]
[2367,null,null,"nock/nock","https://github.com/nock/nock",11717,775]
[2368,null,null,"alex000kim/nsfw_data_scraper","https://github.com/alex000kim/nsfw_data_scraper",11719,2887]
[2369,null,null,"golang/groupcache","https://github.com/golang/groupcache",11713,1308]
[2370,null,null,"sinatra/sinatra","https://github.com/sinatra/sinatra",11709,2067]
[2371,null,null,"pjialin/py12306","https://github.com/pjialin/py12306",11706,3078]
[2372,null,null,"Homebrew/homebrew-core","https://github.com/Homebrew/homebrew-core",11708,10832]
[2373,null,null,"FiloSottile/age","https://github.com/FiloSottile/age",11705,369]
[2374,null,null,"RPCS3/rpcs3","https://github.com/RPCS3/rpcs3",11704,1699]
[2375,null,null,"single-spa/single-spa","https://github.com/single-spa/single-spa",11705,840]
[2376,null,null,"kubernetes/dashboard","https://github.com/kubernetes/dashboard",11702,3735]
[2377,null,null,"java-decompiler/jd-gui","https://github.com/java-decompiler/jd-gui",11703,2145]
[2378,null,null,"bailicangdu/node-elm","https://github.com/bailicangdu/node-elm",11701,3684]
[2379,null,null,"compiler-explorer/compiler-explorer","https://github.com/compiler-explorer/compiler-explorer",11690,1339]
[2380,null,null,"mli/paper-reading","https://github.com/mli/paper-reading",11692,1139]
[2381,null,null,"rasbt/python-machine-learning-book","https://github.com/rasbt/python-machine-learning-book",11686,4427]
[2382,null,null,"ajv-validator/ajv","https://github.com/ajv-validator/ajv",11686,851]
[2383,null,null,"jhuangtw/xg2xg","https://github.com/jhuangtw/xg2xg",11684,855]
[2384,null,null,"ianyh/Amethyst","https://github.com/ianyh/Amethyst",11685,410]
[2385,null,null,"ml-tooling/best-of-ml-python","https://github.com/ml-tooling/best-of-ml-python",11679,1799]
[2386,null,null,"sindresorhus/pure","https://github.com/sindresorhus/pure",11662,939]
[2387,null,null,"tensorflow/tfjs-models","https://github.com/tensorflow/tfjs-models",11653,3701]
[2388,null,null,"facebook/lexical","https://github.com/facebook/lexical",11655,529]
[2389,null,null,"pybind/pybind11","https://github.com/pybind/pybind11",11650,1688]
[2390,null,null,"unixorn/awesome-zsh-plugins","https://github.com/unixorn/awesome-zsh-plugins",11649,479]
[2391,null,null,"networkx/networkx","https://github.com/networkx/networkx",11640,2726]
[2392,null,null,"alexjc/neural-enhance","https://github.com/alexjc/neural-enhance",11620,1381]
[2393,null,null,"lucidrains/vit-pytorch","https://github.com/lucidrains/vit-pytorch",11620,1914]
[2394,null,null,"Python-World/python-mini-projects","https://github.com/Python-World/python-mini-projects",11614,3522]
[2395,null,null,"openai/gpt-3","https://github.com/openai/gpt-3",11607,1453]
[2396,null,null,"tinygo-org/tinygo","https://github.com/tinygo-org/tinygo",11594,643]
[2397,null,null,"Tencent/VasSonic","https://github.com/Tencent/VasSonic",11586,1606]
[2398,null,null,"beekeeper-studio/beekeeper-studio","https://github.com/beekeeper-studio/beekeeper-studio",11590,596]
[2399,null,null,"petehunt/react-howto","https://github.com/petehunt/react-howto",11581,788]
[2400,null,null,"tmuxinator/tmuxinator","https://github.com/tmuxinator/tmuxinator",11580,624]
[2401,null,null,"twitter/twemproxy","https://github.com/twitter/twemproxy",11573,2010]
[2402,null,null,"leemunroe/responsive-html-email-template","https://github.com/leemunroe/responsive-html-email-template",11572,4155]
[2403,null,null,"mikepenz/MaterialDrawer","https://github.com/mikepenz/MaterialDrawer",11571,2084]
[2404,null,null,"veler/DevToys","https://github.com/veler/DevToys",11568,614]
[2405,null,null,"PHPOffice/PhpSpreadsheet","https://github.com/PHPOffice/PhpSpreadsheet",11570,2806]
[2406,null,null,"NetEase/pomelo","https://github.com/NetEase/pomelo",11564,2912]
[2407,null,null,"geektutu/7days-golang","https://github.com/geektutu/7days-golang",11562,1889]
[2408,null,null,"hotwired/stimulus","https://github.com/hotwired/stimulus",11555,341]
[2409,null,null,"Rapptz/discord.py","https://github.com/Rapptz/discord.py",11555,3460]
[2410,null,null,"shengcaishizhan/kkndme_tianya","https://github.com/shengcaishizhan/kkndme_tianya",11545,2421]
[2411,null,null,"graphile/postgraphile","https://github.com/graphile/postgraphile",11539,542]
[2412,null,null,"TheAlgorithms/Rust","https://github.com/TheAlgorithms/Rust",11544,1174]
[2413,null,null,"cloudwu/skynet","https://github.com/cloudwu/skynet",11538,3890]
[2414,null,null,"halfrost/Halfrost-Field","https://github.com/halfrost/Halfrost-Field",11538,1799]
[2415,null,null,"h4cc/awesome-elixir","https://github.com/h4cc/awesome-elixir",11537,1116]
[2416,null,null,"go-martini/martini","https://github.com/go-martini/martini",11526,1134]
[2417,null,null,"meolu/walle-web","https://github.com/meolu/walle-web",11523,2734]
[2418,null,null,"weilanwl/ColorUI","https://github.com/weilanwl/ColorUI",11514,2125]
[2419,null,null,"laradock/laradock","https://github.com/laradock/laradock",11512,4227]
[2420,null,null,"xmartlabs/Eureka","https://github.com/xmartlabs/Eureka",11511,1324]
[2421,null,null,"graykode/nlp-tutorial","https://github.com/graykode/nlp-tutorial",11510,3460]
[2422,null,null,"projectlombok/lombok","https://github.com/projectlombok/lombok",11509,2173]
[2423,null,null,"gopherjs/gopherjs","https://github.com/gopherjs/gopherjs",11506,531]
[2424,null,null,"google/brotli","https://github.com/google/brotli",11506,1113]
[2425,null,null,"go-playground/validator","https://github.com/go-playground/validator",11499,1047]
[2426,null,null,"reactos/reactos","https://github.com/reactos/reactos",11498,1416]
[2427,null,null,"google/guice","https://github.com/google/guice",11491,1606]
[2428,null,null,"tonybeltramelli/pix2code","https://github.com/tonybeltramelli/pix2code",11487,1335]
[2429,null,null,"PHPOffice/PHPExcel","https://github.com/PHPOffice/PHPExcel",11486,4192]
[2430,null,null,"Juanpe/SkeletonView","https://github.com/Juanpe/SkeletonView",11468,1012]
[2431,null,null,"ManimCommunity/manim","https://github.com/ManimCommunity/manim",11467,982]
[2432,null,null,"adobe-fonts/source-han-sans","https://github.com/adobe-fonts/source-han-sans",11462,1187]
[2433,null,null,"github/docs","https://github.com/github/docs",11475,56948]
[2434,null,null,"shengqiangzhang/examples-of-web-crawlers","https://github.com/shengqiangzhang/examples-of-web-crawlers",11453,3489]
[2435,null,null,"jessepollak/card","https://github.com/jessepollak/card",11450,1466]
[2436,null,null,"Matt-Esch/virtual-dom","https://github.com/Matt-Esch/virtual-dom",11446,815]
[2437,null,null,"scottjehl/Respond","https://github.com/scottjehl/Respond",11441,3494]
[2438,null,null,"onivim/oni","https://github.com/onivim/oni",11433,338]
[2439,null,null,"mfornos/awesome-microservices","https://github.com/mfornos/awesome-microservices",11432,1696]
[2440,null,null,"davisking/dlib","https://github.com/davisking/dlib",11430,3123]
[2441,null,null,"FriendsOfPHP/PHP-CS-Fixer","https://github.com/FriendsOfPHP/PHP-CS-Fixer",11430,1441]
[2442,null,null,"polybar/polybar","https://github.com/polybar/polybar",11423,585]
[2443,null,null,"ddbourgin/numpy-ml","https://github.com/ddbourgin/numpy-ml",11421,3166]
[2444,null,null,"ansible/awx","https://github.com/ansible/awx",11422,2945]
[2445,null,null,"mail-in-a-box/mailinabox","https://github.com/mail-in-a-box/mailinabox",11418,1253]
[2446,null,null,"koreader/koreader","https://github.com/koreader/koreader",11414,1043]
[2447,null,null,"gabrielecirulli/2048","https://github.com/gabrielecirulli/2048",11413,16152]
[2448,null,null,"macrozheng/mall-learning","https://github.com/macrozheng/mall-learning",11409,7980]
[2449,null,null,"micro/micro","https://github.com/micro/micro",11407,997]
[2450,null,null,"coreui/coreui-free-bootstrap-admin-template","https://github.com/coreui/coreui-free-bootstrap-admin-template",11404,3019]
[2451,null,null,"opendigg/awesome-github-vue","https://github.com/opendigg/awesome-github-vue",11401,2694]
[2452,null,null,"CodeSeven/toastr","https://github.com/CodeSeven/toastr",11397,2021]
[2453,null,null,"slimphp/Slim","https://github.com/slimphp/Slim",11395,1934]
[2454,null,null,"primer/css","https://github.com/primer/css",11393,1087]
[2455,null,null,"tomnomnom/gron","https://github.com/tomnomnom/gron",11388,275]
[2456,null,null,"antvis/G2","https://github.com/antvis/G2",11376,1475]
[2457,null,null,"junyanz/CycleGAN","https://github.com/junyanz/CycleGAN",11374,1906]
[2458,null,null,"wenzhixin/bootstrap-table","https://github.com/wenzhixin/bootstrap-table",11367,4498]
[2459,null,null,"allenwong/30DaysofSwift","https://github.com/allenwong/30DaysofSwift",11367,2085]
[2460,null,null,"json-iterator/go","https://github.com/json-iterator/go",11365,916]
[2461,null,null,"pagehelper/Mybatis-PageHelper","https://github.com/pagehelper/Mybatis-PageHelper",11356,3084]
[2462,null,null,"luin/ioredis","https://github.com/luin/ioredis",11351,1015]
[2463,null,null,"phpstan/phpstan","https://github.com/phpstan/phpstan",11348,814]
[2464,null,null,"markyun/My-blog","https://github.com/markyun/My-blog",11347,2908]
[2465,null,null,"bang590/JSPatch","https://github.com/bang590/JSPatch",11345,2283]
[2466,null,null,"EOSIO/eos","https://github.com/EOSIO/eos",11344,3696]
[2467,null,null,"morhetz/gruvbox","https://github.com/morhetz/gruvbox",11342,1059]
[2468,null,null,"Yalantis/uCrop","https://github.com/Yalantis/uCrop",11335,2075]
[2469,null,null,"vxunderground/MalwareSourceCode","https://github.com/vxunderground/MalwareSourceCode",11335,1301]
[2470,null,null,"dgraph-io/badger","https://github.com/dgraph-io/badger",11335,1002]
[2471,null,null,"ptmt/react-native-macos","https://github.com/ptmt/react-native-macos",11328,482]
[2472,null,null,"realm/realm-java","https://github.com/realm/realm-java",11327,1779]
[2473,null,null,"tpope/vim-surround","https://github.com/tpope/vim-surround",11321,436]
[2474,null,null,"Mantle/Mantle","https://github.com/Mantle/Mantle",11319,1488]
[2475,null,null,"cobiwave/simplefolio","https://github.com/cobiwave/simplefolio",11321,4334]
[2476,null,null,"stascorp/rdpwrap","https://github.com/stascorp/rdpwrap",11319,4771]
[2477,null,null,"octocat/Spoon-Knife","https://github.com/octocat/Spoon-Knife",11317,129976]
[2478,null,null,"Kotlin/kotlinx.coroutines","https://github.com/Kotlin/kotlinx.coroutines",11315,1630]
[2479,null,null,"octalmage/robotjs","https://github.com/octalmage/robotjs",11313,866]
[2480,null,null,"chiraggude/awesome-laravel","https://github.com/chiraggude/awesome-laravel",11310,2311]
[2481,null,null,"github/opensource.guide","https://github.com/github/opensource.guide",11298,15521]
[2482,null,null,"dimsemenov/Magnific-Popup","https://github.com/dimsemenov/Magnific-Popup",11296,3563]
[2483,null,null,"akveo/blur-admin","https://github.com/akveo/blur-admin",11291,3168]
[2484,null,null,"255kb/stack-on-a-budget","https://github.com/255kb/stack-on-a-budget",11277,502]
[2485,null,null,"newTendermint/awesome-bigdata","https://github.com/newTendermint/awesome-bigdata",11278,2449]
[2486,null,null,"jamiebuilds/babel-handbook","https://github.com/jamiebuilds/babel-handbook",11263,1708]
[2487,null,null,"vim-syntastic/syntastic","https://github.com/vim-syntastic/syntastic",11258,1165]
[2488,null,null,"SFTtech/openage","https://github.com/SFTtech/openage",11255,1077]
[2489,null,null,"tachyons-css/tachyons","https://github.com/tachyons-css/tachyons",11248,683]
[2490,null,null,"golangci/golangci-lint","https://github.com/golangci/golangci-lint",11243,1097]
[2491,null,null,"diegomura/react-pdf","https://github.com/diegomura/react-pdf",11240,919]
[2492,null,null,"squidfunk/mkdocs-material","https://github.com/squidfunk/mkdocs-material",11231,2508]
[2493,null,null,"codecentric/spring-boot-admin","https://github.com/codecentric/spring-boot-admin",11227,2931]
[2494,null,null,"firebase/functions-samples","https://github.com/firebase/functions-samples",11224,3834]
[2495,null,null,"allenai/allennlp","https://github.com/allenai/allennlp",11221,2220]
[2496,null,null,"ShiqiYu/libfacedetection","https://github.com/ShiqiYu/libfacedetection",11208,2969]
[2497,null,null,"jonas/tig","https://github.com/jonas/tig",11210,588]
[2498,null,null,"browserslist/browserslist","https://github.com/browserslist/browserslist",11207,658]
[2499,null,null,"jessesquires/JSQMessagesViewController","https://github.com/jessesquires/JSQMessagesViewController",11203,2876]
[2500,null,null,"pydantic/pydantic","https://github.com/pydantic/pydantic",11203,1056]
[2501,null,null,"nightwatchjs/nightwatch","https://github.com/nightwatchjs/nightwatch",11196,1097]
[2502,null,null,"netbox-community/netbox","https://github.com/netbox-community/netbox",11193,1985]
[2503,null,null,"keeweb/keeweb","https://github.com/keeweb/keeweb",11192,1004]
[2504,null,null,"ccampbell/mousetrap","https://github.com/ccampbell/mousetrap",11192,997]
[2505,null,null,"FavioVazquez/ds-cheatsheets","https://github.com/FavioVazquez/ds-cheatsheets",11192,3286]
[2506,null,null,"leon-ai/leon","https://github.com/leon-ai/leon",11185,874]
[2507,null,null,"Tencent/secguide","https://github.com/Tencent/secguide",11181,1639]
[2508,null,null,"typesense/typesense","https://github.com/typesense/typesense",11183,329]
[2509,null,null,"ardalis/CleanArchitecture","https://github.com/ardalis/CleanArchitecture",11173,2059]
[2510,null,null,"postmanlabs/httpbin","https://github.com/postmanlabs/httpbin",11173,1674]
[2511,null,null,"microsoft/ai-edu","https://github.com/microsoft/ai-edu",11171,2644]
[2512,null,null,"beetbox/beets","https://github.com/beetbox/beets",11169,1756]
[2513,null,null,"taye/interact.js","https://github.com/taye/interact.js",11160,752]
[2514,null,null,"swaywm/sway","https://github.com/swaywm/sway",11158,952]
[2515,null,null,"androidannotations/androidannotations","https://github.com/androidannotations/androidannotations",11157,2412]
[2516,null,null,"facebook/watchman","https://github.com/facebook/watchman",11157,921]
[2517,null,null,"rqlite/rqlite","https://github.com/rqlite/rqlite",11159,561]
[2518,null,null,"the-control-group/voyager","https://github.com/the-control-group/voyager",11154,2615]
[2519,null,null,"jfeinstein10/SlidingMenu","https://github.com/jfeinstein10/SlidingMenu",11154,5140]
[2520,null,null,"getpelican/pelican","https://github.com/getpelican/pelican",11155,1789]
[2521,null,null,"avwo/whistle","https://github.com/avwo/whistle",11148,931]
[2522,null,null,"tidwall/gjson","https://github.com/tidwall/gjson",11144,730]
[2523,null,null,"mobile-shell/mosh","https://github.com/mobile-shell/mosh",11138,689]
[2524,null,null,"fengyuanchen/cropperjs","https://github.com/fengyuanchen/cropperjs",11133,2244]
[2525,null,null,"wasabeef/recyclerview-animators","https://github.com/wasabeef/recyclerview-animators",11132,1968]
[2526,null,null,"wifiphisher/wifiphisher","https://github.com/wifiphisher/wifiphisher",11130,2401]
[2527,null,null,"DmitryBaranovskiy/raphael","https://github.com/DmitryBaranovskiy/raphael",11125,1715]
[2528,null,null,"jupeter/clean-code-php","https://github.com/jupeter/clean-code-php",11122,2759]
[2529,null,null,"microsoft/IoT-For-Beginners","https://github.com/microsoft/IoT-For-Beginners",11119,1454]
[2530,null,null,"App-vNext/Polly","https://github.com/App-vNext/Polly",11119,1005]
[2531,null,null,"rShetty/awesome-podcasts","https://github.com/rShetty/awesome-podcasts",11117,633]
[2532,null,null,"idank/explainshell","https://github.com/idank/explainshell",11109,709]
[2533,null,null,"Tim9Liu9/TimLiu-iOS","https://github.com/Tim9Liu9/TimLiu-iOS",11101,3737]
[2534,null,null,"nltk/nltk","https://github.com/nltk/nltk",11092,2651]
[2535,null,null,"jquery/jquery-ui","https://github.com/jquery/jquery-ui",11086,5336]
[2536,null,null,"TheAlgorithms/Go","https://github.com/TheAlgorithms/Go",11089,1924]
[2537,null,null,"ionic-team/stencil","https://github.com/ionic-team/stencil",11077,712]
[2538,null,null,"picturepan2/spectre","https://github.com/picturepan2/spectre",11072,801]
[2539,null,null,"openai/whisper","https://github.com/openai/whisper",11129,732]
[2540,null,null,"SpartnerNL/Laravel-Excel","https://github.com/SpartnerNL/Laravel-Excel",11066,1750]
[2541,null,null,"dive-into-machine-learning/dive-into-machine-learning","https://github.com/dive-into-machine-learning/dive-into-machine-learning",11052,1966]
[2542,null,null,"GoogleChrome/workbox","https://github.com/GoogleChrome/workbox",11050,788]
[2543,null,null,"Shopify/dashing","https://github.com/Shopify/dashing",11044,1228]
[2544,null,null,"permissions-dispatcher/PermissionsDispatcher","https://github.com/permissions-dispatcher/PermissionsDispatcher",11044,1432]
[2545,null,null,"yahoo/CMAK","https://github.com/yahoo/CMAK",11041,2469]
[2546,null,null,"luin/medis","https://github.com/luin/medis",11038,812]
[2547,null,null,"lokesh/color-thief","https://github.com/lokesh/color-thief",11034,1280]
[2548,null,null,"equinusocio/material-theme","https://github.com/equinusocio/material-theme",11032,798]
[2549,null,null,"mozilla-mobile/firefox-ios","https://github.com/mozilla-mobile/firefox-ios",11029,2602]
[2550,null,null,"woltapp/blurhash","https://github.com/woltapp/blurhash",11029,254]
[2551,null,null,"leanote/leanote","https://github.com/leanote/leanote",11026,2427]
[2552,null,null,"flutterchina/dio","https://github.com/flutterchina/dio",11022,1318]
[2553,null,null,"Chocobozzz/PeerTube","https://github.com/Chocobozzz/PeerTube",11020,1253]
[2554,null,null,"facebook/react-devtools","https://github.com/facebook/react-devtools",11013,1868]
[2555,null,null,"WebAssembly/design","https://github.com/WebAssembly/design",11012,710]
[2556,null,null,"Ramotion/animated-tab-bar","https://github.com/Ramotion/animated-tab-bar",11009,1357]
[2557,null,null,"abseil/abseil-cpp","https://github.com/abseil/abseil-cpp",11007,2070]
[2558,null,null,"VSCodeVim/Vim","https://github.com/VSCodeVim/Vim",11005,1127]
[2559,null,null,"h5bp/Effeckt.css","https://github.com/h5bp/Effeckt.css",11001,1442]
[2560,null,null,"microsoft/TypeScript-React-Starter","https://github.com/microsoft/TypeScript-React-Starter",10987,1203]
[2561,null,null,"keen/dashboards","https://github.com/keen/dashboards",10971,1481]
[2562,null,null,"neutraltone/awesome-stock-resources","https://github.com/neutraltone/awesome-stock-resources",10972,749]
[2563,null,null,"dotnet/AspNetCore.Docs","https://github.com/dotnet/AspNetCore.Docs",10968,24811]
[2564,null,null,"stylus/stylus","https://github.com/stylus/stylus",10965,1135]
[2565,null,null,"vuejs/vue-hackernews-2.0","https://github.com/vuejs/vue-hackernews-2.0",10961,2254]
[2566,null,null,"cjwirth/awesome-ios-ui","https://github.com/cjwirth/awesome-ios-ui",10956,1372]
[2567,null,null,"okonet/lint-staged","https://github.com/okonet/lint-staged",10954,398]
[2568,null,null,"doocs/source-code-hunter","https://github.com/doocs/source-code-hunter",10952,2120]
[2569,null,null,"karpathy/char-rnn","https://github.com/karpathy/char-rnn",10945,2492]
[2570,null,null,"docker/labs","https://github.com/docker/labs",10946,5342]
[2571,null,null,"Idnan/bash-guide","https://github.com/Idnan/bash-guide",10940,1059]
[2572,null,null,"OpenRCT2/OpenRCT2","https://github.com/OpenRCT2/OpenRCT2",10938,1295]
[2573,null,null,"casesandberg/react-color","https://github.com/casesandberg/react-color",10934,891]
[2574,null,null,"andkret/Cookbook","https://github.com/andkret/Cookbook",10935,2058]
[2575,null,null,"Grasscutters/Grasscutter","https://github.com/Grasscutters/Grasscutter",10941,3579]
[2576,null,null,"microsoft/Bringing-Old-Photos-Back-to-Life","https://github.com/microsoft/Bringing-Old-Photos-Back-to-Life",10930,1422]
[2577,null,null,"albumentations-team/albumentations","https://github.com/albumentations-team/albumentations",10925,1406]
[2578,null,null,"Chia-Network/chia-blockchain","https://github.com/Chia-Network/chia-blockchain",10922,1933]
[2579,null,null,"TypeStrong/ts-node","https://github.com/TypeStrong/ts-node",10922,466]
[2580,null,null,"kusti8/proton-native","https://github.com/kusti8/proton-native",10899,392]
[2581,null,null,"NVIDIA/FastPhotoStyle","https://github.com/NVIDIA/FastPhotoStyle",10899,1197]
[2582,null,null,"summernote/summernote","https://github.com/summernote/summernote",10896,2222]
[2583,null,null,"humiaozuzu/awesome-flask","https://github.com/humiaozuzu/awesome-flask",10895,1545]
[2584,null,null,"muaz-khan/WebRTC-Experiment","https://github.com/muaz-khan/WebRTC-Experiment",10892,3921]
[2585,null,null,"jaredpalmer/razzle","https://github.com/jaredpalmer/razzle",10888,923]
[2586,null,null,"doctrine/inflector","https://github.com/doctrine/inflector",10887,119]
[2587,null,null,"mozilla/sops","https://github.com/mozilla/sops",10886,643]
[2588,null,null,"mailhog/MailHog","https://github.com/mailhog/MailHog",10875,862]
[2589,null,null,"emilk/egui","https://github.com/emilk/egui",10872,731]
[2590,null,null,"WickyNilliams/headroom.js","https://github.com/WickyNilliams/headroom.js",10855,863]
[2591,null,null,"magicalpanda/MagicalRecord","https://github.com/magicalpanda/MagicalRecord",10850,1830]
[2592,null,null,"zbezj/HEU_KMS_Activator","https://github.com/zbezj/HEU_KMS_Activator",10859,1524]
[2593,null,null,"HandBrake/HandBrake","https://github.com/HandBrake/HandBrake",10851,1021]
[2594,null,null,"deepmind/deepmind-research","https://github.com/deepmind/deepmind-research",10847,2240]
[2595,null,null,"ppy/osu","https://github.com/ppy/osu",10851,1737]
[2596,null,null,"zricethezav/gitleaks","https://github.com/zricethezav/gitleaks",10851,1004]
[2597,null,null,"jxnblk/mdx-deck","https://github.com/jxnblk/mdx-deck",10843,666]
[2598,null,null,"howdyai/botkit","https://github.com/howdyai/botkit",10843,2318]
[2599,null,null,"programthink/zhao","https://github.com/programthink/zhao",10839,2593]
[2600,null,null,"talkgo/night","https://github.com/talkgo/night",10839,1106]
[2601,null,null,"alibaba/vlayout","https://github.com/alibaba/vlayout",10832,1824]
[2602,null,null,"felipefialho/frontend-challenges","https://github.com/felipefialho/frontend-challenges",10831,1047]
[2603,null,null,"javve/list.js","https://github.com/javve/list.js",10821,925]
[2604,null,null,"egulias/EmailValidator","https://github.com/egulias/EmailValidator",10816,169]
[2605,null,null,"apple/turicreate","https://github.com/apple/turicreate",10811,1142]
[2606,null,null,"redis/redis-py","https://github.com/redis/redis-py",10803,2227]
[2607,null,null,"asciinema/asciinema","https://github.com/asciinema/asciinema",10801,840]
[2608,null,null,"hoya012/deep_learning_object_detection","https://github.com/hoya012/deep_learning_object_detection",10801,2820]
[2609,null,null,"gedoor/legado","https://github.com/gedoor/legado",10806,1908]
[2610,null,null,"octobercms/october","https://github.com/octobercms/october",10796,2265]
[2611,null,null,"downshift-js/downshift","https://github.com/downshift-js/downshift",10796,912]
[2612,null,null,"raysan5/raylib","https://github.com/raysan5/raylib",10798,1321]
[2613,null,null,"k4m4/terminals-are-sexy","https://github.com/k4m4/terminals-are-sexy",10794,584]
[2614,null,null,"frank-lam/fullstack-tutorial","https://github.com/frank-lam/fullstack-tutorial",10792,2407]
[2615,null,null,"ardanlabs/gotraining","https://github.com/ardanlabs/gotraining",10791,2045]
[2616,null,null,"jmcunningham/AngularJS-Learning","https://github.com/jmcunningham/AngularJS-Learning",10784,2094]
[2617,null,null,"sqshq/sampler","https://github.com/sqshq/sampler",10786,504]
[2618,null,null,"browserstate/history.js","https://github.com/browserstate/history.js",10779,1415]
[2619,null,null,"highcharts/highcharts","https://github.com/highcharts/highcharts",10775,3119]
[2620,null,null,"soulmachine/leetcode","https://github.com/soulmachine/leetcode",10775,3466]
[2621,null,null,"heartexlabs/label-studio","https://github.com/heartexlabs/label-studio",10775,1246]
[2622,null,null,"microsoft/TypeScript-Node-Starter","https://github.com/microsoft/TypeScript-Node-Starter",10770,2700]
[2623,null,null,"mholt/PapaParse","https://github.com/mholt/PapaParse",10772,1106]
[2624,null,null,"s0md3v/XSStrike","https://github.com/s0md3v/XSStrike",10769,1644]
[2625,null,null,"rust-lang/mdBook","https://github.com/rust-lang/mdBook",10770,1178]
[2626,null,null,"jina-ai/clip-as-service","https://github.com/jina-ai/clip-as-service",10767,1980]
[2627,null,null,"wistbean/learn_python3_spider","https://github.com/wistbean/learn_python3_spider",10764,2831]
[2628,null,null,"GoogleChromeLabs/ndb","https://github.com/GoogleChromeLabs/ndb",10764,268]
[2629,null,null,"GoogleChrome/chrome-extensions-samples","https://github.com/GoogleChrome/chrome-extensions-samples",10755,6027]
[2630,null,null,"quarkusio/quarkus","https://github.com/quarkusio/quarkus",10754,1987]
[2631,null,null,"jbranchaud/til","https://github.com/jbranchaud/til",10751,639]
[2632,null,null,"Ciphey/Ciphey","https://github.com/Ciphey/Ciphey",10743,683]
[2633,null,null,"donnemartin/awesome-aws","https://github.com/donnemartin/awesome-aws",10746,1493]
[2634,null,null,"doctrine/lexer","https://github.com/doctrine/lexer",10729,52]
[2635,null,null,"extrawurst/gitui","https://github.com/extrawurst/gitui",10735,335]
[2636,null,null,"ruffle-rs/ruffle","https://github.com/ruffle-rs/ruffle",10723,513]
[2637,null,null,"30-seconds/30-seconds-of-interviews","https://github.com/30-seconds/30-seconds-of-interviews",10724,948]
[2638,null,null,"H07000223/FlycoTabLayout","https://github.com/H07000223/FlycoTabLayout",10714,2401]
[2639,null,null,"ctgk/PRML","https://github.com/ctgk/PRML",10711,3193]
[2640,null,null,"spatie/laravel-permission","https://github.com/spatie/laravel-permission",10712,1618]
[2641,null,null,"star7th/showdoc","https://github.com/star7th/showdoc",10703,2083]
[2642,null,null,"git-lfs/git-lfs","https://github.com/git-lfs/git-lfs",10703,2024]
[2643,null,null,"goreleaser/goreleaser","https://github.com/goreleaser/goreleaser",10701,747]
[2644,null,null,"metafizzy/isotope","https://github.com/metafizzy/isotope",10699,1446]
[2645,null,null,"frida/frida","https://github.com/frida/frida",10702,1191]
[2646,null,null,"redis/jedis","https://github.com/redis/jedis",10695,3691]
[2647,null,null,"withspectrum/spectrum","https://github.com/withspectrum/spectrum",10691,1250]
[2648,null,null,"brianc/node-postgres","https://github.com/brianc/node-postgres",10686,1127]
[2649,null,null,"0voice/from_coder_to_expert","https://github.com/0voice/from_coder_to_expert",10679,2913]
[2650,null,null,"kettanaito/naming-cheatsheet","https://github.com/kettanaito/naming-cheatsheet",10678,575]
[2651,null,null,"soumith/ganhacks","https://github.com/soumith/ganhacks",10672,1638]
[2652,null,null,"phil-opp/blog_os","https://github.com/phil-opp/blog_os",10671,806]
[2653,null,null,"sunface/rust-course","https://github.com/sunface/rust-course",10677,903]
[2654,null,null,"bitwarden/server","https://github.com/bitwarden/server",10667,906]
[2655,null,null,"LunarVim/LunarVim","https://github.com/LunarVim/LunarVim",10675,1272]
[2656,null,null,"doctrine/instantiator","https://github.com/doctrine/instantiator",10660,60]
[2657,null,null,"apachecn/apachecn-algo-zh","https://github.com/apachecn/apachecn-algo-zh",10659,2199]
[2658,null,null,"dbcli/pgcli","https://github.com/dbcli/pgcli",10658,486]
[2659,null,null,"aspnetboilerplate/aspnetboilerplate","https://github.com/aspnetboilerplate/aspnetboilerplate",10657,3645]
[2660,null,null,"google/blockly","https://github.com/google/blockly",10655,3382]
[2661,null,null,"zhaoolee/ChineseBQB","https://github.com/zhaoolee/ChineseBQB",10650,1141]
[2662,null,null,"PrismJS/prism","https://github.com/PrismJS/prism",10651,1243]
[2663,null,null,"peers/peerjs","https://github.com/peers/peerjs",10650,1367]
[2664,null,null,"PySimpleGUI/PySimpleGUI","https://github.com/PySimpleGUI/PySimpleGUI",10645,1607]
[2665,null,null,"android-async-http/android-async-http","https://github.com/android-async-http/android-async-http",10643,4211]
[2666,null,null,"tymondesigns/jwt-auth","https://github.com/tymondesigns/jwt-auth",10640,1527]
[2667,null,null,"chjj/blessed","https://github.com/chjj/blessed",10641,535]
[2668,null,null,"lingochamp/FileDownloader","https://github.com/lingochamp/FileDownloader",10638,2157]
[2669,null,null,"phalcon/cphalcon","https://github.com/phalcon/cphalcon",10638,1921]
[2670,null,null,"microsoft/frontend-bootcamp","https://github.com/microsoft/frontend-bootcamp",10633,1242]
[2671,null,null,"futurice/ios-good-practices","https://github.com/futurice/ios-good-practices",10626,1248]
[2672,null,null,"sveltejs/kit","https://github.com/sveltejs/kit",10625,976]
[2673,null,null,"akiran/react-slick","https://github.com/akiran/react-slick",10608,2017]
[2674,null,null,"rust-lang/rust-analyzer","https://github.com/rust-lang/rust-analyzer",10606,1068]
[2675,null,null,"Automattic/_s","https://github.com/Automattic/_s",10605,3137]
[2676,null,null,"dbcli/mycli","https://github.com/dbcli/mycli",10596,634]
[2677,null,null,"z-song/laravel-admin","https://github.com/z-song/laravel-admin",10594,2724]
[2678,null,null,"nodesource/distributions","https://github.com/nodesource/distributions",10593,2876]
[2679,null,null,"kmario23/deep-learning-drizzle","https://github.com/kmario23/deep-learning-drizzle",10589,2691]
[2680,null,null,"sql-js/sql.js","https://github.com/sql-js/sql.js",10586,993]
[2681,null,null,"shipshapecode/shepherd","https://github.com/shipshapecode/shepherd",10584,588]
[2682,null,null,"slackhq/nebula","https://github.com/slackhq/nebula",10585,729]
[2683,null,null,"thx/RAP","https://github.com/thx/RAP",10578,2567]
[2684,null,null,"wilsonfreitas/awesome-quant","https://github.com/wilsonfreitas/awesome-quant",10574,1820]
[2685,null,null,"tensorflow/playground","https://github.com/tensorflow/playground",10572,2338]
[2686,null,null,"janishar/mit-deep-learning-book-pdf","https://github.com/janishar/mit-deep-learning-book-pdf",10566,2376]
[2687,null,null,"mamoe/mirai","https://github.com/mamoe/mirai",10565,2318]
[2688,null,null,"kesenhoo/android-training-course-in-chinese","https://github.com/kesenhoo/android-training-course-in-chinese",10559,2748]
[2689,null,null,"jordansissel/fpm","https://github.com/jordansissel/fpm",10559,1049]
[2690,null,null,"lengstrom/fast-style-transfer","https://github.com/lengstrom/fast-style-transfer",10555,2628]
[2691,null,null,"ant-design/ant-design-mobile","https://github.com/ant-design/ant-design-mobile",10553,2048]
[2692,null,null,"mission-peace/interview","https://github.com/mission-peace/interview",10541,5125]
[2693,null,null,"SpacehuhnTech/esp8266_deauther","https://github.com/SpacehuhnTech/esp8266_deauther",10542,2224]
[2694,null,null,"snabbdom/snabbdom","https://github.com/snabbdom/snabbdom",10538,1077]
[2695,null,null,"charmbracelet/gum","https://github.com/charmbracelet/gum",10547,182]
[2696,null,null,"blaCCkHatHacEEkr/PENTESTING-BIBLE","https://github.com/blaCCkHatHacEEkr/PENTESTING-BIBLE",10537,2079]
[2697,null,null,"nasa/openmct","https://github.com/nasa/openmct",10534,1132]
[2698,null,null,"google/grumpy","https://github.com/google/grumpy",10529,673]
[2699,null,null,"mswjs/msw","https://github.com/mswjs/msw",10534,333]
[2700,null,null,"alibaba/hooks","https://github.com/alibaba/hooks",10527,1892]
[2701,null,null,"gyf-dev/ImmersionBar","https://github.com/gyf-dev/ImmersionBar",10519,1805]
[2702,null,null,"threat9/routersploit","https://github.com/threat9/routersploit",10518,2220]
[2703,null,null,"ethereum/EIPs","https://github.com/ethereum/EIPs",10521,3885]
[2704,null,null,"openalpr/openalpr","https://github.com/openalpr/openalpr",10513,2447]
[2705,null,null,"plouc/nivo","https://github.com/plouc/nivo",10512,855]
[2706,null,null,"kitao/pyxel","https://github.com/kitao/pyxel",10508,680]
[2707,null,null,"webview/webview","https://github.com/webview/webview",10502,823]
[2708,null,null,"git-up/GitUp","https://github.com/git-up/GitUp",10501,891]
[2709,null,null,"restify/node-restify","https://github.com/restify/node-restify",10498,1014]
[2710,null,null,"jonasschmedtmann/complete-javascript-course","https://github.com/jonasschmedtmann/complete-javascript-course",10505,12686]
[2711,null,null,"styleguidist/react-styleguidist","https://github.com/styleguidist/react-styleguidist",10492,1473]
[2712,null,null,"dangrossman/daterangepicker","https://github.com/dangrossman/daterangepicker",10489,3292]
[2713,null,null,"jedisct1/libsodium","https://github.com/jedisct1/libsodium",10486,1614]
[2714,null,null,"NixOS/nixpkgs","https://github.com/NixOS/nixpkgs",10481,8480]
[2715,null,null,"jivoi/awesome-osint","https://github.com/jivoi/awesome-osint",10478,2037]
[2716,null,null,"awslabs/git-secrets","https://github.com/awslabs/git-secrets",10475,1054]
[2717,null,null,"datastacktv/data-engineer-roadmap","https://github.com/datastacktv/data-engineer-roadmap",10474,1082]
[2718,null,null,"reactide/reactide","https://github.com/reactide/reactide",10463,722]
[2719,null,null,"thibmaek/awesome-raspberry-pi","https://github.com/thibmaek/awesome-raspberry-pi",10461,904]
[2720,null,null,"tusen-ai/naive-ui","https://github.com/tusen-ai/naive-ui",10454,1156]
[2721,null,null,"jeasonlzy/okhttp-OkGo","https://github.com/jeasonlzy/okhttp-OkGo",10452,2525]
[2722,null,null,"github/gh-ost","https://github.com/github/gh-ost",10453,1182]
[2723,null,null,"mindsdb/mindsdb","https://github.com/mindsdb/mindsdb",10458,1138]
[2724,null,null,"dgrijalva/jwt-go","https://github.com/dgrijalva/jwt-go",10446,1015]
[2725,null,null,"hyperium/hyper","https://github.com/hyperium/hyper",10448,1251]
[2726,null,null,"lvgl/lvgl","https://github.com/lvgl/lvgl",10445,2129]
[2727,null,null,"serverless/examples","https://github.com/serverless/examples",10430,4201]
[2728,null,null,"iterative/dvc","https://github.com/iterative/dvc",10431,985]
[2729,null,null,"dmlc/dgl","https://github.com/dmlc/dgl",10427,2511]
[2730,null,null,"lipangit/JiaoZiVideoPlayer","https://github.com/lipangit/JiaoZiVideoPlayer",10421,2417]
[2731,null,null,"docmirror/dev-sidecar","https://github.com/docmirror/dev-sidecar",10420,1241]
[2732,null,null,"bpampuch/pdfmake","https://github.com/bpampuch/pdfmake",10412,1896]
[2733,null,null,"faker-ruby/faker","https://github.com/faker-ruby/faker",10397,2970]
[2734,null,null,"debug-js/debug","https://github.com/debug-js/debug",10395,909]
[2735,null,null,"yidao620c/python3-cookbook","https://github.com/yidao620c/python3-cookbook",10393,2831]
[2736,null,null,"karpathy/convnetjs","https://github.com/karpathy/convnetjs",10394,2031]
[2737,null,null,"PatrickJS/angular-starter","https://github.com/PatrickJS/angular-starter",10390,5085]
[2738,null,null,"reactstrap/reactstrap","https://github.com/reactstrap/reactstrap",10379,1308]
[2739,null,null,"tbruyelle/RxPermissions","https://github.com/tbruyelle/RxPermissions",10371,1314]
[2740,null,null,"ansible/ansible-examples","https://github.com/ansible/ansible-examples",10367,6314]
[2741,null,null,"spencermountain/compromise","https://github.com/spencermountain/compromise",10364,658]
[2742,null,null,"DuGuQiuBai/Java","https://github.com/DuGuQiuBai/Java",10363,4494]
[2743,null,null,"dask/dask","https://github.com/dask/dask",10362,1536]
[2744,null,null,"hehonghui/android-tech-frontier","https://github.com/hehonghui/android-tech-frontier",10359,3387]
[2745,null,null,"imakewebthings/waypoints","https://github.com/imakewebthings/waypoints",10348,1389]
[2746,null,null,"ktorio/ktor","https://github.com/ktorio/ktor",10347,860]
[2747,null,null,"chenyuntc/pytorch-book","https://github.com/chenyuntc/pytorch-book",10348,3577]
[2748,null,null,"invertase/react-native-firebase","https://github.com/invertase/react-native-firebase",10345,2060]
[2749,null,null,"mml-book/mml-book.github.io","https://github.com/mml-book/mml-book.github.io",10341,2067]
[2750,null,null,"davezuko/react-redux-starter-kit","https://github.com/davezuko/react-redux-starter-kit",10339,2301]
[2751,null,null,"spotify/annoy","https://github.com/spotify/annoy",10328,1052]
[2752,null,null,"andlabs/libui","https://github.com/andlabs/libui",10327,614]
[2753,null,null,"atomiks/tippyjs","https://github.com/atomiks/tippyjs",10328,549]
[2754,null,null,"robfig/cron","https://github.com/robfig/cron",10325,1425]
[2755,null,null,"overleaf/overleaf","https://github.com/overleaf/overleaf",10327,1133]
[2756,null,null,"ellisonleao/magictools","https://github.com/ellisonleao/magictools",10324,897]
[2757,null,null,"analysis-tools-dev/static-analysis","https://github.com/analysis-tools-dev/static-analysis",10321,1175]
[2758,null,null,"Templarian/MaterialDesign","https://github.com/Templarian/MaterialDesign",10316,704]
[2759,null,null,"rootsongjc/kubernetes-handbook","https://github.com/rootsongjc/kubernetes-handbook",10312,2863]
[2760,null,null,"OpenDiablo2/OpenDiablo2","https://github.com/OpenDiablo2/OpenDiablo2",10311,759]
[2761,null,null,"creativetimofficial/material-dashboard","https://github.com/creativetimofficial/material-dashboard",10310,1911]
[2762,null,null,"lnishan/awesome-competitive-programming","https://github.com/lnishan/awesome-competitive-programming",10309,2430]
[2763,null,null,"tuhdo/os01","https://github.com/tuhdo/os01",10307,642]
[2764,null,null,"scipy/scipy","https://github.com/scipy/scipy",10297,4425]
[2765,null,null,"Tencent/matrix","https://github.com/Tencent/matrix",10296,1647]
[2766,null,null,"zalandoresearch/fashion-mnist","https://github.com/zalandoresearch/fashion-mnist",10292,2671]
[2767,null,null,"carlospolop/PEASS-ng","https://github.com/carlospolop/PEASS-ng",10286,2395]
[2768,null,null,"ElemeFE/node-interview","https://github.com/ElemeFE/node-interview",10282,1561]
[2769,null,null,"apple/darwin-xnu","https://github.com/apple/darwin-xnu",10274,1602]
[2770,null,null,"Embedding/Chinese-Word-Vectors","https://github.com/Embedding/Chinese-Word-Vectors",10275,2220]
[2771,null,null,"BeyondDimension/SteamTools","https://github.com/BeyondDimension/SteamTools",10274,650]
[2772,null,null,"github/linguist","https://github.com/github/linguist",10267,3740]
[2773,null,null,"openresty/lua-nginx-module","https://github.com/openresty/lua-nginx-module",10267,1967]
[2774,null,null,"jantimon/html-webpack-plugin","https://github.com/jantimon/html-webpack-plugin",10267,1325]
[2775,null,null,"magento/magento2","https://github.com/magento/magento2"," royalty free"," display"]
[2776,null,null,"mockery/mockery","https://github.com/mockery/mockery",10262,451]
[2777,null,null,"careercup/CtCI-6th-Edition","https://github.com/careercup/CtCI-6th-Edition",10261,4175]
[2778,null,null,"sovereign/sovereign","https://github.com/sovereign/sovereign",10254,848]
[2779,null,null,"rust-lang/book","https://github.com/rust-lang/book",10256,2479]
[2780,null,null,"MorvanZhou/tutorials","https://github.com/MorvanZhou/tutorials",10253,5664]
[2781,null,null,"jquery-validation/jquery-validation","https://github.com/jquery-validation/jquery-validation",10246,2849]
[2782,null,null,"RestKit/RestKit","https://github.com/RestKit/RestKit",10245,2174]
[2783,null,null,"knockout/knockout","https://github.com/knockout/knockout",10244,1561]
[2784,null,null,"majodev/google-webfonts-helper","https://github.com/majodev/google-webfonts-helper",10243,373]
[2785,null,null,"pmndrs/jotai","https://github.com/pmndrs/jotai",10240,315]
[2786,null,null,"pxb1988/dex2jar","https://github.com/pxb1988/dex2jar",10233,1899]
[2787,null,null,"visgl/deck.gl","https://github.com/visgl/deck.gl",10232,1849]
[2788,null,null,"BuilderIO/qwik","https://github.com/BuilderIO/qwik",10256,376]
[2789,null,null,"daniulive/SmarterStreaming","https://github.com/daniulive/SmarterStreaming",10220,2696]
[2790,null,null,"iamshuaidi/CS-Book","https://github.com/iamshuaidi/CS-Book",10217,2701]
[2791,null,null,"ninjaprox/NVActivityIndicatorView","https://github.com/ninjaprox/NVActivityIndicatorView",10215,1111]
[2792,null,null,"charmbracelet/glow","https://github.com/charmbracelet/glow",10218,213]
[2793,null,null,"clauderic/react-sortable-hoc","https://github.com/clauderic/react-sortable-hoc",10212,964]
[2794,null,null,"dotnet/runtime","https://github.com/dotnet/runtime",10216,3436]
[2795,null,null,"toeverything/AFFiNE","https://github.com/toeverything/AFFiNE",10215,396]
[2796,null,null,"vercel/micro","https://github.com/vercel/micro",10204,507]
[2797,null,null,"JakeWharton/ViewPagerIndicator","https://github.com/JakeWharton/ViewPagerIndicator",10203,4110]
[2798,null,null,"Netflix/falcor","https://github.com/Netflix/falcor",10202,472]
[2799,null,null,"AppIntro/AppIntro","https://github.com/AppIntro/AppIntro",10201,1762]
[2800,null,null,"nhn/tui.calendar","https://github.com/nhn/tui.calendar",10203,1114]
[2801,null,null,"kubernetes/community","https://github.com/kubernetes/community",10190,4685]
[2802,null,null,"googleapis/google-api-nodejs-client","https://github.com/googleapis/google-api-nodejs-client",10189,1864]
[2803,null,null,"vuestorefront/vue-storefront","https://github.com/vuestorefront/vue-storefront",10188,2013]
[2804,null,null,"petehunt/webpack-howto","https://github.com/petehunt/webpack-howto",10187,733]
[2805,null,null,"JessYanCoding/MVPArms","https://github.com/JessYanCoding/MVPArms",10187,2424]
[2806,null,null,"chiphuyen/stanford-tensorflow-tutorials","https://github.com/chiphuyen/stanford-tensorflow-tutorials",10183,4388]
[2807,null,null,"python-pillow/Pillow","https://github.com/python-pillow/Pillow",10183,1909]
[2808,null,null,"jaredpalmer/tsdx","https://github.com/jaredpalmer/tsdx",10183,489]
[2809,null,null,"acidanthera/OpenCorePkg","https://github.com/acidanthera/OpenCorePkg",10180,1813]
[2810,null,null,"ruanyf/document-style-guide","https://github.com/ruanyf/document-style-guide",10177,2207]
[2811,null,null,"timqian/chinese-independent-blogs","https://github.com/timqian/chinese-independent-blogs",10169,1506]
[2812,null,null,"exceljs/exceljs","https://github.com/exceljs/exceljs",10164,1335]
[2813,null,null,"WenchaoD/FSCalendar","https://github.com/WenchaoD/FSCalendar",10162,1863]
[2814,null,null,"mmistakes/minimal-mistakes","https://github.com/mmistakes/minimal-mistakes",10160,20586]
[2815,null,null,"KurtBestor/Hitomi-Downloader","https://github.com/KurtBestor/Hitomi-Downloader",10159,1150]
[2816,null,null,"ConnorAtherton/loaders.css","https://github.com/ConnorAtherton/loaders.css",10155,1244]
[2817,null,null,"chefyuan/algorithm-base","https://github.com/chefyuan/algorithm-base",10154,1552]
[2818,null,null,"jacomyal/sigma.js","https://github.com/jacomyal/sigma.js",10158,1537]
[2819,null,null,"cyclejs/cyclejs","https://github.com/cyclejs/cyclejs",10152,428]
[2820,null,null,"expressjs/multer","https://github.com/expressjs/multer",10151,969]
[2821,null,null,"react-static/react-static","https://github.com/react-static/react-static",10150,811]
[2822,null,null,"systemd/systemd","https://github.com/systemd/systemd",10152,3091]
[2823,null,null,"jindongwang/transferlearning","https://github.com/jindongwang/transferlearning",10152,3418]
[2824,null,null,"PrefectHQ/prefect","https://github.com/PrefectHQ/prefect",10146,1020]
[2825,null,null,"novuhq/novu","https://github.com/novuhq/novu",10199,546]
[2826,null,null,"h2o/h2o","https://github.com/h2o/h2o",10141,812]
[2827,null,null,"pagekit/vue-resource","https://github.com/pagekit/vue-resource",10138,1683]
[2828,null,null,"agarrharr/awesome-cli-apps","https://github.com/agarrharr/awesome-cli-apps",10140,721]
[2829,null,null,"pinojs/pino","https://github.com/pinojs/pino",10132,742]
[2830,null,null,"KotlinBy/awesome-kotlin","https://github.com/KotlinBy/awesome-kotlin",10132,1145]
[2831,null,null,"Anarios/return-youtube-dislike","https://github.com/Anarios/return-youtube-dislike",10128,445]
[2832,null,null,"asciimoo/wuzz","https://github.com/asciimoo/wuzz",10126,425]
[2833,null,null,"aosp-mirror/platform_frameworks_base","https://github.com/aosp-mirror/platform_frameworks_base",10126,6162]
[2834,null,null,"electron/electron-api-demos","https://github.com/electron/electron-api-demos",10122,2275]
[2835,null,null,"Ramotion/folding-cell","https://github.com/Ramotion/folding-cell",10118,1172]
[2836,null,null,"marcotcr/lime","https://github.com/marcotcr/lime",10117,1659]
[2837,null,null,"BookStackApp/BookStack","https://github.com/BookStackApp/BookStack",10108,1367]
[2838,null,null,"serbanghita/Mobile-Detect","https://github.com/serbanghita/Mobile-Detect",10102,2688]
[2839,null,null,"CISOfy/lynis","https://github.com/CISOfy/lynis",10099,1255]
[2840,null,null,"mono/mono","https://github.com/mono/mono",10096,3743]
[2841,null,null,"hq450/fancyss","https://github.com/hq450/fancyss",10090,2898]
[2842,null,null,"vasanthk/how-web-works","https://github.com/vasanthk/how-web-works",10093,1154]
[2843,null,null,"haltu/muuri","https://github.com/haltu/muuri",10082,629]
[2844,null,null,"adambard/learnxinyminutes-docs","https://github.com/adambard/learnxinyminutes-docs",10074,2991]
[2845,null,null,"walkor/workerman","https://github.com/walkor/workerman",10072,2217]
[2846,null,null,"projectdiscovery/nuclei","https://github.com/projectdiscovery/nuclei",10073,1404]
[2847,null,null,"terkelg/awesome-creative-coding","https://github.com/terkelg/awesome-creative-coding",10069,776]
[2848,null,null,"macrozheng/mall-admin-web","https://github.com/macrozheng/mall-admin-web",10066,6351]
[2849,null,null,"grpc/grpc-java","https://github.com/grpc/grpc-java",10064,3472]
[2850,null,null,"haiwen/seafile","https://github.com/haiwen/seafile",10063,1465]
[2851,null,null,"FredrikNoren/ungit","https://github.com/FredrikNoren/ungit",10056,669]
[2852,null,null,"bnb/awesome-hyper","https://github.com/bnb/awesome-hyper",10055,372]
[2853,null,null,"dgryski/go-perfbook","https://github.com/dgryski/go-perfbook",10054,567]
[2854,null,null,"pion/webrtc","https://github.com/pion/webrtc",10052,1287]
[2855,null,null,"esimov/caire","https://github.com/esimov/caire",10050,366]
[2856,null,null,"MSWorkers/support.996.ICU","https://github.com/MSWorkers/support.996.ICU",10050,665]
[2857,null,null,"yargs/yargs","https://github.com/yargs/yargs",10051,1008]
[2858,null,null,"cmiscm/leonsans","https://github.com/cmiscm/leonsans",10048,530]
[2859,null,null,"yygmind/blog","https://github.com/yygmind/blog",10048,1107]
[2860,null,null,"electron/electron-quick-start","https://github.com/electron/electron-quick-start",10045,4832]
[2861,null,null,"kjw0612/awesome-deep-vision","https://github.com/kjw0612/awesome-deep-vision",10041,2777]
[2862,null,null,"tldraw/tldraw","https://github.com/tldraw/tldraw",10044,550]
[2863,null,null,"hackstoic/golang-open-source-projects","https://github.com/hackstoic/golang-open-source-projects",10037,2174]
[2864,null,null,"h5bp/server-configs-nginx","https://github.com/h5bp/server-configs-nginx",10038,1437]
[2865,null,null,"erlang/otp","https://github.com/erlang/otp",10037,2768]
[2866,null,null,"scottjehl/picturefill","https://github.com/scottjehl/picturefill",10026,1125]
[2867,null,null,"upx/upx","https://github.com/upx/upx",10025,1055]
[2868,null,null,"brannondorsey/wifi-cracking","https://github.com/brannondorsey/wifi-cracking",10024,1005]
[2869,null,null,"skyline-emu/skyline","https://github.com/skyline-emu/skyline",10020,1370]
[2870,null,null,"php-fig/log","https://github.com/php-fig/log",10012,169]
[2871,null,null,"leecade/react-native-swiper","https://github.com/leecade/react-native-swiper",10010,2377]
[2872,null,null,"openai/CLIP","https://github.com/openai/CLIP",10010,1472]
[2873,null,null,"tariqbuilds/linux-dash","https://github.com/tariqbuilds/linux-dash",10004,1242]
[2874,null,null,"cheat/cheat","https://github.com/cheat/cheat",10004,760]
[2875,null,null,"extreme-assistant/CVPR2022-Paper-Code-Interpretation","https://github.com/extreme-assistant/CVPR2022-Paper-Code-Interpretation",10003,2174]
[2876,null,null,"vega/vega","https://github.com/vega/vega",9996,1349]
[2877,null,null,"qrohlf/trianglify","https://github.com/qrohlf/trianglify",9994,719]
[2878,null,null,"matrix-org/synapse","https://github.com/matrix-org/synapse",9979,1858]
[2879,null,null,"alcatraz/Alcatraz","https://github.com/alcatraz/Alcatraz",9969,1178]
[2880,null,null,"tiangolo/full-stack-fastapi-postgresql","https://github.com/tiangolo/full-stack-fastapi-postgresql",9964,1796]
[2881,null,null,"bytecodealliance/wasmtime","https://github.com/bytecodealliance/wasmtime",9967,808]
[2882,null,null,"barbajs/barba","https://github.com/barbajs/barba",9960,493]
[2883,null,null,"learnbyexample/Command-line-text-processing","https://github.com/learnbyexample/Command-line-text-processing",9959,710]
[2884,null,null,"forkingdog/UITableView-FDTemplateLayoutCell","https://github.com/forkingdog/UITableView-FDTemplateLayoutCell",9957,2029]
[2885,null,null,"TranslucentTB/TranslucentTB","https://github.com/TranslucentTB/TranslucentTB",9952,896]
[2886,null,null,"socketio/socket.io-client","https://github.com/socketio/socket.io-client",9950,3096]
[2887,null,null,"xdissent/ievms","https://github.com/xdissent/ievms",9944,512]
[2888,null,null,"taowen/awesome-lowcode","https://github.com/taowen/awesome-lowcode",9943,1169]
[2889,null,null,"davatorium/rofi","https://github.com/davatorium/rofi",9941,535]
[2890,null,null,"dbader/schedule","https://github.com/dbader/schedule",9926,861]
[2891,null,null,"luanfujun/deep-photo-styletransfer","https://github.com/luanfujun/deep-photo-styletransfer",9924,1442]
[2892,null,null,"FormidableLabs/victory","https://github.com/FormidableLabs/victory",9925,522]
[2893,null,null,"muesli/duf","https://github.com/muesli/duf",9918,317]
[2894,null,null,"ksky521/nodeppt","https://github.com/ksky521/nodeppt",9918,2109]
[2895,null,null,"PowerShellMafia/PowerSploit","https://github.com/PowerShellMafia/PowerSploit",9915,4209]
[2896,null,null,"stylelint/stylelint","https://github.com/stylelint/stylelint",9916,929]
[2897,null,null,"josdejong/jsoneditor","https://github.com/josdejong/jsoneditor",9910,1930]
[2898,null,null,"google/dopamine","https://github.com/google/dopamine",9908,1324]
[2899,null,null,"wix/Detox","https://github.com/wix/Detox",9908,1891]
[2900,null,null,"NaturalNode/natural","https://github.com/NaturalNode/natural",9904,872]
[2901,null,null,"w7corp/easywechat","https://github.com/w7corp/easywechat",9904,2419]
[2902,null,null,"NVlabs/stylegan2","https://github.com/NVlabs/stylegan2",9902,2409]
[2903,null,null,"svgdotjs/svg.js","https://github.com/svgdotjs/svg.js",9901,1055]
[2904,null,null,"ashishpatel26/500-AI-Machine-learning-Deep-learning-Computer-vision-NLP-Projects-with-code","https://github.com/ashishpatel26/500-AI-Machine-learning-Deep-learning-Computer-vision-NLP-Projects-with-code",9889,3101]
[2905,null,null,"zaproxy/zaproxy","https://github.com/zaproxy/zaproxy",9887,1949]
[2906,null,null,"askmike/gekko","https://github.com/askmike/gekko",9886,4035]
[2907,null,null,"girliemac/a-picture-is-worth-a-1000-words","https://github.com/girliemac/a-picture-is-worth-a-1000-words",9890,662]
[2908,null,null,"botpress/botpress","https://github.com/botpress/botpress",9885,1326]
[2909,null,null,"google/auto","https://github.com/google/auto",9880,1172]
[2910,null,null,"yeoman/yeoman","https://github.com/yeoman/yeoman",9876,758]
[2911,null,null,"aFarkas/html5shiv","https://github.com/aFarkas/html5shiv",9876,2707]
[2912,null,null,"zealdocs/zeal","https://github.com/zealdocs/zeal",9874,725]
[2913,null,null,"connors/photon","https://github.com/connors/photon",9874,586]
[2914,null,null,"purifycss/purifycss","https://github.com/purifycss/purifycss",9871,425]
[2915,null,null,"mwaskom/seaborn","https://github.com/mwaskom/seaborn",9868,1659]
[2916,null,null,"DeathKing/Learning-SICP","https://github.com/DeathKing/Learning-SICP",9850,1472]
[2917,null,null,"aristocratos/bashtop","https://github.com/aristocratos/bashtop",9849,517]
[2918,null,null,"square/javapoet","https://github.com/square/javapoet",9843,1286]
[2919,null,null,"bailicangdu/vue2-happyfri","https://github.com/bailicangdu/vue2-happyfri",9843,2841]
[2920,null,null,"pock/pock","https://github.com/pock/pock",9835,374]
[2921,null,null,"Shopify/liquid","https://github.com/Shopify/liquid",9837,1276]
[2922,null,null,"kefranabg/readme-md-generator","https://github.com/kefranabg/readme-md-generator",9832,1188]
[2923,null,null,"golang-migrate/migrate","https://github.com/golang-migrate/migrate",9833,1038]
[2924,null,null,"typicode/hotel","https://github.com/typicode/hotel",9823,467]
[2925,null,null,"jasontaylordev/CleanArchitecture","https://github.com/jasontaylordev/CleanArchitecture",9821,2224]
[2926,null,null,"bulletphysics/bullet3","https://github.com/bulletphysics/bullet3",9816,2593]
[2927,null,null,"alexjc/neural-doodle","https://github.com/alexjc/neural-doodle",9809,921]
[2928,null,null,"XTLS/Xray-core","https://github.com/XTLS/Xray-core",9814,1662]
[2929,null,null,"callstack/react-native-paper","https://github.com/callstack/react-native-paper",9805,1753]
[2930,null,null,"facebookresearch/detr","https://github.com/facebookresearch/detr",9796,1761]
[2931,null,null,"milligram/milligram","https://github.com/milligram/milligram",9788,608]
[2932,null,null,"fkhadra/react-toastify","https://github.com/fkhadra/react-toastify",9787,543]
[2933,null,null,"javascript-obfuscator/javascript-obfuscator","https://github.com/javascript-obfuscator/javascript-obfuscator",9783,1157]
[2934,null,null,"coryhouse/react-slingshot","https://github.com/coryhouse/react-slingshot",9777,2706]
[2935,null,null,"spotDL/spotify-downloader","https://github.com/spotDL/spotify-downloader",9778,1112]
[2936,null,null,"jquery-archive/jquery-mobile","https://github.com/jquery-archive/jquery-mobile",9775,2498]
[2937,null,null,"cookiecutter/cookiecutter-django","https://github.com/cookiecutter/cookiecutter-django",9774,2491]
[2938,null,null,"Netflix/pollyjs","https://github.com/Netflix/pollyjs",9772,383]
[2939,null,null,"audreyfeldroy/favicon-cheat-sheet","https://github.com/audreyfeldroy/favicon-cheat-sheet",9766,421]
[2940,null,null,"danluu/post-mortems","https://github.com/danluu/post-mortems",9763,372]
[2941,null,null,"JakeWharton/timber","https://github.com/JakeWharton/timber",9757,938]
[2942,null,null,"vipstone/faceai","https://github.com/vipstone/faceai",9756,2411]
[2943,null,null,"frontendbr/vagas","https://github.com/frontendbr/vagas",9758,721]
[2944,null,null,"jhy/jsoup","https://github.com/jhy/jsoup",9756,2047]
[2945,null,null,"alyssaxuu/flowy","https://github.com/alyssaxuu/flowy",9754,795]
[2946,null,null,"kevinzhow/PNChart","https://github.com/kevinzhow/PNChart",9746,1793]
[2947,null,null,"alist-org/alist","https://github.com/alist-org/alist",9756,1540]
[2948,null,null,"vuejs-templates/webpack","https://github.com/vuejs-templates/webpack",9739,4546]
[2949,null,null,"apereo/cas","https://github.com/apereo/cas",9737,3810]
[2950,null,null,"YoKeyword/Fragmentation","https://github.com/YoKeyword/Fragmentation",9734,2150]
[2951,null,null,"reasonml/reason","https://github.com/reasonml/reason",9729,442]
[2952,null,null,"rocky-linux/rocky","https://github.com/rocky-linux/rocky",9727,370]
[2953,null,null,"sundowndev/hacker-roadmap","https://github.com/sundowndev/hacker-roadmap",9727,1226]
[2954,null,null,"vueComponent/ant-design-vue-pro","https://github.com/vueComponent/ant-design-vue-pro",9727,2928]
[2955,null,null,"squizlabs/PHP_CodeSniffer","https://github.com/squizlabs/PHP_CodeSniffer",9728,1468]
[2956,null,null,"SecureAuthCorp/impacket","https://github.com/SecureAuthCorp/impacket",9726,2855]
[2957,null,null,"cure53/DOMPurify","https://github.com/cure53/DOMPurify",9723,601]
[2958,null,null,"JakeWharton/RxBinding","https://github.com/JakeWharton/RxBinding",9720,949]
[2959,null,null,"Atmosphere-NX/Atmosphere","https://github.com/Atmosphere-NX/Atmosphere",9719,925]
[2960,null,null,"crimx/ext-saladict","https://github.com/crimx/ext-saladict",9719,629]
[2961,null,null,"tree-sitter/tree-sitter","https://github.com/tree-sitter/tree-sitter",9720,547]
[2962,null,null,"matthieua/WOW","https://github.com/matthieua/WOW",9715,4221]
[2963,null,null,"wasabeef/glide-transformations","https://github.com/wasabeef/glide-transformations",9710,1415]
[2964,null,null,"ginuerzh/gost","https://github.com/ginuerzh/gost",9712,1854]
[2965,null,null,"tylertreat/comcast","https://github.com/tylertreat/comcast",9708,380]
[2966,null,null,"vercel/turborepo","https://github.com/vercel/turborepo",9709,638]
[2967,null,null,"docker-mailserver/docker-mailserver","https://github.com/docker-mailserver/docker-mailserver",9703,1417]
[2968,null,null,"aui/art-template","https://github.com/aui/art-template",9700,2741]
[2969,null,null,"hmemcpy/milewski-ctfp-pdf","https://github.com/hmemcpy/milewski-ctfp-pdf",9700,516]
[2970,null,null,"vnotex/vnote","https://github.com/vnotex/vnote",9695,1036]
[2971,null,null,"gleitz/howdoi","https://github.com/gleitz/howdoi",9687,848]
[2972,null,null,"clojure/clojure","https://github.com/clojure/clojure",9683,1428]
[2973,null,null,"acdlite/react-fiber-architecture","https://github.com/acdlite/react-fiber-architecture",9677,378]
[2974,null,null,"teamcapybara/capybara","https://github.com/teamcapybara/capybara",9676,1415]
[2975,null,null,"meliorence/react-native-snap-carousel","https://github.com/meliorence/react-native-snap-carousel",9675,2049]
[2976,null,null,"mdbootstrap/Tailwind-Elements","https://github.com/mdbootstrap/Tailwind-Elements",9674,1502]
[2977,null,null,"theonedev/onedev","https://github.com/theonedev/onedev",9672,650]
[2978,null,null,"Caldis/Mos","https://github.com/Caldis/Mos",9674,399]
[2979,null,null,"nilaoda/N_m3u8DL-CLI","https://github.com/nilaoda/N_m3u8DL-CLI",9671,1717]
[2980,null,null,"ydataai/pandas-profiling","https://github.com/ydataai/pandas-profiling",9673,1380]
[2981,null,null,"clap-rs/clap","https://github.com/clap-rs/clap",9672,831]
[2982,null,null,"vuematerial/vue-material","https://github.com/vuematerial/vue-material",9662,1163]
[2983,null,null,"pwxcoo/chinese-xinhua","https://github.com/pwxcoo/chinese-xinhua",9663,2302]
[2984,null,null,"cdnjs/cdnjs","https://github.com/cdnjs/cdnjs",9661,4532]
[2985,null,null,"HarlonWang/AVLoadingIndicatorView","https://github.com/HarlonWang/AVLoadingIndicatorView",9657,1879]
[2986,null,null,"Zulko/moviepy","https://github.com/Zulko/moviepy",9656,1284]
[2987,null,null,"sympy/sympy","https://github.com/sympy/sympy",9656,3745]
[2988,null,null,"Hammerspoon/hammerspoon","https://github.com/Hammerspoon/hammerspoon",9646,508]
[2989,null,null,"PaddlePaddle/PaddleHub","https://github.com/PaddlePaddle/PaddleHub",9644,1814]
[2990,null,null,"liaohuqiu/android-Ultra-Pull-To-Refresh","https://github.com/liaohuqiu/android-Ultra-Pull-To-Refresh",9643,2711]
[2991,null,null,"microsoft/qlib","https://github.com/microsoft/qlib",9643,1732]
[2992,null,null,"glfw/glfw","https://github.com/glfw/glfw",9638,3862]
[2993,null,null,"snapappointments/bootstrap-select","https://github.com/snapappointments/bootstrap-select",9637,2742]
[2994,null,null,"felangel/bloc","https://github.com/felangel/bloc",9636,2914]
[2995,null,null,"Theano/Theano","https://github.com/Theano/Theano",9624,2502]
[2996,null,null,"videolan/vlc","https://github.com/videolan/vlc",9624,3169]
[2997,null,null,"ksoichiro/Android-ObservableScrollView","https://github.com/ksoichiro/Android-ObservableScrollView",9615,2098]
[2998,null,null,"harelba/q","https://github.com/harelba/q",9616,396]
[2999,null,null,"renovatebot/renovate","https://github.com/renovatebot/renovate",9622,1312]
[3000,null,null,"JamesNK/Newtonsoft.Json","https://github.com/JamesNK/Newtonsoft.Json",9608,3100]
[3001,null,null,"sdelements/lets-chat","https://github.com/sdelements/lets-chat",9605,1603]
[3002,null,null,"DayBreak-u/chineseocr_lite","https://github.com/DayBreak-u/chineseocr_lite",9604,1990]
[3003,null,null,"direnv/direnv","https://github.com/direnv/direnv",9601,511]
[3004,null,null,"lyhue1991/eat_tensorflow2_in_30_days","https://github.com/lyhue1991/eat_tensorflow2_in_30_days",9600,2436]
[3005,null,null,"coolwanglu/pdf2htmlEX","https://github.com/coolwanglu/pdf2htmlEX",9597,1731]
[3006,null,null,"ruby-grape/grape","https://github.com/ruby-grape/grape",9597,1218]
[3007,null,null,"Unity-Technologies/UnityCsReference","https://github.com/Unity-Technologies/UnityCsReference",9600,2139]
[3008,null,null,"addyosmani/critical","https://github.com/addyosmani/critical",9591,406]
[3009,null,null,"BuilderIO/partytown","https://github.com/BuilderIO/partytown",9591,255]
[3010,null,null,"jhen0409/react-native-debugger","https://github.com/jhen0409/react-native-debugger",9586,827]
[3011,null,null,"aniftyco/awesome-tailwindcss","https://github.com/aniftyco/awesome-tailwindcss",9586,747]
[3012,null,null,"hackjutsu/Lepton","https://github.com/hackjutsu/Lepton",9584,485]
[3013,null,null,"react-native-camera/react-native-camera","https://github.com/react-native-camera/react-native-camera",9582,3309]
[3014,null,null,"tflearn/tflearn","https://github.com/tflearn/tflearn",9582,2413]
[3015,null,null,"rigtorp/awesome-modern-cpp","https://github.com/rigtorp/awesome-modern-cpp",9580,979]
[3016,null,null,"pyinstaller/pyinstaller","https://github.com/pyinstaller/pyinstaller",9577,1833]
[3017,null,null,"php-fig/container","https://github.com/php-fig/container",9576,43]
[3018,null,null,"callstack/linaria","https://github.com/callstack/linaria",9574,364]
[3019,null,null,"labring/sealos","https://github.com/labring/sealos",9571,1601]
[3020,null,null,"Aircoookie/WLED","https://github.com/Aircoookie/WLED",9570,1923]
[3021,null,null,"googlesamples/easypermissions","https://github.com/googlesamples/easypermissions",9567,1460]
[3022,null,null,"swiftmailer/swiftmailer","https://github.com/swiftmailer/swiftmailer",9562,833]
[3023,null,null,"fantasyland/fantasy-land","https://github.com/fantasyland/fantasy-land",9558,387]
[3024,null,null,"zerotier/ZeroTierOne","https://github.com/zerotier/ZeroTierOne",9559,1220]
[3025,null,null,"RetroPie/RetroPie-Setup","https://github.com/RetroPie/RetroPie-Setup",9555,1369]
[3026,null,null,"r-spacex/SpaceX-API","https://github.com/r-spacex/SpaceX-API",9553,845]
[3027,null,null,"acaudwell/Gource","https://github.com/acaudwell/Gource",9553,679]
[3028,null,null,"peachananr/onepage-scroll","https://github.com/peachananr/onepage-scroll",9552,2148]
[3029,null,null,"kautukkundan/Awesome-Profile-README-templates","https://github.com/kautukkundan/Awesome-Profile-README-templates",9552,6792]
[3030,null,null,"mongodb/node-mongodb-native","https://github.com/mongodb/node-mongodb-native",9551,1746]
[3031,null,null,"ruanyf/webpack-demos","https://github.com/ruanyf/webpack-demos",9550,2300]
[3032,null,null,"deployphp/deployer","https://github.com/deployphp/deployer",9549,1414]
[3033,null,null,"senchalabs/connect","https://github.com/senchalabs/connect",9539,1145]
[3034,null,null,"vue-bulma/vue-admin","https://github.com/vue-bulma/vue-admin",9538,1673]
[3035,null,null,"future-architect/vuls","https://github.com/future-architect/vuls",9536,1058]
[3036,null,null,"Quick/Quick","https://github.com/Quick/Quick",9529,906]
[3037,null,null,"ExistentialAudio/BlackHole","https://github.com/ExistentialAudio/BlackHole",9530,397]
[3038,null,null,"mrgloom/awesome-semantic-segmentation","https://github.com/mrgloom/awesome-semantic-segmentation",9523,2437]
[3039,null,null,"nbedos/termtosvg","https://github.com/nbedos/termtosvg",9504,428]
[3040,null,null,"NginxProxyManager/nginx-proxy-manager","https://github.com/NginxProxyManager/nginx-proxy-manager",9511,1165]
[3041,null,null,"fullstackio/FlappySwift","https://github.com/fullstackio/FlappySwift",9500,2654]
[3042,null,null,"JetBrains/compose-jb","https://github.com/JetBrains/compose-jb",9496,699]
[3043,null,null,"Tencent/wcdb","https://github.com/Tencent/wcdb",9497,1279]
[3044,null,null,"erikras/ducks-modular-redux","https://github.com/erikras/ducks-modular-redux",9490,361]
[3045,null,null,"codota/TabNine","https://github.com/codota/TabNine",9486,437]
[3046,null,null,"StylishThemes/GitHub-Dark","https://github.com/StylishThemes/GitHub-Dark",9483,674]
[3047,null,null,"coleifer/peewee","https://github.com/coleifer/peewee",9480,1353]
[3048,null,null,"getzola/zola","https://github.com/getzola/zola",9481,687]
[3049,null,null,"solana-labs/solana","https://github.com/solana-labs/solana",9479,2391]
[3050,null,null,"GoogleChromeLabs/quicklink","https://github.com/GoogleChromeLabs/quicklink",9478,368]
[3051,null,null,"maxogden/art-of-node","https://github.com/maxogden/art-of-node",9474,892]
[3052,null,null,"darknessomi/musicbox","https://github.com/darknessomi/musicbox",9470,1596]
[3053,null,null,"gradio-app/gradio","https://github.com/gradio-app/gradio",9477,594]
[3054,null,null,"Gallopsled/pwntools","https://github.com/Gallopsled/pwntools",9468,1552]
[3055,null,null,"sindresorhus/pageres","https://github.com/sindresorhus/pageres",9466,777]
[3056,null,null,"reactjs/react-transition-group","https://github.com/reactjs/react-transition-group",9465,679]
[3057,null,null,"signalapp/Signal-iOS","https://github.com/signalapp/Signal-iOS",9465,2565]
[3058,null,null,"sonic-pi-net/sonic-pi","https://github.com/sonic-pi-net/sonic-pi",9465,871]
[3059,null,null,"phpredis/phpredis","https://github.com/phpredis/phpredis",9465,2111]
[3060,null,null,"therecipe/qt","https://github.com/therecipe/qt",9459,716]
[3061,null,null,"OWASP/owasp-mastg","https://github.com/OWASP/owasp-mastg",9461,2043]
[3062,null,null,"paascloud/paascloud-master","https://github.com/paascloud/paascloud-master",9458,4335]
[3063,null,null,"facebookresearch/ParlAI","https://github.com/facebookresearch/ParlAI",9454,1925]
[3064,null,null,"PostHog/posthog","https://github.com/PostHog/posthog",9453,529]
[3065,null,null,"mdbootstrap/material-design-for-bootstrap","https://github.com/mdbootstrap/material-design-for-bootstrap",9446,1181]
[3066,null,null,"encode/httpx","https://github.com/encode/httpx",9447,619]
[3067,null,null,"AlloyTeam/Mars","https://github.com/AlloyTeam/Mars",9443,1939]
[3068,null,null,"fogleman/Craft","https://github.com/fogleman/Craft",9443,1259]
[3069,null,null,"apidoc/apidoc","https://github.com/apidoc/apidoc",9440,1707]
[3070,null,null,"umano/AndroidSlidingUpPanel","https://github.com/umano/AndroidSlidingUpPanel",9440,2316]
[3071,null,null,"stackblitz/core","https://github.com/stackblitz/core",9440,822]
[3072,null,null,"DevExpress/testcafe","https://github.com/DevExpress/testcafe",9436,662]
[3073,null,null,"mzlogin/awesome-adb","https://github.com/mzlogin/awesome-adb",9435,2041]
[3074,null,null,"openlayers/openlayers","https://github.com/openlayers/openlayers",9436,2806]
[3075,null,null,"JStumpp/awesome-android","https://github.com/JStumpp/awesome-android",9433,1682]
[3076,null,null,"jupyter/notebook","https://github.com/jupyter/notebook",9432,3908]
[3077,null,null,"amusi/CVPR2022-Papers-with-Code","https://github.com/amusi/CVPR2022-Papers-with-Code",9434,1887]
[3078,null,null,"chimurai/http-proxy-middleware","https://github.com/chimurai/http-proxy-middleware",9423,769]
[3079,null,null,"pockethub/PocketHub","https://github.com/pockethub/PocketHub",9421,3545]
[3080,null,null,"mementum/backtrader","https://github.com/mementum/backtrader",9417,2975]
[3081,null,null,"macrozheng/mall-swarm","https://github.com/macrozheng/mall-swarm",9406,4381]
[3082,null,null,"espressif/arduino-esp32","https://github.com/espressif/arduino-esp32",9402,5972]
[3083,null,null,"veeral-patel/how-to-secure-anything","https://github.com/veeral-patel/how-to-secure-anything",9402,651]
[3084,null,null,"metafizzy/zdog","https://github.com/metafizzy/zdog",9399,367]
[3085,null,null,"HackerNews/API","https://github.com/HackerNews/API",9397,576]
[3086,null,null,"facebookarchive/Shimmer","https://github.com/facebookarchive/Shimmer",9392,1131]
[3087,null,null,"gabrielbull/react-desktop","https://github.com/gabrielbull/react-desktop",9392,488]
[3088,null,null,"deepmind/sonnet","https://github.com/deepmind/sonnet",9387,1339]
[3089,null,null,"bobthecow/psysh","https://github.com/bobthecow/psysh",9381,294]
[3090,null,null,"paulmillr/chokidar","https://github.com/paulmillr/chokidar",9380,561]
[3091,null,null,"perwendel/spark","https://github.com/perwendel/spark",9375,1575]
[3092,null,null,"Automattic/kue","https://github.com/Automattic/kue",9374,901]
[3093,null,null,"facebookincubator/SocketRocket","https://github.com/facebookincubator/SocketRocket",9374,1971]
[3094,null,null,"jayphelps/git-blame-someone-else","https://github.com/jayphelps/git-blame-someone-else",9371,240]
[3095,null,null,"OpenIMSDK/Open-IM-Server","https://github.com/OpenIMSDK/Open-IM-Server",9366,1552]
[3096,null,null,"doctrine/orm","https://github.com/doctrine/orm",9364,2433]
[3097,null,null,"VickScarlet/lifeRestart","https://github.com/VickScarlet/lifeRestart",9364,2257]
[3098,null,null,"kleampa/not-paid","https://github.com/kleampa/not-paid",9361,718]
[3099,null,null,"typecho/typecho","https://github.com/typecho/typecho",9362,1834]
[3100,null,null,"nukeop/nuclear","https://github.com/nukeop/nuclear",9360,860]
[3101,null,null,"imathis/octopress","https://github.com/imathis/octopress",9356,2713]
[3102,null,null,"AudioKit/AudioKit","https://github.com/AudioKit/AudioKit",9355,1452]
[3103,null,null,"dotnet/blazor","https://github.com/dotnet/blazor",9352,673]
[3104,null,null,"mayswind/AriaNg","https://github.com/mayswind/AriaNg",9351,1145]
[3105,null,null,"bilibili/DanmakuFlameMaster","https://github.com/bilibili/DanmakuFlameMaster",9349,2121]
[3106,null,null,"edgedb/edgedb","https://github.com/edgedb/edgedb",9352,266]
[3107,null,null,"vercel/vercel","https://github.com/vercel/vercel",9347,1398]
[3108,null,null,"bbfamily/abu","https://github.com/bbfamily/abu",9347,3301]
[3109,null,null,"HabitRPG/habitica","https://github.com/HabitRPG/habitica",9348,3544]
[3110,null,null,"TooTallNate/Java-WebSocket","https://github.com/TooTallNate/Java-WebSocket",9341,2446]
[3111,null,null,"jart/cosmopolitan","https://github.com/jart/cosmopolitan",9345,291]
[3112,null,null,"nuxt/framework","https://github.com/nuxt/framework",9347,841]
[3113,null,null,"fgnass/spin.js","https://github.com/fgnass/spin.js",9336,1058]
[3114,null,null,"FormidableLabs/spectacle","https://github.com/FormidableLabs/spectacle",9336,721]
[3115,null,null,"addyosmani/backbone-fundamentals","https://github.com/addyosmani/backbone-fundamentals",9336,1478]
[3116,null,null,"kristoferjoseph/flexboxgrid","https://github.com/kristoferjoseph/flexboxgrid",9335,1204]
[3117,null,null,"oblador/react-native-animatable","https://github.com/oblador/react-native-animatable",9335,732]
[3118,null,null,"aws/aws-cdk","https://github.com/aws/aws-cdk",9332,2767]
[3119,null,null,"NVIDIA/DeepLearningExamples","https://github.com/NVIDIA/DeepLearningExamples",9333,2513]
[3120,null,null,"MyCATApache/Mycat-Server","https://github.com/MyCATApache/Mycat-Server",9328,3890]
[3121,null,null,"daylerees/colour-schemes","https://github.com/daylerees/colour-schemes",9328,1696]
[3122,null,null,"fossasia/visdom","https://github.com/fossasia/visdom",9327,1117]
[3123,null,null,"qeeqbox/social-analyzer","https://github.com/qeeqbox/social-analyzer",9329,717]
[3124,null,null,"skywind3000/awesome-cheatsheets","https://github.com/skywind3000/awesome-cheatsheets",9326,1862]
[3125,null,null,"yangyangwithgnu/hardseed","https://github.com/yangyangwithgnu/hardseed",9320,1907]
[3126,null,null,"remarkjs/react-markdown","https://github.com/remarkjs/react-markdown",9319,783]
[3127,null,null,"Perfare/AssetStudio","https://github.com/Perfare/AssetStudio",9321,1800]
[3128,null,null,"x-hw/amazing-qr","https://github.com/x-hw/amazing-qr",9318,1489]
[3129,null,null,"CesiumGS/cesium","https://github.com/CesiumGS/cesium",9317,3012]
[3130,null,null,"buefy/buefy","https://github.com/buefy/buefy",9318,1110]
[3131,null,null,"lima-vm/lima","https://github.com/lima-vm/lima",9317,350]
[3132,null,null,"caprover/caprover","https://github.com/caprover/caprover",9316,642]
[3133,null,null,"MindorksOpenSource/android-interview-questions","https://github.com/MindorksOpenSource/android-interview-questions",9307,1953]
[3134,null,null,"logaretm/vee-validate","https://github.com/logaretm/vee-validate",9306,1124]
[3135,null,null,"DNSCrypt/dnscrypt-proxy","https://github.com/DNSCrypt/dnscrypt-proxy",9304,880]
[3136,null,null,"timarney/react-app-rewired","https://github.com/timarney/react-app-rewired",9304,410]
[3137,null,null,"akveo/react-native-ui-kitten","https://github.com/akveo/react-native-ui-kitten",9305,926]
[3138,null,null,"GoogleChromeLabs/carlo","https://github.com/GoogleChromeLabs/carlo",9302,340]
[3139,null,null,"newbee-ltd/newbee-mall","https://github.com/newbee-ltd/newbee-mall",9300,2437]
[3140,null,null,"adamwdraper/Numeral-js","https://github.com/adamwdraper/Numeral-js",9300,951]
[3141,null,null,"bloomberg/memray","https://github.com/bloomberg/memray",9299,255]
[3142,null,null,"gomodule/redigo","https://github.com/gomodule/redigo",9298,1267]
[3143,null,null,"capnproto/capnproto","https://github.com/capnproto/capnproto",9298,787]
[3144,null,null,"trufflesecurity/trufflehog","https://github.com/trufflesecurity/trufflehog",9297,1148]
[3145,null,null,"pytest-dev/pytest","https://github.com/pytest-dev/pytest",9293,2159]
[3146,null,null,"wsdjeg/vim-galore-zh_cn","https://github.com/wsdjeg/vim-galore-zh_cn",9291,1394]
[3147,null,null,"inversify/InversifyJS","https://github.com/inversify/InversifyJS",9289,654]
[3148,null,null,"dotansimha/graphql-code-generator","https://github.com/dotansimha/graphql-code-generator",9287,1089]
[3149,null,null,"StartBootstrap/startbootstrap-sb-admin-2","https://github.com/StartBootstrap/startbootstrap-sb-admin-2",9283,5618]
[3150,null,null,"SoftEtherVPN/SoftEtherVPN","https://github.com/SoftEtherVPN/SoftEtherVPN",9283,2262]
[3151,null,null,"dingo/api","https://github.com/dingo/api",9276,1277]
[3152,null,null,"lexfridman/mit-deep-learning","https://github.com/lexfridman/mit-deep-learning",9277,2087]
[3153,null,null,"raspberrypi/linux","https://github.com/raspberrypi/linux",9277,4315]
[3154,null,null,"xcatliu/typescript-tutorial","https://github.com/xcatliu/typescript-tutorial",9275,1245]
[3155,null,null,"questdb/questdb","https://github.com/questdb/questdb",9275,520]
[3156,null,null,"rougier/numpy-100","https://github.com/rougier/numpy-100",9272,4645]
[3157,null,null,"symfony/console","https://github.com/symfony/console",9268,250]
[3158,null,null,"dunovank/jupyter-themes","https://github.com/dunovank/jupyter-themes",9267,1044]
[3159,null,null,"uncss/uncss","https://github.com/uncss/uncss",9259,440]
[3160,null,null,"hackware1993/MagicIndicator","https://github.com/hackware1993/MagicIndicator",9257,1514]
[3161,null,null,"alexfoxy/lax.js","https://github.com/alexfoxy/lax.js",9256,473]
[3162,null,null,"microsoft/Swin-Transformer","https://github.com/microsoft/Swin-Transformer",9257,1499]
[3163,null,null,"boardgameio/boardgame.io","https://github.com/boardgameio/boardgame.io",9256,686]
[3164,null,null,"krzyzanowskim/CryptoSwift","https://github.com/krzyzanowskim/CryptoSwift",9255,1093]
[3165,null,null,"shichuan/javascript-patterns","https://github.com/shichuan/javascript-patterns",9254,1721]
[3166,null,null,"cnodejs/nodeclub","https://github.com/cnodejs/nodeclub",9251,3206]
[3167,null,null,"gildas-lormeau/SingleFile","https://github.com/gildas-lormeau/SingleFile",9256,671]
[3168,null,null,"activeadmin/activeadmin","https://github.com/activeadmin/activeadmin",9250,3316]
[3169,null,null,"diesel-rs/diesel","https://github.com/diesel-rs/diesel",9250,840]
[3170,null,null,"darlinghq/darling","https://github.com/darlinghq/darling",9247,371]
[3171,null,null,"phw/peek","https://github.com/phw/peek",9244,292]
[3172,null,null,"tinode/chat","https://github.com/tinode/chat",9244,1445]
[3173,null,null,"Shopify/sarama","https://github.com/Shopify/sarama",9239,1561]
[3174,null,null,"Dod-o/Statistical-Learning-Method_Code","https://github.com/Dod-o/Statistical-Learning-Method_Code",9239,2674]
[3175,null,null,"aksakalli/gtop","https://github.com/aksakalli/gtop",9233,341]
[3176,null,null,"welldone-software/why-did-you-render","https://github.com/welldone-software/why-did-you-render",9231,166]
[3177,null,null,"k4m4/movies-for-hackers","https://github.com/k4m4/movies-for-hackers",9228,860]
[3178,null,null,"react-dropzone/react-dropzone","https://github.com/react-dropzone/react-dropzone",9226,768]
[3179,null,null,"mas-cli/mas","https://github.com/mas-cli/mas",9225,237]
[3180,null,null,"aws/chalice","https://github.com/aws/chalice",9226,958]
[3181,null,null,"google/wire","https://github.com/google/wire",9226,501]
[3182,null,null,"dotnet/csharplang","https://github.com/dotnet/csharplang",9220,941]
[3183,null,null,"hackerkid/Mind-Expanding-Books","https://github.com/hackerkid/Mind-Expanding-Books",9220,991]
[3184,null,null,"kingToolbox/WindTerm","https://github.com/kingToolbox/WindTerm",9222,655]
[3185,null,null,"libevent/libevent","https://github.com/libevent/libevent",9216,3132]
[3186,null,null,"Lissy93/personal-security-checklist","https://github.com/Lissy93/personal-security-checklist",9217,717]
[3187,null,null,"c3js/c3","https://github.com/c3js/c3",9215,1441]
[3188,null,null,"eduardolundgren/tracking.js","https://github.com/eduardolundgren/tracking.js",9214,1475]
[3189,null,null,"tmux-plugins/tmux-resurrect","https://github.com/tmux-plugins/tmux-resurrect",9213,340]
[3190,null,null,"antvis/G6","https://github.com/antvis/G6",9211,1135]
[3191,null,null,"deepmind/alphafold","https://github.com/deepmind/alphafold",9210,1565]
[3192,null,null,"espressif/esp-idf","https://github.com/espressif/esp-idf",9209,5823]
[3193,null,null,"Droogans/unmaintainable-code","https://github.com/Droogans/unmaintainable-code",9203,354]
[3194,null,null,"panjf2000/ants","https://github.com/panjf2000/ants",9201,1119]
[3195,null,null,"gitpod-io/gitpod","https://github.com/gitpod-io/gitpod",9203,905]
[3196,null,null,"sfyc23/EverydayWechat","https://github.com/sfyc23/EverydayWechat",9196,2202]
[3197,null,null,"koral--/android-gif-drawable","https://github.com/koral--/android-gif-drawable",9196,1782]
[3198,null,null,"wkentaro/labelme","https://github.com/wkentaro/labelme",9195,2753]
[3199,null,null,"ttroy50/cmake-examples","https://github.com/ttroy50/cmake-examples",9194,2125]
[3200,null,null,"yangyangwithgnu/use_vim_as_ide","https://github.com/yangyangwithgnu/use_vim_as_ide",9190,2428]
[3201,null,null,"tailscale/tailscale","https://github.com/tailscale/tailscale",9191,584]
[3202,null,null,"resque/resque","https://github.com/resque/resque",9189,1663]
[3203,null,null,"helmetjs/helmet","https://github.com/helmetjs/helmet",9187,391]
[3204,null,null,"ag-grid/ag-grid","https://github.com/ag-grid/ag-grid",9184,1559]
[3205,null,null,"lihengming/spring-boot-api-project-seed","https://github.com/lihengming/spring-boot-api-project-seed",9172,3771]
[3206,null,null,"sparksuite/simplemde-markdown-editor","https://github.com/sparksuite/simplemde-markdown-editor",9172,1138]
[3207,null,null,"arasatasaygin/is.js","https://github.com/arasatasaygin/is.js",9172,666]
[3208,null,null,"streamaserver/streama","https://github.com/streamaserver/streama",9169,994]
[3209,null,null,"NVlabs/instant-ngp","https://github.com/NVlabs/instant-ngp",9175,1024]
[3210,null,null,"heynickc/awesome-ddd","https://github.com/heynickc/awesome-ddd",9166,1197]
[3211,null,null,"benawad/dogehouse","https://github.com/benawad/dogehouse",9165,1538]
[3212,null,null,"pyodide/pyodide","https://github.com/pyodide/pyodide",9165,603]
[3213,null,null,"keycastr/keycastr","https://github.com/keycastr/keycastr",9164,432]
[3214,null,null,"thoughtbot/guides","https://github.com/thoughtbot/guides",9160,1379]
[3215,null,null,"BoyceLig/Clash_Chinese_Patch","https://github.com/BoyceLig/Clash_Chinese_Patch",9165,875]
[3216,null,null,"ritchieng/the-incredible-pytorch","https://github.com/ritchieng/the-incredible-pytorch",9151,1828]
[3217,null,null,"CoreyMSchafer/code_snippets","https://github.com/CoreyMSchafer/code_snippets",9149,16870]
[3218,null,null,"thumbor/thumbor","https://github.com/thumbor/thumbor",9148,783]
[3219,null,null,"mrmrs/colors","https://github.com/mrmrs/colors",9140,538]
[3220,null,null,"SigNoz/signoz","https://github.com/SigNoz/signoz",9195,511]
[3221,null,null,"tweepy/tweepy","https://github.com/tweepy/tweepy",9139,4141]
[3222,null,null,"crawlab-team/crawlab","https://github.com/crawlab-team/crawlab",9139,1521]
[3223,null,null,"phillipi/pix2pix","https://github.com/phillipi/pix2pix",9137,1628]
[3224,null,null,"eeeeeeeeeeeeeeeeeeeeeeeeeeeeeeee/eeeeeeeeeeeeeeeeeeeeeeeeeeeeeeeeeeeeeeeeeeeeeeeeeeeeeeeeeeeeeeeeeeeeeeeeeeeeeeeeeeeeeeeeeeeeeeeeeeee","https://github.com/eeeeeeeeeeeeeeeeeeeeeeeeeeeeeeee/eeeeeeeeeeeeeeeeeeeeeeeeeeeeeeeeeeeeeeeeeeeeeeeeeeeeeeeeeeeeeeeeeeeeeeeeeeeeeeeeeeeeeeeeeeeeeeeeeeee",9137,700]
[3225,null,null,"rough-stuff/wired-elements","https://github.com/rough-stuff/wired-elements",9135,316]
[3226,null,null,"trimstray/test-your-sysadmin-skills","https://github.com/trimstray/test-your-sysadmin-skills",9130,1147]
[3227,null,null,"dompdf/dompdf","https://github.com/dompdf/dompdf",9123,1691]
[3228,null,null,"rgcr/m-cli","https://github.com/rgcr/m-cli",9122,315]
[3229,null,null,"phpDocumentor/ReflectionDocBlock","https://github.com/phpDocumentor/ReflectionDocBlock",9116,103]
[3230,null,null,"sinonjs/sinon","https://github.com/sinonjs/sinon",9113,805]
[3231,null,null,"benfred/py-spy","https://github.com/benfred/py-spy",9111,330]
[3232,null,null,"kunal-kushwaha/DSA-Bootcamp-Java","https://github.com/kunal-kushwaha/DSA-Bootcamp-Java",9111,5916]
[3233,null,null,"symless/synergy-core","https://github.com/symless/synergy-core",9107,3145]
[3234,null,null,"hacksalot/HackMyResume","https://github.com/hacksalot/HackMyResume",9107,545]
[3235,null,null,"MacDownApp/macdown","https://github.com/MacDownApp/macdown",9107,1085]
[3236,null,null,"londonappbrewery/Flutter-Course-Resources","https://github.com/londonappbrewery/Flutter-Course-Resources",9106,2758]
[3237,null,null,"mapeditor/tiled","https://github.com/mapeditor/tiled",9106,1598]
[3238,null,null,"thoughtbot/bourbon","https://github.com/thoughtbot/bourbon",9100,905]
[3239,null,null,"android/ndk-samples","https://github.com/android/ndk-samples",9096,4022]
[3240,null,null,"novnc/noVNC","https://github.com/novnc/noVNC",9094,1886]
[3241,null,null,"lzyzsd/JsBridge","https://github.com/lzyzsd/JsBridge",9090,1885]
[3242,null,null,"huangz1990/redis-3.0-annotated","https://github.com/huangz1990/redis-3.0-annotated",9082,4002]
[3243,null,null,"dolphin-emu/dolphin","https://github.com/dolphin-emu/dolphin",9081,2052]
[3244,null,null,"cs231n/cs231n.github.io","https://github.com/cs231n/cs231n.github.io",9078,3900]
[3245,null,null,"oldboyxx/jira_clone","https://github.com/oldboyxx/jira_clone",9076,1543]
[3246,null,null,"openframeworks/openFrameworks","https://github.com/openframeworks/openFrameworks",9078,2529]
[3247,null,null,"denoland/fresh","https://github.com/denoland/fresh",9078,346]
[3248,null,null,"navasmdc/MaterialDesignLibrary","https://github.com/navasmdc/MaterialDesignLibrary",9073,2289]
[3249,null,null,"Hvass-Labs/TensorFlow-Tutorials","https://github.com/Hvass-Labs/TensorFlow-Tutorials",9073,4236]
[3250,null,null,"id-Software/DOOM","https://github.com/id-Software/DOOM",9071,1570]
[3251,null,null,"pcqpcq/open-source-android-apps","https://github.com/pcqpcq/open-source-android-apps",9066,2261]
[3252,null,null,"gka/chroma.js","https://github.com/gka/chroma.js",9065,553]
[3253,null,null,"gregberge/svgr","https://github.com/gregberge/svgr",9064,384]
[3254,null,null,"zuiidea/antd-admin","https://github.com/zuiidea/antd-admin",9062,2451]
[3255,null,null,"rshipp/awesome-malware-analysis","https://github.com/rshipp/awesome-malware-analysis",9058,2317]
[3256,null,null,"thoughtbot/paperclip","https://github.com/thoughtbot/paperclip",9057,2412]
[3257,null,null,"FriendsOfPHP/Goutte","https://github.com/FriendsOfPHP/Goutte",9056,1011]
[3258,null,null,"yjs/yjs","https://github.com/yjs/yjs",9053,358]
[3259,null,null,"rust-embedded/rust-raspberrypi-OS-tutorials","https://github.com/rust-embedded/rust-raspberrypi-OS-tutorials",9057,543]
[3260,null,null,"EZLippi/Tinyhttpd","https://github.com/EZLippi/Tinyhttpd",9048,3626]
[3261,null,null,"serverless-stack/sst","https://github.com/serverless-stack/sst",9053,755]
[3262,null,null,"ultralytics/yolov3","https://github.com/ultralytics/yolov3",9047,3311]
[3263,null,null,"coding-horror/basic-computer-games","https://github.com/coding-horror/basic-computer-games",0,9047]
[3264,null,null,"hq450/fancyss_history_package","https://github.com/hq450/fancyss_history_package",9047,3517]
[3265,null,null,"OpenRefine/OpenRefine","https://github.com/OpenRefine/OpenRefine",9044,1736]
[3266,null,null,"VGraupera/1on1-questions","https://github.com/VGraupera/1on1-questions",9041,609]
[3267,null,null,"guillaumepotier/Parsley.js","https://github.com/guillaumepotier/Parsley.js",9040,1365]
[3268,null,null,"toutiaoio/awesome-architecture","https://github.com/toutiaoio/awesome-architecture",9039,1589]
[3269,null,null,"piskelapp/piskel","https://github.com/piskelapp/piskel",9039,650]
[3270,null,null,"nasa/fprime","https://github.com/nasa/fprime",9035,1156]
[3271,null,null,"mathjax/MathJax","https://github.com/mathjax/MathJax",9029,1151]
[3272,null,null,"GoogleChromeLabs/comlink","https://github.com/GoogleChromeLabs/comlink",9026,331]
[3273,null,null,"rushter/MLAlgorithms","https://github.com/rushter/MLAlgorithms",9022,1579]
[3274,null,null,"ChenYilong/iOSInterviewQuestions","https://github.com/ChenYilong/iOSInterviewQuestions",9021,2752]
[3275,null,null,"cheat-engine/cheat-engine","https://github.com/cheat-engine/cheat-engine",9022,1658]
[3276,null,null,"YiiGuxing/TranslationPlugin","https://github.com/YiiGuxing/TranslationPlugin",9023,667]
[3277,null,null,"mapbox/mapbox-gl-js","https://github.com/mapbox/mapbox-gl-js",9023,1999]
[3278,null,null,"Studio3T/robomongo","https://github.com/Studio3T/robomongo",9018,776]
[3279,null,null,"dastergon/awesome-sre","https://github.com/dastergon/awesome-sre",9018,1226]
[3280,null,null,"trimstray/the-practical-linux-hardening-guide","https://github.com/trimstray/the-practical-linux-hardening-guide",9015,545]
[3281,null,null,"amueller/word_cloud","https://github.com/amueller/word_cloud",9014,2231]
[3282,null,null,"aksonov/react-native-router-flux","https://github.com/aksonov/react-native-router-flux",9009,2179]
[3283,null,null,"typekit/webfontloader","https://github.com/typekit/webfontloader",8998,725]
[3284,null,null,"s0md3v/Photon","https://github.com/s0md3v/Photon",8999,1343]
[3285,null,null,"RedditSota/state-of-the-art-result-for-machine-learning-problems","https://github.com/RedditSota/state-of-the-art-result-for-machine-learning-problems",8996,1354]
[3286,null,null,"react-page/react-page","https://github.com/react-page/react-page",8995,617]
[3287,null,null,"didi/cube-ui","https://github.com/didi/cube-ui",8994,1511]
[3288,null,null,"AutoMapper/AutoMapper","https://github.com/AutoMapper/AutoMapper",8994,1682]
[3289,null,null,"tristanhimmelman/ObjectMapper","https://github.com/tristanhimmelman/ObjectMapper",8991,1011]
[3290,null,null,"firefly-iii/firefly-iii","https://github.com/firefly-iii/firefly-iii",8993,928]
[3291,null,null,"rust-lang/cargo","https://github.com/rust-lang/cargo",8989,1788]
[3292,null,null,"Activiti/Activiti","https://github.com/Activiti/Activiti",8988,6830]
[3293,null,null,"smartcontractkit/full-blockchain-solidity-course-py","https://github.com/smartcontractkit/full-blockchain-solidity-course-py",8989,2474]
[3294,null,null,"aristocratos/btop","https://github.com/aristocratos/btop",8992,301]
[3295,null,null,"stanzhai/be-a-professional-programmer","https://github.com/stanzhai/be-a-professional-programmer",8987,2108]
[3296,null,null,"webtorrent/webtorrent-desktop","https://github.com/webtorrent/webtorrent-desktop",8983,1026]
[3297,null,null,"jojoldu/junior-recruit-scheduler","https://github.com/jojoldu/junior-recruit-scheduler",8981,1550]
[3298,null,null,"listen1/listen1_chrome_extension","https://github.com/listen1/listen1_chrome_extension",8983,1799]
[3299,null,null,"ytisf/theZoo","https://github.com/ytisf/theZoo",8980,2251]
[3300,null,null,"carpedm20/awesome-hacking","https://github.com/carpedm20/awesome-hacking",8980,1402]
[3301,null,null,"doocs/jvm","https://github.com/doocs/jvm",8977,2081]
[3302,null,null,"microsoft/napajs","https://github.com/microsoft/napajs",8977,346]
[3303,null,null,"rtyley/bfg-repo-cleaner","https://github.com/rtyley/bfg-repo-cleaner",8977,494]
[3304,null,null,"facebookresearch/maskrcnn-benchmark","https://github.com/facebookresearch/maskrcnn-benchmark",8963,2537]
[3305,null,null,"cefsharp/CefSharp","https://github.com/cefsharp/CefSharp",8955,2821]
[3306,null,null,"clojure/clojurescript","https://github.com/clojure/clojurescript",8951,783]
[3307,null,null,"Laverna/laverna","https://github.com/Laverna/laverna",8950,841]
[3308,null,null,"Loyalsoldier/v2ray-rules-dat","https://github.com/Loyalsoldier/v2ray-rules-dat",8952,972]
[3309,null,null,"mozilla/BrowserQuest","https://github.com/mozilla/BrowserQuest",8945,2783]
[3310,null,null,"sindresorhus/type-fest","https://github.com/sindresorhus/type-fest",8943,320]
[3311,null,null,"apenwarr/sshuttle","https://github.com/apenwarr/sshuttle",8940,664]
[3312,null,null,"asLody/VirtualApp","https://github.com/asLody/VirtualApp",8931,2731]
[3313,null,null,"aws-amplify/amplify-js","https://github.com/aws-amplify/amplify-js",8929,1970]
[3314,null,null,"sumatrapdfreader/sumatrapdf","https://github.com/sumatrapdfreader/sumatrapdf",8929,1465]
[3315,null,null,"apple/swift-package-manager","https://github.com/apple/swift-package-manager",8927,1218]
[3316,null,null,"ziahamza/webui-aria2","https://github.com/ziahamza/webui-aria2",8928,1431]
[3317,null,null,"pre-commit/pre-commit","https://github.com/pre-commit/pre-commit",8928,645]
[3318,null,null,"kanaka/mal","https://github.com/kanaka/mal",8921,2163]
[3319,null,null,"phpDocumentor/TypeResolver","https://github.com/phpDocumentor/TypeResolver",8916,43]
[3320,null,null,"lipis/flag-icons","https://github.com/lipis/flag-icons",8916,1572]
[3321,null,null,"jlevy/og-equity-compensation","https://github.com/jlevy/og-equity-compensation",8913,483]
[3322,null,null,"epicmaxco/vuestic-admin","https://github.com/epicmaxco/vuestic-admin",8908,1446]
[3323,null,null,"MagicStack/uvloop","https://github.com/MagicStack/uvloop",8907,517]
[3324,null,null,"django-cms/django-cms","https://github.com/django-cms/django-cms",8907,2831]
[3325,null,null,"keplergl/kepler.gl","https://github.com/keplergl/kepler.gl",8899,1515]
[3326,null,null,"tiangolo/typer","https://github.com/tiangolo/typer",8898,350]
[3327,null,null,"nathanmarz/storm","https://github.com/nathanmarz/storm",8895,1703]
[3328,null,null,"marmelab/gremlins.js","https://github.com/marmelab/gremlins.js",8894,454]
[3329,null,null,"kubernetes-sigs/kustomize","https://github.com/kubernetes-sigs/kustomize",8893,1891]
[3330,null,null,"mobz/elasticsearch-head","https://github.com/mobz/elasticsearch-head",8892,1958]
[3331,null,null,"termux/termux-packages","https://github.com/termux/termux-packages",8892,2418]
[3332,null,null,"coursera-dl/coursera-dl","https://github.com/coursera-dl/coursera-dl",8891,2109]
[3333,null,null,"falconry/falcon","https://github.com/falconry/falcon",8890,890]
[3334,null,null,"nextapps-de/flexsearch","https://github.com/nextapps-de/flexsearch",8890,358]
[3335,null,null,"alexanderepstein/Bash-Snippets","https://github.com/alexanderepstein/Bash-Snippets",8886,815]
[3336,null,null,"polaris1119/The-Golang-Standard-Library-by-Example","https://github.com/polaris1119/The-Golang-Standard-Library-by-Example",8885,1967]
[3337,null,null,"cyrus-and/gdb-dashboard","https://github.com/cyrus-and/gdb-dashboard",8880,662]
[3338,null,null,"facebook/chisel","https://github.com/facebook/chisel",8876,795]
[3339,null,null,"vuejs/pinia","https://github.com/vuejs/pinia",8878,564]
[3340,null,null,"openai/DALL-E","https://github.com/openai/DALL-E",8871,1590]
[3341,null,null,"microsoft/vscode-tips-and-tricks","https://github.com/microsoft/vscode-tips-and-tricks",8867,709]
[3342,null,null,"rui314/mold","https://github.com/rui314/mold",8868,301]
[3343,null,null,"sbilly/awesome-security","https://github.com/sbilly/awesome-security",8864,1568]
[3344,null,null,"dinedal/textql","https://github.com/dinedal/textql",8857,308]
[3345,null,null,"tsayen/dom-to-image","https://github.com/tsayen/dom-to-image",8851,1596]
[3346,null,null,"IdentityServer/IdentityServer4","https://github.com/IdentityServer/IdentityServer4",8851,3653]
[3347,null,null,"tweenjs/tween.js","https://github.com/tweenjs/tween.js",8851,1377]
[3348,null,null,"sshuttle/sshuttle","https://github.com/sshuttle/sshuttle",8847,580]
[3349,null,null,"vector-im/element-web","https://github.com/vector-im/element-web",8843,1527]
[3350,null,null,"Schniz/fnm","https://github.com/Schniz/fnm",8844,251]
[3351,null,null,"microsoft/Windows-universal-samples","https://github.com/microsoft/Windows-universal-samples",8838,8033]
[3352,null,null,"cs01/gdbgui","https://github.com/cs01/gdbgui",8838,524]
[3353,null,null,"google/go-github","https://github.com/google/go-github",8834,1818]
[3354,null,null,"Automattic/node-canvas","https://github.com/Automattic/node-canvas",8832,1055]
[3355,null,null,"p8952/bocker","https://github.com/p8952/bocker",8825,646]
[3356,null,null,"mac-cain13/R.swift","https://github.com/mac-cain13/R.swift",8822,672]
[3357,null,null,"dotnet/orleans","https://github.com/dotnet/orleans",8821,1906]
[3358,null,null,"phpDocumentor/ReflectionCommon","https://github.com/phpDocumentor/ReflectionCommon",8817,20]
[3359,null,null,"oh-my-fish/oh-my-fish","https://github.com/oh-my-fish/oh-my-fish",8818,786]
[3360,null,null,"doctrine/dbal","https://github.com/doctrine/dbal",8815,1224]
[3361,null,null,"NUKnightLab/TimelineJS","https://github.com/NUKnightLab/TimelineJS",8813,1602]
[3362,null,null,"EtherDream/jsproxy","https://github.com/EtherDream/jsproxy",8811,3495]
[3363,null,null,"MonoGame/MonoGame","https://github.com/MonoGame/MonoGame",8806,2636]
[3364,null,null,"easy-mock/easy-mock","https://github.com/easy-mock/easy-mock",8804,1347]
[3365,null,null,"getgridea/gridea","https://github.com/getgridea/gridea",8804,747]
[3366,null,null,"ricklamers/gridstudio","https://github.com/ricklamers/gridstudio",8800,1516]
[3367,null,null,"olistic/warriorjs","https://github.com/olistic/warriorjs",8798,510]
[3368,null,null,"marceloprates/prettymaps","https://github.com/marceloprates/prettymaps",8799,417]
[3369,null,null,"angular/protractor","https://github.com/angular/protractor",8797,2396]
[3370,null,null,"graphql-go/graphql","https://github.com/graphql-go/graphql",8796,780]
[3371,null,null,"jshint/jshint","https://github.com/jshint/jshint",8792,1753]
[3372,null,null,"pallets/jinja","https://github.com/pallets/jinja",8790,1513]
[3373,null,null,"captbaritone/webamp","https://github.com/captbaritone/webamp",8789,604]
[3374,null,null,"claudiodangelis/qrcp","https://github.com/claudiodangelis/qrcp",8786,497]
[3375,null,null,"jaakkopasanen/AutoEq","https://github.com/jaakkopasanen/AutoEq",8791,2011]
[3376,null,null,"laobie/StatusBarUtil","https://github.com/laobie/StatusBarUtil",8784,1750]
[3377,null,null,"hoffstadt/DearPyGui","https://github.com/hoffstadt/DearPyGui",8785,463]
[3378,null,null,"cesanta/mongoose","https://github.com/cesanta/mongoose",8781,2420]
[3379,null,null,"eriklindernoren/Keras-GAN","https://github.com/eriklindernoren/Keras-GAN",8775,3125]
[3380,null,null,"google/sanitizers","https://github.com/google/sanitizers",8773,879]
[3381,null,null,"acornjs/acorn","https://github.com/acornjs/acorn",8770,809]
[3382,null,null,"microsoft/language-server-protocol","https://github.com/microsoft/language-server-protocol",8769,679]
[3383,null,null,"MetaMask/metamask-extension","https://github.com/MetaMask/metamask-extension",8768,3399]
[3384,null,null,"mwaterfall/MWPhotoBrowser","https://github.com/mwaterfall/MWPhotoBrowser",8766,2755]
[3385,null,null,"1c7/Crash-Course-Computer-Science-Chinese","https://github.com/1c7/Crash-Course-Computer-Science-Chinese",8767,1433]
[3386,null,null,"aristocratos/bpytop","https://github.com/aristocratos/bpytop",8764,346]
[3387,null,null,"seatgeek/fuzzywuzzy","https://github.com/seatgeek/fuzzywuzzy",8761,886]
[3388,null,null,"EpistasisLab/tpot","https://github.com/EpistasisLab/tpot",8762,1501]
[3389,null,null,"James-Yu/LaTeX-Workshop","https://github.com/James-Yu/LaTeX-Workshop",8760,452]
[3390,null,null,"ibireme/YYText","https://github.com/ibireme/YYText",8757,1482]
[3391,null,null,"gitbucket/gitbucket","https://github.com/gitbucket/gitbucket",8757,1242]
[3392,null,null,"aws/serverless-application-model","https://github.com/aws/serverless-application-model",8755,2247]
[3393,null,null,"chrisbanes/Android-PullToRefresh","https://github.com/chrisbanes/Android-PullToRefresh",8755,4782]
[3394,null,null,"desandro/imagesloaded","https://github.com/desandro/imagesloaded",8754,1192]
[3395,null,null,"didi/VirtualAPK","https://github.com/didi/VirtualAPK",8746,1496]
[3396,null,null,"angristan/openvpn-install","https://github.com/angristan/openvpn-install",8747,2243]
[3397,null,null,"leachim6/hello-world","https://github.com/leachim6/hello-world",8745,1683]
[3398,null,null,"SignalR/SignalR","https://github.com/SignalR/SignalR",8742,2286]
[3399,null,null,"giampaolo/psutil","https://github.com/giampaolo/psutil",8741,1268]
[3400,null,null,"torch/torch7","https://github.com/torch/torch7",8741,2386]
[3401,null,null,"TTTAttributedLabel/TTTAttributedLabel","https://github.com/TTTAttributedLabel/TTTAttributedLabel",8740,1664]
[3402,null,null,"sequelpro/sequelpro","https://github.com/sequelpro/sequelpro",8738,855]
[3403,null,null,"chakra-core/ChakraCore","https://github.com/chakra-core/ChakraCore",8736,1301]
[3404,null,null,"qazbnm456/awesome-web-security","https://github.com/qazbnm456/awesome-web-security",8735,1487]
[3405,null,null,"ejci/favico.js","https://github.com/ejci/favico.js",8733,639]
[3406,null,null,"GcsSloop/AndroidNote","https://github.com/GcsSloop/AndroidNote",8724,2089]
[3407,null,null,"carrierwaveuploader/carrierwave","https://github.com/carrierwaveuploader/carrierwave",8722,1630]
[3408,null,null,"GoogleCloudPlatform/terraformer","https://github.com/GoogleCloudPlatform/terraformer",8720,1196]
[3409,null,null,"golang/protobuf","https://github.com/golang/protobuf",8719,1559]
[3410,null,null,"fastai/numerical-linear-algebra","https://github.com/fastai/numerical-linear-algebra",8715,2303]
[3411,null,null,"BurntSushi/xsv","https://github.com/BurntSushi/xsv",8715,282]
[3412,null,null,"libgit2/libgit2","https://github.com/libgit2/libgit2",8712,2265]
[3413,null,null,"klaussinani/signale","https://github.com/klaussinani/signale",8711,254]
[3414,null,null,"amplication/amplication","https://github.com/amplication/amplication",8711,617]
[3415,null,null,"jprichardson/node-fs-extra","https://github.com/jprichardson/node-fs-extra",8707,778]
[3416,null,null,"tuupola/lazyload","https://github.com/tuupola/lazyload",8705,2322]
[3417,null,null,"cytoscape/cytoscape.js","https://github.com/cytoscape/cytoscape.js",8707,1557]
[3418,null,null,"gskinner/regexr","https://github.com/gskinner/regexr",8703,884]
[3419,null,null,"astrit/css.gg","https://github.com/astrit/css.gg",8701,436]
[3420,null,null,"Hackl0us/SS-Rule-Snippet","https://github.com/Hackl0us/SS-Rule-Snippet",8701,1788]
[3421,null,null,"react-toolbox/react-toolbox","https://github.com/react-toolbox/react-toolbox",8701,1041]
[3422,null,null,"flutterchina/flutter-in-action","https://github.com/flutterchina/flutter-in-action",8699,1730]
[3423,null,null,"tiangolo/sqlmodel","https://github.com/tiangolo/sqlmodel",8698,368]
[3424,null,null,"borgbackup/borg","https://github.com/borgbackup/borg",8689,652]
[3425,null,null,"babun/babun","https://github.com/babun/babun",8689,579]
[3426,null,null,"irungentoo/toxcore","https://github.com/irungentoo/toxcore",8686,1280]
[3427,null,null,"rzashakeri/beautify-github-profile","https://github.com/rzashakeri/beautify-github-profile",8679,340]
[3428,null,null,"jopohl/urh","https://github.com/jopohl/urh",8679,760]
[3429,null,null,"HubSpot/offline","https://github.com/HubSpot/offline",8674,892]
[3430,null,null,"dotnetcore/FastGithub","https://github.com/dotnetcore/FastGithub",8679,1179]
[3431,null,null,"microsoft/computervision-recipes","https://github.com/microsoft/computervision-recipes",8673,1087]
[3432,null,null,"vahidk/EffectiveTensorflow","https://github.com/vahidk/EffectiveTensorflow",8672,944]
[3433,null,null,"abpframework/abp","https://github.com/abpframework/abp",8672,2734]
[3434,null,null,"gzc/CLRS","https://github.com/gzc/CLRS",8670,2690]
[3435,null,null,"quicktype/quicktype","https://github.com/quicktype/quicktype",8671,779]
[3436,null,null,"facebookarchive/react-360","https://github.com/facebookarchive/react-360",8668,1298]
[3437,null,null,"rocksdanister/lively","https://github.com/rocksdanister/lively",8671,724]
[3438,null,null,"GetStream/Winds","https://github.com/GetStream/Winds",8662,617]
[3439,null,null,"Justson/AgentWeb","https://github.com/Justson/AgentWeb",8661,1589]
[3440,null,null,"stanfordnlp/CoreNLP","https://github.com/stanfordnlp/CoreNLP",8660,2661]
[3441,null,null,"fdehau/tui-rs","https://github.com/fdehau/tui-rs",8656,425]
[3442,null,null,"knadh/listmonk","https://github.com/knadh/listmonk",8656,671]
[3443,null,null,"mailpile/Mailpile","https://github.com/mailpile/Mailpile",8643,1053]
[3444,null,null,"carhartl/jquery-cookie","https://github.com/carhartl/jquery-cookie",8642,4205]
[3445,null,null,"blevesearch/bleve","https://github.com/blevesearch/bleve",8640,639]
[3446,null,null,"android/testing-samples","https://github.com/android/testing-samples",8637,3519]
[3447,null,null,"brendangregg/perf-tools","https://github.com/brendangregg/perf-tools",8638,1507]
[3448,null,null,"iggredible/Learn-Vim","https://github.com/iggredible/Learn-Vim",8636,815]
[3449,null,null,"OnsenUI/OnsenUI","https://github.com/OnsenUI/OnsenUI",8637,1021]
[3450,null,null,"javan/whenever","https://github.com/javan/whenever",8631,721]
[3451,null,null,"IBAnimatable/IBAnimatable","https://github.com/IBAnimatable/IBAnimatable",8631,792]
[3452,null,null,"nodejs/node-gyp","https://github.com/nodejs/node-gyp",8628,1680]
[3453,null,null,"restsharp/RestSharp","https://github.com/restsharp/RestSharp",8628,2246]
[3454,null,null,"OpenEthan/SMSBoom","https://github.com/OpenEthan/SMSBoom",8632,2249]
[3455,null,null,"Cadene/pretrained-models.pytorch","https://github.com/Cadene/pretrained-models.pytorch",8626,1828]
[3456,null,null,"bloomrpc/bloomrpc","https://github.com/bloomrpc/bloomrpc",8625,423]
[3457,null,null,"trazyn/ieaseMusic","https://github.com/trazyn/ieaseMusic",8623,992]
[3458,null,null,"scrapinghub/portia","https://github.com/scrapinghub/portia",8621,1385]
[3459,null,null,"google/or-tools","https://github.com/google/or-tools",8620,1857]
[3460,null,null,"keras-team/autokeras","https://github.com/keras-team/autokeras",8619,1384]
[3461,null,null,"apex/up","https://github.com/apex/up",8616,374]
[3462,null,null,"chrisjenx/Calligraphy","https://github.com/chrisjenx/Calligraphy",8616,1103]
[3463,null,null,"maurosoria/dirsearch","https://github.com/maurosoria/dirsearch",8616,2056]
[3464,null,null,"Nozbe/WatermelonDB","https://github.com/Nozbe/WatermelonDB",8612,506]
[3465,null,null,"codeguy/php-the-right-way","https://github.com/codeguy/php-the-right-way",8610,3248]
[3466,null,null,"PanDownloadServer/Server","https://github.com/PanDownloadServer/Server",8606,1781]
[3467,null,null,"InterviewReady/system-design-resources","https://github.com/InterviewReady/system-design-resources",8622,949]
[3468,null,null,"lk-geimfari/awesomo","https://github.com/lk-geimfari/awesomo",8603,626]
[3469,null,null,"neovide/neovide","https://github.com/neovide/neovide",8604,324]
[3470,null,null,"visenger/awesome-mlops","https://github.com/visenger/awesome-mlops",8600,1349]
[3471,null,null,"liupan1890/aliyunpan","https://github.com/liupan1890/aliyunpan",8597,924]
[3472,null,null,"ffmpegwasm/ffmpeg.wasm","https://github.com/ffmpegwasm/ffmpeg.wasm",8596,440]
[3473,null,null,"humanwhocodes/computer-science-in-javascript","https://github.com/humanwhocodes/computer-science-in-javascript",8593,1206]
[3474,null,null,"Nickersoft/push.js","https://github.com/Nickersoft/push.js",8593,596]
[3475,null,null,"squeaky-pl/japronto","https://github.com/squeaky-pl/japronto",8592,593]
[3476,null,null,"google/go-cloud","https://github.com/google/go-cloud",8592,724]
[3477,null,null,"jwtk/jjwt","https://github.com/jwtk/jjwt",8592,1225]
[3478,null,null,"alexeymezenin/laravel-best-practices","https://github.com/alexeymezenin/laravel-best-practices",8588,1920]
[3479,null,null,"CodeTips/BaiduNetdiskPlugin-macOS","https://github.com/CodeTips/BaiduNetdiskPlugin-macOS",8584,1791]
[3480,null,null,"dair-ai/ML-YouTube-Courses","https://github.com/dair-ai/ML-YouTube-Courses",8584,1026]
[3481,null,null,"ctjhoa/rust-learning","https://github.com/ctjhoa/rust-learning",8583,588]
[3482,null,null,"fuzhengwei/CodeGuide","https://github.com/fuzhengwei/CodeGuide",8580,2392]
[3483,null,null,"chocolatey/choco","https://github.com/chocolatey/choco",8574,851]
[3484,null,null,"coil-kt/coil","https://github.com/coil-kt/coil",8571,532]
[3485,null,null,"Koenkk/zigbee2mqtt","https://github.com/Koenkk/zigbee2mqtt",8573,1346]
[3486,null,null,"httpie/http-prompt","https://github.com/httpie/http-prompt",8565,344]
[3487,null,null,"JustArchiNET/ArchiSteamFarm","https://github.com/JustArchiNET/ArchiSteamFarm",8563,947]
[3488,null,null,"ninja-build/ninja","https://github.com/ninja-build/ninja",8562,1362]
[3489,null,null,"ReFirmLabs/binwalk","https://github.com/ReFirmLabs/binwalk",8562,1313]
[3490,null,null,"gotwarlost/istanbul","https://github.com/gotwarlost/istanbul",8559,837]
[3491,null,null,"rehooks/awesome-react-hooks","https://github.com/rehooks/awesome-react-hooks",8559,715]
[3492,null,null,"Shopify/toxiproxy","https://github.com/Shopify/toxiproxy",8558,401]
[3493,null,null,"alibaba/formily","https://github.com/alibaba/formily",8558,1201]
[3494,null,null,"protobufjs/protobuf.js","https://github.com/protobufjs/protobuf.js",8557,1331]
[3495,null,null,"atom-archive/xray","https://github.com/atom-archive/xray",8556,245]
[3496,null,null,"crossoverJie/cim","https://github.com/crossoverJie/cim",8556,2706]
[3497,null,null,"jbogard/MediatR","https://github.com/jbogard/MediatR",8553,1003]
[3498,null,null,"benoitc/gunicorn","https://github.com/benoitc/gunicorn",8551,1604]
[3499,null,null,"klaussinani/taskbook","https://github.com/klaussinani/taskbook",8552,390]
[3500,null,null,"guyueyingmu/avbook","https://github.com/guyueyingmu/avbook",8553,1981]
[3501,null,null,"dailydotdev/daily","https://github.com/dailydotdev/daily",8555,313]
[3502,null,null,"PaddlePaddle/PaddleDetection","https://github.com/PaddlePaddle/PaddleDetection",8551,2191]
[3503,null,null,"reduxjs/redux-toolkit","https://github.com/reduxjs/redux-toolkit",8546,805]
[3504,null,null,"Freelander/Android_Data","https://github.com/Freelander/Android_Data",8545,2050]
[3505,null,null,"phusion/baseimage-docker","https://github.com/phusion/baseimage-docker",8545,1089]
[3506,null,null,"cakephp/cakephp","https://github.com/cakephp/cakephp",8545,3462]
[3507,null,null,"TGSAN/CMWTAT_Digital_Edition","https://github.com/TGSAN/CMWTAT_Digital_Edition",8543,1378]
[3508,null,null,"prasmussen/gdrive","https://github.com/prasmussen/gdrive",8544,1133]
[3509,null,null,"UKPLab/sentence-transformers","https://github.com/UKPLab/sentence-transformers",8542,1707]
[3510,null,null,"sjwhitworth/golearn","https://github.com/sjwhitworth/golearn",8540,1180]
[3511,null,null,"lauris/awesome-scala","https://github.com/lauris/awesome-scala",8535,1270]
[3512,null,null,"smicallef/spiderfoot","https://github.com/smicallef/spiderfoot",8541,1677]
[3513,null,null,"rq/rq","https://github.com/rq/rq",8531,1313]
[3514,null,null,"ludwig-ai/ludwig","https://github.com/ludwig-ai/ludwig",8529,1005]
[3515,null,null,"square/moshi","https://github.com/square/moshi",8528,705]
[3516,null,null,"jroimartin/gocui","https://github.com/jroimartin/gocui",8531,562]
[3517,null,null,"douglascrockford/JSON-js","https://github.com/douglascrockford/JSON-js",8524,4712]
[3518,null,null,"qarmin/czkawka","https://github.com/qarmin/czkawka",8527,239]
[3519,null,null,"react-icons/react-icons","https://github.com/react-icons/react-icons",8525,540]
[3520,null,null,"cats-oss/android-gpuimage","https://github.com/cats-oss/android-gpuimage",8519,2233]
[3521,null,null,"node-schedule/node-schedule","https://github.com/node-schedule/node-schedule",8520,533]
[3522,null,null,"PatrickJS/awesome-angular","https://github.com/PatrickJS/awesome-angular",8516,1271]
[3523,null,null,"forthespada/CS-Books","https://github.com/forthespada/CS-Books",8514,1810]
[3524,null,null,"github/semantic","https://github.com/github/semantic",8511,494]
[3525,null,null,"stephencelis/SQLite.swift","https://github.com/stephencelis/SQLite.swift",8510,1418]
[3526,null,null,"MrS0m30n3/youtube-dl-gui","https://github.com/MrS0m30n3/youtube-dl-gui",8509,1531]
[3527,null,null,"moklick/frontend-stuff","https://github.com/moklick/frontend-stuff",8507,694]
[3528,null,null,"tensorflow/tfjs-core","https://github.com/tensorflow/tfjs-core",8507,982]
[3529,null,null,"dart-lang/sdk","https://github.com/dart-lang/sdk",8504,1332]
[3530,null,null,"szimek/signature_pad","https://github.com/szimek/signature_pad",8504,1882]
[3531,null,null,"yemount/pose-animator","https://github.com/yemount/pose-animator",8500,933]
[3532,null,null,"phpspec/prophecy","https://github.com/phpspec/prophecy",8498,231]
[3533,null,null,"doitsujin/dxvk","https://github.com/doitsujin/dxvk",8499,558]
[3534,null,null,"drduh/YubiKey-Guide","https://github.com/drduh/YubiKey-Guide",8500,931]
[3535,null,null,"30-seconds/30-seconds-of-python","https://github.com/30-seconds/30-seconds-of-python",8495,1275]
[3536,null,null,"shipshapecode/tether","https://github.com/shipshapecode/tether",8490,797]
[3537,null,null,"CoderMJLee/MJExtension","https://github.com/CoderMJLee/MJExtension",8486,2185]
[3538,null,null,"alibaba/COLA","https://github.com/alibaba/COLA",8484,2276]
[3539,null,null,"tmux-plugins/tpm","https://github.com/tmux-plugins/tpm",8480,320]
[3540,null,null,"microsoft/pyright","https://github.com/microsoft/pyright",8481,506]
[3541,null,null,"ikatyang/emoji-cheat-sheet","https://github.com/ikatyang/emoji-cheat-sheet",8476,3623]
[3542,null,null,"GoesToEleven/GolangTraining","https://github.com/GoesToEleven/GolangTraining",8472,3247]
[3543,null,null,"unknwon/go-fundamental-programming","https://github.com/unknwon/go-fundamental-programming",8467,2043]
[3544,null,null,"lowlighter/metrics","https://github.com/lowlighter/metrics",8468,959]
[3545,null,null,"Mikoto10032/DeepLearning","https://github.com/Mikoto10032/DeepLearning",8471,2578]
[3546,null,null,"agenda/agenda","https://github.com/agenda/agenda",8466,771]
[3547,null,null,"dexie/Dexie.js","https://github.com/dexie/Dexie.js",8466,561]
[3548,null,null,"evolus/pencil","https://github.com/evolus/pencil",8460,710]
[3549,null,null,"Peltoche/lsd","https://github.com/Peltoche/lsd",8460,284]
[3550,null,null,"braziljs/js-the-right-way","https://github.com/braziljs/js-the-right-way",8456,938]
[3551,null,null,"YOURLS/YOURLS","https://github.com/YOURLS/YOURLS",8451,1753]
[3552,null,null,"devhubapp/devhub","https://github.com/devhubapp/devhub",8450,715]
[3553,null,null,"MahApps/MahApps.Metro","https://github.com/MahApps/MahApps.Metro",8449,2410]
[3554,null,null,"iv-org/invidious","https://github.com/iv-org/invidious",8450,759]
[3555,null,null,"apiaryio/api-blueprint","https://github.com/apiaryio/api-blueprint",8444,2194]
[3556,null,null,"Blankj/awesome-java-leetcode","https://github.com/Blankj/awesome-java-leetcode",8442,1742]
[3557,null,null,"felixse/FluentTerminal","https://github.com/felixse/FluentTerminal",8442,423]
[3558,null,null,"gcanti/fp-ts","https://github.com/gcanti/fp-ts",8442,454]
[3559,null,null,"roughike/BottomBar","https://github.com/roughike/BottomBar",8435,1561]
[3560,null,null,"huanghaibin-dev/CalendarView","https://github.com/huanghaibin-dev/CalendarView",8434,1631]
[3561,null,null,"peng-zhihui/Dummy-Robot","https://github.com/peng-zhihui/Dummy-Robot",8435,1840]
[3562,null,null,"tennc/webshell","https://github.com/tennc/webshell",8433,5403]
[3563,null,null,"jnv/lists","https://github.com/jnv/lists",8433,660]
[3564,null,null,"jhu-ep-coursera/fullstack-course4","https://github.com/jhu-ep-coursera/fullstack-course4",8432,10700]
[3565,null,null,"valinet/ExplorerPatcher","https://github.com/valinet/ExplorerPatcher",8436,472]
[3566,null,null,"librespeed/speedtest","https://github.com/librespeed/speedtest",8424,1796]
[3567,null,null,"diasurgical/devilution","https://github.com/diasurgical/devilution",8420,937]
[3568,null,null,"reactphp/reactphp","https://github.com/reactphp/reactphp",8418,748]
[3569,null,null,"alicevision/Meshroom","https://github.com/alicevision/Meshroom",8418,872]
[3570,null,null,"facebookarchive/caffe2","https://github.com/facebookarchive/caffe2",8408,2009]
[3571,null,null,"rougier/scientific-visualization-book","https://github.com/rougier/scientific-visualization-book",8409,807]
[3572,null,null,"jamiebuilds/itsy-bitsy-data-structures","https://github.com/jamiebuilds/itsy-bitsy-data-structures",8405,669]
[3573,null,null,"Yorko/mlcourse.ai","https://github.com/Yorko/mlcourse.ai",8402,5537]
[3574,null,null,"facebook/buck","https://github.com/facebook/buck",8400,1227]
[3575,null,null,"TheCherno/Hazel","https://github.com/TheCherno/Hazel",8402,1218]
[3576,null,null,"MarshallOfSound/Google-Play-Music-Desktop-Player-UNOFFICIAL-","https://github.com/MarshallOfSound/Google-Play-Music-Desktop-Player-UNOFFICIAL-",8396,819]
[3577,null,null,"boot2docker/boot2docker","https://github.com/boot2docker/boot2docker",8390,1324]
[3578,null,null,"zellij-org/zellij","https://github.com/zellij-org/zellij",8392,245]
[3579,null,null,"sebastianbergmann/php-code-coverage","https://github.com/sebastianbergmann/php-code-coverage",8380,357]
[3580,null,null,"mawww/kakoune","https://github.com/mawww/kakoune",8381,666]
[3581,null,null,"slackhq/SlackTextViewController","https://github.com/slackhq/SlackTextViewController",8376,1115]
[3582,null,null,"helloqingfeng/Awsome-Front-End-learning-resource","https://github.com/helloqingfeng/Awsome-Front-End-learning-resource",8377,1818]
[3583,null,null,"hediet/vscode-drawio","https://github.com/hediet/vscode-drawio",8374,351]
[3584,null,null,"theanalyst/awesome-distributed-systems","https://github.com/theanalyst/awesome-distributed-systems",8372,1227]
[3585,null,null,"timzhang642/3D-Machine-Learning","https://github.com/timzhang642/3D-Machine-Learning",8372,1681]
[3586,null,null,"junit-team/junit4","https://github.com/junit-team/junit4",8372,3186]
[3587,null,null,"gyoogle/tech-interview-for-developer","https://github.com/gyoogle/tech-interview-for-developer",8368,2134]
[3588,null,null,"onevcat/VVDocumenter-Xcode","https://github.com/onevcat/VVDocumenter-Xcode",8359,1577]
[3589,null,null,"akveo/eva-icons","https://github.com/akveo/eva-icons",8358,362]
[3590,null,null,"typestack/class-validator","https://github.com/typestack/class-validator",8361,635]
[3591,null,null,"Jguer/yay","https://github.com/Jguer/yay",8356,304]
[3592,null,null,"GeekyAnts/vue-native-core","https://github.com/GeekyAnts/vue-native-core",8355,323]
[3593,null,null,"foliojs/pdfkit","https://github.com/foliojs/pdfkit",8355,1015]
[3594,null,null,"howtographql/howtographql","https://github.com/howtographql/howtographql",8354,1146]
[3595,null,null,"junegunn/fzf.vim","https://github.com/junegunn/fzf.vim",8354,530]
[3596,null,null,"horst3180/arc-theme","https://github.com/horst3180/arc-theme",8348,630]
[3597,null,null,"OpenFeign/feign","https://github.com/OpenFeign/feign",8348,1737]
[3598,null,null,"jakesgordon/javascript-state-machine","https://github.com/jakesgordon/javascript-state-machine",8348,993]
[3599,null,null,"twitter/finagle","https://github.com/twitter/finagle",8347,1409]
[3600,null,null,"OpenMined/PySyft","https://github.com/OpenMined/PySyft",8345,1855]
[3601,null,null,"metersphere/metersphere","https://github.com/metersphere/metersphere",8343,2018]
[3602,null,null,"uber/react-vis","https://github.com/uber/react-vis",8341,851]
[3603,null,null,"microsoft/reactxp","https://github.com/microsoft/reactxp",8339,575]
[3604,null,null,"myclabs/DeepCopy","https://github.com/myclabs/DeepCopy",8334,89]
[3605,null,null,"karpathy/minGPT","https://github.com/karpathy/minGPT",8335,949]
[3606,null,null,"gridsome/gridsome","https://github.com/gridsome/gridsome",8332,497]
[3607,null,null,"Stuk/jszip","https://github.com/Stuk/jszip",8324,1241]
[3608,null,null,"cyfdecyf/cow","https://github.com/cyfdecyf/cow",8323,1640]
[3609,null,null,"steipete/Aspects","https://github.com/steipete/Aspects",8314,1260]
[3610,null,null,"museui/muse-ui","https://github.com/museui/muse-ui",8312,933]
[3611,null,null,"carla-simulator/carla","https://github.com/carla-simulator/carla",8312,2526]
[3612,null,null,"clips/pattern","https://github.com/clips/pattern",8308,1588]
[3613,null,null,"ACL4SSR/ACL4SSR","https://github.com/ACL4SSR/ACL4SSR",8308,2353]
[3614,null,null,"chokcoco/CSS-Inspiration","https://github.com/chokcoco/CSS-Inspiration",8307,786]
[3615,null,null,"resilience4j/resilience4j","https://github.com/resilience4j/resilience4j",8307,1131]
[3616,null,null,"mdo/code-guide","https://github.com/mdo/code-guide",8304,1161]
[3617,null,null,"litten/hexo-theme-yilia","https://github.com/litten/hexo-theme-yilia",8300,2472]
[3618,null,null,"ybq/Android-SpinKit","https://github.com/ybq/Android-SpinKit",8296,1293]
[3619,null,null,"dropwizard/dropwizard","https://github.com/dropwizard/dropwizard",8294,3438]
[3620,null,null,"guarinogabriel/Mac-CLI","https://github.com/guarinogabriel/Mac-CLI",8294,342]
[3621,null,null,"travis-ci/travis-ci","https://github.com/travis-ci/travis-ci",8294,827]
[3622,null,null,"sloria/TextBlob","https://github.com/sloria/TextBlob",8292,1093]
[3623,null,null,"kaminari/kaminari","https://github.com/kaminari/kaminari",8283,1076]
[3624,null,null,"tidwall/tile38","https://github.com/tidwall/tile38",8283,516]
[3625,null,null,"googleapis/google-api-php-client","https://github.com/googleapis/google-api-php-client",8282,3473]
[3626,null,null,"goplus/gop","https://github.com/goplus/gop",8281,546]
[3627,null,null,"gwuhaolin/livego","https://github.com/gwuhaolin/livego",8281,1770]
[3628,null,null,"thoughtbot/laptop","https://github.com/thoughtbot/laptop",8280,1911]
[3629,null,null,"assimp/assimp","https://github.com/assimp/assimp",8273,2396]
[3630,null,null,"pypa/pip","https://github.com/pypa/pip",8273,2718]
[3631,null,null,"cryptomator/cryptomator","https://github.com/cryptomator/cryptomator",8271,684]
[3632,null,null,"symfony/http-foundation","https://github.com/symfony/http-foundation",8268,280]
[3633,null,null,"coturn/coturn","https://github.com/coturn/coturn",8268,1695]
[3634,null,null,"NG-ZORRO/ng-zorro-antd","https://github.com/NG-ZORRO/ng-zorro-antd",8266,3267]
[3635,null,null,"chinchang/hint.css","https://github.com/chinchang/hint.css",8263,717]
[3636,null,null,"layui/layer","https://github.com/layui/layer",8254,2762]
[3637,null,null,"github/super-linter","https://github.com/github/super-linter",8251,917]
[3638,null,null,"relax/relax","https://github.com/relax/relax",8248,631]
[3639,null,null,"seajs/seajs","https://github.com/seajs/seajs",8247,2657]
[3640,null,null,"qinguoyi/TinyWebServer","https://github.com/qinguoyi/TinyWebServer",8244,2364]
[3641,null,null,"shirou/gopsutil","https://github.com/shirou/gopsutil",8240,1348]
[3642,null,null,"adnanh/webhook","https://github.com/adnanh/webhook",8240,692]
[3643,null,null,"rust-lang/rust-clippy","https://github.com/rust-lang/rust-clippy",8242,1086]
[3644,null,null,"AkashSingh3031/The-Complete-FAANG-Preparation","https://github.com/AkashSingh3031/The-Complete-FAANG-Preparation",8238,1952]
[3645,null,null,"insidegui/WWDC","https://github.com/insidegui/WWDC",8234,742]
[3646,null,null,"firebase/quickstart-android","https://github.com/firebase/quickstart-android",8237,7401]
[3647,null,null,"keybase/client","https://github.com/keybase/client",8233,1230]
[3648,null,null,"sass/node-sass","https://github.com/sass/node-sass",8228,1328]
[3649,null,null,"rawgraphs/rawgraphs-app","https://github.com/rawgraphs/rawgraphs-app",8228,1839]
[3650,null,null,"rematch/rematch","https://github.com/rematch/rematch",8227,440]
[3651,null,null,"dat-ecosystem-archive/dat","https://github.com/dat-ecosystem-archive/dat",8218,495]
[3652,null,null,"microsoft/react-native-code-push","https://github.com/microsoft/react-native-code-push",8215,1308]
[3653,null,null,"SwiftGen/SwiftGen","https://github.com/SwiftGen/SwiftGen",8212,649]
[3654,null,null,"florent37/MaterialViewPager","https://github.com/florent37/MaterialViewPager",8207,1504]
[3655,null,null,"chromedp/chromedp","https://github.com/chromedp/chromedp",8207,668]
[3656,null,null,"juanfont/headscale","https://github.com/juanfont/headscale",8204,442]
[3657,null,null,"olivernn/lunr.js","https://github.com/olivernn/lunr.js",8206,577]
[3658,null,null,"graphql/graphql-playground","https://github.com/graphql/graphql-playground",8204,720]
[3659,null,null,"rofl0r/proxychains-ng","https://github.com/rofl0r/proxychains-ng",8204,1001]
[3660,null,null,"cosmtrek/air","https://github.com/cosmtrek/air",8201,551]
[3661,null,null,"guipsamora/pandas_exercises","https://github.com/guipsamora/pandas_exercises",8201,6896]
[3662,null,null,"FineUploader/fine-uploader","https://github.com/FineUploader/fine-uploader",8196,1932]
[3663,null,null,"DeviaVir/zenbot","https://github.com/DeviaVir/zenbot",8193,2098]
[3664,null,null,"dnschneid/crouton","https://github.com/dnschneid/crouton",8188,1191]
[3665,null,null,"woocommerce/woocommerce","https://github.com/woocommerce/woocommerce",8185,10432]
[3666,null,null,"aphyr/distsys-class","https://github.com/aphyr/distsys-class",8181,638]
[3667,null,null,"andlabs/ui","https://github.com/andlabs/ui",8178,728]
[3668,null,null,"WordPress/gutenberg","https://github.com/WordPress/gutenberg",8179,3176]
[3669,null,null,"shadowsocks/shadowsocks-iOS","https://github.com/shadowsocks/shadowsocks-iOS",8175,3579]
[3670,null,null,"google/traceur-compiler","https://github.com/google/traceur-compiler",8175,627]
[3671,null,null,"audacity/audacity","https://github.com/audacity/audacity",8173,1916]
[3672,null,null,"Masterminds/glide","https://github.com/Masterminds/glide",8167,551]
[3673,null,null,"lxgw/LxgwWenKai","https://github.com/lxgw/LxgwWenKai",8168,275]
[3674,null,null,"vercel/serve","https://github.com/vercel/serve",8164,697]
[3675,null,null,"microsoft/STL","https://github.com/microsoft/STL",8162,1207]
[3676,null,null,"luruke/browser-2020","https://github.com/luruke/browser-2020",8161,209]
[3677,null,null,"path/FastImageCache","https://github.com/path/FastImageCache",8160,960]
[3678,null,null,"99designs/gqlgen","https://github.com/99designs/gqlgen",8160,938]
[3679,null,null,"qutebrowser/qutebrowser","https://github.com/qutebrowser/qutebrowser",8159,951]
[3680,null,null,"konvajs/konva","https://github.com/konvajs/konva",8159,732]
[3681,null,null,"dotnet/BenchmarkDotNet","https://github.com/dotnet/BenchmarkDotNet",8158,801]
[3682,null,null,"sandboxie-plus/Sandboxie","https://github.com/sandboxie-plus/Sandboxie",8156,875]
[3683,null,null,"leandromoreira/ffmpeg-libav-tutorial","https://github.com/leandromoreira/ffmpeg-libav-tutorial",8155,795]
[3684,null,null,"facebookresearch/pifuhd","https://github.com/facebookresearch/pifuhd",8159,1151]
[3685,null,null,"text-mask/text-mask","https://github.com/text-mask/text-mask",8153,859]
[3686,null,null,"dwyl/english-words","https://github.com/dwyl/english-words",8148,1521]
[3687,null,null,"openzfs/zfs","https://github.com/openzfs/zfs",8158,1511]
[3688,null,null,"airbytehq/airbyte","https://github.com/airbytehq/airbyte",8145,1807]
[3689,null,null,"symfony/event-dispatcher","https://github.com/symfony/event-dispatcher",8143,69]
[3690,null,null,"pola-rs/polars","https://github.com/pola-rs/polars",8146,454]
[3691,null,null,"fuck-xuexiqiangguo/Fuck-XueXiQiangGuo","https://github.com/fuck-xuexiqiangguo/Fuck-XueXiQiangGuo",8137,1856]
[3692,null,null,"solid/solid","https://github.com/solid/solid",8130,389]
[3693,null,null,"yandexdataschool/nlp_course","https://github.com/yandexdataschool/nlp_course",8126,2253]
[3694,null,null,"gophish/gophish","https://github.com/gophish/gophish",8127,1532]
[3695,null,null,"dotnet/machinelearning","https://github.com/dotnet/machinelearning",8120,1775]
[3696,null,null,"brianegan/flutter_architecture_samples","https://github.com/brianegan/flutter_architecture_samples",8119,1629]
[3697,null,null,"wolverinn/Waking-Up","https://github.com/wolverinn/Waking-Up",8120,1721]
[3698,null,null,"square/okio","https://github.com/square/okio",8118,1160]
[3699,null,null,"hardikvasa/google-images-download","https://github.com/hardikvasa/google-images-download",8111,1988]
[3700,null,null,"opendigg/awesome-github-wechat-weapp","https://github.com/opendigg/awesome-github-wechat-weapp",8110,1791]
[3701,null,null,"hackmdio/codimd","https://github.com/hackmdio/codimd",8108,980]
[3702,null,null,"sitaramc/gitolite","https://github.com/sitaramc/gitolite",8108,1001]
[3703,null,null,"leiurayer/downkyi","https://github.com/leiurayer/downkyi",8110,1085]
[3704,null,null,"arthurspk/guiadevbrasil","https://github.com/arthurspk/guiadevbrasil",8102,1091]
[3705,null,null,"shwenzhang/AndResGuard","https://github.com/shwenzhang/AndResGuard",8100,1461]
[3706,null,null,"mvt-project/mvt","https://github.com/mvt-project/mvt",8093,722]
[3707,null,null,"bendc/frontend-guidelines","https://github.com/bendc/frontend-guidelines",8092,663]
[3708,null,null,"developit/mitt","https://github.com/developit/mitt",8090,378]
[3709,null,null,"IBM/plex","https://github.com/IBM/plex",8091,521]
[3710,null,null,"uBlock-LLC/uBlock","https://github.com/uBlock-LLC/uBlock",8086,473]
[3711,null,null,"dhamaniasad/awesome-postgres","https://github.com/dhamaniasad/awesome-postgres",8083,701]
[3712,null,null,"electron/electron-packager","https://github.com/electron/electron-packager",8079,789]
[3713,null,null,"nahamsec/Resources-for-Beginner-Bug-Bounty-Hunters","https://github.com/nahamsec/Resources-for-Beginner-Bug-Bounty-Hunters",8077,1582]
[3714,null,null,"alibaba/atlas","https://github.com/alibaba/atlas",8076,1518]
[3715,null,null,"vishnubob/wait-for-it","https://github.com/vishnubob/wait-for-it",8073,2193]
[3716,null,null,"arrow-py/arrow","https://github.com/arrow-py/arrow",8070,625]
[3717,null,null,"XiaoMi/soar","https://github.com/XiaoMi/soar",8071,1244]
[3718,null,null,"Kristories/awesome-guidelines","https://github.com/Kristories/awesome-guidelines",8063,535]
[3719,null,null,"greatghoul/remote-working","https://github.com/greatghoul/remote-working",8063,760]
[3720,null,null,"NVIDIA/vid2vid","https://github.com/NVIDIA/vid2vid",8061,1170]
[3721,null,null,"amitshekhariitbhu/Android-Debug-Database","https://github.com/amitshekhariitbhu/Android-Debug-Database",8060,860]
[3722,null,null,"jsx-eslint/eslint-plugin-react","https://github.com/jsx-eslint/eslint-plugin-react",8049,2643]
[3723,null,null,"VowpalWabbit/vowpal_wabbit","https://github.com/VowpalWabbit/vowpal_wabbit",8047,1815]
[3724,null,null,"symfony/finder","https://github.com/symfony/finder",8047,54]
[3725,null,null,"SFML/SFML","https://github.com/SFML/SFML",8047,1467]
[3726,null,null,"Z3Prover/z3","https://github.com/Z3Prover/z3",8047,1284]
[3727,null,null,"pingcap/talent-plan","https://github.com/pingcap/talent-plan",8047,1066]
[3728,null,null,"minetest/minetest","https://github.com/minetest/minetest",8042,1632]
[3729,null,null,"Sunnyyoung/WeChatTweak-macOS","https://github.com/Sunnyyoung/WeChatTweak-macOS",8043,1120]
[3730,null,null,"alibaba/lowcode-engine","https://github.com/alibaba/lowcode-engine",8045,1323]
[3731,null,null,"zeromq/libzmq","https://github.com/zeromq/libzmq",8042,2184]
[3732,null,null,"grommet/grommet","https://github.com/grommet/grommet",8041,976]
[3733,null,null,"antlr/grammars-v4","https://github.com/antlr/grammars-v4",8042,3261]
[3734,null,null,"ionic-team/capacitor","https://github.com/ionic-team/capacitor",8041,793]
[3735,null,null,"TonnyL/Awesome_APIs","https://github.com/TonnyL/Awesome_APIs",8040,969]
[3736,null,null,"drogonframework/drogon","https://github.com/drogonframework/drogon",8041,785]
[3737,null,null,"wix/react-native-calendars","https://github.com/wix/react-native-calendars",8039,2578]
[3738,null,null,"phodal/github","https://github.com/phodal/github",8037,1673]
[3739,null,null,"cuixiaorui/mini-vue","https://github.com/cuixiaorui/mini-vue",8037,1768]
[3740,null,null,"monkeytypegame/monkeytype","https://github.com/monkeytypegame/monkeytype",8037,1192]
[3741,null,null,"JetBrains/JetBrainsMono","https://github.com/JetBrains/JetBrainsMono",8033,240]
[3742,null,null,"sockjs/sockjs-client","https://github.com/sockjs/sockjs-client",8031,1308]
[3743,null,null,"trustedsec/social-engineer-toolkit","https://github.com/trustedsec/social-engineer-toolkit",8034,2359]
[3744,null,null,"airbnb/epoxy","https://github.com/airbnb/epoxy",8024,699]
[3745,null,null,"adrai/flowchart.js","https://github.com/adrai/flowchart.js",8024,1209]
[3746,null,null,"paragonie/random_compat","https://github.com/paragonie/random_compat",8021,119]
[3747,null,null,"VulcanJS/Vulcan","https://github.com/VulcanJS/Vulcan",8021,1975]
[3748,null,null,"dotnet-architecture/eShopOnWeb","https://github.com/dotnet-architecture/eShopOnWeb",8020,4033]
[3749,null,null,"JanDeDobbeleer/oh-my-posh","https://github.com/JanDeDobbeleer/oh-my-posh",8021,1454]
[3750,null,null,"Jackett/Jackett","https://github.com/Jackett/Jackett",8021,980]
[3751,null,null,"go-swagger/go-swagger","https://github.com/go-swagger/go-swagger",8020,1164]
[3752,null,null,"heartcombo/simple_form","https://github.com/heartcombo/simple_form",8017,1313]
[3753,null,null,"earthly/earthly","https://github.com/earthly/earthly",8016,271]
[3754,null,null,"draveness/analyze","https://github.com/draveness/analyze",8015,1956]
[3755,null,null,"harthur/brain","https://github.com/harthur/brain",8014,934]
[3756,null,null,"gao-sun/eul","https://github.com/gao-sun/eul",8013,300]
[3757,null,null,"brave/browser-laptop","https://github.com/brave/browser-laptop",8011,1036]
[3758,null,null,"secdev/scapy","https://github.com/secdev/scapy",8010,1730]
[3759,null,null,"vesoft-inc/nebula","https://github.com/vesoft-inc/nebula",8007,896]
[3760,null,null,"golang/mock","https://github.com/golang/mock",8009,562]
[3761,null,null,"sindresorhus/ky","https://github.com/sindresorhus/ky",8003,285]
[3762,null,null,"uber/baseweb","https://github.com/uber/baseweb",7997,763]
[3763,null,null,"kubernetes/kompose","https://github.com/kubernetes/kompose",7996,662]
[3764,null,null,"kickstarter/ios-oss","https://github.com/kickstarter/ios-oss",7996,1198]
[3765,null,null,"ng-bootstrap/ng-bootstrap","https://github.com/ng-bootstrap/ng-bootstrap",7995,1484]
[3766,null,null,"gustavoguanabara/html-css","https://github.com/gustavoguanabara/html-css",7995,2174]
[3767,null,null,"winsiderss/systeminformer","https://github.com/winsiderss/systeminformer",7995,1122]
[3768,null,null,"nextui-org/nextui","https://github.com/nextui-org/nextui",7992,426]
[3769,null,null,"anbox/anbox","https://github.com/anbox/anbox",7989,1108]
[3770,null,null,"infracost/infracost","https://github.com/infracost/infracost",7985,375]
[3771,null,null,"Mango/slideout","https://github.com/Mango/slideout",7984,1221]
[3772,null,null,"oguzhaninan/Stacer","https://github.com/oguzhaninan/Stacer",7978,556]
[3773,null,null,"mishoo/UglifyJS-old","https://github.com/mishoo/UglifyJS-old",7977,755]
[3774,null,null,"DaveGamble/cJSON","https://github.com/DaveGamble/cJSON",7976,2730]
[3775,null,null,"ImageOptim/ImageOptim","https://github.com/ImageOptim/ImageOptim",7974,398]
[3776,null,null,"hoochanlon/w3-goto-world","https://github.com/hoochanlon/w3-goto-world",7974,1843]
[3777,null,null,"Manisso/fsociety","https://github.com/Manisso/fsociety",7972,1771]
[3778,null,null,"dabeaz-course/practical-python","https://github.com/dabeaz-course/practical-python",7972,4778]
[3779,null,null,"docker/docker-bench-security","https://github.com/docker/docker-bench-security",7965,928]
[3780,null,null,"bigskysoftware/htmx","https://github.com/bigskysoftware/htmx",7966,317]
[3781,null,null,"opencv/cvat","https://github.com/opencv/cvat",7964,2134]
[3782,null,null,"theatre-js/theatre","https://github.com/theatre-js/theatre",7960,219]
[3783,null,null,"evil-huawei/evil-huawei","https://github.com/evil-huawei/evil-huawei",7956,590]
[3784,null,null,"samber/lo","https://github.com/samber/lo",7957,323]
[3785,null,null,"probot/probot","https://github.com/probot/probot",7955,956]
[3786,null,null,"revery-ui/revery","https://github.com/revery-ui/revery",7952,204]
[3787,null,null,"Tencent/xLua","https://github.com/Tencent/xLua",7953,2300]
[3788,null,null,"mgonto/restangular","https://github.com/mgonto/restangular",7950,896]
[3789,null,null,"yiminghe/async-validator","https://github.com/yiminghe/async-validator",7950,724]
[3790,null,null,"sindresorhus/ora","https://github.com/sindresorhus/ora",7952,289]
[3791,null,null,"CreateJS/EaselJS","https://github.com/CreateJS/EaselJS",7949,2020]
[3792,null,null,"nodegui/nodegui","https://github.com/nodegui/nodegui",7946,244]
[3793,null,null,"prometheus/node_exporter","https://github.com/prometheus/node_exporter",7944,1912]
[3794,null,null,"mezod/awesome-indie","https://github.com/mezod/awesome-indie",7946,540]
[3795,null,null,"prompt-toolkit/python-prompt-toolkit","https://github.com/prompt-toolkit/python-prompt-toolkit",7941,641]
[3796,null,null,"yhatt/marp","https://github.com/yhatt/marp",7941,419]
[3797,null,null,"ideawu/ssdb","https://github.com/ideawu/ssdb",7940,1415]
[3798,null,null,"microsoft/wslg","https://github.com/microsoft/wslg",7943,244]
[3799,null,null,"reactjs/reactjs.org","https://github.com/reactjs/reactjs.org",7938,6477]
[3800,null,null,"danialfarid/ng-file-upload","https://github.com/danialfarid/ng-file-upload",7936,1643]
[3801,null,null,"othneildrew/Best-README-Template","https://github.com/othneildrew/Best-README-Template",7937,17353]
[3802,null,null,"remix-run/history","https://github.com/remix-run/history",7932,994]
[3803,null,null,"NickYang29/aria2gui","https://github.com/NickYang29/aria2gui",7931,843]
[3804,null,null,"streamlink/streamlink","https://github.com/streamlink/streamlink",7931,924]
[3805,null,null,"hybridgroup/gobot","https://github.com/hybridgroup/gobot",7930,971]
[3806,null,null,"xupefei/Locale-Emulator","https://github.com/xupefei/Locale-Emulator",7929,681]
[3807,null,null,"judasn/Linux-Tutorial","https://github.com/judasn/Linux-Tutorial",7928,2463]
[3808,null,null,"php-fig/simple-cache","https://github.com/php-fig/simple-cache",7927,49]
[3809,null,null,"mediaelement/mediaelement","https://github.com/mediaelement/mediaelement",7924,1612]
[3810,null,null,"wangshub/Douyin-Bot","https://github.com/wangshub/Douyin-Bot",7923,1710]
[3811,null,null,"sahat/satellizer","https://github.com/sahat/satellizer",7922,1168]
[3812,null,null,"warpdotdev/Warp","https://github.com/warpdotdev/Warp",7924,112]
[3813,null,null,"unicodeveloper/awesome-nextjs","https://github.com/unicodeveloper/awesome-nextjs",7921,747]
[3814,null,null,"appbaseio/dejavu","https://github.com/appbaseio/dejavu",7922,510]
[3815,null,null,"mailcheck/mailcheck","https://github.com/mailcheck/mailcheck",7920,503]
[3816,null,null,"malwaredllc/byob","https://github.com/malwaredllc/byob",7919,1932]
[3817,null,null,"jawil/blog","https://github.com/jawil/blog",7918,902]
[3818,null,null,"wulabing/Xray_onekey","https://github.com/wulabing/Xray_onekey",7918,3510]
[3819,null,null,"paramiko/paramiko","https://github.com/paramiko/paramiko",7907,1874]
[3820,null,null,"duplicati/duplicati","https://github.com/duplicati/duplicati",7908,767]
[3821,null,null,"hs-web/hsweb-framework","https://github.com/hs-web/hsweb-framework",7907,2987]
[3822,null,null,"tinacms/tinacms","https://github.com/tinacms/tinacms",7909,399]
[3823,null,null,"kelseyhightower/confd","https://github.com/kelseyhightower/confd",7905,1374]
[3824,null,null,"ChrisRM/material-theme-jetbrains","https://github.com/ChrisRM/material-theme-jetbrains",7904,483]
[3825,null,null,"developit/htm","https://github.com/developit/htm",7904,157]
[3826,null,null,"winsw/winsw","https://github.com/winsw/winsw",7904,1231]
[3827,null,null,"pkg/errors","https://github.com/pkg/errors",7905,644]
[3828,null,null,"jpillora/chisel","https://github.com/jpillora/chisel",7905,966]
[3829,null,null,"KunMinX/Jetpack-MVVM-Best-Practice","https://github.com/KunMinX/Jetpack-MVVM-Best-Practice",7903,1453]
[3830,null,null,"aws/aws-sdk-go","https://github.com/aws/aws-sdk-go",7902,1944]
[3831,null,null,"shadowsocks/shadowsocks-qt5","https://github.com/shadowsocks/shadowsocks-qt5",7900,2365]
[3832,null,null,"almende/vis","https://github.com/almende/vis",7900,1535]
[3833,null,null,"scaffold-eth/scaffold-eth","https://github.com/scaffold-eth/scaffold-eth",7898,2598]
[3834,null,null,"google/oss-fuzz","https://github.com/google/oss-fuzz",7899,1711]
[3835,null,null,"egonSchiele/grokking_algorithms","https://github.com/egonSchiele/grokking_algorithms",7899,2966]
[3836,null,null,"carlhuda/janus","https://github.com/carlhuda/janus",7896,841]
[3837,null,null,"Netflix/SimianArmy","https://github.com/Netflix/SimianArmy",7896,1161]
[3838,null,null,"reactjs/react-router-redux","https://github.com/reactjs/react-router-redux",7896,707]
[3839,null,null,"shashank88/system_design","https://github.com/shashank88/system_design",7895,2324]
[3840,null,null,"guolindev/LitePal","https://github.com/guolindev/LitePal",7894,1595]
[3841,null,null,"mrdoob/stats.js","https://github.com/mrdoob/stats.js",7894,1210]
[3842,null,null,"miguelgrinberg/flasky","https://github.com/miguelgrinberg/flasky",218,"Python"]
[3843,null,null,"JackyAndroid/AndroidInterview-Q-A","https://github.com/JackyAndroid/AndroidInterview-Q-A",7893,1784]
[3844,null,null,"HannahMitt/HomeMirror","https://github.com/HannahMitt/HomeMirror",7893,692]
[3845,null,null,"antirez/disque","https://github.com/antirez/disque",7890,550]
[3846,null,null,"modin-project/modin","https://github.com/modin-project/modin",7888,564]
[3847,null,null,"microsoft/DeepSpeed","https://github.com/microsoft/DeepSpeed",7885,917]
[3848,null,null,"react-grid-layout/react-draggable","https://github.com/react-grid-layout/react-draggable",7885,962]
[3849,null,null,"node-fetch/node-fetch","https://github.com/node-fetch/node-fetch",7885,953]
[3850,null,null,"injetlee/Python","https://github.com/injetlee/Python",7885,3897]
[3851,null,null,"hakimel/Ladda","https://github.com/hakimel/Ladda",7884,903]
[3852,null,null,"rswier/c4","https://github.com/rswier/c4",7884,1280]
[3853,null,null,"atlas-engineer/nyxt","https://github.com/atlas-engineer/nyxt",7885,345]
[3854,null,null,"go-vgo/robotgo","https://github.com/go-vgo/robotgo",7882,751]
[3855,null,null,"mozilla/nunjucks","https://github.com/mozilla/nunjucks",7883,650]
[3856,null,null,"Pikaday/Pikaday","https://github.com/Pikaday/Pikaday",7881,1357]
[3857,null,null,"JoeyDeVries/LearnOpenGL","https://github.com/JoeyDeVries/LearnOpenGL",7880,2262]
[3858,null,null,"codenotary/immudb","https://github.com/codenotary/immudb",7875,286]
[3859,null,null,"aikorea/awesome-rl","https://github.com/aikorea/awesome-rl",7875,1780]
[3860,null,null,"flynn/flynn","https://github.com/flynn/flynn",7869,608]
[3861,null,null,"numba/numba","https://github.com/numba/numba",7869,959]
[3862,null,null,"ryanburgess/engineer-manager","https://github.com/ryanburgess/engineer-manager",7868,494]
[3863,null,null,"banchichen/TZImagePickerController","https://github.com/banchichen/TZImagePickerController",7867,1811]
[3864,null,null,"microsoft/sql-server-samples","https://github.com/microsoft/sql-server-samples",7868,7741]
[3865,null,null,"facebookarchive/nuclide","https://github.com/facebookarchive/nuclide",7862,760]
[3866,null,null,"yhirose/cpp-httplib","https://github.com/yhirose/cpp-httplib",7859,1641]
[3867,null,null,"paperwork/paperwork","https://github.com/paperwork/paperwork",7858,690]
[3868,null,null,"OWASP/Amass","https://github.com/OWASP/Amass",7858,1450]
[3869,null,null,"beautify-web/js-beautify","https://github.com/beautify-web/js-beautify",7857,1354]
[3870,null,null,"ffuf/ffuf","https://github.com/ffuf/ffuf",7857,894]
[3871,null,null,"Aufree/trip-to-iOS","https://github.com/Aufree/trip-to-iOS",7853,2312]
[3872,null,null,"Grouper/FlatUIKit","https://github.com/Grouper/FlatUIKit",7852,970]
[3873,null,null,"lucidrains/DALLE2-pytorch","https://github.com/lucidrains/DALLE2-pytorch",7856,611]
[3874,null,null,"purescript/purescript","https://github.com/purescript/purescript",7850,560]
[3875,null,null,"owncloud/core","https://github.com/owncloud/core",7849,2069]
[3876,null,null,"amethyst/amethyst","https://github.com/amethyst/amethyst",7846,779]
[3877,null,null,"qiao/PathFinding.js","https://github.com/qiao/PathFinding.js",7845,1276]
[3878,null,null,"nst/iOS-Runtime-Headers","https://github.com/nst/iOS-Runtime-Headers",7844,1652]
[3879,null,null,"felixrieseberg/macintosh.js","https://github.com/felixrieseberg/macintosh.js",7844,315]
[3880,null,null,"lexrus/LTMorphingLabel","https://github.com/lexrus/LTMorphingLabel",7843,802]
[3881,null,null,"signalapp/Signal-Server","https://github.com/signalapp/Signal-Server",7841,1887]
[3882,null,null,"Maximus5/ConEmu","https://github.com/Maximus5/ConEmu",7841,545]
[3883,null,null,"JakeWharton/hugo","https://github.com/JakeWharton/hugo",7842,813]
[3884,null,null,"gurugio/lowlevelprogramming-university","https://github.com/gurugio/lowlevelprogramming-university",7839,566]
[3885,null,null,"barryclark/jekyll-now","https://github.com/barryclark/jekyll-now",7840,34330]
[3886,null,null,"matheusfelipeog/beautiful-docs","https://github.com/matheusfelipeog/beautiful-docs",7839,550]
[3887,null,null,"Yelp/elastalert","https://github.com/Yelp/elastalert",7835,1769]
[3888,null,null,"jonobr1/two.js","https://github.com/jonobr1/two.js",7827,472]
[3889,null,null,"hrydgard/ppsspp","https://github.com/hrydgard/ppsspp",7826,1853]
[3890,null,null,"gotify/server","https://github.com/gotify/server",7824,438]
[3891,null,null,"redux-observable/redux-observable","https://github.com/redux-observable/redux-observable",7824,504]
[3892,null,null,"airblade/vim-gitgutter","https://github.com/airblade/vim-gitgutter",7823,284]
[3893,null,null,"SaschaWillems/Vulkan","https://github.com/SaschaWillems/Vulkan",7821,1490]
[3894,null,null,"facebook/jscodeshift","https://github.com/facebook/jscodeshift",7820,443]
[3895,null,null,"moovweb/gvm","https://github.com/moovweb/gvm",7823,438]
[3896,null,null,"swagger-api/swagger-editor","https://github.com/swagger-api/swagger-editor",7818,2093]
[3897,null,null,"cortexlabs/cortex","https://github.com/cortexlabs/cortex",7818,596]
[3898,null,null,"evilsocket/opensnitch","https://github.com/evilsocket/opensnitch",7817,419]
[3899,null,null,"krallin/tini","https://github.com/krallin/tini",7819,398]
[3900,null,null,"jamiebuilds/unstated","https://github.com/jamiebuilds/unstated",7811,311]
[3901,null,null,"rebassjs/rebass","https://github.com/rebassjs/rebass",7806,669]
[3902,null,null,"tuteng/Best-websites-a-programmer-should-visit-zh","https://github.com/tuteng/Best-websites-a-programmer-should-visit-zh",7805,1116]
[3903,null,null,"fengyuanchen/cropper","https://github.com/fengyuanchen/cropper",7802,1799]
[3904,null,null,"AaronFeng753/Waifu2x-Extension-GUI","https://github.com/AaronFeng753/Waifu2x-Extension-GUI",7807,645]
[3905,null,null,"ajeetdsouza/zoxide","https://github.com/ajeetdsouza/zoxide",7803,268]
[3906,null,null,"alibaba/rax","https://github.com/alibaba/rax",7801,654]
[3907,null,null,"terryma/vim-multiple-cursors","https://github.com/terryma/vim-multiple-cursors",7801,251]
[3908,null,null,"chrisbanes/cheesesquare","https://github.com/chrisbanes/cheesesquare",7797,1854]
[3909,null,null,"Flipboard/FLAnimatedImage","https://github.com/Flipboard/FLAnimatedImage",7797,1212]
[3910,null,null,"HangfireIO/Hangfire","https://github.com/HangfireIO/Hangfire",7797,1562]
[3911,null,null,"MicrosoftDocs/azure-docs","https://github.com/MicrosoftDocs/azure-docs",7797,17573]
[3912,null,null,"statsmodels/statsmodels","https://github.com/statsmodels/statsmodels",7794,2582]
[3913,null,null,"retejs/rete","https://github.com/retejs/rete",7780,535]
[3914,null,null,"dthree/cash","https://github.com/dthree/cash",7777,250]
[3915,null,null,"akavel/up","https://github.com/akavel/up",7777,129]
[3916,null,null,"miniMAC/magic","https://github.com/miniMAC/magic",7776,1169]
[3917,null,null,"whyour/qinglong","https://github.com/whyour/qinglong",7778,2094]
[3918,null,null,"playcanvas/engine","https://github.com/playcanvas/engine",7774,1203]
[3919,null,null,"ImageMagick/ImageMagick","https://github.com/ImageMagick/ImageMagick",7770,1067]
[3920,null,null,"opencv/opencv_contrib","https://github.com/opencv/opencv_contrib",7767,5477]
[3921,null,null,"Sonarr/Sonarr","https://github.com/Sonarr/Sonarr",7769,1063]
[3922,null,null,"joelparkerhenderson/architecture-decision-record","https://github.com/joelparkerhenderson/architecture-decision-record",7768,1874]
[3923,null,null,"altair-viz/altair","https://github.com/altair-viz/altair",7764,695]
[3924,null,null,"hashicorp/terraform-provider-aws","https://github.com/hashicorp/terraform-provider-aws",7767,7192]
[3925,null,null,"PointCloudLibrary/pcl","https://github.com/PointCloudLibrary/pcl",7762,4319]
[3926,null,null,"rileytestut/AltStore","https://github.com/rileytestut/AltStore",7764,549]
[3927,null,null,"bottlepy/bottle","https://github.com/bottlepy/bottle",7762,1437]
[3928,null,null,"pedroslopez/whatsapp-web.js","https://github.com/pedroslopez/whatsapp-web.js",7763,1723]
[3929,null,null,"rbgirshick/py-faster-rcnn","https://github.com/rbgirshick/py-faster-rcnn",7758,4143]
[3930,null,null,"varvet/pundit","https://github.com/varvet/pundit",7757,596]
[3931,null,null,"metalsmith/metalsmith","https://github.com/metalsmith/metalsmith",7754,668]
[3932,null,null,"antvis/F2","https://github.com/antvis/F2",7752,646]
[3933,null,null,"wappalyzer/wappalyzer","https://github.com/wappalyzer/wappalyzer",7751,2225]
[3934,null,null,"kylemanna/docker-openvpn","https://github.com/kylemanna/docker-openvpn",7748,2113]
[3935,null,null,"AmruthPillai/Reactive-Resume","https://github.com/AmruthPillai/Reactive-Resume",7749,979]
[3936,null,null,"react-native-image-picker/react-native-image-picker","https://github.com/react-native-image-picker/react-native-image-picker",7746,1959]
[3937,null,null,"oclif/oclif","https://github.com/oclif/oclif",7746,264]
[3938,null,null,"symfony/thanks","https://github.com/symfony/thanks",7743,42]
[3939,null,null,"theme-next/hexo-theme-next","https://github.com/theme-next/hexo-theme-next",7743,2048]
[3940,null,null,"the-paperless-project/paperless","https://github.com/the-paperless-project/paperless",7742,519]
[3941,null,null,"symfony/http-kernel","https://github.com/symfony/http-kernel",7740,90]
[3942,null,null,"amsul/pickadate.js","https://github.com/amsul/pickadate.js",7740,1059]
[3943,null,null,"major/MySQLTuner-perl","https://github.com/major/MySQLTuner-perl",7731,1198]
[3944,null,null,"jigish/slate","https://github.com/jigish/slate",7729,520]
[3945,null,null,"citra-emu/citra","https://github.com/citra-emu/citra",7729,1498]
[3946,null,null,"webdriverio/webdriverio","https://github.com/webdriverio/webdriverio",7728,2187]
[3947,null,null,"iperov/DeepFaceLive","https://github.com/iperov/DeepFaceLive",7729,1056]
[3948,null,null,"zhukov/webogram","https://github.com/zhukov/webogram",7721,2443]
[3949,null,null,"apachecn/Interview","https://github.com/apachecn/Interview",7721,2139]
[3950,null,null,"top-think/think","https://github.com/top-think/think",7718,1651]
[3951,null,null,"FasterXML/jackson","https://github.com/FasterXML/jackson",7720,1134]
[3952,null,null,"OwlCarousel2/OwlCarousel2","https://github.com/OwlCarousel2/OwlCarousel2",7717,2336]
[3953,null,null,"i18next/react-i18next","https://github.com/i18next/react-i18next",7718,985]
[3954,null,null,"ranaroussi/yfinance","https://github.com/ranaroussi/yfinance",7718,1662]
[3955,null,null,"hilongjw/vue-lazyload","https://github.com/hilongjw/vue-lazyload",7716,881]
[3956,null,null,"chaijs/chai","https://github.com/chaijs/chai",7711,702]
[3957,null,null,"isaacs/node-glob","https://github.com/isaacs/node-glob",7710,485]
[3958,null,null,"trello/RxLifecycle","https://github.com/trello/RxLifecycle",7709,658]
[3959,null,null,"primefaces/primeng","https://github.com/primefaces/primeng",7707,3938]
[3960,null,null,"Wechat-ggGitHub/Awesome-GitHub-Repo","https://github.com/Wechat-ggGitHub/Awesome-GitHub-Repo",7708,895]
[3961,null,null,"beefproject/beef","https://github.com/beefproject/beef",7705,1788]
[3962,null,null,"cyanharlow/purecss-francine","https://github.com/cyanharlow/purecss-francine",7703,520]
[3963,null,null,"berzerk0/Probable-Wordlists","https://github.com/berzerk0/Probable-Wordlists",7705,1575]
[3964,null,null,"snowie2000/mactype","https://github.com/snowie2000/mactype",7702,410]
[3965,null,null,"upgundecha/howtheysre","https://github.com/upgundecha/howtheysre",7702,568]
[3966,null,null,"zhoutaoo/SpringCloud","https://github.com/zhoutaoo/SpringCloud",7700,3628]
[3967,null,null,"kamens/jQuery-menu-aim","https://github.com/kamens/jQuery-menu-aim",7690,1127]
[3968,null,null,"ArduPilot/ardupilot","https://github.com/ArduPilot/ardupilot",7690,13301]
[3969,null,null,"docopt/docopt","https://github.com/docopt/docopt",7685,567]
[3970,null,null,"bigbluebutton/bigbluebutton","https://github.com/bigbluebutton/bigbluebutton",7684,5797]
[3971,null,null,"microsoft/fast","https://github.com/microsoft/fast",7683,495]
[3972,null,null,"railsadminteam/rails_admin","https://github.com/railsadminteam/rails_admin",7681,2245]
[3973,null,null,"thejsway/thejsway","https://github.com/thejsway/thejsway",7672,768]
[3974,null,null,"bitemyapp/learnhaskell","https://github.com/bitemyapp/learnhaskell",7670,542]
[3975,null,null,"icindy/wxParse","https://github.com/icindy/wxParse",7668,1850]
[3976,null,null,"Canop/broot","https://github.com/Canop/broot",7672,180]
[3977,null,null,"ashleymills/Reachability.swift","https://github.com/ashleymills/Reachability.swift",7665,902]
[3978,null,null,"google/tsunami-security-scanner","https://github.com/google/tsunami-security-scanner",7661,849]
[3979,null,null,"osxfuse/osxfuse","https://github.com/osxfuse/osxfuse",7660,486]
[3980,null,null,"kedro-org/kedro","https://github.com/kedro-org/kedro",7657,710]
[3981,null,null,"justinamiller/SoftwareArchitect","https://github.com/justinamiller/SoftwareArchitect",7658,686]
[3982,null,null,"foundation/foundation-emails","https://github.com/foundation/foundation-emails",7656,1092]
[3983,null,null,"bingoogolapple/BGAQRCode-Android","https://github.com/bingoogolapple/BGAQRCode-Android",7655,1737]
[3984,null,null,"Lissy93/dashy","https://github.com/Lissy93/dashy",7654,496]
[3985,null,null,"InsertKoinIO/koin","https://github.com/InsertKoinIO/koin",7644,578]
[3986,null,null,"fex-team/webuploader","https://github.com/fex-team/webuploader",7643,2361]
[3987,null,null,"MathewSachin/Captura","https://github.com/MathewSachin/Captura",7640,1498]
[3988,null,null,"codecombat/codecombat","https://github.com/codecombat/codecombat",7640,4017]
[3989,null,null,"TextureGroup/Texture","https://github.com/TextureGroup/Texture",7638,1232]
[3990,null,null,"evilstreak/markdown-js","https://github.com/evilstreak/markdown-js",7637,907]
[3991,null,null,"akveo/nebular","https://github.com/akveo/nebular",7634,1477]
[3992,null,null,"dropwizard/metrics","https://github.com/dropwizard/metrics",7630,1805]
[3993,null,null,"davidsonfellipe/awesome-wpo","https://github.com/davidsonfellipe/awesome-wpo",7630,568]
[3994,null,null,"facebook/proxygen","https://github.com/facebook/proxygen",7628,1454]
[3995,null,null,"bramp/js-sequence-diagrams","https://github.com/bramp/js-sequence-diagrams",7626,1102]
[3996,null,null,"pyro-ppl/pyro","https://github.com/pyro-ppl/pyro",7626,936]
[3997,null,null,"CodingDocs/awesome-java","https://github.com/CodingDocs/awesome-java",7626,1558]
[3998,null,null,"lib/pq","https://github.com/lib/pq",7625,860]
[3999,null,null,"TeamVanced/VancedManager","https://github.com/TeamVanced/VancedManager",7622,1224]
[4000,null,null,"react-cosmos/react-cosmos","https://github.com/react-cosmos/react-cosmos",7622,350]
[4001,null,null,"FluentValidation/FluentValidation","https://github.com/FluentValidation/FluentValidation",7625,1083]
[4002,null,null,"thoughtbot/factory_bot","https://github.com/thoughtbot/factory_bot",7624,2592]
[4003,null,null,"ory/kratos","https://github.com/ory/kratos",7623,652]
[4004,null,null,"alyssaxuu/screenity","https://github.com/alyssaxuu/screenity",7621,626]
[4005,null,null,"vimwiki/vimwiki","https://github.com/vimwiki/vimwiki",7619,601]
[4006,null,null,"pytube/pytube","https://github.com/pytube/pytube",7621,1570]
[4007,null,null,"linebender/druid","https://github.com/linebender/druid",7621,505]
[4008,null,null,"twpayne/chezmoi","https://github.com/twpayne/chezmoi",7617,378]
[4009,null,null,"jeffgerickson/algorithms","https://github.com/jeffgerickson/algorithms",7612,999]
[4010,null,null,"dtm-labs/dtm","https://github.com/dtm-labs/dtm",7614,835]
[4011,null,null,"twigphp/Twig","https://github.com/twigphp/Twig",7611,1185]
[4012,null,null,"lz4/lz4","https://github.com/lz4/lz4",7614,1162]
[4013,null,null,"be5invis/Sarasa-Gothic","https://github.com/be5invis/Sarasa-Gothic",7611,338]
[4014,null,null,"amfe/article","https://github.com/amfe/article",7609,1074]
[4015,null,null,"kimmobrunfeldt/progressbar.js","https://github.com/kimmobrunfeldt/progressbar.js",7608,1456]
[4016,null,null,"fullstorydev/grpcurl","https://github.com/fullstorydev/grpcurl",7606,378]
[4017,null,null,"sundowndev/phoneinfoga","https://github.com/sundowndev/phoneinfoga",7603,2307]
[4018,null,null,"ValdikSS/GoodbyeDPI","https://github.com/ValdikSS/GoodbyeDPI",7602,730]
[4019,null,null,"languagetool-org/languagetool","https://github.com/languagetool-org/languagetool",7597,986]
[4020,null,null,"Zettlr/Zettlr","https://github.com/Zettlr/Zettlr",7597,488]
[4021,null,null,"deepmind/pysc2","https://github.com/deepmind/pysc2",7596,1155]
[4022,null,null,"sikaozhe1997/Xin-Yue","https://github.com/sikaozhe1997/Xin-Yue",7593,983]
[4023,null,null,"xo/usql","https://github.com/xo/usql",7592,300]
[4024,null,null,"CleverRaven/Cataclysm-DDA","https://github.com/CleverRaven/Cataclysm-DDA",7591,3475]
[4025,null,null,"omniauth/omniauth","https://github.com/omniauth/omniauth",7591,989]
[4026,null,null,"PureLayout/PureLayout","https://github.com/PureLayout/PureLayout",7590,770]
[4027,null,null,"boto/boto3","https://github.com/boto/boto3",7591,1659]
[4028,null,null,"aboul3la/Sublist3r","https://github.com/aboul3la/Sublist3r",7589,1850]
[4029,null,null,"api-platform/api-platform","https://github.com/api-platform/api-platform",7585,907]
[4030,null,null,"ds300/patch-package","https://github.com/ds300/patch-package",7587,217]
[4031,null,null,"dataease/dataease","https://github.com/dataease/dataease",7586,1505]
[4032,null,null,"AHAAAAAAA/PokemonGo-Map","https://github.com/AHAAAAAAA/PokemonGo-Map",7577,2920]
[4033,null,null,"bencodezen/vue-enterprise-boilerplate","https://github.com/bencodezen/vue-enterprise-boilerplate",7578,1323]
[4034,null,null,"OpenVPN/openvpn","https://github.com/OpenVPN/openvpn",7579,2529]
[4035,null,null,"debezium/debezium","https://github.com/debezium/debezium",7576,1932]
[4036,null,null,"raulmur/ORB_SLAM2","https://github.com/raulmur/ORB_SLAM2",7577,4346]
[4037,null,null,"aritraroy/UltimateAndroidReference","https://github.com/aritraroy/UltimateAndroidReference",7575,1281]
[4038,null,null,"teddysun/shadowsocks_install","https://github.com/teddysun/shadowsocks_install",7574,4631]
[4039,null,null,"raineorshine/npm-check-updates","https://github.com/raineorshine/npm-check-updates",7577,306]
[4040,null,null,"baowenbo/DAIN","https://github.com/baowenbo/DAIN",7573,808]
[4041,null,null,"noisetorch/NoiseTorch","https://github.com/noisetorch/NoiseTorch",7571,163]
[4042,null,null,"payloadcms/payload","https://github.com/payloadcms/payload",7574,308]
[4043,null,null,"janeczku/calibre-web","https://github.com/janeczku/calibre-web",7570,960]
[4044,null,null,"nopSolutions/nopCommerce","https://github.com/nopSolutions/nopCommerce",7570,4292]
[4045,null,null,"faker-js/faker","https://github.com/faker-js/faker",7569,586]
[4046,null,null,"laravel/lumen","https://github.com/laravel/lumen",7564,1002]
[4047,null,null,"MorvanZhou/Reinforcement-learning-with-tensorflow","https://github.com/MorvanZhou/Reinforcement-learning-with-tensorflow",7561,4806]
[4048,null,null,"kelektiv/node-cron","https://github.com/kelektiv/node-cron",7560,604]
[4049,null,null,"nothings/single_file_libs","https://github.com/nothings/single_file_libs",7558,524]
[4050,null,null,"AlessandroZ/LaZagne","https://github.com/AlessandroZ/LaZagne",7557,1866]
[4051,null,null,"llSourcell/Learn_Machine_Learning_in_3_Months","https://github.com/llSourcell/Learn_Machine_Learning_in_3_Months",7556,2438]
[4052,null,null,"ecomfe/vue-echarts","https://github.com/ecomfe/vue-echarts",7558,1386]
[4053,null,null,"guzzle/psr7","https://github.com/guzzle/psr7",7555,266]
[4054,null,null,"t3-oss/create-t3-app","https://github.com/t3-oss/create-t3-app",7573,304]
[4055,null,null,"TrinityCore/TrinityCore","https://github.com/TrinityCore/TrinityCore",7553,5469]
[4056,null,null,"kaushikgopal/RxJava-Android-Samples","https://github.com/kaushikgopal/RxJava-Android-Samples",7549,1403]
[4057,null,null,"Kitura/Kitura","https://github.com/Kitura/Kitura",7548,501]
[4058,null,null,"microsoft/onnxruntime","https://github.com/microsoft/onnxruntime",7547,1774]
[4059,null,null,"Nuitka/Nuitka","https://github.com/Nuitka/Nuitka",7547,417]
[4060,null,null,"android/android-ktx","https://github.com/android/android-ktx",7543,590]
[4061,null,null,"i3/i3","https://github.com/i3/i3",7542,696]
[4062,null,null,"phodal/growth-ebook","https://github.com/phodal/growth-ebook",7541,1235]
[4063,null,null,"vladikoff/chromeos-apk","https://github.com/vladikoff/chromeos-apk",7541,957]
[4064,null,null,"terkelg/prompts","https://github.com/terkelg/prompts",7539,285]
[4065,null,null,"visionmedia/page.js","https://github.com/visionmedia/page.js",7537,724]
[4066,null,null,"czy36mengfei/tensorflow2_tutorials_chinese","https://github.com/czy36mengfei/tensorflow2_tutorials_chinese",7531,2046]
[4067,null,null,"mgechev/javascript-algorithms","https://github.com/mgechev/javascript-algorithms",7525,1286]
[4068,null,null,"hadolint/hadolint","https://github.com/hadolint/hadolint",7527,327]
[4069,null,null,"LeetCode-OpenSource/vscode-leetcode","https://github.com/LeetCode-OpenSource/vscode-leetcode",7520,575]
[4070,null,null,"skyline75489/what-happens-when-zh_CN","https://github.com/skyline75489/what-happens-when-zh_CN",7519,805]
[4071,null,null,"larsenwork/monoid","https://github.com/larsenwork/monoid",7516,164]
[4072,null,null,"symfony/polyfill-mbstring","https://github.com/symfony/polyfill-mbstring",7515,36]
[4073,null,null,"popcorn-official/popcorn-desktop","https://github.com/popcorn-official/popcorn-desktop",7516,514]
[4074,null,null,"doctrine/cache","https://github.com/doctrine/cache",7515,214]
[4075,null,null,"musescore/MuseScore","https://github.com/musescore/MuseScore",7514,1962]
[4076,null,null,"jgamblin/Mirai-Source-Code","https://github.com/jgamblin/Mirai-Source-Code",7513,3361]
[4077,null,null,"sosedoff/pgweb","https://github.com/sosedoff/pgweb",7511,624]
[4078,null,null,"cerebroapp/cerebro","https://github.com/cerebroapp/cerebro",7510,483]
[4079,null,null,"FormidableLabs/urql","https://github.com/FormidableLabs/urql",7504,360]
[4080,null,null,"gcla/termshark","https://github.com/gcla/termshark",7503,349]
[4081,null,null,"jonataslaw/getx","https://github.com/jonataslaw/getx",7499,1238]
[4082,null,null,"facebook/hermes","https://github.com/facebook/hermes",7497,458]
[4083,null,null,"sw-yx/spark-joy","https://github.com/sw-yx/spark-joy",7500,279]
[4084,null,null,"samshadwell/TrumpScript","https://github.com/samshadwell/TrumpScript",7495,408]
[4085,null,null,"Lona/Lona","https://github.com/Lona/Lona",7493,269]
[4086,null,null,"michaelvillar/dynamics.js","https://github.com/michaelvillar/dynamics.js",7493,418]
[4087,null,null,"mopidy/mopidy","https://github.com/mopidy/mopidy",7493,681]
[4088,null,null,"alibaba/anyproxy","https://github.com/alibaba/anyproxy",7493,1211]
[4089,null,null,"Supervisor/supervisor","https://github.com/Supervisor/supervisor",7491,1194]
[4090,null,null,"pennersr/django-allauth","https://github.com/pennersr/django-allauth",7489,2654]
[4091,null,null,"fail2ban/fail2ban","https://github.com/fail2ban/fail2ban",7488,1083]
[4092,null,null,"mertJF/tailblocks","https://github.com/mertJF/tailblocks",7486,695]
[4093,null,null,"Sairyss/domain-driven-hexagon","https://github.com/Sairyss/domain-driven-hexagon",7485,682]
[4094,null,null,"joemccann/dillinger","https://github.com/joemccann/dillinger",7482,1086]
[4095,null,null,"zserge/lorca","https://github.com/zserge/lorca",7480,473]
[4096,null,null,"benbjohnson/litestream","https://github.com/benbjohnson/litestream",7476,152]
[4097,null,null,"offensive-security/exploitdb","https://github.com/offensive-security/exploitdb",7476,1961]
[4098,null,null,"metricsgraphics/metrics-graphics","https://github.com/metricsgraphics/metrics-graphics",7473,518]
[4099,null,null,"isl-org/Open3D","https://github.com/isl-org/Open3D",7474,1778]
[4100,null,null,"daltoniam/Starscream","https://github.com/daltoniam/Starscream",7473,1056]
[4101,null,null,"toniblyx/my-arsenal-of-aws-security-tools","https://github.com/toniblyx/my-arsenal-of-aws-security-tools",7473,1273]
[4102,null,null,"microsoft/c9-python-getting-started","https://github.com/microsoft/c9-python-getting-started",7466,2177]
[4103,null,null,"paritytech/substrate","https://github.com/paritytech/substrate",7468,2358]
[4104,null,null,"webpack/webpack-dev-server","https://github.com/webpack/webpack-dev-server",7465,1448]
[4105,null,null,"rivo/tview","https://github.com/rivo/tview",7464,439]
[4106,null,null,"AppImage/AppImageKit","https://github.com/AppImage/AppImageKit",7466,494]
[4107,null,null,"primer/octicons","https://github.com/primer/octicons",7461,854]
[4108,null,null,"yandex/gixy","https://github.com/yandex/gixy",7457,381]
[4109,null,null,"styled-system/styled-system","https://github.com/styled-system/styled-system",7455,532]
[4110,null,null,"smartystreets/goconvey","https://github.com/smartystreets/goconvey",7451,530]
[4111,null,null,"dargullin/icheck","https://github.com/dargullin/icheck",7448,1674]
[4112,null,null,"IBAX-io/go-ibax","https://github.com/IBAX-io/go-ibax",7447,6267]
[4113,null,null,"lanpa/tensorboardX","https://github.com/lanpa/tensorboardX",7446,863]
[4114,null,null,"vitejs/awesome-vite","https://github.com/vitejs/awesome-vite",7449,627]
[4115,null,null,"FormidableLabs/radium","https://github.com/FormidableLabs/radium",7441,348]
[4116,null,null,"jemalloc/jemalloc","https://github.com/jemalloc/jemalloc",7441,1256]
[4117,null,null,"MichalLytek/type-graphql","https://github.com/MichalLytek/type-graphql",7437,636]
[4118,null,null,"facebook/litho","https://github.com/facebook/litho",7435,727]
[4119,null,null,"wallabag/wallabag","https://github.com/wallabag/wallabag",7436,684]
[4120,null,null,"encode/starlette","https://github.com/encode/starlette",7436,665]
[4121,null,null,"inferjay/AndroidDevTools","https://github.com/inferjay/AndroidDevTools",7429,2093]
[4122,null,null,"java-native-access/jna","https://github.com/java-native-access/jna",7430,1598]
[4123,null,null,"olucurious/Awesome-ARKit","https://github.com/olucurious/Awesome-ARKit",7429,886]
[4124,null,null,"dxcweb/high-speed-downloader","https://github.com/dxcweb/high-speed-downloader",7428,1220]
[4125,null,null,"sameersbn/docker-gitlab","https://github.com/sameersbn/docker-gitlab",7427,2042]
[4126,null,null,"ymcui/Chinese-BERT-wwm","https://github.com/ymcui/Chinese-BERT-wwm",7426,1214]
[4127,null,null,"kxxwz/SJTU-Courses","https://github.com/kxxwz/SJTU-Courses",7426,2071]
[4128,null,null,"prometheus-operator/prometheus-operator","https://github.com/prometheus-operator/prometheus-operator",7424,3282]
[4129,null,null,"brightmart/text_classification","https://github.com/brightmart/text_classification",7423,2598]
[4130,null,null,"kgrzybek/modular-monolith-with-ddd","https://github.com/kgrzybek/modular-monolith-with-ddd",7425,1109]
[4131,null,null,"FreeRDP/FreeRDP","https://github.com/FreeRDP/FreeRDP",7421,18510]
[4132,null,null,"wangzhiwubigdata/God-Of-BigData","https://github.com/wangzhiwubigdata/God-Of-BigData",7420,2636]
[4133,null,null,"ethereum/mist","https://github.com/ethereum/mist",7419,2057]
[4134,null,null,"dair-ai/ml-visuals","https://github.com/dair-ai/ml-visuals",7418,933]
[4135,null,null,"laramies/theHarvester","https://github.com/laramies/theHarvester",7418,1634]
[4136,null,null,"thoughtbot/dotfiles","https://github.com/thoughtbot/dotfiles",7409,1851]
[4137,null,null,"android/nowinandroid","https://github.com/android/nowinandroid",7413,791]
[4138,null,null,"BloodHoundAD/BloodHound","https://github.com/BloodHoundAD/BloodHound",7409,1437]
[4139,null,null,"graphql-python/graphene","https://github.com/graphql-python/graphene",7406,796]
[4140,null,null,"enocom/gopher-reading-list","https://github.com/enocom/gopher-reading-list",7404,555]
[4141,null,null,"terser/terser","https://github.com/terser/terser",7402,324]
[4142,null,null,"ColorfulCat/AndroidLibs","https://github.com/ColorfulCat/AndroidLibs",7399,1669]
[4143,null,null,"Turfjs/turf","https://github.com/Turfjs/turf",7399,824]
[4144,null,null,"Megvii-BaseDetection/YOLOX","https://github.com/Megvii-BaseDetection/YOLOX",7399,1753]
[4145,null,null,"bailicangdu/react-pxq","https://github.com/bailicangdu/react-pxq",7394,2179]
[4146,null,null,"Raathigesh/majestic","https://github.com/Raathigesh/majestic",7392,167]
[4147,null,null,"rr-debugger/rr","https://github.com/rr-debugger/rr",7392,463]
[4148,null,null,"actix/actix","https://github.com/actix/actix",7392,605]
[4149,null,null,"open-source-flash/open-source-flash","https://github.com/open-source-flash/open-source-flash",7392,138]
[4150,null,null,"chiphuyen/machine-learning-systems-design","https://github.com/chiphuyen/machine-learning-systems-design",7387,1195]
[4151,null,null,"aws/amazon-sagemaker-examples","https://github.com/aws/amazon-sagemaker-examples",7387,5542]
[4152,null,null,"davemorrissey/subsampling-scale-image-view","https://github.com/davemorrissey/subsampling-scale-image-view",7386,1101]
[4153,null,null,"pastelsky/bundlephobia","https://github.com/pastelsky/bundlephobia",7385,222]
[4154,null,null,"hediet/vscode-debug-visualizer","https://github.com/hediet/vscode-debug-visualizer",7384,360]
[4155,null,null,"cstack/db_tutorial","https://github.com/cstack/db_tutorial",7382,775]
[4156,null,null,"nodejs/docker-node","https://github.com/nodejs/docker-node",7382,1835]
[4157,null,null,"alibaba/otter","https://github.com/alibaba/otter",7380,2464]
[4158,null,null,"crazyguitar/pysheeet","https://github.com/crazyguitar/pysheeet",7381,1134]
[4159,null,null,"thx/rap2-delos","https://github.com/thx/rap2-delos",7379,1347]
[4160,null,null,"fsnotify/fsnotify","https://github.com/fsnotify/fsnotify",7376,794]
[4161,null,null,"j-delaney/easy-application","https://github.com/j-delaney/easy-application",7374,994]
[4162,null,null,"mytechnotalent/Reverse-Engineering","https://github.com/mytechnotalent/Reverse-Engineering",7374,706]
[4163,null,null,"soapyigu/Swift-30-Projects","https://github.com/soapyigu/Swift-30-Projects",7373,1738]
[4164,null,null,"ocrmypdf/OCRmyPDF","https://github.com/ocrmypdf/OCRmyPDF",7373,612]
[4165,null,null,"GTFOBins/GTFOBins.github.io","https://github.com/GTFOBins/GTFOBins.github.io",7371,979]
[4166,null,null,"citusdata/citus","https://github.com/citusdata/citus",7368,508]
[4167,null,null,"kaina404/FlutterDouBan","https://github.com/kaina404/FlutterDouBan",7366,1589]
[4168,null,null,"chaitin/xray","https://github.com/chaitin/xray",7364,1552]
[4169,null,null,"barteksc/AndroidPdfViewer","https://github.com/barteksc/AndroidPdfViewer",7363,1655]
[4170,null,null,"cython/cython","https://github.com/cython/cython",7362,1325]
[4171,null,null,"rstacruz/jquery.transit","https://github.com/rstacruz/jquery.transit",7361,911]
[4172,null,null,"json-path/JsonPath","https://github.com/json-path/JsonPath",7360,1421]
[4173,null,null,"styled-components/polished","https://github.com/styled-components/polished",7358,242]
[4174,null,null,"facebookarchive/KVOController","https://github.com/facebookarchive/KVOController",7355,945]
[4175,null,null,"dc-js/dc.js","https://github.com/dc-js/dc.js",7354,1851]
[4176,null,null,"nvim-telescope/telescope.nvim","https://github.com/nvim-telescope/telescope.nvim",7357,497]
[4177,null,null,"apsdehal/awesome-ctf","https://github.com/apsdehal/awesome-ctf",7348,1361]
[4178,null,null,"ljharb/qs","https://github.com/ljharb/qs",7346,706]
[4179,null,null,"monero-project/monero","https://github.com/monero-project/monero",7345,3374]
[4180,null,null,"lecho/hellocharts-android","https://github.com/lecho/hellocharts-android",7344,1646]
[4181,null,null,"leeoniya/uPlot","https://github.com/leeoniya/uPlot",7345,294]
[4182,null,null,"gitkraken/vscode-gitlens","https://github.com/gitkraken/vscode-gitlens",7340,741]
[4183,null,null,"jobbole/awesome-javascript-cn","https://github.com/jobbole/awesome-javascript-cn",7339,1969]
[4184,null,null,"inorganik/countUp.js","https://github.com/inorganik/countUp.js",7335,1393]
[4185,null,null,"robotframework/robotframework","https://github.com/robotframework/robotframework",7332,2023]
[4186,null,null,"lucas-clemente/quic-go","https://github.com/lucas-clemente/quic-go",7332,988]
[4187,null,null,"imsnif/bandwhich","https://github.com/imsnif/bandwhich",7332,223]
[4188,null,null,"emacs-tw/awesome-emacs","https://github.com/emacs-tw/awesome-emacs",7330,528]
[4189,null,null,"vipshop/vjtools","https://github.com/vipshop/vjtools",7330,1491]
[4190,null,null,"cloudflare/cfssl","https://github.com/cloudflare/cfssl",7331,1008]
[4191,null,null,"vaexio/vaex","https://github.com/vaexio/vaex",7328,567]
[4192,null,null,"robb/Cartography","https://github.com/robb/Cartography",7327,546]
[4193,null,null,"onivim/oni2","https://github.com/onivim/oni2",7326,278]
[4194,null,null,"freddier/hyperblog","https://github.com/freddier/hyperblog",7323,10796]
[4195,null,null,"openai/universe","https://github.com/openai/universe",7321,908]
[4196,null,null,"deeplearning-ai/machine-learning-yearning-cn","https://github.com/deeplearning-ai/machine-learning-yearning-cn",7319,1488]
[4197,null,null,"taskflow/taskflow","https://github.com/taskflow/taskflow",7322,872]
[4198,null,null,"symfony/debug","https://github.com/symfony/debug",7316,54]
[4199,null,null,"kkroening/ffmpeg-python","https://github.com/kkroening/ffmpeg-python",7317,724]
[4200,null,null,"tumobi/nideshop-mini-program","https://github.com/tumobi/nideshop-mini-program",7312,2213]
[4201,null,null,"OffcierCia/DeFi-Developer-Road-Map","https://github.com/OffcierCia/DeFi-Developer-Road-Map",7311,904]
[4202,null,null,"QianMo/Game-Programmer-Study-Notes","https://github.com/QianMo/Game-Programmer-Study-Notes",7311,1442]
[4203,null,null,"checkstyle/checkstyle","https://github.com/checkstyle/checkstyle",7308,8363]
[4204,null,null,"javascript-tutorial/zh.javascript.info","https://github.com/javascript-tutorial/zh.javascript.info",7306,958]
[4205,null,null,"yuliskov/SmartTubeNext","https://github.com/yuliskov/SmartTubeNext",7310,514]
[4206,null,null,"transmission/transmission","https://github.com/transmission/transmission",7305,957]
[4207,null,null,"DmitryUlyanov/deep-image-prior","https://github.com/DmitryUlyanov/deep-image-prior",7306,1327]
[4208,null,null,"ngrx/platform","https://github.com/ngrx/platform",7304,1810]
[4209,null,null,"sebastianbergmann/php-timer","https://github.com/sebastianbergmann/php-timer",7303,59]
[4210,null,null,"ljianshu/Blog","https://github.com/ljianshu/Blog",7303,1143]
[4211,null,null,"donnemartin/gitsome","https://github.com/donnemartin/gitsome",7304,463]
[4212,null,null,"gedoor/MyBookshelf","https://github.com/gedoor/MyBookshelf",7303,1855]
[4213,null,null,"brightmart/nlp_chinese_corpus","https://github.com/brightmart/nlp_chinese_corpus",7302,1371]
[4214,null,null,"PCSX2/pcsx2","https://github.com/PCSX2/pcsx2",7302,1184]
[4215,null,null,"alibaba/fish-redux","https://github.com/alibaba/fish-redux",7301,835]
[4216,null,null,"fideloper/TrustedProxy","https://github.com/fideloper/TrustedProxy",7299,113]
[4217,null,null,"koush/AndroidAsync","https://github.com/koush/AndroidAsync",7297,1565]
[4218,null,null,"square/dagger","https://github.com/square/dagger",7297,3062]
[4219,null,null,"zsh-users/antigen","https://github.com/zsh-users/antigen",7297,288]
[4220,null,null,"facebookarchive/three20","https://github.com/facebookarchive/three20",7295,1519]
[4221,null,null,"stefanpenner/es6-promise","https://github.com/stefanpenner/es6-promise",7293,632]
[4222,null,null,"rayon-rs/rayon","https://github.com/rayon-rs/rayon",7295,387]
[4223,null,null,"seven332/EhViewer","https://github.com/seven332/EhViewer",7286,977]
[4224,null,null,"toptal/gitignore.io","https://github.com/toptal/gitignore.io",7286,587]
[4225,null,null,"go-admin-team/go-admin","https://github.com/go-admin-team/go-admin",7283,1623]
[4226,null,null,"technomancy/leiningen","https://github.com/technomancy/leiningen",7281,1654]
[4227,null,null,"ReSwift/ReSwift","https://github.com/ReSwift/ReSwift",7279,512]
[4228,null,null,"ActivityWatch/activitywatch","https://github.com/ActivityWatch/activitywatch",7282,355]
[4229,null,null,"Tencent/libco","https://github.com/Tencent/libco",7276,1940]
[4230,null,null,"developit/microbundle","https://github.com/developit/microbundle",7275,376]
[4231,null,null,"onceupon/Bash-Oneliner","https://github.com/onceupon/Bash-Oneliner",7266,487]
[4232,null,null,"google/agera","https://github.com/google/agera",7267,662]
[4233,null,null,"readthedocs/readthedocs.org","https://github.com/readthedocs/readthedocs.org",7266,3634]
[4234,null,null,"Bearded-Hen/Android-Bootstrap","https://github.com/Bearded-Hen/Android-Bootstrap",7266,1466]
[4235,null,null,"angular/angularfire","https://github.com/angular/angularfire",7266,2182]
[4236,null,null,"seemoo-lab/opendrop","https://github.com/seemoo-lab/opendrop",7266,220]
[4237,null,null,"SublimeText/Spacegray","https://github.com/SublimeText/Spacegray",7264,474]
[4238,null,null,"OlafenwaMoses/ImageAI","https://github.com/OlafenwaMoses/ImageAI",7264,1976]
[4239,null,null,"cjbassi/gotop","https://github.com/cjbassi/gotop",7262,403]
[4240,null,null,"casperjs/casperjs","https://github.com/casperjs/casperjs",7262,1037]
[4241,null,null,"cockpit-project/cockpit","https://github.com/cockpit-project/cockpit",7261,871]
[4242,null,null,"urfave/negroni","https://github.com/urfave/negroni",7258,582]
[4243,null,null,"mqttjs/MQTT.js","https://github.com/mqttjs/MQTT.js",7260,1307]
[4244,null,null,"microsoft/windows-rs","https://github.com/microsoft/windows-rs",7259,293]
[4245,null,null,"Gogh-Co/Gogh","https://github.com/Gogh-Co/Gogh",7259,527]
[4246,null,null,"patchthecode/JTAppleCalendar","https://github.com/patchthecode/JTAppleCalendar",7256,740]
[4247,null,null,"pedant/sweet-alert-dialog","https://github.com/pedant/sweet-alert-dialog",7258,1964]
[4248,null,null,"kognise/water.css","https://github.com/kognise/water.css",7258,378]
[4249,null,null,"shoelace-style/shoelace","https://github.com/shoelace-style/shoelace",7256,458]
[4250,null,null,"xirong/my-git","https://github.com/xirong/my-git",7255,2551]
[4251,null,null,"openai/spinningup","https://github.com/openai/spinningup",7255,1712]
[4252,null,null,"projectstorm/react-diagrams","https://github.com/projectstorm/react-diagrams",7252,1054]
[4253,null,null,"google/re2","https://github.com/google/re2",7251,1037]
[4254,null,null,"symfony/routing","https://github.com/symfony/routing",7248,92]
[4255,null,null,"skypjack/entt","https://github.com/skypjack/entt",7251,678]
[4256,null,null,"ThreeMammals/Ocelot","https://github.com/ThreeMammals/Ocelot",7249,1489]
[4257,null,null,"troyeguo/koodo-reader","https://github.com/troyeguo/koodo-reader",7251,664]
[4258,null,null,"guzzle/promises","https://github.com/guzzle/promises",7246,111]
[4259,null,null,"juice-shop/juice-shop","https://github.com/juice-shop/juice-shop",7243,5947]
[4260,null,null,"daybrush/moveable","https://github.com/daybrush/moveable",7243,468]
[4261,null,null,"webpro/awesome-dotfiles","https://github.com/webpro/awesome-dotfiles",7242,303]
[4262,null,null,"smallnest/rpcx","https://github.com/smallnest/rpcx",7241,1105]
[4263,null,null,"cymcsg/UltimateRecyclerView","https://github.com/cymcsg/UltimateRecyclerView",7239,1457]
[4264,null,null,"great-expectations/great_expectations","https://github.com/great-expectations/great_expectations",7240,1093]
[4265,null,null,"supertokens/supertokens-core","https://github.com/supertokens/supertokens-core",7238,249]
[4266,null,null,"pillarjs/path-to-regexp","https://github.com/pillarjs/path-to-regexp",7238,359]
[4267,null,null,"RustScan/RustScan","https://github.com/RustScan/RustScan",7238,585]
[4268,null,null,"xournalpp/xournalpp","https://github.com/xournalpp/xournalpp",7239,624]
[4269,null,null,"bitcoin/bips","https://github.com/bitcoin/bips",7238,4684]
[4270,null,null,"lltcggie/waifu2x-caffe","https://github.com/lltcggie/waifu2x-caffe",7236,834]
[4271,null,null,"adobe/react-spectrum","https://github.com/adobe/react-spectrum",7237,569]
[4272,null,null,"iGhibli/iOS-DeviceSupport","https://github.com/iGhibli/iOS-DeviceSupport",7237,1075]
[4273,null,null,"mkrl/misbrands","https://github.com/mkrl/misbrands",7236,240]
[4274,null,null,"timqian/chart.xkcd","https://github.com/timqian/chart.xkcd",7234,192]
[4275,null,null,"orbitdb/orbit-db","https://github.com/orbitdb/orbit-db",7234,521]
[4276,null,null,"kamranahmedse/git-standup","https://github.com/kamranahmedse/git-standup",7233,295]
[4277,null,null,"n1nj4sec/pupy","https://github.com/n1nj4sec/pupy",7233,1749]
[4278,null,null,"Alinshans/MyTinySTL","https://github.com/Alinshans/MyTinySTL",7232,2500]
[4279,null,null,"microsoft/mimalloc","https://github.com/microsoft/mimalloc",7230,536]
[4280,null,null,"seanprashad/leetcode-patterns","https://github.com/seanprashad/leetcode-patterns",7229,1278]
[4281,null,null,"thundernest/k-9","https://github.com/thundernest/k-9",7232,2294]
[4282,null,null,"tenacityteam/tenacity","https://github.com/tenacityteam/tenacity",7228,290]
[4283,null,null,"mps-youtube/mps-youtube","https://github.com/mps-youtube/mps-youtube",7225,615]
[4284,null,null,"asweigart/pyautogui","https://github.com/asweigart/pyautogui",7226,950]
[4285,null,null,"fancyapps/fancybox","https://github.com/fancyapps/fancybox",7225,1777]
[4286,null,null,"libvips/libvips","https://github.com/libvips/libvips",7222,554]
[4287,null,null,"leolin310148/ShortcutBadger","https://github.com/leolin310148/ShortcutBadger",7222,1322]
[4288,null,null,"NVlabs/SPADE","https://github.com/NVlabs/SPADE",7221,968]
[4289,null,null,"fission/fission","https://github.com/fission/fission",7216,715]
[4290,null,null,"a1studmuffin/SpaceshipGenerator","https://github.com/a1studmuffin/SpaceshipGenerator",7216,410]
[4291,null,null,"chrisvfritz/prerender-spa-plugin","https://github.com/chrisvfritz/prerender-spa-plugin",7215,633]
[4292,null,null,"faisalman/ua-parser-js","https://github.com/faisalman/ua-parser-js",7214,1082]
[4293,null,null,"predis/predis","https://github.com/predis/predis",7211,954]
[4294,null,null,"facebook/facebook-ios-sdk","https://github.com/facebook/facebook-ios-sdk",7211,3216]
[4295,null,null,"schachmat/wego","https://github.com/schachmat/wego",7212,445]
[4296,null,null,"jofpin/trape","https://github.com/jofpin/trape",7211,1254]
[4297,null,null,"gui-cs/Terminal.Gui","https://github.com/gui-cs/Terminal.Gui",7207,561]
[4298,null,null,"CEWendel/SWTableViewCell","https://github.com/CEWendel/SWTableViewCell",7207,1302]
[4299,null,null,"MatthewYork/DateTools","https://github.com/MatthewYork/DateTools",7207,941]
[4300,null,null,"Akryum/vue-virtual-scroller","https://github.com/Akryum/vue-virtual-scroller",7206,701]
[4301,null,null,"crazycodeboy/TakePhoto","https://github.com/crazycodeboy/TakePhoto",7205,1520]
[4302,null,null,"mbasso/awesome-wasm","https://github.com/mbasso/awesome-wasm",7206,429]
[4303,null,null,"joelgrus/data-science-from-scratch","https://github.com/joelgrus/data-science-from-scratch",7203,3984]
[4304,null,null,"jazzband/django-debug-toolbar","https://github.com/jazzband/django-debug-toolbar",7203,978]
[4305,null,null,"arc298/instagram-scraper","https://github.com/arc298/instagram-scraper",7204,1413]
[4306,null,null,"SonarSource/sonarqube","https://github.com/SonarSource/sonarqube",7196,1735]
[4307,null,null,"spyder-ide/spyder","https://github.com/spyder-ide/spyder",7195,1470]
[4308,null,null,"expressjs/morgan","https://github.com/expressjs/morgan",7195,521]
[4309,null,null,"vercel/styled-jsx","https://github.com/vercel/styled-jsx",7194,304]
[4310,null,null,"xmrig/xmrig","https://github.com/xmrig/xmrig",7193,3269]
[4311,null,null,"daliansky/Hackintosh","https://github.com/daliansky/Hackintosh",7193,966]
[4312,null,null,"Mooophy/Cpp-Primer","https://github.com/Mooophy/Cpp-Primer",7193,2957]
[4313,null,null,"electerm/electerm","https://github.com/electerm/electerm",7193,701]
[4314,null,null,"ustbhuangyi/vue-analysis","https://github.com/ustbhuangyi/vue-analysis",7186,1592]
[4315,null,null,"casey/just","https://github.com/casey/just",7187,216]
[4316,null,null,"HubSpot/odometer","https://github.com/HubSpot/odometer",7185,735]
[4317,null,null,"reactiveui/ReactiveUI","https://github.com/reactiveui/ReactiveUI",7185,1102]
[4318,null,null,"SocialSisterYi/bilibili-API-collect","https://github.com/SocialSisterYi/bilibili-API-collect",7186,959]
[4319,null,null,"metafizzy/flickity","https://github.com/metafizzy/flickity",7180,624]
[4320,null,null,"novus/nvd3","https://github.com/novus/nvd3",7179,2213]
[4321,null,null,"NancyFx/Nancy","https://github.com/NancyFx/Nancy",7178,1514]
[4322,null,null,"andeya/pholcus","https://github.com/andeya/pholcus",7178,1688]
[4323,null,null,"jackzhenguo/python-small-examples","https://github.com/jackzhenguo/python-small-examples",7180,1688]
[4324,null,null,"puma/puma","https://github.com/puma/puma",7175,1342]
[4325,null,null,"greatfire/wiki","https://github.com/greatfire/wiki",7174,1612]
[4326,null,null,"realm/jazzy","https://github.com/realm/jazzy",7173,402]
[4327,null,null,"motioneye-project/motioneyeos","https://github.com/motioneye-project/motioneyeos",7173,825]
[4328,null,null,"google/android-classyshark","https://github.com/google/android-classyshark",7173,886]
[4329,null,null,"cameron314/concurrentqueue","https://github.com/cameron314/concurrentqueue",7173,1421]
[4330,null,null,"citybound/citybound","https://github.com/citybound/citybound",7170,292]
[4331,null,null,"nodemcu/nodemcu-firmware","https://github.com/nodemcu/nodemcu-firmware",7168,3063]
[4332,null,null,"hajimehoshi/ebiten","https://github.com/hajimehoshi/ebiten",7171,478]
[4333,null,null,"BlackrockDigital/startbootstrap","https://github.com/BlackrockDigital/startbootstrap",7166,2749]
[4334,null,null,"romaonthego/RESideMenu","https://github.com/romaonthego/RESideMenu",7164,1383]
[4335,null,null,"metafizzy/infinite-scroll","https://github.com/metafizzy/infinite-scroll",7164,1763]
[4336,null,null,"returntocorp/semgrep","https://github.com/returntocorp/semgrep",7163,384]
[4337,null,null,"webmozarts/assert","https://github.com/webmozarts/assert",7164,129]
[4338,null,null,"chvin/react-tetris","https://github.com/chvin/react-tetris",7162,1661]
[4339,null,null,"ubuwaits/beautiful-web-type","https://github.com/ubuwaits/beautiful-web-type",7161,322]
[4340,null,null,"gobuffalo/buffalo","https://github.com/gobuffalo/buffalo",7163,534]
[4341,null,null,"surmon-china/vue-quill-editor","https://github.com/surmon-china/vue-quill-editor",7157,1018]
[4342,null,null,"sebastianbergmann/diff","https://github.com/sebastianbergmann/diff",7156,76]
[4343,null,null,"geeeeeeeeek/WeChatLuckyMoney","https://github.com/geeeeeeeeek/WeChatLuckyMoney",7155,2274]
[4344,null,null,"fchollet/deep-learning-models","https://github.com/fchollet/deep-learning-models",7152,2462]
[4345,null,null,"dotansimha/graphql-yoga","https://github.com/dotansimha/graphql-yoga",7152,462]
[4346,null,null,"aws/aws-sdk-js","https://github.com/aws/aws-sdk-js",7152,1528]
[4347,null,null,"jverdi/JVFloatLabeledTextField","https://github.com/jverdi/JVFloatLabeledTextField",7152,757]
[4348,null,null,"kien/ctrlp.vim","https://github.com/kien/ctrlp.vim",7152,677]
[4349,null,null,"kornia/kornia","https://github.com/kornia/kornia",7153,728]
[4350,null,null,"lbryio/lbry-sdk","https://github.com/lbryio/lbry-sdk",7151,468]
[4351,null,null,"lukemelas/EfficientNet-PyTorch","https://github.com/lukemelas/EfficientNet-PyTorch",7151,1469]
[4352,null,null,"umdjs/umd","https://github.com/umdjs/umd",7150,454]
[4353,null,null,"Jigsaw-Code/outline-client","https://github.com/Jigsaw-Code/outline-client",7162,1222]
[4354,null,null,"dvf/blockchain","https://github.com/dvf/blockchain",7150,2598]
[4355,null,null,"sveltejs/sapper","https://github.com/sveltejs/sapper",7148,471]
[4356,null,null,"usefathom/fathom","https://github.com/usefathom/fathom",7147,348]
[4357,null,null,"rolling-scopes/rsschool-app","https://github.com/rolling-scopes/rsschool-app",7151,164]
[4358,null,null,"teh-cmc/go-internals","https://github.com/teh-cmc/go-internals",7155,336]
[4359,null,null,"jsplumb/jsplumb","https://github.com/jsplumb/jsplumb",7141,1436]
[4360,null,null,"JakeWharton/ActionBarSherlock","https://github.com/JakeWharton/ActionBarSherlock",7141,3633]
[4361,null,null,"firebase/flutterfire","https://github.com/firebase/flutterfire",7139,3468]
[4362,null,null,"vernesong/OpenClash","https://github.com/vernesong/OpenClash",7141,1328]
[4363,null,null,"vercel/ncc","https://github.com/vercel/ncc",7137,251]
[4364,null,null,"microsoft/ailab","https://github.com/microsoft/ailab",7137,1330]
[4365,null,null,"bnb/awesome-developer-streams","https://github.com/bnb/awesome-developer-streams",7136,514]
[4366,null,null,"kivy/python-for-android","https://github.com/kivy/python-for-android",7135,1630]
[4367,null,null,"spring-projects/spring-security","https://github.com/spring-projects/spring-security",7133,5157]
[4368,null,null,"DylanVann/react-native-fast-image","https://github.com/DylanVann/react-native-fast-image",7132,1222]
[4369,null,null,"peco/peco","https://github.com/peco/peco",7130,233]
[4370,null,null,"gperftools/gperftools","https://github.com/gperftools/gperftools",7128,1376]
[4371,null,null,"FullHuman/purgecss","https://github.com/FullHuman/purgecss",7126,248]
[4372,null,null,"Humanizr/Humanizer","https://github.com/Humanizr/Humanizer",7126,862]
[4373,null,null,"ApoorvSaxena/lozad.js","https://github.com/ApoorvSaxena/lozad.js",7124,462]
[4374,null,null,"siyuan-note/siyuan","https://github.com/siyuan-note/siyuan",7126,545]
[4375,null,null,"twitter-archive/snowflake","https://github.com/twitter-archive/snowflake",7123,1124]
[4376,null,null,"wuye9036/CppTemplateTutorial","https://github.com/wuye9036/CppTemplateTutorial",7122,1306]
[4377,null,null,"aalhour/awesome-compilers","https://github.com/aalhour/awesome-compilers",7123,583]
[4378,null,null,"sohutv/cachecloud","https://github.com/sohutv/cachecloud",7126,2035]
[4379,null,null,"roboticcam/machine-learning-notes","https://github.com/roboticcam/machine-learning-notes",7119,1645]
[4380,null,null,"google/trax","https://github.com/google/trax",7118,743]
[4381,null,null,"shekhargulati/52-technologies-in-2016","https://github.com/shekhargulati/52-technologies-in-2016",7118,644]
[4382,null,null,"apple/swift-nio","https://github.com/apple/swift-nio",7115,571]
[4383,null,null,"seanmonstar/warp","https://github.com/seanmonstar/warp",7118,619]
[4384,null,null,"XAMPPRocky/tokei","https://github.com/XAMPPRocky/tokei",7113,383]
[4385,null,null,"symfony/css-selector","https://github.com/symfony/css-selector",7111,42]
[4386,null,null,"rsuite/rsuite","https://github.com/rsuite/rsuite",7111,821]
[4387,null,null,"uber/RIBs","https://github.com/uber/RIBs",7106,839]
[4388,null,null,"Anankke/SSPanel-Uim","https://github.com/Anankke/SSPanel-Uim",7105,3173]
[4389,null,null,"es-shims/es5-shim","https://github.com/es-shims/es5-shim",7103,944]
[4390,null,null,"goldze/MVVMHabit","https://github.com/goldze/MVVMHabit",7101,1644]
[4391,null,null,"sharkdp/hexyl","https://github.com/sharkdp/hexyl",7100,195]
[4392,null,null,"final-form/react-final-form","https://github.com/final-form/react-final-form",7099,486]
[4393,null,null,"Kapeli/Dash-iOS","https://github.com/Kapeli/Dash-iOS",7099,963]
[4394,null,null,"DevinVinson/WordPress-Plugin-Boilerplate","https://github.com/DevinVinson/WordPress-Plugin-Boilerplate",7098,2116]
[4395,null,null,"gelstudios/gitfiti","https://github.com/gelstudios/gitfiti",7097,992]
[4396,null,null,"hpneo/gmaps","https://github.com/hpneo/gmaps",7096,1333]
[4397,null,null,"marionettejs/backbone.marionette","https://github.com/marionettejs/backbone.marionette",7095,1302]
[4398,null,null,"nasa-jpl/open-source-rover","https://github.com/nasa-jpl/open-source-rover",7090,1181]
[4399,null,null,"witheve/Eve","https://github.com/witheve/Eve",7089,256]
[4400,null,null,"jwasham/computer-science-flash-cards","https://github.com/jwasham/computer-science-flash-cards",7088,1781]
[4401,null,null,"symfony/process","https://github.com/symfony/process",7085,101]
[4402,null,null,"phar-io/manifest","https://github.com/phar-io/manifest",7085,12]
[4403,null,null,"aemkei/jsfuck","https://github.com/aemkei/jsfuck",7085,652]
[4404,null,null,"DataTables/DataTables","https://github.com/DataTables/DataTables",7084,2186]
[4405,null,null,"github/personal-website","https://github.com/github/personal-website",7082,6727]
[4406,null,null,"pointfreeco/swift-composable-architecture","https://github.com/pointfreeco/swift-composable-architecture",7082,696]
[4407,null,null,"Geal/nom","https://github.com/Geal/nom",7081,700]
[4408,null,null,"sebastianbergmann/php-file-iterator","https://github.com/sebastianbergmann/php-file-iterator",7079,47]
[4409,null,null,"kevin-wayne/algs4","https://github.com/kevin-wayne/algs4",7079,2625]
[4410,null,null,"laravel/tinker","https://github.com/laravel/tinker",7078,115]
[4411,null,null,"utterance/utterances","https://github.com/utterance/utterances",7082,533]
[4412,null,null,"datawhalechina/leeml-notes","https://github.com/datawhalechina/leeml-notes",7075,2207]
[4413,null,null,"Chuyu-Team/Dism-Multi-language","https://github.com/Chuyu-Team/Dism-Multi-language",7077,645]
[4414,null,null,"dodyg/practical-aspnetcore","https://github.com/dodyg/practical-aspnetcore",7073,943]
[4415,null,null,"sstephenson/bats","https://github.com/sstephenson/bats",7071,531]
[4416,null,null,"PyMySQL/PyMySQL","https://github.com/PyMySQL/PyMySQL",7069,1371]
[4417,null,null,"NeXTs/Clusterize.js","https://github.com/NeXTs/Clusterize.js",7067,428]
[4418,null,null,"JetBrains/kotlin-native","https://github.com/JetBrains/kotlin-native",7065,615]
[4419,null,null,"ipfs/js-ipfs","https://github.com/ipfs/js-ipfs",7067,1319]
[4420,null,null,"tensorlayer/TensorLayer","https://github.com/tensorlayer/TensorLayer",7065,1592]
[4421,null,null,"libretro/RetroArch","https://github.com/libretro/RetroArch",7066,1465]
[4422,null,null,"workshopper/learnyounode","https://github.com/workshopper/learnyounode",7065,1816]
[4423,null,null,"ljpzzz/machinelearning","https://github.com/ljpzzz/machinelearning",7063,3512]
[4424,null,null,"phar-io/version","https://github.com/phar-io/version",7064,18]
[4425,null,null,"swagger-api/swagger-core","https://github.com/swagger-api/swagger-core",7062,2120]
[4426,null,null,"malcommac/SwiftDate","https://github.com/malcommac/SwiftDate",7059,708]
[4427,null,null,"google/flutter-desktop-embedding","https://github.com/google/flutter-desktop-embedding",7055,606]
[4428,null,null,"kishikawakatsumi/KeychainAccess","https://github.com/kishikawakatsumi/KeychainAccess",7054,696]
[4429,null,null,"microsoft/cpprestsdk","https://github.com/microsoft/cpprestsdk",7054,1547]
[4430,null,null,"qqwweee/keras-yolo3","https://github.com/qqwweee/keras-yolo3",7052,3505]
[4431,null,null,"AdrienTorris/awesome-blazor","https://github.com/AdrienTorris/awesome-blazor",7055,837]
[4432,null,null,"reactjs/react-modal","https://github.com/reactjs/react-modal",7050,813]
[4433,null,null,"carpedm20/DCGAN-tensorflow","https://github.com/carpedm20/DCGAN-tensorflow",7047,2684]
[4434,null,null,"objective-see/LuLu","https://github.com/objective-see/LuLu",7045,368]
[4435,null,null,"dwarvesf/hidden","https://github.com/dwarvesf/hidden",7046,212]
[4436,null,null,"owainlewis/awesome-artificial-intelligence","https://github.com/owainlewis/awesome-artificial-intelligence",7043,1468]
[4437,null,null,"MorvanZhou/PyTorch-Tutorial","https://github.com/MorvanZhou/PyTorch-Tutorial",7041,3056]
[4438,null,null,"wuchangming/spy-debugger","https://github.com/wuchangming/spy-debugger",7040,814]
[4439,null,null,"quickwit-oss/tantivy","https://github.com/quickwit-oss/tantivy",7041,426]
[4440,null,null,"mrjbq7/ta-lib","https://github.com/mrjbq7/ta-lib",7038,1399]
[4441,null,null,"luyishisi/Anti-Anti-Spider","https://github.com/luyishisi/Anti-Anti-Spider",7037,2215]
[4442,null,null,"symfony/var-dumper","https://github.com/symfony/var-dumper",7036,94]
[4443,null,null,"alibaba/MNN","https://github.com/alibaba/MNN",7037,1426]
[4444,null,null,"sebastianbergmann/php-text-template","https://github.com/sebastianbergmann/php-text-template",7036,32]
[4445,null,null,"fabiolb/fabio","https://github.com/fabiolb/fabio",7035,633]
[4446,null,null,"pymc-devs/pymc","https://github.com/pymc-devs/pymc",7035,1674]
[4447,null,null,"Qihoo360/RePlugin","https://github.com/Qihoo360/RePlugin",7032,1484]
[4448,null,null,"Rob--W/cors-anywhere","https://github.com/Rob--W/cors-anywhere",7031,3872]
[4449,null,null,"unoplatform/uno","https://github.com/unoplatform/uno",7031,564]
[4450,null,null,"cobaltdisco/Google-Chinese-Results-Blocklist","https://github.com/cobaltdisco/Google-Chinese-Results-Blocklist",7029,293]
[4451,null,null,"macvim-dev/macvim","https://github.com/macvim-dev/macvim",7028,670]
[4452,null,null,"darktable-org/darktable","https://github.com/darktable-org/darktable",7026,957]
[4453,null,null,"mltframework/shotcut","https://github.com/mltframework/shotcut",7024,820]
[4454,null,null,"DataV-Team/DataV","https://github.com/DataV-Team/DataV",7025,1503]
[4455,null,null,"jpochyla/psst","https://github.com/jpochyla/psst",7020,173]
[4456,null,null,"rockerBOO/awesome-neovim","https://github.com/rockerBOO/awesome-neovim",7019,358]
[4457,null,null,"rs/zerolog","https://github.com/rs/zerolog",7019,417]
[4458,null,null,"Eonasdan/tempus-dominus","https://github.com/Eonasdan/tempus-dominus",7015,4514]
[4459,null,null,"dyc87112/SpringCloud-Learning","https://github.com/dyc87112/SpringCloud-Learning",7013,2902]
[4460,null,null,"opsnull/follow-me-install-kubernetes-cluster","https://github.com/opsnull/follow-me-install-kubernetes-cluster",7013,2858]
[4461,null,null,"Dhghomon/easy_rust","https://github.com/Dhghomon/easy_rust",7013,309]
[4462,null,null,"kubescape/kubescape","https://github.com/kubescape/kubescape",7012,568]
[4463,null,null,"pluja/awesome-privacy","https://github.com/pluja/awesome-privacy",7009,312]
[4464,null,null,"Sylius/Sylius","https://github.com/Sylius/Sylius",7009,1974]
[4465,null,null,"jwyang/faster-rcnn.pytorch","https://github.com/jwyang/faster-rcnn.pytorch",7009,2317]
[4466,null,null,"PAIR-code/facets","https://github.com/PAIR-code/facets",7007,897]
[4467,null,null,"olivere/elastic","https://github.com/olivere/elastic",7009,1132]
[4468,null,null,"lazyprogrammer/machine_learning_examples","https://github.com/lazyprogrammer/machine_learning_examples",7009,5815]
[4469,null,null,"keystonejs/keystone","https://github.com/keystonejs/keystone",7006,882]
[4470,null,null,"verlok/vanilla-lazyload","https://github.com/verlok/vanilla-lazyload","https://www.andreaverlicchi.eu/vanilla-lazyload/",7007]
[4471,null,null,"freeCodeCamp/how-to-contribute-to-open-source","https://github.com/freeCodeCamp/how-to-contribute-to-open-source",7002,1523]
[4472,null,null,"ogaclejapan/SmartTabLayout","https://github.com/ogaclejapan/SmartTabLayout",7000,1365]
[4473,null,null,"YunaiV/ruoyi-vue-pro","https://github.com/YunaiV/ruoyi-vue-pro",7001,2268]
[4474,null,null,"ogaclejapan/SmartTabLayout","https://github.com/ogaclejapan/SmartTabLayout",7000,1365]
[4475,null,null,"YunaiV/ruoyi-vue-pro","https://github.com/YunaiV/ruoyi-vue-pro",7001,2268]
[4476,null,null,"JakHuang/form-generator","https://github.com/JakHuang/form-generator",6998,1776]
[4477,null,null,"wtsxDev/reverse-engineering","https://github.com/wtsxDev/reverse-engineering",6998,921]
[4478,null,null,"wpscanteam/wpscan","https://github.com/wpscanteam/wpscan",6996,1144]
[4479,null,null,"json-api/json-api","https://github.com/json-api/json-api",6995,831]
[4480,null,null,"crownpku/Awesome-Chinese-NLP","https://github.com/crownpku/Awesome-Chinese-NLP",6991,1679]
[4481,null,null,"facebookarchive/xctool","https://github.com/facebookarchive/xctool",6991,779]
[4482,null,null,"visualfc/liteide","https://github.com/visualfc/liteide",6982,965]
[4483,null,null,"pmndrs/use-gesture","https://github.com/pmndrs/use-gesture",6991,266]
[4484,null,null,"tindy2013/subconverter","https://github.com/tindy2013/subconverter",6979,1556]
[4485,null,null,"unocss/unocss","https://github.com/unocss/unocss",6979,335]
[4486,null,null,"optuna/optuna","https://github.com/optuna/optuna",6971,754]
[4487,null,null,"rxin/db-readings","https://github.com/rxin/db-readings",6970,854]
[4488,null,null,"morrisjs/morris.js","https://github.com/morrisjs/morris.js",6970,1260]
[4489,null,null,"ipkn/crow","https://github.com/ipkn/crow",6968,869]
[4490,null,null,"grpc/grpc-web","https://github.com/grpc/grpc-web",6965,687]
[4491,null,null,"flame-engine/flame","https://github.com/flame-engine/flame",6970,653]
[4492,null,null,"rwv/chinese-dos-games","https://github.com/rwv/chinese-dos-games",6963,820]
[4493,null,null,"utom/sketch-measure","https://github.com/utom/sketch-measure",6962,620]
[4494,null,null,"abel533/Mapper","https://github.com/abel533/Mapper",6961,1595]
[4495,null,null,"fuzzdb-project/fuzzdb","https://github.com/fuzzdb-project/fuzzdb",6959,2012]
[4496,null,null,"panjf2000/gnet","https://github.com/panjf2000/gnet",6961,810]
[4497,null,null,"Jermolene/TiddlyWiki5","https://github.com/Jermolene/TiddlyWiki5",6960,1087]
[4498,null,null,"a8m/golang-cheat-sheet","https://github.com/a8m/golang-cheat-sheet",6959,947]
[4499,null,null,"Urinx/WeixinBot","https://github.com/Urinx/WeixinBot",6957,1982]
[4500,null,null,"OpenFlutter/Flutter-Notebook","https://github.com/OpenFlutter/Flutter-Notebook",6956,1166]
[4501,null,null,"screetsec/TheFatRat","https://github.com/screetsec/TheFatRat",6956,2049]
[4502,null,null,"bitwiseshiftleft/sjcl","https://github.com/bitwiseshiftleft/sjcl",6952,931]
[4503,null,null,"mongodb/mongo-go-driver","https://github.com/mongodb/mongo-go-driver",6951,804]
[4504,null,null,"LonamiWebs/Telethon","https://github.com/LonamiWebs/Telethon",6949,1193]
[4505,null,null,"elm/compiler","https://github.com/elm/compiler",6950,640]
[4506,null,null,"priyankavergadia/google-cloud-4-words","https://github.com/priyankavergadia/google-cloud-4-words",6948,1475]
[4507,null,null,"tonymillion/Reachability","https://github.com/tonymillion/Reachability",6948,1257]
[4508,null,null,"amusi/awesome-object-detection","https://github.com/amusi/awesome-object-detection",6945,1963]
[4509,null,null,"IvanGoncharov/graphql-voyager","https://github.com/IvanGoncharov/graphql-voyager",6942,458]
[4510,null,null,"launchbadge/sqlx","https://github.com/launchbadge/sqlx",6944,729]
[4511,null,null,"alibaba/AndFix","https://github.com/alibaba/AndFix",6941,1626]
[4512,null,null,"olton/Metro-UI-CSS","https://github.com/olton/Metro-UI-CSS",6939,2002]
[4513,null,null,"ericchiang/pup","https://github.com/ericchiang/pup",6937,233]
[4514,null,null,"github/roadmap","https://github.com/github/roadmap",6935,890]
[4515,null,null,"scylladb/seastar","https://github.com/scylladb/seastar",6935,1359]
[4516,null,null,"cookpete/react-player","https://github.com/cookpete/react-player",6934,968]
[4517,null,null,"BlocksKit/BlocksKit","https://github.com/BlocksKit/BlocksKit",6934,1276]
[4518,null,null,"Kulbear/deep-learning-coursera","https://github.com/Kulbear/deep-learning-coursera",6933,5405]
[4519,null,null,"wiseodd/generative-models","https://github.com/wiseodd/generative-models",6932,2028]
[4520,null,null,"fluxcd/flux","https://github.com/fluxcd/flux",6932,1129]
[4521,null,null,"MortimerGoro/MGSwipeTableCell","https://github.com/MortimerGoro/MGSwipeTableCell",6931,1092]
[4522,null,null,"mhadidg/software-architecture-books","https://github.com/mhadidg/software-architecture-books",6938,486]
[4523,null,null,"reach/router","https://github.com/reach/router",6928,352]
[4524,null,null,"microsoft/playwright-python","https://github.com/microsoft/playwright-python",6931,630]
[4525,null,null,"HubSpot/vex","https://github.com/HubSpot/vex",6927,510]
[4526,null,null,"selierlin/Share-SSR-V2ray","https://github.com/selierlin/Share-SSR-V2ray",6925,1043]
[4527,null,null,"hellerve/programming-talks","https://github.com/hellerve/programming-talks",6925,514]
[4528,null,null,"digoal/blog","https://github.com/digoal/blog",6925,1682]
[4529,null,null,"lukehaas/css-loaders","https://github.com/lukehaas/css-loaders",6924,1056]
[4530,null,null,"Cenmrev/V2RayX","https://github.com/Cenmrev/V2RayX",6924,1092]
[4531,null,null,"matthew-andrews/isomorphic-fetch","https://github.com/matthew-andrews/isomorphic-fetch",6923,335]
[4532,null,null,"apollographql/react-apollo","https://github.com/apollographql/react-apollo",6921,811]
[4533,null,null,"nayafia/lemonade-stand","https://github.com/nayafia/lemonade-stand",6920,339]
[4534,null,null,"github-changelog-generator/github-changelog-generator","https://github.com/github-changelog-generator/github-changelog-generator",6919,864]
[4535,null,null,"mickael-kerjean/filestash","https://github.com/mickael-kerjean/filestash",6920,514]
[4536,null,null,"anaibol/awesome-serverless","https://github.com/anaibol/awesome-serverless",6916,681]
[4537,null,null,"jdan/98.css","https://github.com/jdan/98.css",6916,231]
[4538,null,null,"jsfiddle/togetherjs","https://github.com/jsfiddle/togetherjs",6915,887]
[4539,null,null,"microsoft/azuredatastudio","https://github.com/microsoft/azuredatastudio",6914,808]
[4540,null,null,"sbstjn/timesheet.js","https://github.com/sbstjn/timesheet.js",6910,585]
[4541,null,null,"kennethreitz/records","https://github.com/kennethreitz/records",6906,569]
[4542,null,null,"akveo/kittenTricks","https://github.com/akveo/kittenTricks",6903,1003]
[4543,null,null,"sxei/chrome-plugin-demo","https://github.com/sxei/chrome-plugin-demo",6903,1593]
[4544,null,null,"trentm/node-bunyan","https://github.com/trentm/node-bunyan",6903,537]
[4545,null,null,"microsoft/botframework-sdk","https://github.com/microsoft/botframework-sdk",6900,2401]
[4546,null,null,"covid19india/covid19india-react","https://github.com/covid19india/covid19india-react",6900,3473]
[4547,null,null,"yuanguangxin/LeetCode","https://github.com/yuanguangxin/LeetCode",6900,1875]
[4548,null,null,"mailchimp/email-blueprints","https://github.com/mailchimp/email-blueprints",6897,2812]
[4549,null,null,"JetBrains/ideavim","https://github.com/JetBrains/ideavim",6897,654]
[4550,null,null,"OctoPrint/OctoPrint","https://github.com/OctoPrint/OctoPrint",6897,1575]
[4551,null,null,"middleman/middleman","https://github.com/middleman/middleman",6895,749]
[4552,null,null,"ReactiveX/RxKotlin","https://github.com/ReactiveX/RxKotlin",6894,466]
[4553,null,null,"exercism/exercism","https://github.com/exercism/exercism",6893,1041]
[4554,null,null,"swaggo/swag","https://github.com/swaggo/swag",6893,897]
[4555,null,null,"zardus/ctf-tools","https://github.com/zardus/ctf-tools",6892,1727]
[4556,null,null,"LeaVerou/awesomplete","https://github.com/LeaVerou/awesomplete",6890,640]
[4557,null,null,"vuejs/petite-vue","https://github.com/vuejs/petite-vue",6893,275]
[4558,null,null,"google/benchmark","https://github.com/google/benchmark",6889,1353]
[4559,null,null,"nytimes/covid-19-data","https://github.com/nytimes/covid-19-data",6886,3360]
[4560,null,null,"MrXujiang/h5-Dooring","https://github.com/MrXujiang/h5-Dooring",6886,1347]
[4561,null,null,"kean/Nuke","https://github.com/kean/Nuke",6885,439]
[4562,null,null,"jupyter/docker-stacks","https://github.com/jupyter/docker-stacks",6884,2786]
[4563,null,null,"xzhih/one-key-hidpi","https://github.com/xzhih/one-key-hidpi",6889,896]
[4564,null,null,"EZFNDEV/EZFN-Lobbybot","https://github.com/EZFNDEV/EZFN-Lobbybot",6881,398]
[4565,null,null,"jadore801120/attention-is-all-you-need-pytorch","https://github.com/jadore801120/attention-is-all-you-need-pytorch",6881,1680]
[4566,null,null,"ajenti/ajenti","https://github.com/ajenti/ajenti",6880,814]
[4567,null,null,"geohot/tinygrad","https://github.com/geohot/tinygrad",6880,701]
[4568,null,null,"qinjx/30min_guides","https://github.com/qinjx/30min_guides",6878,1675]
[4569,null,null,"liuliu/ccv","https://github.com/liuliu/ccv",6877,1728]
[4570,null,null,"skwp/dotfiles","https://github.com/skwp/dotfiles",6876,1458]
[4571,null,null,"samratashok/nishang","https://github.com/samratashok/nishang",6877,2196]
[4572,null,null,"utkuozbulak/pytorch-cnn-visualizations","https://github.com/utkuozbulak/pytorch-cnn-visualizations",6875,1414]
[4573,null,null,"coells/100days","https://github.com/coells/100days",6872,1029]
[4574,null,null,"robertkrimen/otto","https://github.com/robertkrimen/otto",6870,567]
[4575,null,null,"marcan/takeover.sh","https://github.com/marcan/takeover.sh",6870,367]
[4576,null,null,"nonstriater/Learn-Algorithms","https://github.com/nonstriater/Learn-Algorithms",6870,2225]
[4577,null,null,"ChrisAnd1998/TaskbarX","https://github.com/ChrisAnd1998/TaskbarX",6868,431]
[4578,null,null,"SirVer/ultisnips","https://github.com/SirVer/ultisnips",6864,679]
[4579,null,null,"hongyangAndroid/okhttputils","https://github.com/hongyangAndroid/okhttputils",6862,2422]
[4580,null,null,"xojs/xo","https://github.com/xojs/xo",6863,329]
[4581,null,null,"guess-js/guess","https://github.com/guess-js/guess",6861,205]
[4582,null,null,"instillai/machine-learning-course","https://github.com/instillai/machine-learning-course",6859,1267]
[4583,null,null,"vmware-archive/kubeless","https://github.com/vmware-archive/kubeless",6860,746]
[4584,null,null,"LSPosed/LSPosed","https://github.com/LSPosed/LSPosed",6861,1032]
[4585,null,null,"nmap/nmap","https://github.com/nmap/nmap",6859,1981]
[4586,null,null,"DoctorWkt/acwj","https://github.com/DoctorWkt/acwj",6851,646]
[4587,null,null,"edeng23/binance-trade-bot","https://github.com/edeng23/binance-trade-bot",6851,2019]
[4588,null,null,"cazala/synaptic","https://github.com/cazala/synaptic",6850,693]
[4589,null,null,"snipe/snipe-it","https://github.com/snipe/snipe-it",6851,2327]
[4590,null,null,"hamcrest/hamcrest-php","https://github.com/hamcrest/hamcrest-php",6845,42]
[4591,null,null,"jsonmodel/jsonmodel","https://github.com/jsonmodel/jsonmodel",6843,1075]
[4592,null,null,"official-stockfish/Stockfish","https://github.com/official-stockfish/Stockfish",6845,1650]
[4593,null,null,"Hacker0x01/react-datepicker","https://github.com/Hacker0x01/react-datepicker",6841,2003]
[4594,null,null,"hackergrrl/art-of-readme","https://github.com/hackergrrl/art-of-readme",6838,422]
[4595,null,null,"google/skia","https://github.com/google/skia",6838,1222]
[4596,null,null,"fengdu78/Data-Science-Notes","https://github.com/fengdu78/Data-Science-Notes",6841,2900]
[4597,null,null,"xmu-xiaoma666/External-Attention-pytorch","https://github.com/xmu-xiaoma666/External-Attention-pytorch",6838,1353]
[4598,null,null,"ptomasroos/react-native-scrollable-tab-view","https://github.com/ptomasroos/react-native-scrollable-tab-view",6832,2270]
[4599,null,null,"brunch/brunch","https://github.com/brunch/brunch",6832,469]
[4600,null,null,"thebird/Swipe","https://github.com/thebird/Swipe",6826,1757]
[4601,null,null,"marcosgriselli/ViewAnimator","https://github.com/marcosgriselli/ViewAnimator",6824,482]
[4602,null,null,"neon-bindings/neon","https://github.com/neon-bindings/neon",6825,272]
[4603,null,null,"Tencent/Hippy","https://github.com/Tencent/Hippy",6822,806]
[4604,null,null,"NixOS/nix","https://github.com/NixOS/nix",6824,990]
[4605,null,null,"senghoo/golang-design-pattern","https://github.com/senghoo/golang-design-pattern",6822,1770]
[4606,null,null,"cssinjs/jss","https://github.com/cssinjs/jss",6821,411]
[4607,null,null,"99designs/aws-vault","https://github.com/99designs/aws-vault",6824,675]
[4608,null,null,"krzysztofzablocki/Sourcery","https://github.com/krzysztofzablocki/Sourcery",6819,530]
[4609,null,null,"microsoft/unilm","https://github.com/microsoft/unilm",6823,1247]
[4610,null,null,"google/lovefield","https://github.com/google/lovefield",6814,419]
[4611,null,null,"bup/bup","https://github.com/bup/bup",6813,419]
[4612,null,null,"gcc-mirror/gcc","https://github.com/gcc-mirror/gcc",6810,3587]
[4613,null,null,"jupyterhub/jupyterhub","https://github.com/jupyterhub/jupyterhub",6807,1773]
[4614,null,null,"renzifeng/ZFPlayer","https://github.com/renzifeng/ZFPlayer",6806,1694]
[4615,null,null,"gregberge/loadable-components","https://github.com/gregberge/loadable-components",6804,376]
[4616,null,null,"rethinkdb/horizon","https://github.com/rethinkdb/horizon",6803,405]
[4617,null,null,"MiCode/Xiaomi_Kernel_OpenSource","https://github.com/MiCode/Xiaomi_Kernel_OpenSource",6801,2605]
[4618,null,null,"any86/any-rule","https://github.com/any86/any-rule",6803,699]
[4619,null,null,"plantuml/plantuml","https://github.com/plantuml/plantuml",6803,686]
[4620,null,null,"Vincit/objection.js","https://github.com/Vincit/objection.js",6801,633]
[4621,null,null,"eriklindernoren/PyTorch-YOLOv3","https://github.com/eriklindernoren/PyTorch-YOLOv3",6799,2591]
[4622,null,null,"kazupon/vue-i18n","https://github.com/kazupon/vue-i18n",6799,847]
[4623,null,null,"Compass/compass","https://github.com/Compass/compass",6797,1197]
[4624,null,null,"zijie0/HumanSystemOptimization","https://github.com/zijie0/HumanSystemOptimization",6815,463]
[4625,null,null,"fontello/fontello","https://github.com/fontello/fontello",6792,843]
[4626,null,null,"openwall/john","https://github.com/openwall/john",6793,1737]
[4627,null,null,"BetterErrors/better_errors","https://github.com/BetterErrors/better_errors",6791,443]
[4628,null,null,"xmartlabs/XLPagerTabStrip","https://github.com/xmartlabs/XLPagerTabStrip",6789,1285]
[4629,null,null,"sindresorhus/np","https://github.com/sindresorhus/np",6789,325]
[4630,null,null,"Laravel-Lang/lang","https://github.com/Laravel-Lang/lang",6788,3082]
[4631,null,null,"kanboard/kanboard","https://github.com/kanboard/kanboard",6787,1634]
[4632,null,null,"Integerous/goQuality-dev-contents","https://github.com/Integerous/goQuality-dev-contents",6788,1139]
[4633,null,null,"sb2nov/mac-setup","https://github.com/sb2nov/mac-setup",6784,1004]
[4634,null,null,"amejiarosario/dsa.js-data-structures-algorithms-javascript","https://github.com/amejiarosario/dsa.js-data-structures-algorithms-javascript",6782,772]
[4635,null,null,"mutualmobile/MMDrawerController","https://github.com/mutualmobile/MMDrawerController",6782,1404]
[4636,null,null,"AGWA/git-crypt","https://github.com/AGWA/git-crypt",6779,414]
[4637,null,null,"davatron5000/FitText.js","https://github.com/davatron5000/FitText.js",6777,1434]
[4638,null,null,"fengyuanchen/viewerjs","https://github.com/fengyuanchen/viewerjs",6775,1192]
[4639,null,null,"phuocng/csslayout","https://github.com/phuocng/csslayout",6776,461]
[4640,null,null,"visgl/react-map-gl","https://github.com/visgl/react-map-gl",6774,1216]
[4641,null,null,"mbdavid/LiteDB","https://github.com/mbdavid/LiteDB",6773,1035]
[4642,null,null,"tgalal/yowsup","https://github.com/tgalal/yowsup",6770,2242]
[4643,null,null,"qemu/qemu","https://github.com/qemu/qemu",6769,4240]
[4644,null,null,"ninenines/cowboy","https://github.com/ninenines/cowboy",6768,1147]
[4645,null,null,"lcobucci/jwt","https://github.com/lcobucci/jwt",6767,565]
[4646,null,null,"electron/fiddle","https://github.com/electron/fiddle",6767,662]
[4647,null,null,"qiu-deqing/FE-interview","https://github.com/qiu-deqing/FE-interview",6767,1743]
[4648,null,null,"mleibman/SlickGrid","https://github.com/mleibman/SlickGrid",6767,2433]
[4649,null,null,"shidenggui/easytrader","https://github.com/shidenggui/easytrader",6767,2450]
[4650,null,null,"filamentgroup/loadCSS","https://github.com/filamentgroup/loadCSS",6765,578]
[4651,null,null,"doccano/doccano","https://github.com/doccano/doccano",6768,1396]
[4652,null,null,"RockstarLang/rockstar","https://github.com/RockstarLang/rockstar",6761,224]
[4653,null,null,"andrew--r/frontend-case-studies","https://github.com/andrew--r/frontend-case-studies",6761,392]
[4654,null,null,"jonsuh/hamburgers","https://github.com/jonsuh/hamburgers",6759,1692]
[4655,null,null,"PrestaShop/PrestaShop","https://github.com/PrestaShop/PrestaShop",6757,4476]
[4656,null,null,"0x7c13/Notepads","https://github.com/0x7c13/Notepads",6758,394]
[4657,null,null,"NLPchina/elasticsearch-sql","https://github.com/NLPchina/elasticsearch-sql",6757,1515]
[4658,null,null,"avast/retdec","https://github.com/avast/retdec",6756,838]
[4659,null,null,"naman14/Timber","https://github.com/naman14/Timber",6754,2159]
[4660,null,null,"mRemoteNG/mRemoteNG","https://github.com/mRemoteNG/mRemoteNG",6756,1253]
[4661,null,null,"juicedata/juicefs","https://github.com/juicedata/juicefs",6755,573]
[4662,null,null,"DroidPluginTeam/DroidPlugin","https://github.com/DroidPluginTeam/DroidPlugin",6749,2549]
[4663,null,null,"flyway/flyway","https://github.com/flyway/flyway",6749,1329]
[4664,null,null,"go-resty/resty","https://github.com/go-resty/resty",6750,529]
[4665,null,null,"Exrick/xmall","https://github.com/Exrick/xmall",6748,2538]
[4666,null,null,"enquirer/enquirer","https://github.com/enquirer/enquirer",6747,274]
[4667,null,null,"github/scientist","https://github.com/github/scientist",6746,489]
[4668,null,null,"AllThingsSmitty/must-watch-javascript","https://github.com/AllThingsSmitty/must-watch-javascript",6747,351]
[4669,null,null,"deepmind/lab","https://github.com/deepmind/lab",6745,1369]
[4670,null,null,"roadrunner-server/roadrunner","https://github.com/roadrunner-server/roadrunner",6744,370]
[4671,null,null,"LemmyNet/lemmy","https://github.com/LemmyNet/lemmy",6748,427]
[4672,null,null,"a-b-street/abstreet","https://github.com/a-b-street/abstreet",6743,253]
[4673,null,null,"catboost/catboost","https://github.com/catboost/catboost",6741,1051]
[4674,null,null,"bottlerocket-os/bottlerocket","https://github.com/bottlerocket-os/bottlerocket",6739,371]
[4675,null,null,"docker/dockercraft","https://github.com/docker/dockercraft",6737,396]
[4676,null,null,"meetecho/janus-gateway","https://github.com/meetecho/janus-gateway",6736,2227]
[4677,null,null,"volta-cli/volta","https://github.com/volta-cli/volta",6737,158]
[4678,null,null,"blasten/turn.js","https://github.com/blasten/turn.js",6734,2400]
[4679,null,null,"baldurk/renderdoc","https://github.com/baldurk/renderdoc",6733,1051]
[4680,null,null,"easymotion/vim-easymotion","https://github.com/easymotion/vim-easymotion",6730,349]
[4681,null,null,"mailgun/transactional-email-templates","https://github.com/mailgun/transactional-email-templates",6730,1176]
[4682,null,null,"We5ter/Scanners-Box","https://github.com/We5ter/Scanners-Box",6729,2213]
[4683,null,null,"NodeOS/NodeOS","https://github.com/NodeOS/NodeOS",6727,627]
[4684,null,null,"kubernetes/client-go","https://github.com/kubernetes/client-go",6725,2540]
[4685,null,null,"needim/noty","https://github.com/needim/noty",6719,1065]
[4686,null,null,"ChenYilong/CYLTabBarController","https://github.com/ChenYilong/CYLTabBarController",6719,1452]
[4687,null,null,"PaperMC/Paper","https://github.com/PaperMC/Paper",6720,1697]
[4688,null,null,"wowchemy/wowchemy-hugo-themes","https://github.com/wowchemy/wowchemy-hugo-themes",6720,2724]
[4689,null,null,"nestjs/awesome-nestjs","https://github.com/nestjs/awesome-nestjs",6714,631]
[4690,null,null,"blender/blender","https://github.com/blender/blender",6716,1154]
[4691,null,null,"SSHeRun/CS-Xmind-Note","https://github.com/SSHeRun/CS-Xmind-Note",6712,1850]
[4692,null,null,"choojs/choo","https://github.com/choojs/choo",6707,659]
[4693,null,null,"orf/gping","https://github.com/orf/gping",6709,246]
[4694,null,null,"zephyrproject-rtos/zephyr","https://github.com/zephyrproject-rtos/zephyr",6706,4183]
[4695,null,null,"cloudflare/quiche","https://github.com/cloudflare/quiche",6706,472]
[4696,null,null,"lenve/VBlog","https://github.com/lenve/VBlog",6704,2858]
[4697,null,null,"Universidade-Livre/ciencia-da-computacao","https://github.com/Universidade-Livre/ciencia-da-computacao",6702,515]
[4698,null,null,"rovo89/Xposed","https://github.com/rovo89/Xposed",6701,1437]
[4699,null,null,"actions/starter-workflows","https://github.com/actions/starter-workflows",6703,5257]
[4700,null,null,"alvarcarto/url-to-pdf-api","https://github.com/alvarcarto/url-to-pdf-api",6699,739]
[4701,null,null,"dylanaraps/pywal","https://github.com/dylanaraps/pywal",6697,276]
[4702,null,null,"rasbt/python-machine-learning-book-2nd-edition","https://github.com/rasbt/python-machine-learning-book-2nd-edition",6694,2793]
[4703,null,null,"awslabs/aws-shell","https://github.com/awslabs/aws-shell",6694,744]
[4704,null,null,"nginx-proxy/acme-companion","https://github.com/nginx-proxy/acme-companion",6693,792]
[4705,null,null,"holman/dotfiles","https://github.com/holman/dotfiles",6692,3328]
[4706,null,null,"csseky/cskaoyan","https://github.com/csseky/cskaoyan",6693,1453]
[4707,null,null,"material-shell/material-shell","https://github.com/material-shell/material-shell",6692,172]
[4708,null,null,"open-source-parsers/jsoncpp","https://github.com/open-source-parsers/jsoncpp",6691,2412]
[4709,null,null,"actions/runner-images","https://github.com/actions/runner-images",6689,2371]
[4710,null,null,"electronicarts/EASTL","https://github.com/electronicarts/EASTL",6690,799]
[4711,null,null,"hongyangAndroid/AndroidAutoLayout","https://github.com/hongyangAndroid/AndroidAutoLayout",6687,1931]
[4712,null,null,"conventional-changelog/standard-version","https://github.com/conventional-changelog/standard-version",6688,743]
[4713,null,null,"aheckmann/gm","https://github.com/aheckmann/gm",6686,621]
[4714,null,null,"Ewenwan/MVision","https://github.com/Ewenwan/MVision",6686,2594]
[4715,null,null,"li-xiaojun/XPopup","https://github.com/li-xiaojun/XPopup",6686,1084]
[4716,null,null,"sourcegraph/sourcegraph","https://github.com/sourcegraph/sourcegraph",6687,834]
[4717,null,null,"xufei/blog","https://github.com/xufei/blog",6685,784]
[4718,null,null,"jobbole/awesome-cpp-cn","https://github.com/jobbole/awesome-cpp-cn",6685,1793]
[4719,null,null,"Tencent/QMUI_iOS","https://github.com/Tencent/QMUI_iOS",6684,1319]
[4720,null,null,"duckdb/duckdb","https://github.com/duckdb/duckdb",6682,629]
[4721,null,null,"ElemeFE/v-charts","https://github.com/ElemeFE/v-charts",6681,1770]
[4722,null,null,"octref/polacode","https://github.com/octref/polacode",6678,214]
[4723,null,null,"Radarr/Radarr","https://github.com/Radarr/Radarr",6680,785]
[4724,null,null,"changgyhub/leetcode_101","https://github.com/changgyhub/leetcode_101",6678,1006]
[4725,null,null,"NVIDIA/apex","https://github.com/NVIDIA/apex",6676,1086]
[4726,null,null,"openethereum/parity-ethereum","https://github.com/openethereum/parity-ethereum",6677,1671]
[4727,null,null,"EmpireProject/Empire","https://github.com/EmpireProject/Empire",6676,2609]
[4728,null,null,"peng-zhihui/L-ink_Card","https://github.com/peng-zhihui/L-ink_Card",6674,1670]
[4729,null,null,"coodict/javascript-in-one-pic","https://github.com/coodict/javascript-in-one-pic",6673,778]
[4730,null,null,"sourcerer-io/sourcerer-app","https://github.com/sourcerer-io/sourcerer-app",6667,288]
[4731,null,null,"SwiftKickMobile/SwiftMessages","https://github.com/SwiftKickMobile/SwiftMessages",6666,700]
[4732,null,null,"omcljs/om","https://github.com/omcljs/om",6666,376]
[4733,null,null,"aimacode/aima-python","https://github.com/aimacode/aima-python",6664,3236]
[4734,null,null,"SecWiki/windows-kernel-exploits","https://github.com/SecWiki/windows-kernel-exploits",6665,2723]
[4735,null,null,"Fmstrat/winapps","https://github.com/Fmstrat/winapps",6665,345]
[4736,null,null,"Saul-Mirone/milkdown","https://github.com/Saul-Mirone/milkdown",6665,301]
[4737,null,null,"vanhauser-thc/thc-hydra","https://github.com/vanhauser-thc/thc-hydra",6666,1583]
[4738,null,null,"blue-yonder/tsfresh","https://github.com/blue-yonder/tsfresh",6664,1050]
[4739,null,null,"shadowsocks/shadowsocks-go","https://github.com/shadowsocks/shadowsocks-go",6660,3449]
[4740,null,null,"invoiceninja/invoiceninja","https://github.com/invoiceninja/invoiceninja",6662,1989]
[4741,null,null,"sindresorhus/fkill-cli","https://github.com/sindresorhus/fkill-cli",6658,204]
[4742,null,null,"sebastianbergmann/comparator","https://github.com/sebastianbergmann/comparator",6657,57]
[4743,null,null,"RMerl/asuswrt-merlin","https://github.com/RMerl/asuswrt-merlin",6657,1093]
[4744,null,null,"Workiva/go-datastructures","https://github.com/Workiva/go-datastructures",6657,791]
[4745,null,null,"pwn20wndstuff/Undecimus","https://github.com/pwn20wndstuff/Undecimus",6656,1354]
[4746,null,null,"YunaiV/yudao-cloud","https://github.com/YunaiV/yudao-cloud",6655,2328]
[4747,null,null,"android-cn/android-open-project-analysis","https://github.com/android-cn/android-open-project-analysis",6653,2262]
[4748,null,null,"hugapi/hug","https://github.com/hugapi/hug",6653,379]
[4749,null,null,"MatrixTM/MHDDoS","https://github.com/MatrixTM/MHDDoS",6655,1421]
[4750,null,null,"taylorchen709/vue-admin","https://github.com/taylorchen709/vue-admin",6648,2740]
[4751,null,null,"flyerhzm/bullet","https://github.com/flyerhzm/bullet",6645,382]
[4752,null,null,"BuilderIO/mitosis","https://github.com/BuilderIO/mitosis",6648,248]
[4753,null,null,"schollz/howmanypeoplearearound","https://github.com/schollz/howmanypeoplearearound",6643,387]
[4754,null,null,"infosecn1nja/Red-Teaming-Toolkit","https://github.com/infosecn1nja/Red-Teaming-Toolkit",6642,1829]
[4755,null,null,"mde/ejs","https://github.com/mde/ejs",6643,734]
[4756,null,null,"PaddlePaddle/models","https://github.com/PaddlePaddle/models",6641,2936]
[4757,null,null,"cassidoo/getting-a-gig","https://github.com/cassidoo/getting-a-gig",6640,680]
[4758,null,null,"sindresorhus/screenfull","https://github.com/sindresorhus/screenfull",6640,696]
[4759,null,null,"BYVoid/OpenCC","https://github.com/BYVoid/OpenCC",6640,883]
[4760,null,null,"apify/crawlee","https://github.com/apify/crawlee",6642,310]
[4761,null,null,"HospitalRun/hospitalrun-frontend","https://github.com/HospitalRun/hospitalrun-frontend",6641,2122]
[4762,null,null,"alexeygrigorev/data-science-interviews","https://github.com/alexeygrigorev/data-science-interviews",6642,1441]
[4763,null,null,"zeroclipboard/zeroclipboard","https://github.com/zeroclipboard/zeroclipboard",6637,1099]
[4764,null,null,"digininja/DVWA","https://github.com/digininja/DVWA",6633,2247]
[4765,null,null,"eclipse/mosquitto","https://github.com/eclipse/mosquitto",6634,2018]
[4766,null,null,"Cyan4973/xxHash","https://github.com/Cyan4973/xxHash",6630,643]
[4767,null,null,"open-power-workgroup/Hospital","https://github.com/open-power-workgroup/Hospital",6629,1053]
[4768,null,null,"beakerbrowser/beaker","https://github.com/beakerbrowser/beaker",6627,569]
[4769,null,null,"PyO3/pyo3","https://github.com/PyO3/pyo3",6624,449]
[4770,null,null,"prowler-cloud/prowler","https://github.com/prowler-cloud/prowler",6625,1005]
[4771,null,null,"google/closure-compiler","https://github.com/google/closure-compiler",6624,1139]
[4772,null,null,"dixonandmoe/rellax","https://github.com/dixonandmoe/rellax",6623,893]
[4773,null,null,"rxi/lite","https://github.com/rxi/lite",6623,313]
[4774,null,null,"glidejs/glide","https://github.com/glidejs/glide",6623,764]
[4775,null,null,"engineerapart/TheRemoteFreelancer","https://github.com/engineerapart/TheRemoteFreelancer",6621,393]
[4776,null,null,"ankane/pghero","https://github.com/ankane/pghero",6620,388]
[4777,null,null,"adamian98/pulse","https://github.com/adamian98/pulse",6620,1360]
[4778,null,null,"bxcodec/go-clean-arch","https://github.com/bxcodec/go-clean-arch",6620,965]
[4779,null,null,"conventional-changelog/conventional-changelog","https://github.com/conventional-changelog/conventional-changelog",6620,664]
[4780,null,null,"coqui-ai/TTS","https://github.com/coqui-ai/TTS",6624,692]
[4781,null,null,"php-fig/http-message","https://github.com/php-fig/http-message",6615,174]
[4782,null,null,"OJ/gobuster","https://github.com/OJ/gobuster",6614,953]
[4783,null,null,"adobe-fonts/source-han-serif","https://github.com/adobe-fonts/source-han-serif",6611,638]
[4784,null,null,"azat-io/you-dont-know-js-ru","https://github.com/azat-io/you-dont-know-js-ru",6610,2361]
[4785,null,null,"chyingp/nodejs-learning-guide","https://github.com/chyingp/nodejs-learning-guide",6607,1191]
[4786,null,null,"xiaolai/everyone-can-use-english","https://github.com/xiaolai/everyone-can-use-english",6607,1824]
[4787,null,null,"jquery/esprima","https://github.com/jquery/esprima",6606,788]
[4788,null,null,"QuantConnect/Lean","https://github.com/QuantConnect/Lean",6608,2643]
[4789,null,null,"labs42io/clean-code-typescript","https://github.com/labs42io/clean-code-typescript",6604,820]
[4790,null,null,"zetbaitsu/Compressor","https://github.com/zetbaitsu/Compressor",6602,934]
[4791,null,null,"Jack-Cherish/Machine-Learning","https://github.com/Jack-Cherish/Machine-Learning",6605,4695]
[4792,null,null,"Gazler/githug","https://github.com/Gazler/githug",6602,1017]
[4793,null,null,"Angel-ML/angel","https://github.com/Angel-ML/angel",6601,1618]
[4794,null,null,"Tencent/Shadow","https://github.com/Tencent/Shadow",6600,1100]
[4795,null,null,"vpncn/vpncn.github.io","https://github.com/vpncn/vpncn.github.io",6603,1554]
[4796,null,null,"biancangming/wtv","https://github.com/biancangming/wtv",6598,1050]
[4797,null,null,"kpdecker/jsdiff","https://github.com/kpdecker/jsdiff",6595,449]
[4798,null,null,"appleboy/gorush","https://github.com/appleboy/gorush",6597,744]
[4799,null,null,"TechEmpower/FrameworkBenchmarks","https://github.com/TechEmpower/FrameworkBenchmarks",6593,1777]
[4800,null,null,"xingyizhou/CenterNet","https://github.com/xingyizhou/CenterNet",6592,1854]
[4801,null,null,"abraunegg/onedrive","https://github.com/abraunegg/onedrive",6592,730]
[4802,null,null,"axi0mX/ipwndfu","https://github.com/axi0mX/ipwndfu",6592,1679]
[4803,null,null,"hotoo/pinyin","https://github.com/hotoo/pinyin",6591,809]
[4804,null,null,"all-contributors/all-contributors","https://github.com/all-contributors/all-contributors",6590,1614]
[4805,null,null,"WenchaoD/FSPagerView","https://github.com/WenchaoD/FSPagerView",6589,872]
[4806,null,null,"opencart/opencart","https://github.com/opencart/opencart",6589,4599]
[4807,null,null,"kelektiv/node.bcrypt.js","https://github.com/kelektiv/node.bcrypt.js",6587,466]
[4808,null,null,"facebookresearch/pytorch3d","https://github.com/facebookresearch/pytorch3d",6586,987]
[4809,null,null,"redcanaryco/atomic-red-team","https://github.com/redcanaryco/atomic-red-team",6587,2180]
[4810,null,null,"gopherchina/conference","https://github.com/gopherchina/conference",6584,1426]
[4811,null,null,"getsentry/sentry-javascript","https://github.com/getsentry/sentry-javascript",6586,1309]
[4812,null,null,"ai/easings.net","https://github.com/ai/easings.net",6582,611]
[4813,null,null,"fangwei716/30-days-of-react-native","https://github.com/fangwei716/30-days-of-react-native",6580,1479]
[4814,null,null,"freebsd/freebsd-src","https://github.com/freebsd/freebsd-src",6578,2459]
[4815,null,null,"IceWhaleTech/CasaOS","https://github.com/IceWhaleTech/CasaOS",6582,421]
[4816,null,null,"yanzhenjie/AndPermission","https://github.com/yanzhenjie/AndPermission",6577,1110]
[4817,null,null,"redux-utilities/redux-actions","https://github.com/redux-utilities/redux-actions",6574,337]
[4818,null,null,"JetBrains/Exposed","https://github.com/JetBrains/Exposed",6574,543]
[4819,null,null,"flightjs/flight","https://github.com/flightjs/flight",6569,569]
[4820,null,null,"briangonzalez/jquery.adaptive-backgrounds.js","https://github.com/briangonzalez/jquery.adaptive-backgrounds.js",6566,482]
[4821,null,null,"Terry-Mao/goim","https://github.com/Terry-Mao/goim",6566,1690]
[4822,null,null,"Mortennn/Dozer","https://github.com/Mortennn/Dozer",6565,218]
[4823,null,null,"sindresorhus/github-markdown-css","https://github.com/sindresorhus/github-markdown-css",6563,2068]
[4824,null,null,"ReactNativeNews/React-Native-Apps","https://github.com/ReactNativeNews/React-Native-Apps",6559,1025]
[4825,null,null,"bpmn-io/bpmn-js","https://github.com/bpmn-io/bpmn-js",6558,1080]
[4826,null,null,"mack-a/v2ray-agent","https://github.com/mack-a/v2ray-agent",6563,2837]
[4827,null,null,"gaearon/overreacted.io","https://github.com/gaearon/overreacted.io",6552,1648]
[4828,null,null,"mobxjs/mobx-state-tree","https://github.com/mobxjs/mobx-state-tree",6550,613]
[4829,null,null,"fluent-ffmpeg/node-fluent-ffmpeg","https://github.com/fluent-ffmpeg/node-fluent-ffmpeg",6548,793]
[4830,null,null,"tholman/elevator.js","https://github.com/tholman/elevator.js",6543,520]
[4831,null,null,"NirantK/awesome-project-ideas","https://github.com/NirantK/awesome-project-ideas",6542,1164]
[4832,null,null,"miekg/dns","https://github.com/miekg/dns",6541,1016]
[4833,null,null,"tiff/wysihtml5","https://github.com/tiff/wysihtml5",6539,1063]
[4834,null,null,"svenstaro/genact","https://github.com/svenstaro/genact",6538,294]
[4835,null,null,"chrismaltby/gb-studio","https://github.com/chrismaltby/gb-studio",6536,375]
[4836,null,null,"rough-stuff/rough-notation","https://github.com/rough-stuff/rough-notation",6536,152]
[4837,null,null,"reactjs/react-rails","https://github.com/reactjs/react-rails",6534,765]
[4838,null,null,"yagop/node-telegram-bot-api","https://github.com/yagop/node-telegram-bot-api",6537,1260]
[4839,null,null,"shutterstock/rickshaw","https://github.com/shutterstock/rickshaw",6534,989]
[4840,null,null,"Bogdan-Lyashenko/js-code-to-svg-flowchart","https://github.com/Bogdan-Lyashenko/js-code-to-svg-flowchart",6533,471]
[4841,null,null,"ripperhe/Bob","https://github.com/ripperhe/Bob",6534,439]
[4842,null,null,"pahen/madge","https://github.com/pahen/madge",6534,287]
[4843,null,null,"AirtestProject/Airtest","https://github.com/AirtestProject/Airtest",6532,1060]
[4844,null,null,"wilsonpage/fastdom","https://github.com/wilsonpage/fastdom",6532,267]
[4845,null,null,"matplotlib/cheatsheets","https://github.com/matplotlib/cheatsheets",6531,812]
[4846,null,null,"patrickmn/go-cache","https://github.com/patrickmn/go-cache",6529,778]
[4847,null,null,"vitest-dev/vitest","https://github.com/vitest-dev/vitest",6533,516]
[4848,null,null,"software-mansion/react-native-reanimated","https://github.com/software-mansion/react-native-reanimated",6529,967]
[4849,null,null,"pyeve/eve","https://github.com/pyeve/eve",6526,751]
[4850,null,null,"academicpages/academicpages.github.io","https://github.com/academicpages/academicpages.github.io",6529,22847]
[4851,null,null,"airbnb/css","https://github.com/airbnb/css",6525,1408]
[4852,null,null,"taobao/nginx-book","https://github.com/taobao/nginx-book",6524,2023]
[4853,null,null,"mikefarah/yq","https://github.com/mikefarah/yq",6524,381]
[4854,null,null,"go-shiori/shiori","https://github.com/go-shiori/shiori",6522,439]
[4855,null,null,"houtianze/bypy","https://github.com/houtianze/bypy",6519,1319]
[4856,null,null,"doctrine/annotations","https://github.com/doctrine/annotations",6518,233]
[4857,null,null,"RichardKnop/machinery","https://github.com/RichardKnop/machinery",6517,825]
[4858,null,null,"simonw/datasette","https://github.com/simonw/datasette",6517,450]
[4859,null,null,"automl/auto-sklearn","https://github.com/automl/auto-sklearn",6517,1195]
[4860,null,null,"pry/pry","https://github.com/pry/pry",6514,597]
[4861,null,null,"baskerville/bspwm","https://github.com/baskerville/bspwm",6514,407]
[4862,null,null,"docker/machine","https://github.com/docker/machine",6512,1989]
[4863,null,null,"johnno1962/injectionforxcode","https://github.com/johnno1962/injectionforxcode",6511,579]
[4864,null,null,"bestony/logoly","https://github.com/bestony/logoly",6511,708]
[4865,null,null,"imgproxy/imgproxy","https://github.com/imgproxy/imgproxy",6510,497]
[4866,null,null,"dilanx/craco","https://github.com/dilanx/craco",6510,480]
[4867,null,null,"gitextensions/gitextensions","https://github.com/gitextensions/gitextensions",6507,1923]
[4868,null,null,"mamaral/Onboard","https://github.com/mamaral/Onboard",6506,791]
[4869,null,null,"Uberi/speech_recognition","https://github.com/Uberi/speech_recognition",6504,2152]
[4870,null,null,"reactiveui/refit","https://github.com/reactiveui/refit",6505,656]
[4871,null,null,"sebastianbergmann/php-token-stream","https://github.com/sebastianbergmann/php-token-stream",6500,56]
[4872,null,null,"isomorphic-git/isomorphic-git","https://github.com/isomorphic-git/isomorphic-git",6501,300]
[4873,null,null,"rauchg/slackin","https://github.com/rauchg/slackin",6501,1446]
[4874,null,null,"dahlbyk/posh-git","https://github.com/dahlbyk/posh-git",6499,785]
[4875,null,null,"maxence-charriere/go-app","https://github.com/maxence-charriere/go-app",6501,313]
[4876,null,null,"presidentbeef/brakeman","https://github.com/presidentbeef/brakeman",6498,710]
[4877,null,null,"madrobby/keymaster","https://github.com/madrobby/keymaster",6497,513]
[4878,null,null,"Linzaer/Ultra-Light-Fast-Generic-Face-Detector-1MB","https://github.com/Linzaer/Ultra-Light-Fast-Generic-Face-Detector-1MB",6498,1473]
[4879,null,null,"go-xorm/xorm","https://github.com/go-xorm/xorm",6557,783]
[4880,null,null,"pyroscope-io/pyroscope","https://github.com/pyroscope-io/pyroscope",6495,364]
[4881,null,null,"erikflowers/weather-icons","https://github.com/erikflowers/weather-icons",6494,824]
[4882,null,null,"Squirrel/Squirrel.Windows","https://github.com/Squirrel/Squirrel.Windows",6493,1003]
[4883,null,null,"Meituan-Dianping/walle","https://github.com/Meituan-Dianping/walle",6489,1025]
[4884,null,null,"fenixsoft/awesome-fenix","https://github.com/fenixsoft/awesome-fenix",6489,777]
[4885,null,null,"tensorflow/examples","https://github.com/tensorflow/examples",6490,6656]
[4886,null,null,"elasticsearch-dump/elasticsearch-dump","https://github.com/elasticsearch-dump/elasticsearch-dump",6487,788]
[4887,null,null,"simplezhli/flutter_deer","https://github.com/simplezhli/flutter_deer",6490,1387]
[4888,null,null,"Wind4/vlmcsd","https://github.com/Wind4/vlmcsd",6487,1862]
[4889,null,null,"blueedgetechno/win11React","https://github.com/blueedgetechno/win11React",6490,378]
[4890,null,null,"360Controller/360Controller","https://github.com/360Controller/360Controller",6482,507]
[4891,null,null,"listen1/listen1_desktop","https://github.com/listen1/listen1_desktop",6483,1155]
[4892,null,null,"hwayne/awesome-cold-showers","https://github.com/hwayne/awesome-cold-showers",6478,74]
[4893,null,null,"s3fs-fuse/s3fs-fuse","https://github.com/s3fs-fuse/s3fs-fuse",6479,894]
[4894,null,null,"lhartikk/ArnoldC","https://github.com/lhartikk/ArnoldC",6477,297]
[4895,null,null,"zo0r/react-native-push-notification","https://github.com/zo0r/react-native-push-notification",6477,1961]
[4896,null,null,"sghall/react-move","https://github.com/sghall/react-move",6476,211]
[4897,null,null,"boto/boto","https://github.com/boto/boto",6476,2329]
[4898,null,null,"CocoaPods/Specs","https://github.com/CocoaPods/Specs",6477,9066]
[4899,null,null,"jverkoey/nimbus","https://github.com/jverkoey/nimbus",6475,1323]
[4900,null,null,"TerryCavanagh/VVVVVV","https://github.com/TerryCavanagh/VVVVVV",6475,513]
[4901,null,null,"caronc/apprise","https://github.com/caronc/apprise",6474,236]
[4902,null,null,"the-benchmarker/web-frameworks","https://github.com/the-benchmarker/web-frameworks",6469,575]
[4903,null,null,"vuelidate/vuelidate","https://github.com/vuelidate/vuelidate",6469,488]
[4904,null,null,"xianhu/LearnPython","https://github.com/xianhu/LearnPython",6470,3676]
[4905,null,null,"tkipf/gcn","https://github.com/tkipf/gcn",6469,1902]
[4906,null,null,"feross/simple-peer","https://github.com/feross/simple-peer",6468,945]
[4907,null,null,"imbushuo/mac-precision-touchpad","https://github.com/imbushuo/mac-precision-touchpad",6468,417]
[4908,null,null,"NorthwoodsSoftware/GoJS","https://github.com/NorthwoodsSoftware/GoJS",6465,2780]
[4909,null,null,"Porchetta-Industries/CrackMapExec","https://github.com/Porchetta-Industries/CrackMapExec",6466,1373]
[4910,null,null,"necolas/idiomatic-css","https://github.com/necolas/idiomatic-css",6463,638]
[4911,null,null,"sindresorhus/caprine","https://github.com/sindresorhus/caprine",6462,570]
[4912,null,null,"katspaugh/wavesurfer.js","https://github.com/katspaugh/wavesurfer.js",6459,1361]
[4913,null,null,"flask-restful/flask-restful","https://github.com/flask-restful/flask-restful",6458,1012]
[4914,null,null,"vmware/clarity","https://github.com/vmware/clarity",6457,761]
[4915,null,null,"vitalets/x-editable","https://github.com/vitalets/x-editable",6457,1741]
[4916,null,null,"olive-editor/olive","https://github.com/olive-editor/olive",6457,459]
[4917,null,null,"RomuloOliveira/commit-messages-guide","https://github.com/RomuloOliveira/commit-messages-guide",6456,334]
[4918,null,null,"owncast/owncast","https://github.com/owncast/owncast",6457,489]
[4919,null,null,"Richasy/Bili.Uwp","https://github.com/Richasy/Bili.Uwp",6457,433]
[4920,null,null,"1j01/jspaint","https://github.com/1j01/jspaint",6455,486]
[4921,null,null,"MVIG-SJTU/AlphaPose","https://github.com/MVIG-SJTU/AlphaPose",6454,1776]
[4922,null,null,"facebookarchive/fbctf","https://github.com/facebookarchive/fbctf",6453,1363]
[4923,null,null,"Unleash/unleash","https://github.com/Unleash/unleash",6457,435]
[4924,null,null,"IFTTT/JazzHands","https://github.com/IFTTT/JazzHands",6450,693]
[4925,null,null,"albertlauncher/albert","https://github.com/albertlauncher/albert",6451,278]
[4926,null,null,"yuantiku/YTKNetwork","https://github.com/yuantiku/YTKNetwork",6449,1669]
[4927,null,null,"cisco/ChezScheme","https://github.com/cisco/ChezScheme",6446,959]
[4928,null,null,"dataarts/dat.gui","https://github.com/dataarts/dat.gui",6444,1060]
[4929,null,null,"sebastianbergmann/exporter","https://github.com/sebastianbergmann/exporter",6442,31]
[4930,null,null,"jorgef/engineeringladders","https://github.com/jorgef/engineeringladders",6442,382]
[4931,null,null,"EleutherAI/gpt-neo","https://github.com/EleutherAI/gpt-neo",6443,553]
[4932,null,null,"php-pm/php-pm","https://github.com/php-pm/php-pm",6441,377]
[4933,null,null,"ElectronNET/Electron.NET","https://github.com/ElectronNET/Electron.NET",6441,656]
[4934,null,null,"markzhai/AndroidPerformanceMonitor","https://github.com/markzhai/AndroidPerformanceMonitor",6440,999]
[4935,null,null,"centrifugal/centrifugo","https://github.com/centrifugal/centrifugo",6438,506]
[4936,null,null,"jackocnr/intl-tel-input","https://github.com/jackocnr/intl-tel-input",6439,1799]
[4937,null,null,"jgraph/mxgraph","https://github.com/jgraph/mxgraph",6437,1865]
[4938,null,null,"adonovan/gopl.io","https://github.com/adonovan/gopl.io",6434,2513]
[4939,null,null,"andreafabrizi/Dropbox-Uploader","https://github.com/andreafabrizi/Dropbox-Uploader",6430,1087]
[4940,null,null,"bytedance/IconPark","https://github.com/bytedance/IconPark",6429,384]
[4941,null,null,"googlecreativelab/anypixel","https://github.com/googlecreativelab/anypixel",6429,533]
[4942,null,null,"kyleconroy/sqlc","https://github.com/kyleconroy/sqlc",6431,441]
[4943,null,null,"moyix/fauxpilot","https://github.com/moyix/fauxpilot",6427,255]
[4944,null,null,"joeycastillo/The-Open-Book","https://github.com/joeycastillo/The-Open-Book",6428,195]
[4945,null,null,"lijin-THU/notes-python","https://github.com/lijin-THU/notes-python",6426,2910]
[4946,null,null,"tc39/proposal-pipeline-operator","https://github.com/tc39/proposal-pipeline-operator",6424,104]
[4947,null,null,"altercation/vim-colors-solarized","https://github.com/altercation/vim-colors-solarized",6424,1786]
[4948,null,null,"baconjs/bacon.js","https://github.com/baconjs/bacon.js",6422,339]
[4949,null,null,"crater-invoice/crater","https://github.com/crater-invoice/crater",6424,1225]
[4950,null,null,"norvig/paip-lisp","https://github.com/norvig/paip-lisp",6422,657]
[4951,null,null,"golang/tools","https://github.com/golang/tools",6420,2088]
[4952,null,null,"PostgresApp/PostgresApp","https://github.com/PostgresApp/PostgresApp",6421,365]
[4953,null,null,"Spotifyd/spotifyd","https://github.com/Spotifyd/spotifyd",6417,366]
[4954,null,null,"NanoHttpd/nanohttpd","https://github.com/NanoHttpd/nanohttpd",6416,1664]
[4955,null,null,"P1xt/p1xt-guides","https://github.com/P1xt/p1xt-guides",6414,1703]
[4956,null,null,"shenweichen/DeepCTR","https://github.com/shenweichen/DeepCTR",6416,1983]
[4957,null,null,"hashicorp/raft","https://github.com/hashicorp/raft",6416,830]
[4958,null,null,"jiaaro/pydub","https://github.com/jiaaro/pydub",6411,862]
[4959,null,null,"onsi/ginkgo","https://github.com/onsi/ginkgo",6410,572]
[4960,null,null,"i18next/i18next","https://github.com/i18next/i18next",6410,590]
[4961,null,null,"auduno/clmtrackr","https://github.com/auduno/clmtrackr",6407,1187]
[4962,null,null,"mdn/content","https://github.com/mdn/content",6407,12146]
[4963,null,null,"npm/cli","https://github.com/npm/cli",6410,2085]
[4964,null,null,"hyperopt/hyperopt","https://github.com/hyperopt/hyperopt",6406,995]
[4965,null,null,"blackmatrix7/ios_rule_script","https://github.com/blackmatrix7/ios_rule_script",6407,1256]
[4966,null,null,"sebastianbergmann/environment","https://github.com/sebastianbergmann/environment",6402,31]
[4967,null,null,"oldratlee/translations","https://github.com/oldratlee/translations",6401,1556]
[4968,null,null,"simeji/jid","https://github.com/simeji/jid",6400,150]
[4969,null,null,"oz123/awesome-c","https://github.com/oz123/awesome-c",6401,685]
[4970,null,null,"yzhao062/anomaly-detection-resources","https://github.com/yzhao062/anomaly-detection-resources",6399,1532]
[4971,null,null,"mixmark-io/turndown","https://github.com/mixmark-io/turndown",6400,739]
[4972,null,null,"GrenderG/Toasty","https://github.com/GrenderG/Toasty",6399,812]
[4973,null,null,"ehazlett/shipyard","https://github.com/ehazlett/shipyard",6398,928]
[4974,null,null,"pocoproject/poco","https://github.com/pocoproject/poco",6397,1857]
[4975,null,null,"HashLips/hashlips_art_engine","https://github.com/HashLips/hashlips_art_engine",6395,3894]
[4976,null,null,"datahub-project/datahub","https://github.com/datahub-project/datahub",6393,1789]
[4977,null,null,"PHPOffice/PHPWord","https://github.com/PHPOffice/PHPWord",6391,2505]
[4978,null,null,"benbusby/whoogle-search","https://github.com/benbusby/whoogle-search",6388,697]
[4979,null,null,"ashishb/android-security-awesome","https://github.com/ashishb/android-security-awesome",6388,1377]
[4980,null,null,"WebpageFX/emoji-cheat-sheet.com","https://github.com/WebpageFX/emoji-cheat-sheet.com",6388,1603]
[4981,null,null,"rancher/os","https://github.com/rancher/os",6388,680]
[4982,null,null,"amoffat/sh","https://github.com/amoffat/sh",6387,472]
[4983,null,null,"p-e-w/maybe","https://github.com/p-e-w/maybe",6384,177]
[4984,null,null,"yocontra/react-responsive","https://github.com/yocontra/react-responsive",6383,311]
[4985,null,null,"unifyai/ivy","https://github.com/unifyai/ivy",6389,1907]
[4986,null,null,"dbohdan/structured-text-tools","https://github.com/dbohdan/structured-text-tools",6382,233]
[4987,null,null,"gruntwork-io/terratest","https://github.com/gruntwork-io/terratest",6383,1137]
[4988,null,null,"twbs/icons","https://github.com/twbs/icons",6382,936]
[4989,null,null,"dnoegel/php-xdg-base-dir","https://github.com/dnoegel/php-xdg-base-dir",6380,11]
[4990,null,null,"File-New-Project/EarTrumpet","https://github.com/File-New-Project/EarTrumpet",6383,437]
[4991,null,null,"zendesk/android-floating-action-button","https://github.com/zendesk/android-floating-action-button",6380,1491]
[4992,null,null,"testcontainers/testcontainers-java","https://github.com/testcontainers/testcontainers-java",6380,1271]
[4993,null,null,"dgkanatsios/CKAD-exercises","https://github.com/dgkanatsios/CKAD-exercises",6380,4701]
[4994,null,null,"rossant/awesome-math","https://github.com/rossant/awesome-math",6378,821]
[4995,null,null,"paralax/awesome-honeypots","https://github.com/paralax/awesome-honeypots",6375,1088]
[4996,null,null,"zhangqianhui/AdversarialNetsPapers","https://github.com/zhangqianhui/AdversarialNetsPapers",6374,1984]
[4997,null,null,"paper-trail-gem/paper_trail","https://github.com/paper-trail-gem/paper_trail",6371,863]
[4998,null,null,"pytorch/tutorials","https://github.com/pytorch/tutorials",6371,3483]
[4999,null,null,"jerryscript-project/jerryscript","https://github.com/jerryscript-project/jerryscript",6370,649]
[5000,null,null,"node-formidable/formidable","https://github.com/node-formidable/formidable",6368,675]
[5001,null,null,"ange-yaghi/engine-sim","https://github.com/ange-yaghi/engine-sim",6375,577]
[5002,null,null,"juliocesarfort/public-pentesting-reports","https://github.com/juliocesarfort/public-pentesting-reports",6366,1582]
[5003,null,null,"MacPass/MacPass","https://github.com/MacPass/MacPass",6367,455]
[5004,null,null,"cupy/cupy","https://github.com/cupy/cupy",6363,633]
[5005,null,null,"n64decomp/sm64","https://github.com/n64decomp/sm64",6364,1110]
[5006,null,null,"jackfrued/Python-Core-50-Courses","https://github.com/jackfrued/Python-Core-50-Courses",6365,1932]
[5007,null,null,"facebookresearch/hydra","https://github.com/facebookresearch/hydra",6361,501]
[5008,null,null,"total-typescript/beginners-typescript-tutorial","https://github.com/total-typescript/beginners-typescript-tutorial",6383,624]
[5009,null,null,"graphql/express-graphql","https://github.com/graphql/express-graphql",6358,593]
[5010,null,null,"securego/gosec","https://github.com/securego/gosec",6358,500]
[5011,null,null,"mcollina/autocannon","https://github.com/mcollina/autocannon",6357,304]
[5012,null,null,"anderspitman/awesome-tunneling","https://github.com/anderspitman/awesome-tunneling",6360,290]
[5013,null,null,"ckeditor/ckeditor5","https://github.com/ckeditor/ckeditor5",6356,3117]
[5014,null,null,"abiosoft/colima","https://github.com/abiosoft/colima",6361,149]
[5015,null,null,"tokyo-metropolitan-gov/covid19","https://github.com/tokyo-metropolitan-gov/covid19",6353,2072]
[5016,null,null,"karatelabs/karate","https://github.com/karatelabs/karate",6353,1633]
[5017,null,null,"pycaret/pycaret","https://github.com/pycaret/pycaret",6353,1456]
[5018,null,null,"drwetter/testssl.sh","https://github.com/drwetter/testssl.sh",6353,867]
[5019,null,null,"xtyxtyx/sorry","https://github.com/xtyxtyx/sorry",6352,793]
[5020,null,null,"vinc3m1/RoundedImageView","https://github.com/vinc3m1/RoundedImageView",6351,1256]
[5021,null,null,"tokio-rs/axum","https://github.com/tokio-rs/axum",6352,464]
[5022,null,null,"vanilla-extract-css/vanilla-extract","https://github.com/vanilla-extract-css/vanilla-extract",6352,168]
[5023,null,null,"amueller/introduction_to_ml_with_python","https://github.com/amueller/introduction_to_ml_with_python",6350,4118]
[5024,null,null,"GoogleCloudPlatform/training-data-analyst","https://github.com/GoogleCloudPlatform/training-data-analyst",6351,5077]
[5025,null,null,"alteryx/featuretools","https://github.com/alteryx/featuretools",6349,834]
[5026,null,null,"tycrek/degoogle","https://github.com/tycrek/degoogle",6349,304]
[5027,null,null,"xonsh/xonsh","https://github.com/xonsh/xonsh",6353,582]
[5028,null,null,"facebookresearch/pytext","https://github.com/facebookresearch/pytext",6348,820]
[5029,null,null,"SerpentAI/SerpentAI","https://github.com/SerpentAI/SerpentAI",6347,751]
[5030,null,null,"yenchenlin/DeepLearningFlappyBird","https://github.com/yenchenlin/DeepLearningFlappyBird",6347,2022]
[5031,null,null,"wurstmeister/kafka-docker","https://github.com/wurstmeister/kafka-docker",6348,2671]
[5032,null,null,"GoAdminGroup/go-admin","https://github.com/GoAdminGroup/go-admin",6345,1093]
[5033,null,null,"sebastianbergmann/code-unit-reverse-lookup","https://github.com/sebastianbergmann/code-unit-reverse-lookup",6345,5]
[5034,null,null,"linkedin/css-blocks","https://github.com/linkedin/css-blocks",6343,158]
[5035,null,null,"Clipy/Clipy","https://github.com/Clipy/Clipy",6340,525]
[5036,null,null,"sunface/rust-by-practice","https://github.com/sunface/rust-by-practice",6345,370]
[5037,null,null,"bmatzelle/gow","https://github.com/bmatzelle/gow",6340,359]
[5038,null,null,"lebinh/ngxtop","https://github.com/lebinh/ngxtop",6340,477]
[5039,null,null,"purcell/emacs.d","https://github.com/purcell/emacs.d",6339,2007]
[5040,null,null,"symfony/translation","https://github.com/symfony/translation",6336,77]
[5041,null,null,"StackExchange/blackbox","https://github.com/StackExchange/blackbox",6336,361]
[5042,null,null,"Juanpe/About-SwiftUI","https://github.com/Juanpe/About-SwiftUI",6336,628]
[5043,null,null,"ramboxapp/community-edition","https://github.com/ramboxapp/community-edition",6334,820]
[5044,null,null,"gitalk/gitalk","https://github.com/gitalk/gitalk",6334,608]
[5045,null,null,"DataTalksClub/data-engineering-zoomcamp","https://github.com/DataTalksClub/data-engineering-zoomcamp",6336,1547]
[5046,null,null,"heroiclabs/nakama","https://github.com/heroiclabs/nakama",6333,795]
[5047,null,null,"daviddao/awful-ai","https://github.com/daviddao/awful-ai",6334,216]
[5048,null,null,"machyve/xhyve","https://github.com/machyve/xhyve",6331,358]
[5049,null,null,"Famous/famous","https://github.com/Famous/famous",6331,733]
[5050,null,null,"TalAter/annyang","https://github.com/TalAter/annyang",6329,1070]
[5051,null,null,"itchyny/lightline.vim","https://github.com/itchyny/lightline.vim",6331,316]
[5052,null,null,"robinhood/faust","https://github.com/robinhood/faust",6330,543]
[5053,null,null,"vaxilu/x-ui","https://github.com/vaxilu/x-ui",6342,2931]
[5054,null,null,"stitchesjs/stitches","https://github.com/stitchesjs/stitches",6329,185]
[5055,null,null,"zouzg/mybatis-generator-gui","https://github.com/zouzg/mybatis-generator-gui",6325,2446]
[5056,null,null,"facebookresearch/DensePose","https://github.com/facebookresearch/DensePose",6325,1254]
[5057,null,null,"Huxpro/huxpro.github.io","https://github.com/Huxpro/huxpro.github.io",6324,4228]
[5058,null,null,"Kenshin/simpread","https://github.com/Kenshin/simpread",6328,471]
[5059,null,null,"jwilber/roughViz","https://github.com/jwilber/roughViz",6325,205]
[5060,null,null,"react-native-svg/react-native-svg","https://github.com/react-native-svg/react-native-svg",6324,934]
[5061,null,null,"react-native-video/react-native-video","https://github.com/react-native-video/react-native-video",6322,2586]
[5062,null,null,"DIYgod/APlayer","https://github.com/DIYgod/APlayer",6318,971]
[5063,null,null,"statping/statping","https://github.com/statping/statping",6317,514]
[5064,null,null,"stanfordnlp/stanza","https://github.com/stanfordnlp/stanza",6317,820]
[5065,null,null,"miloyip/json-tutorial","https://github.com/miloyip/json-tutorial",6317,3801]
[5066,null,null,"lightningnetwork/lnd","https://github.com/lightningnetwork/lnd",6316,1779]
[5067,null,null,"ryanb/cancan","https://github.com/ryanb/cancan",6307,807]
[5068,null,null,"wmjordan/PDFPatcher","https://github.com/wmjordan/PDFPatcher",6308,1049]
[5069,null,null,"magicmonty/bash-git-prompt","https://github.com/magicmonty/bash-git-prompt",6305,936]
[5070,null,null,"NobyDa/Script","https://github.com/NobyDa/Script",6305,3300]
[5071,null,null,"arkenfox/user.js","https://github.com/arkenfox/user.js",6303,404]
[5072,null,null,"techfort/LokiJS","https://github.com/techfort/LokiJS",6302,484]
[5073,null,null,"0nn0/terminal-mac-cheatsheet","https://github.com/0nn0/terminal-mac-cheatsheet",6301,1771]
[5074,null,null,"koush/ion","https://github.com/koush/ion",6301,1063]
[5075,null,null,"semver/semver","https://github.com/semver/semver",6299,755]
[5076,null,null,"rui314/chibicc","https://github.com/rui314/chibicc",6300,584]
[5077,null,null,"sindresorhus/Gifski","https://github.com/sindresorhus/Gifski",6300,248]
[5078,null,null,"seanmonstar/reqwest","https://github.com/seanmonstar/reqwest",6301,718]
[5079,null,null,"numenta/nupic","https://github.com/numenta/nupic",6297,1575]
[5080,null,null,"firmai/industry-machine-learning","https://github.com/firmai/industry-machine-learning",6296,1052]
[5081,null,null,"autowarefoundation/autoware","https://github.com/autowarefoundation/autoware",6294,2266]
[5082,null,null,"fmfn/BayesianOptimization","https://github.com/fmfn/BayesianOptimization",6293,1367]
[5083,null,null,"wojtekmaj/react-pdf","https://github.com/wojtekmaj/react-pdf",6295,655]
[5084,null,null,"Freeboard/freeboard","https://github.com/Freeboard/freeboard",6292,1203]
[5085,null,null,"IntelRealSense/librealsense","https://github.com/IntelRealSense/librealsense",6293,4440]
[5086,null,null,"bookshelf/bookshelf","https://github.com/bookshelf/bookshelf",6292,583]
[5087,null,null,"zfile-dev/zfile","https://github.com/zfile-dev/zfile",6288,1341]
[5088,null,null,"detailyang/awesome-cheatsheet","https://github.com/detailyang/awesome-cheatsheet",6284,992]
[5089,null,null,"paritytech/polkadot","https://github.com/paritytech/polkadot",6286,1392]
[5090,null,null,"spacejam/sled","https://github.com/spacejam/sled",6282,311]
[5091,null,null,"cpp-best-practices/cppbestpractices","https://github.com/cpp-best-practices/cppbestpractices",6280,734]
[5092,null,null,"oldratlee/useful-scripts","https://github.com/oldratlee/useful-scripts",6280,2610]
[5093,null,null,"ben-rogerson/twin.macro","https://github.com/ben-rogerson/twin.macro",6282,154]
[5094,null,null,"romannurik/AndroidAssetStudio","https://github.com/romannurik/AndroidAssetStudio",6279,1387]
[5095,null,null,"rubocop/rails-style-guide","https://github.com/rubocop/rails-style-guide",6279,1053]
[5096,null,null,"thedevs-network/kutt","https://github.com/thedevs-network/kutt",6279,750]
[5097,null,null,"LawnchairLauncher/lawnchair","https://github.com/LawnchairLauncher/lawnchair",6283,910]
[5098,null,null,"ufoym/deepo","https://github.com/ufoym/deepo",6277,772]
[5099,null,null,"SeleniumHQ/docker-selenium","https://github.com/SeleniumHQ/docker-selenium",6278,2213]
[5100,null,null,"jazzband/pip-tools","https://github.com/jazzband/pip-tools",6276,533]
[5101,null,null,"bchavez/Bogus","https://github.com/bchavez/Bogus",6276,379]
[5102,null,null,"waydabber/BetterDisplay","https://github.com/waydabber/BetterDisplay",6281,161]
[5103,null,null,"Vay-keen/Machine-learning-learning-notes","https://github.com/Vay-keen/Machine-learning-learning-notes",6275,1775]
[5104,null,null,"maxogden/menubar","https://github.com/maxogden/menubar",6274,381]
[5105,null,null,"hirak/prestissimo","https://github.com/hirak/prestissimo",6272,177]
[5106,null,null,"twowaits/SDE-Interview-Questions","https://github.com/twowaits/SDE-Interview-Questions",6271,1901]
[5107,null,null,"mozilla/TTS","https://github.com/mozilla/TTS",6270,984]
[5108,null,null,"bda-research/node-crawler","https://github.com/bda-research/node-crawler",6267,878]
[5109,null,null,"wercker/stern","https://github.com/wercker/stern",6265,435]
[5110,null,null,"kangvcar/InfoSpider","https://github.com/kangvcar/InfoSpider",6264,1340]
[5111,null,null,"rastapasta/mapscii","https://github.com/rastapasta/mapscii",6264,214]
[5112,null,null,"Graylog2/graylog2-server","https://github.com/Graylog2/graylog2-server",6262,980]
[5113,null,null,"marshmallow-code/marshmallow","https://github.com/marshmallow-code/marshmallow",6262,616]
[5114,null,null,"yeasy/blockchain_guide","https://github.com/yeasy/blockchain_guide",6260,1902]
[5115,null,null,"TalkingData/iview-weapp","https://github.com/TalkingData/iview-weapp",6256,1160]
[5116,null,null,"vercel/commerce","https://github.com/vercel/commerce",6256,2155]
[5117,null,null,"DouyinFE/semi-design","https://github.com/DouyinFE/semi-design",6255,485]
[5118,null,null,"mozilla-mobile/fenix","https://github.com/mozilla-mobile/fenix",6254,1213]
[5119,null,null,"projectdiscovery/subfinder","https://github.com/projectdiscovery/subfinder",6253,897]
[5120,null,null,"MysteryVaibhav/leetcode_company_wise_questions","https://github.com/MysteryVaibhav/leetcode_company_wise_questions",6253,2328]
[5121,null,null,"dylang/npm-check","https://github.com/dylang/npm-check",6253,266]
[5122,null,null,"processing/processing","https://github.com/processing/processing",6252,1533]
[5123,null,null,"egametang/ET","https://github.com/egametang/ET",6253,2357]
[5124,null,null,"voidcosmos/npkill","https://github.com/voidcosmos/npkill",6253,157]
[5125,null,null,"microsoft/winfile","https://github.com/microsoft/winfile",6252,677]
[5126,null,null,"phuocng/1loc","https://github.com/phuocng/1loc",6249,490]
[5127,null,null,"JakubOnderka/PHP-Console-Highlighter","https://github.com/JakubOnderka/PHP-Console-Highlighter",6248,22]
[5128,null,null,"dragen1860/TensorFlow-2.x-Tutorials","https://github.com/dragen1860/TensorFlow-2.x-Tutorials",6248,2229]
[5129,null,null,"Rem0o/FanControl.Releases","https://github.com/Rem0o/FanControl.Releases",6253,231]
[5130,null,null,"ValveSoftware/GameNetworkingSockets","https://github.com/ValveSoftware/GameNetworkingSockets",6246,464]
[5131,null,null,"PowerShell/Win32-OpenSSH","https://github.com/PowerShell/Win32-OpenSSH",6246,692]
[5132,null,null,"stevenjoezhang/live2d-widget","https://github.com/stevenjoezhang/live2d-widget",6246,1985]
[5133,null,null,"yzhao062/pyod","https://github.com/yzhao062/pyod",6244,1178]
[5134,null,null,"uswds/uswds","https://github.com/uswds/uswds",6241,917]
[5135,null,null,"edenhill/librdkafka","https://github.com/edenhill/librdkafka",6243,2842]
[5136,null,null,"sebastianbergmann/global-state","https://github.com/sebastianbergmann/global-state",6241,18]
[5137,null,null,"guardianproject/haven","https://github.com/guardianproject/haven",6239,741]
[5138,null,null,"newsapps/beeswithmachineguns","https://github.com/newsapps/beeswithmachineguns",6239,664]
[5139,null,null,"HypothesisWorks/hypothesis","https://github.com/HypothesisWorks/hypothesis",6237,527]
[5140,null,null,"msgpack/msgpack","https://github.com/msgpack/msgpack",6237,511]
[5141,null,null,"athensresearch/athens","https://github.com/athensresearch/athens",6236,370]
[5142,null,null,"tensorpack/tensorpack","https://github.com/tensorpack/tensorpack",6234,1842]
[5143,null,null,"Twipped/InterviewThis","https://github.com/Twipped/InterviewThis",6235,394]
[5144,null,null,"hjacobs/kubernetes-failure-stories","https://github.com/hjacobs/kubernetes-failure-stories",6233,306]
[5145,null,null,"gorse-io/gorse","https://github.com/gorse-io/gorse",6233,544]
[5146,null,null,"Cocoanetics/DTCoreText","https://github.com/Cocoanetics/DTCoreText",6233,1190]
[5147,null,null,"tictail/bounce.js","https://github.com/tictail/bounce.js",6232,444]
[5148,null,null,"jaredreich/notie","https://github.com/jaredreich/notie",6232,403]
[5149,null,null,"yezihaohao/react-admin","https://github.com/yezihaohao/react-admin",6230,1816]
[5150,null,null,"fex-team/ueditor","https://github.com/fex-team/ueditor",6229,2367]
[5151,null,null,"JakubOnderka/PHP-Console-Color","https://github.com/JakubOnderka/PHP-Console-Color",6226,29]
[5152,null,null,"qgis/QGIS","https://github.com/qgis/QGIS",6227,2400]
[5153,null,null,"stubbornella/oocss","https://github.com/stubbornella/oocss",6226,741]
[5154,null,null,"sebastianbergmann/version","https://github.com/sebastianbergmann/version",6224,29]
[5155,null,null,"Jack-Cherish/PythonPark","https://github.com/Jack-Cherish/PythonPark",6227,1160]
[5156,null,null,"nswbmw/node-in-debugging","https://github.com/nswbmw/node-in-debugging",6224,800]
[5157,null,null,"PaddlePaddle/Paddle-Lite","https://github.com/PaddlePaddle/Paddle-Lite",6224,1503]
[5158,null,null,"swisspol/GCDWebServer","https://github.com/swisspol/GCDWebServer",6223,1153]
[5159,null,null,"vk-com/kphp-kdb","https://github.com/vk-com/kphp-kdb",6222,217]
[5160,null,null,"snowplow/snowplow","https://github.com/snowplow/snowplow",6221,1206]
[5161,null,null,"ariakit/ariakit","https://github.com/ariakit/ariakit",6222,334]
[5162,null,null,"sebastianbergmann/recursion-context","https://github.com/sebastianbergmann/recursion-context",6220,15]
[5163,null,null,"rust-unofficial/patterns","https://github.com/rust-unofficial/patterns",6220,277]
[5164,null,null,"timvisee/ffsend","https://github.com/timvisee/ffsend",6219,152]
[5165,null,null,"square/crossfilter","https://github.com/square/crossfilter",6217,1352]
[5166,null,null,"noodlewerk/NWPusher","https://github.com/noodlewerk/NWPusher",6216,683]
[5167,null,null,"htr-tech/zphisher","https://github.com/htr-tech/zphisher",6215,2275]
[5168,null,null,"beanstalkd/beanstalkd","https://github.com/beanstalkd/beanstalkd",6214,865]
[5169,null,null,"shentao/vue-multiselect","https://github.com/shentao/vue-multiselect",6214,945]
[5170,null,null,"jenssegers/laravel-mongodb","https://github.com/jenssegers/laravel-mongodb",6212,1335]
[5171,null,null,"gruntwork-io/terragrunt","https://github.com/gruntwork-io/terragrunt",6212,793]
[5172,null,null,"stefan-jansen/machine-learning-for-trading","https://github.com/stefan-jansen/machine-learning-for-trading",6209,2500]
[5173,null,null,"poloclub/cnn-explainer","https://github.com/poloclub/cnn-explainer",6206,986]
[5174,null,null,"phpmyadmin/phpmyadmin","https://github.com/phpmyadmin/phpmyadmin",6203,3210]
[5175,null,null,"johnezang/JSONKit","https://github.com/johnezang/JSONKit",6203,1701]
[5176,null,null,"rse/es6-features","https://github.com/rse/es6-features",6203,1137]
[5177,null,null,"lxn/walk","https://github.com/lxn/walk",6202,842]
[5178,null,null,"NLPchina/ansj_seg","https://github.com/NLPchina/ansj_seg",6202,2331]
[5179,null,null,"conan-io/conan","https://github.com/conan-io/conan",6204,795]
[5180,null,null,"kristopolous/BOOTSTRA.386","https://github.com/kristopolous/BOOTSTRA.386",6200,312]
[5181,null,null,"eastlakeside/interpy-zh","https://github.com/eastlakeside/interpy-zh",6197,1350]
[5182,null,null,"google/sentencepiece","https://github.com/google/sentencepiece",6196,840]
[5183,null,null,"geerlingguy/ansible-for-devops","https://github.com/geerlingguy/ansible-for-devops",6200,2585]
[5184,null,null,"devicons/devicon","https://github.com/devicons/devicon",6195,1606]
[5185,null,null,"bytedeco/javacv","https://github.com/bytedeco/javacv",6195,1461]
[5186,null,null,"mozilla/geckodriver","https://github.com/mozilla/geckodriver",6196,1493]
[5187,null,null,"hakluke/how-to-exit-vim","https://github.com/hakluke/how-to-exit-vim",6193,299]
[5188,null,null,"alibaba/flutter_boost","https://github.com/alibaba/flutter_boost",6193,1099]
[5189,null,null,"belluzj/fantasque-sans","https://github.com/belluzj/fantasque-sans",6190,152]
[5190,null,null,"2d-inc/HistoryOfEverything","https://github.com/2d-inc/HistoryOfEverything",6185,954]
[5191,null,null,"gruns/icecream","https://github.com/gruns/icecream",6184,125]
[5192,null,null,"cartographer-project/cartographer","https://github.com/cartographer-project/cartographer",6185,2097]
[5193,null,null,"microsoft/WinObjC","https://github.com/microsoft/WinObjC",6183,844]
[5194,null,null,"jquery/sizzle","https://github.com/jquery/sizzle",6182,982]
[5195,null,null,"jtleek/datasharing","https://github.com/jtleek/datasharing",6182,241773]
[5196,null,null,"LappleApple/awesome-leading-and-managing","https://github.com/LappleApple/awesome-leading-and-managing",6181,526]
[5197,null,null,"garris/BackstopJS","https://github.com/garris/BackstopJS",6181,573]
[5198,null,null,"haoel/haoel.github.io","https://github.com/haoel/haoel.github.io",6180,1025]
[5199,null,null,"nisrulz/flutter-examples","https://github.com/nisrulz/flutter-examples",6180,1582]
[5200,null,null,"qubvel/segmentation_models.pytorch","https://github.com/qubvel/segmentation_models.pytorch",6181,1236]
[5201,null,null,"pallets/werkzeug","https://github.com/pallets/werkzeug",6179,1646]
[5202,null,null,"medialize/URI.js","https://github.com/medialize/URI.js",6177,513]
[5203,null,null,"smuyyh/BookReader","https://github.com/smuyyh/BookReader",6174,1850]
[5204,null,null,"PeterL1n/RobustVideoMatting","https://github.com/PeterL1n/RobustVideoMatting",6173,797]
[5205,null,null,"mitchellh/mapstructure","https://github.com/mitchellh/mapstructure",6175,603]
[5206,null,null,"davecheney/httpstat","https://github.com/davecheney/httpstat",6172,374]
[5207,null,null,"kgretzky/evilginx2","https://github.com/kgretzky/evilginx2",6172,1235]
[5208,null,null,"xuebinqin/U-2-Net","https://github.com/xuebinqin/U-2-Net",6173,1129]
[5209,null,null,"bkeepers/dotenv","https://github.com/bkeepers/dotenv",6168,489]
[5210,null,null,"ArthurHub/Android-Image-Cropper","https://github.com/ArthurHub/Android-Image-Cropper",6167,1324]
[5211,null,null,"khuedoan/homelab","https://github.com/khuedoan/homelab",6170,433]
[5212,null,null,"mamedev/mame","https://github.com/mamedev/mame",6167,1651]
[5213,null,null,"LittleFriendsGroup/AndroidSdkSourceAnalysis","https://github.com/LittleFriendsGroup/AndroidSdkSourceAnalysis",6165,1488]
[5214,null,null,"LiuBoyu/blockchain","https://github.com/LiuBoyu/blockchain",6163,1522]
[5215,null,null,"real-logic/aeron","https://github.com/real-logic/aeron",6163,769]
[5216,null,null,"prerender/prerender","https://github.com/prerender/prerender",6163,913]
[5217,null,null,"jspreadsheet/ce","https://github.com/jspreadsheet/ce",6160,734]
[5218,null,null,"thephpleague/oauth2-server","https://github.com/thephpleague/oauth2-server",6158,1092]
[5219,null,null,"hak5darren/USB-Rubber-Ducky","https://github.com/hak5darren/USB-Rubber-Ducky",6157,1710]
[5220,null,null,"andreasbm/web-skills","https://github.com/andreasbm/web-skills",6156,612]
[5221,null,null,"OrchardCMS/OrchardCore","https://github.com/OrchardCMS/OrchardCore",6150,2061]
[5222,null,null,"flutter/engine","https://github.com/flutter/engine",6149,4773]
[5223,null,null,"pppscn/SmsForwarder","https://github.com/pppscn/SmsForwarder",6148,921]
[5224,null,null,"ianstormtaylor/superstruct","https://github.com/ianstormtaylor/superstruct",6147,209]
[5225,null,null,"maxbbraun/trump2cash","https://github.com/maxbbraun/trump2cash",6146,866]
[5226,null,null,"kif-framework/KIF","https://github.com/kif-framework/KIF",6144,911]
[5227,null,null,"sdc-alibaba/SUI-Mobile","https://github.com/sdc-alibaba/SUI-Mobile",6144,1580]
[5228,null,null,"ikew0ng/SwipeBackLayout","https://github.com/ikew0ng/SwipeBackLayout",6144,1438]
[5229,null,null,"platformio/platformio-core","https://github.com/platformio/platformio-core",6144,719]
[5230,null,null,"Zizaco/entrust","https://github.com/Zizaco/entrust",6141,1325]
[5231,null,null,"Hironsan/BossSensor","https://github.com/Hironsan/BossSensor",6141,1108]
[5232,null,null,"fruitcake/laravel-cors","https://github.com/fruitcake/laravel-cors",6141,615]
[5233,null,null,"LMMS/lmms","https://github.com/LMMS/lmms",6140,865]
[5234,null,null,"AI4Finance-Foundation/FinRL","https://github.com/AI4Finance-Foundation/FinRL",6138,1434]
[5235,null,null,"liftoff/GateOne","https://github.com/liftoff/GateOne",6136,956]
[5236,null,null,"guard/guard","https://github.com/guard/guard",6135,508]
[5237,null,null,"PaddlePaddle/PaddleGAN","https://github.com/PaddlePaddle/PaddleGAN",6135,1030]
[5238,null,null,"id-Software/Quake-III-Arena","https://github.com/id-Software/Quake-III-Arena",6135,1716]
[5239,null,null,"gsdios/SDCycleScrollView","https://github.com/gsdios/SDCycleScrollView",6133,1493]
[5240,null,null,"guodongxiaren/README","https://github.com/guodongxiaren/README",6132,7266]
[5241,null,null,"zhongsp/TypeScript","https://github.com/zhongsp/TypeScript",6132,1030]
[5242,null,null,"xenia-project/xenia","https://github.com/xenia-project/xenia",6132,886]
[5243,null,null,"Dimillian/MovieSwiftUI","https://github.com/Dimillian/MovieSwiftUI",6130,589]
[5244,null,null,"angular-fullstack/generator-angular-fullstack","https://github.com/angular-fullstack/generator-angular-fullstack",6127,1268]
[5245,null,null,"openedx/edx-platform","https://github.com/openedx/edx-platform",6127,3347]
[5246,null,null,"TypeStrong/typedoc","https://github.com/TypeStrong/typedoc",6126,621]
[5247,null,null,"kulshekhar/ts-jest","https://github.com/kulshekhar/ts-jest",6125,406]
[5248,null,null,"radix-ui/primitives","https://github.com/radix-ui/primitives",6126,229]
[5249,null,null,"betaflight/betaflight","https://github.com/betaflight/betaflight",6124,2362]
[5250,null,null,"awsdocs/aws-doc-sdk-examples","https://github.com/awsdocs/aws-doc-sdk-examples",6124,4231]
[5251,null,null,"kubernetes/autoscaler","https://github.com/kubernetes/autoscaler",6122,3052]
[5252,null,null,"taki0112/UGATIT","https://github.com/taki0112/UGATIT",6121,1056]
[5253,null,null,"angr/angr","https://github.com/angr/angr",6123,948]
[5254,null,null,"vt-vl-lab/3d-photo-inpainting","https://github.com/vt-vl-lab/3d-photo-inpainting",6121,980]
[5255,null,null,"spulec/moto","https://github.com/spulec/moto",6121,1720]
[5256,null,null,"ProseMirror/prosemirror","https://github.com/ProseMirror/prosemirror",6119,319]
[5257,null,null,"rengwuxian/MaterialEditText","https://github.com/rengwuxian/MaterialEditText",6118,1067]
[5258,null,null,"mgdm/htmlq","https://github.com/mgdm/htmlq",6118,87]
[5259,null,null,"flashlight/wav2letter","https://github.com/flashlight/wav2letter",6116,1017]
[5260,null,null,"serde-rs/serde","https://github.com/serde-rs/serde",6114,560]
[5261,null,null,"ctf-wiki/ctf-wiki","https://github.com/ctf-wiki/ctf-wiki",6114,1238]
[5262,null,null,"sullo/nikto","https://github.com/sullo/nikto",6113,969]
[5263,null,null,"lua/lua","https://github.com/lua/lua",6112,1297]
[5264,null,null,"ConsenSys/smart-contract-best-practices","https://github.com/ConsenSys/smart-contract-best-practices",6111,1183]
[5265,null,null,"jorgebucaran/fisher","https://github.com/jorgebucaran/fisher",6110,253]
[5266,null,null,"google/error-prone","https://github.com/google/error-prone",6109,690]
[5267,null,null,"jpbruinsslot/slack-term","https://github.com/jpbruinsslot/slack-term",6108,217]
[5268,null,null,"sandstorm-io/sandstorm","https://github.com/sandstorm-io/sandstorm",6108,712]
[5269,null,null,"drivendata/cookiecutter-data-science","https://github.com/drivendata/cookiecutter-data-science",6105,1959]
[5270,null,null,"electerious/Lychee","https://github.com/electerious/Lychee",6106,702]
[5271,null,null,"dataabc/weiboSpider","https://github.com/dataabc/weiboSpider",6104,1662]
[5272,null,null,"sebastianbergmann/object-enumerator","https://github.com/sebastianbergmann/object-enumerator",6102,8]
[5273,null,null,"scikit-learn-contrib/imbalanced-learn","https://github.com/scikit-learn-contrib/imbalanced-learn",6099,1207]
[5274,null,null,"twitchtv/twirp","https://github.com/twitchtv/twirp",6099,305]
[5275,null,null,"os-js/OS.js","https://github.com/os-js/OS.js",6098,779]
[5276,null,null,"flike/kingshard","https://github.com/flike/kingshard",6097,1186]
[5277,null,null,"samuelclay/NewsBlur","https://github.com/samuelclay/NewsBlur",6096,959]
[5278,null,null,"maaslalani/slides","https://github.com/maaslalani/slides",6096,172]
[5279,null,null,"burnash/gspread","https://github.com/burnash/gspread",6099,874]
[5280,null,null,"aws/aws-sam-cli","https://github.com/aws/aws-sam-cli",6096,1062]
[5281,null,null,"eternnoir/pyTelegramBotAPI","https://github.com/eternnoir/pyTelegramBotAPI",6093,1629]
[5282,null,null,"berty/berty","https://github.com/berty/berty",6095,282]
[5283,null,null,"nicklockwood/SwiftFormat","https://github.com/nicklockwood/SwiftFormat",6096,485]
[5284,null,null,"mimecorg/vuido","https://github.com/mimecorg/vuido",6093,251]
[5285,null,null,"nodejs/http-parser","https://github.com/nodejs/http-parser",6094,1518]
[5286,null,null,"redux-offline/redux-offline","https://github.com/redux-offline/redux-offline",6092,420]
[5287,null,null,"ecrmnn/collect.js","https://github.com/ecrmnn/collect.js",6092,317]
[5288,null,null,"Immediate-Mode-UI/Nuklear","https://github.com/Immediate-Mode-UI/Nuklear",6092,390]
[5289,null,null,"pentaho/pentaho-kettle","https://github.com/pentaho/pentaho-kettle",6091,3046]
[5290,null,null,"alexreisner/geocoder","https://github.com/alexreisner/geocoder",6091,1176]
[5291,null,null,"mikesprague/udacity-nanodegrees","https://github.com/mikesprague/udacity-nanodegrees",6088,2239]
[5292,null,null,"kallaway/100-days-of-code","https://github.com/kallaway/100-days-of-code",6089,11174]
[5293,null,null,"midwayjs/midway","https://github.com/midwayjs/midway",6089,439]
[5294,null,null,"wuhan2020/wuhan2020","https://github.com/wuhan2020/wuhan2020",6087,896]
[5295,null,null,"bizz84/SwiftyStoreKit","https://github.com/bizz84/SwiftyStoreKit",6086,731]
[5296,null,null,"slap-editor/slap","https://github.com/slap-editor/slap",6087,258]
[5297,null,null,"billryan/resume","https://github.com/billryan/resume",6087,2043]
[5298,null,null,"deis/deis","https://github.com/deis/deis",6086,831]
[5299,null,null,"venmo/synx","https://github.com/venmo/synx",6085,283]
[5300,null,null,"tensorflow/nmt","https://github.com/tensorflow/nmt",6083,1957]
[5301,null,null,"wsvincent/awesome-django","https://github.com/wsvincent/awesome-django",6086,953]
[5302,null,null,"Kaiyiwing/qwerty-learner","https://github.com/Kaiyiwing/qwerty-learner",6081,471]
[5303,null,null,"gonum/gonum","https://github.com/gonum/gonum",6082,475]
[5304,null,null,"whatwg/html","https://github.com/whatwg/html",6081,2270]
[5305,null,null,"luanfujun/deep-painterly-harmonization","https://github.com/luanfujun/deep-painterly-harmonization",6079,641]
[5306,null,null,"postmanlabs/newman","https://github.com/postmanlabs/newman",6080,1058]
[5307,null,null,"sindresorhus/query-string","https://github.com/sindresorhus/query-string",6079,434]
[5308,null,null,"sparkle-project/Sparkle","https://github.com/sparkle-project/Sparkle",6079,992]
[5309,null,null,"ducksboard/gridster.js","https://github.com/ducksboard/gridster.js",6077,1234]
[5310,null,null,"opf/openproject","https://github.com/opf/openproject",6081,1690]
[5311,null,null,"arslanbilal/git-cheat-sheet","https://github.com/arslanbilal/git-cheat-sheet",6077,1326]
[5312,null,null,"microsoft/winget-pkgs","https://github.com/microsoft/winget-pkgs",6078,2450]
[5313,null,null,"mattn/emmet-vim","https://github.com/mattn/emmet-vim",6076,412]
[5314,null,null,"andreamazz/AMScrollingNavbar","https://github.com/andreamazz/AMScrollingNavbar",6076,633]
[5315,null,null,"madd86/awesome-system-design","https://github.com/madd86/awesome-system-design",6075,543]
[5316,null,null,"go-ego/riot","https://github.com/go-ego/riot",6073,482]
[5317,null,null,"goproxy/goproxy.cn","https://github.com/goproxy/goproxy.cn",6074,360]
[5318,null,null,"basecamp/handbook","https://github.com/basecamp/handbook",6067,739]
[5319,null,null,"jmechner/Prince-of-Persia-Apple-II","https://github.com/jmechner/Prince-of-Persia-Apple-II",6067,649]
[5320,null,null,"telegraf/telegraf","https://github.com/telegraf/telegraf",6067,812]
[5321,null,null,"tensorflow/swift","https://github.com/tensorflow/swift",6066,622]
[5322,null,null,"webiny/webiny-js","https://github.com/webiny/webiny-js",6067,485]
[5323,null,null,"iron/iron","https://github.com/iron/iron",6066,415]
[5324,null,null,"facebook/pyre-check","https://github.com/facebook/pyre-check",6067,398]
[5325,null,null,"princewen/tensorflow_practice","https://github.com/princewen/tensorflow_practice",6064,3247]
[5326,null,null,"bitnami/charts","https://github.com/bitnami/charts",6064,6880]
[5327,null,null,"Loyalsoldier/clash-rules","https://github.com/Loyalsoldier/clash-rules",6066,491]
[5328,null,null,"antfu/vitesse","https://github.com/antfu/vitesse",6063,681]
[5329,null,null,"neutralinojs/neutralinojs","https://github.com/neutralinojs/neutralinojs",6059,270]
[5330,null,null,"jackc/pgx","https://github.com/jackc/pgx",6060,571]
[5331,null,null,"microsoft/vscode-extension-samples","https://github.com/microsoft/vscode-extension-samples",6062,2672]
[5332,null,null,"nodegui/react-nodegui","https://github.com/nodegui/react-nodegui",6059,155]
[5333,null,null,"neuecc/UniRx","https://github.com/neuecc/UniRx",6059,804]
[5334,null,null,"mattn/go-sqlite3","https://github.com/mattn/go-sqlite3",6056,987]
[5335,null,null,"sqlalchemy/sqlalchemy","https://github.com/sqlalchemy/sqlalchemy",6056,978]
[5336,null,null,"jquense/react-big-calendar","https://github.com/jquense/react-big-calendar",6052,1975]
[5337,null,null,"nfmcclure/tensorflow_cookbook","https://github.com/nfmcclure/tensorflow_cookbook",6050,2474]
[5338,null,null,"soldair/node-qrcode","https://github.com/soldair/node-qrcode",6051,542]
[5339,null,null,"microsoft/fluentui-emoji","https://github.com/microsoft/fluentui-emoji",6048,302]
[5340,null,null,"chancejs/chancejs","https://github.com/chancejs/chancejs",6046,439]
[5341,null,null,"kbrsh/moon","https://github.com/kbrsh/moon",6046,221]
[5342,null,null,"rest-assured/rest-assured","https://github.com/rest-assured/rest-assured",6045,1699]
[5343,null,null,"stanfordnlp/GloVe","https://github.com/stanfordnlp/GloVe",6043,1410]
[5344,null,null,"VirusTotal/yara","https://github.com/VirusTotal/yara",6040,1240]
[5345,null,null,"rey5137/material","https://github.com/rey5137/material",6040,1356]
[5346,null,null,"diasurgical/devilutionX","https://github.com/diasurgical/devilutionX",6039,622]
[5347,null,null,"ankane/chartkick","https://github.com/ankane/chartkick",6039,549]
[5348,null,null,"toddmotto/angularjs-styleguide","https://github.com/toddmotto/angularjs-styleguide",6039,720]
[5349,null,null,"pedrovgs/EffectiveAndroidUI","https://github.com/pedrovgs/EffectiveAndroidUI",6038,1221]
[5350,null,null,"XIU2/CloudflareSpeedTest","https://github.com/XIU2/CloudflareSpeedTest",6049,1741]
[5351,null,null,"Ranchero-Software/NetNewsWire","https://github.com/Ranchero-Software/NetNewsWire",6041,429]
[5352,null,null,"ecomfe/echarts-for-weixin","https://github.com/ecomfe/echarts-for-weixin",6033,1489]
[5353,null,null,"aa112901/remusic","https://github.com/aa112901/remusic",6032,1920]
[5354,null,null,"HMBSbige/ShadowsocksR-Windows","https://github.com/HMBSbige/ShadowsocksR-Windows",6031,1055]
[5355,null,null,"allegro/bigcache","https://github.com/allegro/bigcache",6034,519]
[5356,null,null,"google/physical-web","https://github.com/google/physical-web",6031,707]
[5357,null,null,"hakanyalcinkaya/kodluyoruz-frontend-101-egitimi","https://github.com/hakanyalcinkaya/kodluyoruz-frontend-101-egitimi",6037,3096]
[5358,null,null,"Atcold/pytorch-Deep-Learning","https://github.com/Atcold/pytorch-Deep-Learning",6030,2025]
[5359,null,null,"adamschwartz/magic-of-css","https://github.com/adamschwartz/magic-of-css",6030,369]
[5360,null,null,"rabbitmq/rabbitmq-tutorials","https://github.com/rabbitmq/rabbitmq-tutorials",6029,3496]
[5361,null,null,"perkeep/perkeep","https://github.com/perkeep/perkeep",6028,441]
[5362,null,null,"jakiestfu/Snap.js","https://github.com/jakiestfu/Snap.js",6028,708]
[5363,null,null,"IonicaBizau/git-stats","https://github.com/IonicaBizau/git-stats",6024,174]
[5364,null,null,"doublespeakgames/adarkroom","https://github.com/doublespeakgames/adarkroom",6023,1465]
[5365,null,null,"plasma-umass/scalene","https://github.com/plasma-umass/scalene",6022,217]
[5366,null,null,"microsoft/nlp-recipes","https://github.com/microsoft/nlp-recipes",6022,874]
[5367,null,null,"qvacua/vimr","https://github.com/qvacua/vimr",6018,204]
[5368,null,null,"thunlp/WantWords","https://github.com/thunlp/WantWords",6028,542]
[5369,null,null,"moonD4rk/HackBrowserData","https://github.com/moonD4rk/HackBrowserData",6020,1032]
[5370,null,null,"Netflix/metaflow","https://github.com/Netflix/metaflow",6018,548]
[5371,null,null,"daimajia/NumberProgressBar","https://github.com/daimajia/NumberProgressBar",6018,1418]
[5372,null,null,"nenadmarkus/picojs","https://github.com/nenadmarkus/picojs",6016,471]
[5373,null,null,"ankane/searchkick","https://github.com/ankane/searchkick",6016,725]
[5374,null,null,"NVIDIA/TensorRT","https://github.com/NVIDIA/TensorRT",6017,1515]
[5375,null,null,"wszqkzqk/deepin-wine-ubuntu","https://github.com/wszqkzqk/deepin-wine-ubuntu",6014,917]
[5376,null,null,"dtao/lazy.js","https://github.com/dtao/lazy.js",6014,300]
[5377,null,null,"thtrieu/darkflow","https://github.com/thtrieu/darkflow",6013,2107]
[5378,null,null,"skydoves/Pokedex","https://github.com/skydoves/Pokedex",6013,751]
[5379,null,null,"KaimingHe/deep-residual-networks","https://github.com/KaimingHe/deep-residual-networks",6012,2216]
[5380,null,null,"dgtlmoon/changedetection.io","https://github.com/dgtlmoon/changedetection.io",6016,320]
[5381,null,null,"open-source-ideas/ideas","https://github.com/open-source-ideas/ideas",6012,216]
[5382,null,null,"rectorphp/rector","https://github.com/rectorphp/rector",6010,555]
[5383,null,null,"saulpw/visidata","https://github.com/saulpw/visidata",6009,220]
[5384,null,null,"microsoft/WSL2-Linux-Kernel","https://github.com/microsoft/WSL2-Linux-Kernel",6008,729]
[5385,null,null,"wren-lang/wren","https://github.com/wren-lang/wren",6007,483]
[5386,null,null,"fabiospampinato/cash","https://github.com/fabiospampinato/cash",6007,261]
[5387,null,null,"huri000/SwiftEntryKit","https://github.com/huri000/SwiftEntryKit",6006,521]
[5388,null,null,"sebastianbergmann/resource-operations","https://github.com/sebastianbergmann/resource-operations",6004,14]
[5389,null,null,"AsyncHttpClient/async-http-client","https://github.com/AsyncHttpClient/async-http-client",6004,1565]
[5390,null,null,"dagger/dagger","https://github.com/dagger/dagger",6005,329]
[5391,null,null,"h2oai/h2o-3","https://github.com/h2oai/h2o-3",6003,1927]
[5392,null,null,"upspin/upspin","https://github.com/upspin/upspin",6002,297]
[5393,null,null,"me115/design_patterns","https://github.com/me115/design_patterns",6001,1701]
[5394,null,null,"TheOdinProject/curriculum","https://github.com/TheOdinProject/curriculum",6004,8657]